Workbook
Name Location: 'Drop Down List Data'!$A$31:$A$57
Name Locations: 'Drop Down List Data'!$A$31:$D$57
Name Locations: 'Drop Down List Data'!$A$31:$D$57

Sheet 0 - Instructions
A1: INSTRUCTIONS FOR SHIPPING REQUEST FORM
A2: 1 | B2: Complete Tab 1 for all shipments. Send Tab 2-Statement for Suppliers to Nexteer Supplier if the Supplier is the Exporter of Record.
A3: 2 | B3: If shipping equipment to Mexico, please fill out Tabs 1 through 7 (Note: Tabs 4 & 7 are Examples only). The Requestor and Supplier are to complete these sections. Completed form is to be sent to Nexteer Transporation by a Nexteer Requestor only at email addresses: nexteer.transportation@nexteer.com Requests will not be accepted from outside Nexteer. This form must be submitted in Excel format. Any Mexico Import questions are to be directed to the SteeringMex Trade Compliance group through email address steeringmexcrossborder@nexteer.com
A4: 3 | B4: If importing/Exporting within North America (includes Canada, Mexico and US) please send all requests to: nexteer.transportation@nexteer.com
A5: 4 | B5: For all other International shipments that are being imported/exported, please email the following address: international.transportation@nexteer.com
A6: 5 | B6: If you have any Transportation questions please contact: Domestic Transportation (US/MX/CA) - nexteer.transportation@nexteer.com International Transportation (International Shipments) -international.transportation@nexteer.com Any Customs related questions please contact: U.S. Customs - trade.compliance@nexteer.com MX Customs - steeringmexcrossborder@nexteer.com All other information - Nexteer Requestor
A9: **Note to Nexteer Manufacturing Engineers: Trade Compliance is asking you to send this generic statement, because you have the original contact and relationship with the supplier. If the supplier has any additional questions they can contact Nexteer Trade Compliance. If the supplier is unresponsive Trade Compliance will then contact the Manufacturing Engineer and request assistance.

Sheet 1-Shipping Request
A1: Shipping Request Form
A3: Name of Requestor: | G3: Today's Date:
A4: Phone Number: | G4: Email Address:
A5: Cell Phone Number:
A6: Date/Time shipment will be ready: | G6: Date/Time shipment must be received:
A8: Pick Up Location: | B8: Please Select One | G8: Final Destination: | H8: Please Select One
A9: Name: | G9: Name:
A10: Address: | B10: =VLOOKUP(B8,'Drop Down List Data'!A32:D60,2,FALSE) -> #N/A | G10: Address: | H10: =VLOOKUP(H8,'Drop Down List Data'!A32:D60,2,FALSE) -> #N/A
B11: =VLOOKUP(B8,'Drop Down List Data'!A32:D60,3,FALSE) -> #N/A | H11: =VLOOKUP(H8,'Drop Down List Data'!A32:D60,3,FALSE) -> #N/A
B12: =VLOOKUP(B8,'Drop Down List Data'!A32:D60,4,FALSE) -> #N/A | H12: =VLOOKUP(H8,'Drop Down List Data'!A32:D60,4,FALSE) -> #N/A
A13: Shipping Hours: | G13: Shipping Hours:
A14: Contact Name: | G14: Contact Name:
A15: Contact Phone: | G15: Contact Phone:
A16: Contact Email: | G16: Contact Email:
A18: INCOTERMS: | B18: Please Select One | C18: (can be found on PO) | G18: PO Number:
A19: Named Place:
A20: This section will need to be filled out if shipping to Mexico
A21: Border Warehouse: (If shipping to MX)
A23: Name: | B23: Click Here If a Border Warehouse is Needed
A24: Address: | G24: *If shipping to Plants 63, 65 or 66 please select Laredo
A25: City, State, Zip: | G25: *If shipping to Plant 61 or 68 please select El Paso
A26: Office Hours: | G26: *If shipping to any other Mexico location contact Transportation to
A27: Contact Name: | G27: determine border warehouse
A28: Contact Phone:
A29: Contact Email:
A31: Nexteer Customs Import/Export Information: | H31: *See Procedure 451 for ECCN / Licensing Rules
A32: (M&E only) eqpt reviewed with M&E Engineering Eqpt Specialist | G32: ECCN | J32: License Req'd (Y/N):
A33: Note: If license is required, shipment leadtime may increase 4-8 weeks | G33: License Number (If Required)
A35: Declared Value:
A36: If > $5M, please contact PC&L Transportation Specialist for insurance requirements. (PC&L to notify Nexteer Risk Manager, Global Operations)
A38: Packaging:
A39: Wood packaging material must meet NOM 144 Semarnat MX requirement (ISPM15).
A40: NOTE: If Wood packaging does not meet NOM 144 Semarnat MX requirement (ISPM15), Nexteer will NOT accept shipment if crossing any international border.
A41: If you have any questions please reference: INTERNATIONAL STANDARDS FOR PHYTOSANITARY MEASURES - ISPM 15
A42: Country of Origin must be clearly Marked on the packaging. See requirments in Trade Compliance Manual
A43: Payment:
A44: QAD 15 Digit Account Number (Work Order Number or CISCO code): | I44: *If invalid number is provided all cost will be charged to receiving plant
I45: charged to receiving plant
A46: Nexteer Logistics Operations Internal Use ONLY:
D47: Cost of Move:
...

Sheet Drop Down List Data
A1: Please Select One | C1: Click Here If a Border Warehouse is Needed | D1: -
A2: EXW | C2: El Paso: ProTrans International (Plt 40) 12425 Rojas Bldg #1 El Paso, TX 79928 Joe Garcia Office: (915) 860-7854 / Cell: (915) 526-8791 suzette.barcenas@nexteer.com | D2: El Paso: ProTrans International (Plt 40) 12425 Rojas Bldg #1 El Paso, TX 79928 Joe Garcia Office: (915) 860-7854 / Cell: (915) 526-8791 suzette.barcenas@nexteer.com
A3: FCA | C3: Laredo: Grupo 365 (Plt 43) 8514 El Gato Road Laredo, TX 78045 Miriam Menchaca (956) 753-4600, Ext. 604 | D3: Laredo: Grupo 365 (Plt 43) 8514 El Gato Road Laredo, TX 78045 Miriam Menchaca (956) 753-4600, Ext. 604
A4: CPT
A5: CIP
A6: DAT
A7: DAP
A8: FAS
A9: FOB
A10: CFR
A11: CIF
A12: -
A16: Click Here
A17: NEXTEER PLT1 CISCO 44015
A18: NEXTEER PLT3 CISCO 44023
... A31: Please Select One
A32: Euclid Industries Plant 32 | B32: CISCO # 44603 | C32: 1655 Tech Drive Ste B | D32: Bay City, MI 48706
A33: Nexteer Automotive Plant 1 | B33: CISCO # 44015 | C33: 3900 Holland Road | D33: Saginaw, MI 48601
A34: Nexteer Automotive Plant 3 | B34: CISCO # 44023 | C34: 3900 Holland Road | D34: Saginaw, MI 48601
A35: Nexteer Automotive Plant 4 | B35: CISCO # 44024 | C35: 3900 Holland Road | D35: Saginaw, MI 48601
A36: Nexteer Automotive Plant 5 | B36: CISCO # 44025 | C36: 3900 Holland Road | D36: Saginaw, MI 48601
A37: Nexteer Automotive Plant 6 | B37: CISCO # 44026 | C37: 3900 Holland Road | D37: Saginaw, MI 48601
A38: Nexteer Automotive Plant 7 | B38: CISCO # 44027 | C38: 3900 Holland Road | D38: Saginaw, MI 48601
A39: Nexteer Automotive Plant 61 | B39: CISCO # 44061 | C39: 1721 Rio Hondo Street, CD Rio Bravo Bermuda | D39: CD Juarez CHH, 32550 MX
A40: Nexteer Automotive Plant 63 | B40: CISCO # 44063 | C40: Calle Camio a San Ildefonso No. 200 Parque Ind. Finsa QRO. II | D40: El Marques QUE, 76248 MX
A41: Nexteer Automotive Plant 65 | B41: CISCO # 44391 | C41: Santa. Rosa de Viterbo # 12 | D41: El Marques QUE, 76248 MX
A42: Nexteer Automotive Plant 66 | B42: CISCO # 44036 | C42: Av. C.P. Rafael Sesma Huerta #12 | D42: El Marques QUE, 76248 MX
A43: Nexteer Automotive Plant 68 | B43: CISCO # 44032 | C43: Parque Industrial Rio Bravo #1445 | D43: Cd Juárez Chihuahua C.P. 32557 MX
... A60: Nexteer Automotive Plant 58 (Chongqing) | B60: No 409 Deyuan Rd, Degan Str., Jiangin Dist. | C60: Chongqing | D60: China 402260

Sheet 2-Statement for Suppliers
A1: ATTENTION NEXTEER ENGINEER
A3: **Please copy and paste the below statement into an email with your contact with the supplier.
B5: Supplier, Please include the following for customs purposes: - Packing List - Commercial Invoice / Proforma Invoice - Any Free Trade Agreements (FTA's) if applicable (e.g. NAFTA) - Mexico Equipment Shipments Only - Include the Loading Map Please follow all guidelines on the Nexteer Supplier Requirements which can be found on www.nexteer.com. The Supplier invoice shall contain the Nexteer Automotive part number(s) and a detailed English description of the goods. The Supplier is also responsible to provide any information that would assist Nexteer or its Service Provider in determining the correct tariff classification for these goods. Supplier’s failure to provide Nexteer part number(s) and a detailed English description invoice has the potential to lead to tariff classification errors and duty rate calculation errors of imported merchandise. The invoice should also match the PO line by line. If there are any further questions on the necessary documents needed please contact the Nexteer Trade Compliance Department at trade.compliance@nexteer.com
A7: **Note to Nexteer Manufacturing Engineers: Trade Compliance is asking you to send this generic statement, because you have the original contact and relationship with the supplier. If the supplier has any additional questions they can contact Nexteer Trade Compliance. If the supplier is unresponsive Trade Compliance will then contact the Manufacturing Engineer and request assistance.

Sheet 3-MX Only Equip Classification
A1: Identify Main and Auxiliary Equipment in fields below
A2: Customs Classification Format | J2: These fields will be filled out by the Nexteer Service Provider
A3: Item number | B3: Item it's part of the item | C3: Description & Asset Tag Number (If Applicable) | D3: Main Function | E3: Material Made of | F3: Machinery and Equipment Category | G3: Picture (Preferred) | H3: Identification Plate | I3: Supplier Contact | J3: Schedule B | K3: MX HTS

Sheet 4-MX Only-Ex. Classification
A1: Identify Main and Auxiliary Equipment in fields below
A2: Custom Classification Format | J2: These fields will be filled out by the Nexteer Service Provider
A3: Item number | B3: Item it's part of the item | C3: Description & Asset Tag Number (If Applicable) | D3: Main Function | E3: Material made of | F3: Machinery and equipment category | G3: Picture (Preferred) | H3: Identification Plate | I3: Supplier Contact | J3: SCHEDULE B | K3: MX HTS
A4: 1 | B4: none | C4: Tube cutting and milling system | D4: horizontal axis system for boring, slotting, circular milling dividing, and drilling metal tubes through DNC function | E4: metal (stainless steel) | F4: main machine | I4: supplier email address
A5: 1-1 | B5: 1 | C5: High Pressure coolant and Mist collection system | D5: provide coolant to the milling system through high pressure safety valves and collects mist generated during the process | E5: metal (Aluminium) | F5: auxiliary equipment | I5: supplier email address
A6: 1-2 | B6: 1-1 | C6: Control Panel | D6: program the operation of the High Pressure coolant and Mist collection system | E6: metal (steel) | F6: auxiliary equipment | H6: none | I6: supplier email address
A7: 1-3 | B7: 1 | C7: Robot arm | D7: take the parts from the conveyor to the Tube cutting and milling system | E7: metal (steel) | F7: auxiliary equipment | H7: none | I7: supplier email address
A8: 1-4 | B8: 1-3 | C8: Belt Conveyor | D8: Transport the parts toward the robot arm | E8: metal (steel) | F8: auxiliary equipment | H8: none | I8: supplier email address

Sheet 5-MX Only - Loading Map
A3: LOADING MAP (Filled out by Equipment Supplier)
I6: BOL Number
I7: Invoice number
I9: Trailer Number
I10: Total bundles
H12: Pallet Number | I12: Major Item | J12: Length (IN) | K12: Width (IN) | L12: Height (IN) | M12: Weight (Lb) | N12: Weight (Lb)

Sheet 6-MX Only-Proforma Invoice
A1: Shipped By: | G1: Ship To:
A6: ITEM # | B6: BOX or PALLET # | C6: Qty | D6: Description | E6: Schedule B code | F6: MX HTS code | G6: Unit Value USD | H6: Total Value USD | I6: Brand | J6: Model | K6: Serial | L6: ID | M6: Part # | N6: Total Weight (Pounds) | O6: Country of Origin | P6: PO | Q6: TAG | R6: Attn. to | S6: Tracking or Trailer No.

Sheet 7- MX Only - Ex. Proforma Inv
A1: Shipped By: | C1: Supplier Name, Address & Phone Number | G1: Ship To: | H1: ProTrans International C/O SteeringMex
H2: 110 Consolidation Point
H3: Laredo, TX 78045
H4: Ph.956-7188384
A6: ITEM # | B6: BOX or PALLET # | C6: Qty | D6: Description | E6: Schedule B code | F6: MX HTS code | G6: Unit Value USD | H6: Total Value USD | I6: Brand | J6: Model | K6: Serial | L6: ID | M6: Part # | N6: Total Weight (Pounds) | O6: Country of Origin | P6: PO | Q6: TAG | R6: Attn. to | S6: Tracking or Trailer No.
A7: 1 | B7: 1,2,3 | C7: 1 | D7: Tube cutting and milling system | E7: 8548249900 | F7: 85482499 | G7: PO Unit Price | I7: Supplier Brand Name | J7: FM50V | K7: 124567 | N7: 4200 | O7: USA | P7: Nexteer PO Number | Q7: SD-2345 | R7: Supplier Contact Name | S7: 5312
A8: 1-1 | B8: 4 | C8: 1 | D8: Hydraulic Unit for Tube cutting system | E8: 8708990000 | F8: 87089900 | G8: PO Unit Price | I8: Supplier Brand Name | J8: MAP9 | N8: 300 | O8: CN | P8: Nexteer PO Number | Q8: SD-2345 | R8: Supplier Contact Name | S8: 5312
A9: 1-2 | B9: 5 | C9: 1 | D9: Touch panel for Tube cutting system | E9: 8737250099 | F9: 87372501 | G9: PO Unit Price | I9: Supplier Brand Name | N9: 45 | O9: JP | P9: Nexteer PO Number | Q9: SD-2345 | R9: Supplier Contact Name | S9: 5312
A10: 1-3 | B10: 6 | C10: 1 | D10: Temperature regulator | E10: 8337250000 | F10: 83372501 | G10: PO Unit Price | I10: Supplier Brand Name | J10: 5678 | K10: SB67 | N10: 14 | O10: JP | P10: Nexteer PO Number | Q10: SD-2345 | R10: Supplier Contact Name | S10: 5312
A11: 1-4 | B11: 7-8 | C11: 1 | D11: Metal burrs conveyor and coolant deposit | E11: 7819989999 | F11: 78199899 | G11: PO Unit Price | I11: Supplier Brand Name | K11: 1456 | N11: 145 | O11: CHI | P11: Nexteer PO Number | Q11: SD-2345 | R11: Supplier Contact Name | S11: 5312
A12: 1-5 | B12: 9 | C12: 1 | D12: High Pressure coolant and Mist collection system | E12: 8708800000 | F12: 87088012 | G12: PO Unit Price | I12: Supplier Brand Name | J12: CO00 | N12: 340 | O12: JP | P12: Nexteer PO Number | Q12: SD-2345 | R12: Supplier Contact Name | S12: 5312
A13: 1-6 | B13: 9 | C13: 1 | D13: Control panel for High Pressure coolant and Mist collection system | E13: 8123239999 | F13: 81232399 | G13: PO Unit Price | I13: Supplier Brand Name | J13: MMM | K13: 456 | N13: 115 | O13: JP | P13: Nexteer PO Number | Q13: SD-2345 | R13: Supplier Contact Name | S13: 5312
A14: 1-7 | B14: 10 | C14: 1 | D14: Robot Arm | E14: 8912345600 | F14: 89123406 | G14: PO Unit Price | I14: Supplier Brand Name | N14: 2400 | O14: TW | P14: Nexteer PO Number | Q14: SD-2345 | R14: Supplier Contact Name | S14: 5312
A15: 1-8 | B15: 11 | C15: 1 | D15: Touch Panel for Robot Arm | E15: 8737250099 | F15: 87372501 | G15: PO Unit Price | I15: Supplier Brand Name | J15: FT-34 | K15: 9090 | N15: 56 | O15: TW | P15: Nexteer PO Number | Q15: SD-2345 | R15: Supplier Contact Name | S15: 5312
A16: 1-9 | B16: 11 | C16: 1 | D16: Control panel for robot arm | E16: 8123239999 | F16: 81232399 | G16: PO Unit Price | I16: Supplier Brand Name | N16: 67 | O16: TW | P16: Nexteer PO Number | Q16: SD-2345 | R16: Supplier Contact Name | S16: 5312
A17: 1-10 | B17: 11 | C17: 1 | D17: Transformer for robot arm | E17: 8912345800 | F17: 89123408 | G17: PO Unit Price | I17: Supplier Brand Name | K17: 4567 | N17: 145 | O17: TW | P17: Nexteer PO Number | Q17: SD-2345 | R17: Supplier Contact Name | S17: 5312
A18: 1-11 | B18: 12 | C18: 2 | D18: Rollover conveyor | E18: 8412909999 | F18: 84129099 | G18: PO Unit Price | I18: Supplier Brand Name | N18: 114 | O18: USA | P18: Nexteer PO Number | Q18: SD-2345 | R18: Supplier Contact Name | S18: 5312
A19: 1-12 | B19: 12 | C19: 2 | D19: Belt conveyor | E19: 8412909999 | F19: 84129099 | G19: PO Unit Price | I19: Supplier Brand Name | N19: 115 | O19: USA | P19: Nexteer PO Number | Q19: SD-2345 | R19: Supplier Contact Name | S19: 5312
A20: 1-13 | B20: 12 | C20: 2 | D20: regulator air valvule | E20: 8411909900 | F20: 84119099 | G20: PO Unit Price | I20: Supplier Brand Name | J20: (1) FZ2 (2) FZ3 | N20: 24 | O20: USA | P20: Nexteer PO Number | R20: Supplier Contact Name | S20: 5312

Sheet ProForma Invoice (DO NOT EDIT)
G1: DATE: | H1: ='1-Shipping Request'!H3 -> 0
G2: Invoice:
B3: PROFORMA INVOICE
B5: EXPORTER: | C5: Nexteer Automotive | E5: SHIP TO: | F5: ='1-Shipping Request'!H8 -> Please Select One
C6: 3900 Holland Road | F6: ='1-Shipping Request'!H10 -> #N/A
C7: Saginaw, MI 48601 | F7: ='1-Shipping Request'!H11 -> #N/A
C9: EIN #: 26-1668808 | E9: Telephone: | F9: ='1-Shipping Request'!H15 -> 0
E10: Attn: | F10: ='1-Shipping Request'!H14 -> 0
B12: SHIP FROM: | C12: ='1-Shipping Request'!B8 -> Please Select One | E12: Consignee: | F12: -
C13: ='1-Shipping Request'!B10 -> #N/A | E13: (If applicable)
C14: ='1-Shipping Request'!B11 -> #N/A
B16: Contact: | C16: ='1-Shipping Request'!C3 -> 0 | E16: Telephone:
B17: Telephone: | C17: ='1-Shipping Request'!C4 -> 0 | E17: Attn:
C20: Country of Origin:
C21: Incoterms:
B23: Part Number | C23: DESCRIPTION | D23: Quantity | E23: PRICE | F23: Country of Origin | G23: Schedule B | H23: AMOUNT (USD)
B24: =IF('1-Shipping Request'!M59 = "","-",'1-Shipping Request'!M59) -> - | C24: =IF('1-Shipping Request'!A59 = "","-",'1-Shipping Request'!A59) -> - | D24: =IF('1-Shipping Request'!J59 = "","-",'1-Shipping Request'!J59) -> - | E24: =IF('1-Shipping Request'!L59 = "","-",'1-Shipping Request'!L59) -> - | F24: =IF('1-Shipping Request'!I59 = "","-",'1-Shipping Request'!I59) -> - | H24: =E24*D24 -> #VALUE!
B26: =IF('1-Shipping Request'!M60 = "","-",'1-Shipping Request'!M60) -> - | C26: =IF('1-Shipping Request'!A60 = "","-",'1-Shipping Request'!A60) -> - | D26: =IF('1-Shipping Request'!J60 = "","-",'1-Shipping Request'!J60) -> - | E26: =IF('1-Shipping Request'!L60 = "","-",'1-Shipping Request'!L60) -> - | F26: =IF('1-Shipping Request'!I60 = "","-",'1-Shipping Request'!I60) -> -
B28: =IF('1-Shipping Request'!M61 = "","-",'1-Shipping Request'!M61) -> - | C28: =IF('1-Shipping Request'!A61 = "","-",'1-Shipping Request'!A61) -> - | D28: =IF('1-Shipping Request'!J61 = "","-",'1-Shipping Request'!J61) -> - | E28: =IF('1-Shipping Request'!L61 = "","-",'1-Shipping Request'!L61) -> - | F28: =IF('1-Shipping Request'!I61 = "","-",'1-Shipping Request'!I61) -> -
B30: =IF('1-Shipping Request'!M62 = "","-",'1-Shipping Request'!M62) -> - | C30: =IF('1-Shipping Request'!A62 = "","-",'1-Shipping Request'!A62) -> - | D30: =IF('1-Shipping Request'!J62 = "","-",'1-Shipping Request'!J62) -> - | E30: =IF('1-Shipping Request'!L62 = "","-",'1-Shipping Request'!L62) -> - | F30: =IF('1-Shipping Request'!I62 = "","-",'1-Shipping Request'!I62) -> -
B32: =IF('1-Shipping Request'!M63 = "","-",'1-Shipping Request'!M63) -> - | C32: =IF('1-Shipping Request'!A63 = "","-",'1-Shipping Request'!A63) -> - | D32: =IF('1-Shipping Request'!J63 = "","-",'1-Shipping Request'!J63) -> - | E32: =IF('1-Shipping Request'!L63 = "","-",'1-Shipping Request'!L63) -> - | F32: =IF('1-Shipping Request'!I63 = "","-",'1-Shipping Request'!I63) -> -
B34: =IF('1-Shipping Request'!M64 = "","-",'1-Shipping Request'!M64) -> - | C34: =IF('1-Shipping Request'!A64 = "","-",'1-Shipping Request'!A64) -> - | D34: =IF('1-Shipping Request'!J64 = "","-",'1-Shipping Request'!J64) -> - | E34: =IF('1-Shipping Request'!L64 = "","-",'1-Shipping Request'!L64) -> - | F34: =IF('1-Shipping Request'!I64 = "","-",'1-Shipping Request'!I64) -> -
B36: =IF('1-Shipping Request'!M65 = "","-",'1-Shipping Request'!M65) -> - | C36: =IF('1-Shipping Request'!A65 = "","-",'1-Shipping Request'!A65) -> - | D36: =IF('1-Shipping Request'!J65 = "","-",'1-Shipping Request'!J65) -> - | E36: =IF('1-Shipping Request'!L65 = "","-",'1-Shipping Request'!L65) -> - | F36: =IF('1-Shipping Request'!I65 = "","-",'1-Shipping Request'!I65) -> -
B38: =IF('1-Shipping Request'!M66 = "","-",'1-Shipping Request'!M66) -> - | C38: =IF('1-Shipping Request'!A66 = "","-",'1-Shipping Request'!A66) -> - | D38: =IF('1-Shipping Request'!J66 = "","-",'1-Shipping Request'!J66) -> - | E38: =IF('1-Shipping Request'!L66 = "","-",'1-Shipping Request'!L66) -> - | F38: =IF('1-Shipping Request'!I66 = "","-",'1-Shipping Request'!I66) -> -
B40: =IF('1-Shipping Request'!M67 = "","-",'1-Shipping Request'!M67) -> - | C40: =IF('1-Shipping Request'!A67 = "","-",'1-Shipping Request'!A67) -> - | D40: =IF('1-Shipping Request'!J67 = "","-",'1-Shipping Request'!J67) -> - | E40: =IF('1-Shipping Request'!L67 = "","-",'1-Shipping Request'!L67) -> - | F40: =IF('1-Shipping Request'!I67 = "","-",'1-Shipping Request'!I67) -> -
B42: =IF('1-Shipping Request'!M68 = "","-",'1-Shipping Request'!M68) -> - | C42: =IF('1-Shipping Request'!A68 = "","-",'1-Shipping Request'!A68) -> - | D42: =IF('1-Shipping Request'!J68 = "","-",'1-Shipping Request'!J68) -> - | E42: =IF('1-Shipping Request'!L68 = "","-",'1-Shipping Request'!L68) -> - | F42: =IF('1-Shipping Request'!I68 = "","-",'1-Shipping Request'!I68) -> -
B44: =IF('1-Shipping Request'!M69 = "","-",'1-Shipping Request'!M69) -> - | C44: =IF('1-Shipping Request'!A69 = "","-",'1-Shipping Request'!A69) -> - | D44: =IF('1-Shipping Request'!J69 = "","-",'1-Shipping Request'!J69) -> - | E44: =IF('1-Shipping Request'!L69 = "","-",'1-Shipping Request'!L69) -> - | F44: =IF('1-Shipping Request'!I69 = "","-",'1-Shipping Request'!I69) -> -
B46: =IF('1-Shipping Request'!M70 = "","-",'1-Shipping Request'!M70) -> - | C46: =IF('1-Shipping Request'!A70 = "","-",'1-Shipping Request'!A70) -> - | D46: =IF('1-Shipping Request'!J70 = "","-",'1-Shipping Request'!J70) -> - | E46: =IF('1-Shipping Request'!L70 = "","-",'1-Shipping Request'!L70) -> - | F46: =IF('1-Shipping Request'!I70 = "","-",'1-Shipping Request'!I70) -> -
B48: =IF('1-Shipping Request'!M72 = "","-",'1-Shipping Request'!M72) -> - | C48: =IF('1-Shipping Request'!A71 = "","-",'1-Shipping Request'!A71) -> - | D48: =IF('1-Shipping Request'!J71 = "","-",'1-Shipping Request'!J71) -> - | E48: =IF('1-Shipping Request'!L71 = "","-",'1-Shipping Request'!L71) -> - | F48: =IF('1-Shipping Request'!I71 = "","-",'1-Shipping Request'!I71) -> -
B50: =IF('1-Shipping Request'!M73 = "","-",'1-Shipping Request'!M73) -> - | C50: =IF('1-Shipping Request'!A73 = "","-",'1-Shipping Request'!A73) -> Totals: | D50: =IF('1-Shipping Request'!J73 = "","-",'1-Shipping Request'!J73) -> - | E50: =IF('1-Shipping Request'!L73 = "","-",'1-Shipping Request'!L73) -> 0 | F50: =IF('1-Shipping Request'!I73 = "","-",'1-Shipping Request'!I73) -> -
B52: **Value for customs purposes only
D54: TOTAL | E54: =SUM(H24:H50) -> #VALUE!
D56: ='1-Shipping Request'!H84 -> 0
D60: Certified True and Correct

Sheet Revisions
A1: Date | B1: Revision Description
A2: 40725 | B2: Initial Release
A3: 40973 | B3: 1) Nexteer Customs Import/Export Information -- Added additional Comments/Instructions on who should complete HTS Code, ECCN and License Number . 2) Declared Value of Equipment/Tooling -- Changed Declared Value from >$250,000 to > $5M for additional insurance. If > $5M, PC&L Transportation Specialist is to be notified for insurance requirements. Added Wood Packaging Material specification requirements and note that Nexteer will NOT accept shipments if Wood Packaging specification is not adhered to. 3) Changed the verbiage of "26 Digit SAP Account Number" to "15 Digit QAD Account Number."
A4: 41061 | B4: Added Comment Field
A5: 41091 | B5: Added Equipment Functionality Field
A6: 42202 | B6: Entire re-write. Form will be used for all Engineering Shipping Requests.
A7: 42962 | B7: Updated CISCO Codes, 263 Address and Insurance Notification Requirements
A8: 43305 | B8: Changed contact information for Protrans and Laredo Warehouse
A9: 43384 | B9: Added Plants 52, 54 & 58
A10: 43484 | B10: Added Columns to Shipping Request Form for Piece Quantity and Pallet Quantity
A11: 43536 | B11: 1) Added New Border Warehouse in Laredo, TX 2) Added Nexteer Morocco Address
A12: 45118 | B12: Updated Contact Name & Number for Border Warehouse in Laredo
A13: 45405 | B13: Updated Contact Name & Number for Border Warehouse in El Paso
