{"text_format":"1","workbook":"xlsx","n_sheets":56,"sheets":["Validations","Rev History","Instructions","UnlockAudit","Supplier Data","Sustainability","NSA Input Form","Action Plan","MCA Summary","NSA Summary","CQI-9 Heat Treat Audit","CQI-11 Plating Audit","CQI-12 Coating Audit","CQI-15 Welding Audit","CQI-17 Soldering Audit","Aluminum Casting Audit","Assembly Audit","Balancer Audit","Blow Molding Audit","Ductile Iron Casting Audit","Electrical Product Audit","ESD Protection Audit","Extrusion Audit","Forgings Audit","Grease Application Audit","Injection Molding Audit","Machining Audit","Painting Audit","Powdered Metal Audit","Rubber Bonding Audit","Semiconductor Assembly Audit","Stamping Audit","Steel Mill Audit","Threading Tapping Audit","Torque Control Audit","Wafer Fabrication Audit","AP","AQ","CC","EL","FR","LP","MA","MC","MM","NC","RR","SC","SU","SW","TC","TR","VS","NSA Level 1","MCA Level 1 Summary","Blank Sheet"],"not_rendered":{"charts":0,"images":3,"macros":1,"external_links":1,"defined_names":116,"comments":3,"pivot_tables":0},"unopened":[],"bounds":{"document_bytes":16777216,"sheet_cells":100000,"rows_first":2000,"rows_last":500,"rows_between":2000,"halvings":0,"cell_chars":16384,"cell_head_chars":4096},"cells_cut":0,"cells_raw":0,"read":"whole","date_system":"1900"}

{"sheet":"Validations","index":0,"n_rows":30,"n_cols":14,"rows_kept":30,"cut":false,"hidden":true,"merged":[[0,13,2,18],[3,13,5,16],[6,13,8,16]]}
["YES",null,"G - OK",null,"Pass",null,null,null,null,null,null,null,null,"This section is used to reference label formatting"]
["NO",null,"Y - CA Required",null,"Fail"]
[null,null,"R - Unacceptable",null,"N/A - Not Applicable"]
[null,null,"N/A - Not Applicable",null,null,null,null,null,null,null,null,null,null,"Audit Guidance"]
[]
[]
["Open to the atmosphere",null,null,"Walking beam",null,"Jet Type Spray",null,null,"Slide gate",null,null,null,null,"Update Action Plan"]
["Enclosed by submerged shroud",null,null,"Pusher",null,"Mist Type Spray",null,null,"Stopper rod"]
["Pollard type gas curtain shroud",null,null,"Hot skids",null,"Combination of jet and mist spray",null,null,"Rotary slide"]
["Flexible shroud (Bellows Type)",null,null,null,null,"Water cooled perforated metal plates",null,null,"Metered nozzle"]
["Liquid Gas shround",null,null,null,null,"Other (please specify)",null,null,"Other (please specify)"]
["Other (please specify)",null,null,"Front"]
[null,null,null,"Back",null,"Powder",null,null,"Synthetic Slag (please indicate V ratio (lime/silica)"]
["Slide gate",null,null,"None",null,"Oil",null,null,"Insulating powder"]
["Stopper rod",null,null,null,null,"Automatically Fed",null,null,"Other (please specify)"]
["Rotary slide",null,null,"Visual",null,"Fed by hand"]
["Metered nozzle",null,null,"Magnaglow"]
["Throttled",null,null,"Eddy Current",null,"Ultrasonic Depth Measurement",null,null,"Delta Shape"]
["Other (please specify)",null,null,"Ultrasonic",null,"Electromagnetic Level Indicator",null,null,"\"T\" Shape"]
[null,null,null,"Thermal Imaging",null,"Weight",null,null,"\"U\" Shape"]
["Partial",null,"Hot Shear","Hot Eddy Current",null,"Visual",null,null,"\"V\" Shape"]
["Total",null,"Cold Shear",null,null,"Other (please specify)"]
["Static",null,"Saw Cut"]
["Dynamic",null,null,null,null,"Ceramic Fiber Gasket",null,null,"Bottom"]
[null,null,null,null,null,"Argon Injection",null,null,"Side"]
["Fast Tilt Furnace",null,"Chiping","Machined",null,"Argon Gas Ring",null,null,"Other (please specify)"]
["EBT",null,"Grinding","Cast"]
["Submerged Tap",null,"Scarfing","Rolled",null,null,null,null,"BOF"]
["Other (please specify)",null,"Other (please specify)","Forged",null,null,null,null,"Electric Arc Furnace"]
[null,null,null,null,null,null,null,null,"Other (please specify)"]

{"sheet":"Rev History","index":1,"n_rows":8,"n_cols":4,"rows_kept":8,"cut":false,"hidden":false,"merged":[[0,1,0,3]]}
[null,"Current Revisions"]
[null,"Rev","Date","Changes"]
[null,"V4.01","2018-03-28","-Various fixes\n-Added wafer fab and assembly PSAs"]
[null,"V4.02","2018-04-04","-Rewrote AP andInstructions sheet wording"]
[null,"V4.03","2018-04-05","-Working Release"]
[null,"V4.04","2018-04-13","-Lock down all tabs and necessary cells\n-Update all reference to PPM and CPM to now read PPB and CPB"]
[null,"V4.05","2018-06-14","-Added Supplier Action Plan and Nexteer Approval Tables\n-Added Element Guidance in NSA Input and Element Guidance Sheet\n-Added Color Coding on NSA Summary Sheet for the \"Current\" Audit"]
[null,"V4.06","2018-09-27","- Standard sheet format / header added to all sheets\n-MCA/NSA Headers and Supplier performance metrics combined into single \"Supplier Data\" sheet\n-Instructions updated\n-Added unlock button after reading instructions\n-Re-formatted Sustainability, NSA Input form, Instructions sheets\n-Combined MCA and NSA Input Forms into single NSA Input Form\n-Combined Sustainability, MCA, and NSA action plans into single action plan\n-Added \"Update Action Plan\" button to auto populate red NSA items\n-Added \"Audit Guidance\" GUI and moved guidance slides to Nexteer.com\n-Guidance Slides Updated\n-MCA Overall Score will not show unless all sustainability is Yes and Approved\n-Can complete MCA Audit with red sustainability with approved action plan \n          - still no MCA score ^\n-Various bug fixes "]

{"sheet":"Instructions","index":2,"n_rows":163,"n_cols":17,"rows_kept":163,"cut":false,"hidden":false,"merged":[[112,3,112,13],[63,5,66,8],[88,5,91,16],[75,3,75,8],[76,3,76,11],[0,16,0,17],[7,0,8,17],[10,0,13,4],[10,5,13,7],[10,10,13,12],[162,7,165,10],[59,3,60,14],[61,4,62,14],[88,1,91,4],[15,6,16,11],[24,4,25,13],[18,2,21,15],[22,3,23,14],[94,3,94,13],[51,1,51,16],[46,3,46,16],[139,10,142,12],[96,3,96,13],[98,3,98,13],[100,3,100,13],[104,3,104,13],[55,2,58,15],[63,1,66,4],[117,1,120,4],[92,3,92,13],[26,5,29,8],[26,1,29,4],[42,3,42,8],[43,3,43,11],[44,3,44,13],[45,3,45,9],[77,3,77,13],[78,3,78,9],[79,3,79,17],[106,3,106,13],[108,3,108,13],[110,3,110,13]]}
[null,null,null,null,null,null,null,null,null,null,null,null,null,null,null,null,{"$f":"\"Revision \"&'Rev History'!B8","v":"Revision V4.06"}]
[]
[]
[]
[]
[]
[]
["Audit Instructions"]
[]
[]
["Select desired audit type:",null,null,null,null,"MCA",null,null,null,null,"NSA"]
[]
[]
[]
[]
[null,null,null,null,null,null,"YOU MUST READ THIS PAGE AND CLICK THE BUTTON AT THE BOTTOM TO BEGIN AUDIT"]
[]
[]
[null,null,"Manufacturing Capability Assessment"]
[]
[]
[]
[null,null,null,"The purpose of the MCA process is to evaluate whether a supplier location has the ability to successfully produce component parts"]
[]
[null,null,null,null,"This page is meant to teach you how to complete your MCA Audit."]
[]
[null,"Completing the MCA Audit:",null,null,null,"Please refer back to this instruction page after completion of every step"]
[]
[]
[]
[null,"1. Complete fields in the \"Supplier Data\" tab."]
[]
[null,"2. Complete Sustainability Assessment."]
[null,null,"- ALL Sustainability questions must be answered and approved by Nexteer to move to step 3."]
[null,null,"- To obtain Nexteer approval on a sustainability question marked \"No\", you must create a solution in the action plan and contact your SQE."]
[]
[null,"3. Complete NSA Input Form"]
[null,null,"- Use the buttons at the top of the sheet to select your Audit Type. (Self, Onsite, Current)"]
[null,null,null,"- Choose Self Assessment if you are a supplier performing the Audit without assistance from Nexteer."]
[null,null,null,"- Choose Current if you are performing the Audit with your SQE present. This will reflect your current NSA status verified by Nexteer."]
[null,null,null,"- Choose Onsite if the Audit is being performed by a certified Nexteer Auditor."]
[null,null,"- For each sub element:"]
[null,null,null,"- Use pull down tab in the build up score assessment column."]
[null,null,null,"- Select the response that describes the current status of the element being evaluated."]
[null,null,null,"- When an assessment question is answered the corresponding score will be placed in the Score column"]
[null,null,null,"- \"How to Audit\" hints are contained the title cell of each sub element"]
[null,null,null,"- In the comments, put the Supplier Procedure Number if the supplier has a current procedure in place that covers an element. Also write down notes for evidences of non-conformances."]
[null,"4. Once NSA Audit has been completed, create your action plan."]
[null,null,"- Click \"Update Action Plan\" to auto populate any red items in your \"Current\" NSA assessment. All red items must be included in action plan."]
[null,null,"- Come up with actions that will resolve red items and follow up with your SQE."]
[]
[null,"5. Proceed to the MCA Summary. Refer to your Nexteer Representative if any process specific audits are required, if so, change \"NO\" to \"YES\" on the process specific audit to unlock the sheet for completion"]
[]
[]
[]
[null,null,"Nexteer Supplier Assessment"]
[]
[]
[]
[null,null,null,"Complete the Nexteer Supplier Assessment to verify implementation of key quality elements in the manufacturing process. Every element must be assesed"]
[]
[null,null,null,null,"This page is meant to teach you how to use this file and complete your NSA Audit."]
[]
[null,"Completing the NSA Audit:",null,null,null,"Please refer back to this instruction page after completion of every step"]
[]
[]
[]
[null,"1. Complete fields in the \"Supplier Data\" tab."]
[]
[null,"3. Complete NSA Input Form:"]
[null,null,"- Use the buttons at the top of the sheet to select your Audit Type. (Self, Onsite, Current)"]
[null,null,null,"- Choose Self Assessment if you are a supplier performing the Audit without assistance from Nexteer."]
[null,null,null,"- Choose Current if you are performing the Audit with your SQE present. This will reflect your current NSA status verified by Nexteer."]
[null,null,null,"- Choose Onsite if the Audit is being performed by a certified Nexteer Auditor."]
[null,null,"- For each sub element:"]
[null,null,null,"- Use pull down tab in the build up score assessment column."]
[null,null,null,"- Select the response that describes the current status of the element being evaluated."]
[null,null,null,"- When an assessment question is answered the corresponding score will be placed in the Score column."]
[null,null,null,"- \"How to Audit\" hints are contained the title cell of each sub element"]
[null,null,null,"- In the comments, put the Supplier Procedure Number if the supplier has a current procedure in place that covers an element. Also write down notes for evidences of non-conformances."]
[null,"4. Once NSA Audit has been completed, create your action plan:"]
[null,null,"- Click \"Update Action Plan\" to auto populate any red items in your \"Current\" NSA assessment. All red items must be included in action plan."]
[null,null,"- Come up with actions that will resolve red items and follow up with your SQE."]
[]
[null,"5. Proceed to the NSA Summary for your assessment score. Follow up with SQE."]
[]
[]
[]
[null,"NSA Element Scoring:"]
[]
[]
[]
[null,"Pts",null,"Element Scoring"]
[]
[null,1,null,"No basic criteria are in place"]
[]
[null,2,null,"Several basic criteria are not in place"]
[]
[null,3,null,"Majority of basic criteria are in place and followed"]
[]
[null,4,null,"All basic criteria and additional criteria which may have impact to the customer are in place and followed"]
[]
[]
[]
[null,"Pts",null,"Effectiveness Scoring (FRE, NCE, VSE, etc..)"]
[]
[null,1,null,"No basic metrics are in place to evaluate key element effectiveness"]
[]
[null,2,null,"Some metrics are in place but basic metrics are not defined"]
[]
[null,3,null,"Basic metrics are followed and deviations are managed by action plans, but additional metrics are not defined"]
[]
[null,4,null,"Continuous improvement for basic metrics are in place and most of additional metrics are managed"]
[]
[]
[]
[]
[null,"Assessment Result:"]
[]
[]
[]
[null,"The following outlines how your NSA will be scored:"]
[]
[null,null,"1. Results of each NSA question"]
[null,null,null,"- If a Requirement or Effectiveness is scored 1 or 2 the Element will go Red"]
[null,null,null,"- If a Requirement or Effectiveness is scored 3 the Element will go Yellow"]
[null,null,null,"- If a Requirement or Effectiveness is scored 4 the Element will go Green"]
[]
[null,null,"2. Results of each Element (Fast Response, Non Conformance, Verification Station, etc.)"]
[null,null,null,"- Green (Pass):  ≥  90% "]
[null,null,null,"- Yellow (Conditional Pass):  ≥  75%"]
[null,null,null,"- Red (Fail):  <  75% or Red on a Required Element"]
[]
[null,null,"3. Overall Audit Results"]
[null,null,null,"- Green (Pass)"]
[null,null,null,null,"- 90% or greater"]
[null,null,null,null,"- No Red Key Elements"]
[null,null,null,null,"- Elements 1-5 (Core Key Elements) Must be green"]
[null,null,null,null,null,"- Fast Response"]
[null,null,null,null,null,"- Control of Non Conforming Product",null,null,null,null,"These are the 5 Core Key Elements, they must be green in order to pass the Audit"]
[null,null,null,null,null,"- Verification and Error Proof"]
[null,null,null,null,null,"- Maintenance"]
[null,null,null,null,null,"- Standard Work"]
[null,null,null,"- Yellow (Conditional Pass)"]
[null,null,null,null,"- 75-89%"]
[null,null,null,null,"- No Red Key Elements"]
[null,null,null,"- Red (Fail)"]
[null,null,null,null,"- < 75%"]
[null,null,null,null,"- Red Key Element"]
[]
[]
[]
[null,"MCA Results:"]
[null,null,"1. MCA score will only be published when all sustainability items are \"Yes\""]
[null,null,"2. MCA Scoring:"]
[null,null,null,"- Green:  ≥  90%"]
[null,null,null,"- Yellow:  >  65.5%"]
[null,null,null,"- Red:  ≤  65.5%"]
[]
[]
[]
[]
[null,null,null,null,null,null,null,"I understand the instructions to complete this Audit\nUnlock Selected Audit"]

{"sheet":"UnlockAudit","index":3,"n_rows":2,"n_cols":5,"rows_kept":2,"cut":false,"hidden":true,"merged":[[1,4,9,11]]}
["MCA","NSA","Current"]
[null,null,"MCA",null,"IF THE UNLOCK BUTTON IS PRESSED ON INSTRUCTION TAB, A VALUE WILL APPEAR IN CELL A1. UNLOCKING THE AUDIT FOR USE.\n\nCLEAR THIS VALUE TO RELOCK SHEET"]

{"sheet":"Supplier Data","index":4,"n_rows":46,"n_cols":17,"rows_kept":46,"cut":false,"hidden":false,"merged":[[0,16,0,17],[7,0,8,17],[13,0,15,2],[13,3,15,7],[21,0,23,2],[21,3,23,7],[13,9,15,11],[17,9,19,11],[17,0,19,2],[17,3,19,7],[21,12,23,13],[21,15,23,15],[21,16,23,16],[21,9,23,11],[13,12,15,13],[13,15,15,15],[13,16,15,16],[9,3,10,6],[9,12,10,14],[17,12,19,13],[17,15,19,15],[17,16,19,16],[12,12,12,13],[26,2,28,6],[29,1,31,3],[33,1,35,3],[37,1,39,3],[26,11,28,15],[29,10,31,12],[33,10,35,12],[37,10,39,12],[29,4,31,5],[33,4,35,5],[37,4,39,5],[29,13,31,14],[33,13,35,14],[37,13,39,14],[53,0,54,2],[55,0,56,2],[57,0,58,2],[59,0,60,2],[53,3,54,7],[55,3,56,7],[57,3,58,7],[59,3,60,7],[59,10,60,12],[59,13,60,17],[61,10,62,12],[42,11,44,15],[45,0,46,2],[45,3,46,7],[45,13,46,17],[45,10,46,12],[61,0,62,2],[42,2,44,6],[47,0,48,2],[49,0,50,2],[47,3,48,7],[49,3,50,7],[51,3,52,7],[51,0,52,2],[53,10,54,12],[53,13,54,17],[55,10,56,12],[55,13,56,17],[57,10,58,12],[57,13,58,17],[47,10,48,12],[47,13,48,17],[49,10,50,12],[49,13,50,17],[51,10,52,12],[51,13,52,17],[61,13,62,17],[63,13,64,17],[65,10,66,12],[65,13,66,17],[63,0,64,2],[63,3,64,7],[65,0,66,2],[65,3,66,7],[63,10,64,12],[61,3,62,7]]}
[]
[]
[]
[]
[]
[]
[]
["Supplier Information"]
[]
[null,null,null,"Supplier Information",null,null,null,null,null,null,null,null,"Supplier Metrics"]
[]
[]
[null,null,null,null,null,null,null,null,null,null,null,null,"6 Month Rolling Ave",null,null,"Goal","% of Goal"]
["Supplier Name:",null,null,null,null,null,null,null,null,"Defect Rate-PPB\n(Parts per billion):",null,null,null,null,null,null,{"$f":"IF(M14=\"\",0,IF(P14/M14>1,1,P14/M14))","v":0}]
[]
[]
[]
["Supplier Location:",null,null,null,null,null,null,null,null,"Complaint Rate-CPB\n(Complaints per billion):",null,null,null,null,null,null,{"$f":"IF(M18=\"\",0,IF(P18/M18>1,1,P18/M18))","v":0}]
[]
[]
[]
["Supplier\nDUNS / COFOR:",null,null,null,null,null,null,null,null,"% On-Time Delivery:",null,null,null,null,null,null,{"$f":"IF(P22=\"\",0,IF(M22/P22>1,1,M22/P22))","v":0}]
[]
[]
[]
[]
[null,null,"Self Assessment",null,null,null,null,null,null,null,null,"On-Site Customer Assessment"]
[]
[]
[null,"Self Assessment Date:",null,null,null,null,null,null,null,null,"Audit Date:"]
[]
[]
[]
[null,"Self Auditor Name:",null,null,null,null,null,null,null,null,"Auditor Name:"]
[]
[]
[]
[null,"Email:",null,null,null,null,null,null,null,null,"Email:"]
[]
[]
[]
[]
[null,null,"Self Assessment Participation",null,null,null,null,null,null,null,null,"On-Site Participation"]
[]
[]
["Name",null,null,"Email",null,null,null,null,null,null,"Name",null,null,"Email"]

{"sheet":"Sustainability","index":5,"n_rows":42,"n_cols":13,"rows_kept":42,"cut":false,"hidden":true,"merged":[[0,0,6,13],[7,0,8,13]]}
[]
[]
[]
[]
[]
[]
[]
["Sustainability"]
[]
[]
[null,null,null,"Assessment",null,null,"Nexteer Approval",null,"Approver Name",null,"Findings",null,"Comments"]
[{"$f":"SU!$A$4","v":"SU1.0"},{"$f":"SU!B4","v":"Overall Sustainability Concept"}]
[{"$f":"SU!A5","v":"SU1.1"},{"$f":"SU!C5","v":"Does the supplier understand the concept of Sustainability?"},null,"*",null,null,"*"]
[{"$f":"SU!A9","v":"SU1.2"},{"$f":"SU!C9","v":"Does the supplier manage/set targets/have an internal standard for Corruption and Bribary?"},null,"*",null,null,"*"]
[{"$f":"SU!A13","v":"SU1.3"},{"$f":"SU!C13","v":"Does the supplier manage/set targets/have an internal standard for Basic Human Rights?"},null,"*",null,null,"*"]
[{"$f":"SU!A17","v":"SU1.4"},{"$f":"SU!C17","v":"Does the supplier manage/set targets/have an internal standard for Freedom of Association?"},null,"*",null,null,"*"]
[{"$f":"SU!A21","v":"SU1.5"},{"$f":"SU!C21","v":"Does the supplier manage/set targets/have an internal standard for Child Labor?"},null,"*",null,null,"*"]
[{"$f":"SU!A25","v":"SU1.6"},{"$f":"SU!C25","v":"Does the supplier manage/set targets/have an internal standard for Forced or Compulsory Labor?"},null,"*",null,null,"*"]
[{"$f":"SU!A29","v":"SU1.7"},{"$f":"SU!C29","v":"Does the supplier manage/set targets/have an internal standard for Non-discrimination?"},null,"*",null,null,"*"]
[{"$f":"SU!A33","v":"SU1.8"},{"$f":"SU!C33","v":"Does the supplier manage/set targets/have an internal standard for Fair Working Conditions?"},null,"*",null,null,"*"]
[{"$f":"SU!A37","v":"SU1.9"},{"$f":"SU!C37","v":"Does the supplier manage/set targets/have an internal standard for Training and Development?"},null,"*",null,null,"*"]
[{"$f":"SU!A41","v":"SU1.10"},{"$f":"SU!C41","v":"Does the supplier manage/set targets/have an internal standard for Health and Safety in the Workplace?"},null,"*",null,null,"*"]
[{"$f":"SU!A45","v":"SU1.11"},{"$f":"SU!C45","v":"Does the supplier manage/set targets/have an internal standard for Environmental Protection?"},null,"*",null,null,"*"]
[{"$f":"SU!A49","v":"SU1.12"},{"$f":"SU!C49","v":"Does the supplier manage/set targets/have an internal standard for Sustainability in the Supply Chain?"},null,"*",null,null,"*"]
[]
[{"$f":"SU!A53","v":"SU2.0"},{"$f":"SU!B53","v":"Supplier Legal Complience"}]
[{"$f":"SU!A54","v":"SU2.1"},{"$f":"SU!C54","v":"Is the supplier compliant with applicable legislation in the areas of bribary/corruption, money laundering, infringement of data protection, insider trading, conflicts of interest, anti-corruption activities, unethical contract tendering?"},null,"*",null,null,"*"]
[{"$f":"SU!A58","v":"SU2.2"},{"$f":"SU!C58","v":"Is the supplier free of any judgements or enforcement actions in any of these areas?"},null,"*",null,null,"*"]
[]
[{"$f":"SU!A62","v":"SU3.0"},{"$f":"SU!B62","v":"Employment Compliance"}]
[{"$f":"SU!A63","v":"SU3.1"},{"$f":"SU!C63","v":"Does supplier employ policies against child labor, forced, or bonded labor?"},null,"*",null,null,"*"]
[{"$f":"SU!A67","v":"SU3.2"},{"$f":"SU!C67","v":"Does supplier comply with local legislation on human rights?"},null,"*",null,null,"*"]
[{"$f":"SU!A71","v":"SU3.3"},{"$f":"SU!C71","v":"Does supplier comply with local legislation on working conditions (including contract of employment, working hours, etc.)?"},null,"*",null,null,"*"]
[]
[{"$f":"SU!A75","v":"SU4.0"},{"$f":"SU!B75","v":"Health & Safety"}]
[{"$f":"SU!A76","v":"SU4.1"},{"$f":"SU!C76","v":"Does supplier have a Health and Safety Management System?"},null,"*",null,null,"*"]
[{"$f":"SU!A80","v":"SU4.2"},{"$f":"SU!C80","v":"Does the supplier systematically assess risk and measure health and safety performance?"},null,"*",null,null,"*"]
[{"$f":"SU!A84","v":"SU4.3"},{"$f":"SU!C84","v":"Is the health and safety policy extended to the sub-tiers?"},null,"*",null,null,"*"]
[]
[{"$f":"SU!A88","v":"SU5.0"},{"$f":"SU!B88","v":"Environmental Management System"}]
[{"$f":"SU!A89","v":"SU5.1"},{"$f":"SU!C89","v":"Does the suplier have an environmental management system?"},null,"*",null,null,"*"]
[{"$f":"SU!A93","v":"SU5.2"},{"$f":"SU!C93","v":"Does the supplier have an environmental policy statement and is it communicated to the employees?"},null,"*",null,null,"*"]

{"sheet":"NSA Input Form","index":6,"n_rows":503,"n_cols":34,"rows_kept":503,"cut":false,"hidden":true,"merged":[[502,25,502,27],[492,28,495,28],[492,29,495,29],[492,30,495,30],[492,31,495,31],[492,32,495,32],[492,33,495,33],[7,0,8,34],[486,28,489,28],[486,29,489,29],[486,30,489,30],[486,31,489,31],[486,32,489,32],[486,33,489,33],[478,28,478,30],[480,28,483,28],[480,29,483,29],[480,30,483,30],[480,31,483,31],[480,32,483,32],[475,25,475,27],[478,6,478,10],[478,13,478,17],[478,20,478,24],[459,33,462,33],[473,25,473,27],[453,28,456,28],[453,29,456,29],[453,30,456,30],[453,31,456,31],[453,32,456,32],[500,25,500,27],[501,25,501,27],[465,28,468,28],[465,29,468,29],[465,30,468,30],[480,33,483,33],[465,33,468,33],[474,25,474,27],[453,33,456,33],[446,25,446,27],[447,25,447,27],[448,25,448,27],[465,31,468,31],[465,32,468,32],[451,6,451,10],[451,13,451,17],[451,20,451,24],[438,28,441,28],[438,29,441,29],[438,30,441,30],[438,31,441,31],[438,32,441,32],[459,28,462,28],[459,29,462,29],[459,30,462,30],[459,31,462,31],[459,32,462,32],[438,33,441,33],[451,28,451,30],[432,28,435,28],[432,29,435,29],[432,30,435,30],[432,31,435,31],[432,32,435,32],[432,33,435,33],[424,28,424,30],[426,28,429,28],[426,29,429,29],[426,30,429,30],[426,31,429,31],[426,32,429,32],[420,25,420,27],[421,25,421,27],[424,6,424,10],[424,13,424,17],[424,20,424,24],[411,28,414,28],[411,29,414,29],[411,30,414,30],[426,33,429,33],[411,33,414,33],[399,33,402,33],[405,28,408,28],[405,29,408,29],[405,30,408,30],[405,31,408,31],[405,32,408,32],[405,33,408,33],[419,25,419,27],[399,28,402,28],[399,29,402,29],[399,30,402,30],[399,31,402,31],[399,32,402,32],[411,31,414,31],[411,32,414,32],[392,25,392,27],[393,25,393,27],[372,28,375,28],[372,29,375,29],[372,30,375,30],[372,31,375,31],[372,32,375,32],[397,6,397,10],[397,13,397,17],[397,20,397,24],[384,28,387,28],[384,29,387,29],[384,30,387,30],[384,31,387,31],[384,32,387,32],[397,28,397,30],[394,25,394,27],[384,33,387,33],[351,33,354,33],[339,33,342,33],[345,28,348,28],[345,29,348,29],[345,30,348,30],[345,31,348,31],[345,32,348,32],[345,33,348,33],[339,28,342,28],[339,29,342,29],[339,30,342,30],[339,31,342,31],[339,32,342,32],[372,33,375,33],[378,28,381,28],[378,29,381,29],[378,30,381,30],[378,31,381,31],[378,32,381,32],[378,33,381,33],[351,28,354,28],[351,29,354,29],[351,30,354,30],[351,31,354,31],[351,32,354,32],[318,33,321,33],[370,6,370,10],[370,13,370,17],[370,20,370,24],[357,28,360,28],[357,29,360,29],[357,30,360,30],[357,31,360,31],[357,32,360,32],[357,33,360,33],[370,28,370,30],[365,25,365,27],[366,25,366,27],[367,25,367,27],[337,6,337,10],[337,13,337,17],[337,20,337,24],[324,28,327,28],[324,29,327,29],[324,30,327,30],[324,31,327,31],[324,32,327,32],[324,33,327,33],[337,28,337,30],[332,25,332,27],[333,25,333,27],[334,25,334,27],[318,28,321,28],[318,29,321,29],[318,30,321,30],[318,31,321,31],[318,32,321,32],[306,33,309,33],[312,28,315,28],[312,29,315,29],[312,30,315,30],[312,31,315,31],[312,32,315,32],[312,33,315,33],[306,28,309,28],[306,29,309,29],[306,30,309,30],[306,31,309,31],[306,32,309,32],[304,6,304,10],[304,13,304,17],[304,20,304,24],[291,28,294,28],[291,29,294,29],[291,30,294,30],[291,31,294,31],[291,32,294,32],[291,33,294,33],[304,28,304,30],[299,25,299,27],[300,25,300,27],[301,25,301,27],[268,25,268,27],[285,28,288,28],[285,29,288,29],[285,30,288,30],[285,31,288,31],[285,32,288,32],[252,33,255,33],[273,33,276,33],[279,28,282,28],[279,29,282,29],[279,30,282,30],[279,31,282,31],[279,32,282,32],[279,33,282,33],[273,28,276,28],[273,29,276,29],[273,30,276,30],[273,31,276,31],[273,32,276,32],[285,33,288,33],[240,33,243,33],[246,28,249,28],[246,29,249,29],[246,30,249,30],[246,31,249,31],[246,32,249,32],[246,33,249,33],[271,6,271,10],[271,13,271,17],[271,20,271,24],[258,28,261,28],[258,29,261,29],[258,30,261,30],[258,31,261,31],[258,32,261,32],[258,33,261,33],[271,28,271,30],[240,28,243,28],[240,29,243,29],[240,30,243,30],[240,31,243,31],[240,32,243,32],[266,25,266,27],[267,25,267,27],[233,25,233,27],[234,25,234,27],[235,25,235,27],[252,28,255,28],[252,29,255,29],[252,30,255,30],[252,31,255,31],[252,32,255,32],[238,6,238,10],[238,13,238,17],[238,20,238,24],[225,28,228,28],[225,29,228,29],[225,30,228,30],[225,31,228,31],[225,32,228,32],[225,33,228,33],[238,28,238,30],[219,28,222,28],[219,29,222,29],[219,30,222,30],[219,31,222,31],[219,32,222,32],[219,33,222,33],[207,33,210,33],[213,28,216,28],[213,29,216,29],[213,30,216,30],[213,31,216,31],[213,32,216,32],[213,33,216,33],[205,28,205,30],[207,28,210,28],[207,29,210,29],[207,30,210,30],[207,31,210,31],[207,32,210,32],[200,25,200,27],[201,25,201,27],[202,25,202,27],[205,6,205,10],[205,13,205,17],[205,20,205,24],[192,28,195,28],[192,29,195,29],[192,30,195,30],[192,31,195,31],[192,32,195,32],[192,33,195,33],[186,28,189,28],[186,29,189,29],[186,30,189,30],[186,31,189,31],[186,32,189,32],[186,33,189,33],[180,33,183,33],[168,33,171,33],[174,28,177,28],[174,29,177,29],[174,30,177,30],[174,31,177,31],[174,32,177,32],[174,33,177,33],[168,28,171,28],[168,29,171,29],[168,30,171,30],[168,31,171,31],[168,32,171,32],[161,25,161,27],[162,25,162,27],[163,25,163,27],[180,28,183,28],[180,29,183,29],[180,30,183,30],[180,31,183,31],[180,32,183,32],[166,6,166,10],[166,13,166,17],[166,20,166,24],[166,28,166,30],[153,28,156,28],[153,29,156,29],[153,30,156,30],[153,31,156,31],[153,32,156,32],[153,33,156,33],[129,28,132,28],[129,29,132,29],[129,30,132,30],[129,31,132,31],[129,32,132,32],[147,28,150,28],[147,29,150,29],[147,30,150,30],[147,31,150,31],[147,32,150,32],[147,33,150,33],[141,28,144,28],[141,29,144,29],[141,30,144,30],[141,31,144,31],[141,32,144,32],[122,25,122,27],[123,25,123,27],[124,25,124,27],[127,6,127,10],[127,13,127,17],[127,20,127,24],[141,33,144,33],[129,33,132,33],[135,28,138,28],[135,29,138,29],[135,30,138,30],[135,31,138,31],[135,32,138,32],[135,33,138,33],[127,28,127,30],[69,33,72,33],[83,25,83,27],[84,25,84,27],[85,25,85,27],[114,28,117,28],[114,29,117,29],[114,30,117,30],[114,31,117,31],[114,32,117,32],[114,33,117,33],[108,28,111,28],[108,29,111,29],[108,30,111,30],[108,31,111,31],[108,32,111,32],[108,33,111,33],[88,6,88,10],[88,13,88,17],[88,20,88,24],[102,33,105,33],[90,33,93,33],[96,28,99,28],[96,29,99,29],[96,30,99,30],[96,31,99,31],[96,32,99,32],[96,33,99,33],[90,28,93,28],[90,29,93,29],[90,30,93,30],[90,31,93,31],[90,32,93,32],[88,28,88,30],[102,28,105,28],[102,29,105,29],[102,30,105,30],[102,31,105,31],[102,32,105,32],[63,33,66,33],[51,33,54,33],[57,28,60,28],[57,29,60,29],[57,30,60,30],[57,31,60,31],[57,32,60,32],[57,33,60,33],[75,28,78,28],[75,29,78,29],[75,30,78,30],[75,31,78,31],[75,32,78,32],[75,33,78,33],[51,28,54,28],[51,29,54,29],[51,30,54,30],[51,31,54,31],[51,32,54,32],[69,28,72,28],[69,29,72,29],[69,30,72,30],[69,31,72,31],[69,32,72,32],[44,25,44,27],[45,25,45,27],[46,25,46,27],[63,28,66,28],[63,29,66,29],[63,30,66,30],[63,31,66,31],[63,32,66,32],[49,6,49,10],[49,13,49,17],[49,20,49,24],[49,28,49,30],[30,28,33,28],[30,29,33,29],[30,30,33,30],[30,31,33,31],[30,32,33,32],[30,33,33,33],[24,31,27,31],[24,32,27,32],[24,33,27,33],[24,28,27,28],[24,29,27,29],[24,30,27,30],[18,33,21,33],[36,28,39,28],[36,29,39,29],[36,30,39,30],[36,31,39,31],[36,32,39,32],[36,33,39,33],[12,31,15,31],[12,32,15,32],[12,33,15,33],[18,28,21,28],[18,29,21,29],[18,30,21,30],[18,31,21,31],[18,32,21,32],[1,1,3,1],[10,6,10,10],[10,13,10,17],[10,20,10,24],[10,28,10,30],[12,28,15,28],[12,29,15,29],[12,30,15,30]]}
[]
[null,"Self Assessment"]
[]
[]
[]
[]
[]
["NSA Input Form"]
[]
[]
[" ",{"$f":"FR!B2","v":"Fast Response"},null,null,"Build up Score Assessment"," ","Build up Scoring",null,null,null,null,"Build up Score Assessment"," ","Build up Scoring",null,null,null,null,"Build up Score Assessment"," ","Build up Scoring",null,null,null,null,null,null,null,"Sub Element Score"]
[{"$f":"FR!$A$4","v":"FR1.0"},{"$f":"FR!$B$4","v":"Daily Fast Response Meeting"},null,"Sub-Element",null,null,4,3,2,1,"NR",null,null,4,3,2,1,"NR",null,null,4,3,2,1,"NR","Self","Onsite","Current","Self","Onsite","Current","Procedures","Findings","Comments"]
[{"$f":"FR!$A$5","v":"FR1.1"},{"$f":"FR!$C$5","v":"Fast Response meeting attendance and participation"},null,null,"NA",null,{"$f":"IF(E13=FR!$D$9,\"X\",\"\")","v":""},{"$f":"IF(E13=FR!$D$8,\"X\",\"\")","v":""},{"$f":"IF(E13=FR!$D$7,\"X\",\"\")","v":""},{"$f":"IF(E13=FR!$D$6,\"X\",\"\")","v":""},{"$f":"IF(E13=FR!$D$10,\"X\",\"\")","v":"X"},"NA",null,{"$f":"IF(L13=FR!$D$9,\"X\",\"\")","v":""},{"$f":"IF(L13=FR!$D$8,\"X\",\"\")","v":""},{"$f":"IF(L13=FR!$D$7,\"X\",\"\")","v":""},{"$f":"IF(L13=FR!$D$6,\"X\",\"\")","v":""},{"$f":"IF(L13=FR!$D$10,\"X\",\"\")","v":"X"},"NA",null,{"$f":"IF(S13=FR!$D$9,\"X\",\"\")","v":""},{"$f":"IF(S13=FR!$D$8,\"X\",\"\")","v":""},{"$f":"IF(S13=FR!$D$7,\"X\",\"\")","v":""},{"$f":"IF(S13=FR!$D$6,\"X\",\"\")","v":""},{"$f":"IF(S13=FR!$D$10,\"X\",\"\")","v":"X"},{"$f":"IF(G13=\"x\",4,IF(H13=\"x\",3,IF(I13=\"x\",2,IF(J13=\"x\",1,IF(K13=\"x\",\"NR\",\"\")))))","v":"NR"},{"$f":"IF(N13=\"x\",4,IF(O13=\"x\",3,IF(P13=\"x\",2,IF(Q13=\"x\",1,IF(R13=\"x\",\"NR\",\"\")))))","v":"NR"},{"$f":"IF(U13=\"x\",4,IF(V13=\"x\",3,IF(W13=\"x\",2,IF(X13=\"x\",1,IF(Y13=\"x\",\"NR\",\"\")))))","v":"NR"},{"$f":"SUM(Z13:Z16)","v":0},{"$f":"SUM(AA13:AA16)","v":0},{"$f":"SUM(AB13:AB16)","v":0}]
[{"$f":"FR!$A$11","v":"FR1.2"},{"$f":"FR!$C$11","v":"Fast Response meeting agenda"},null,null,"NA",null,{"$f":"IF(E14=FR!$D$15,\"X\",\"\")","v":""},{"$f":"IF(E14=FR!$D$14,\"X\",\"\")","v":""},{"$f":"IF(E14=FR!$D$13,\"X\",\"\")","v":""},{"$f":"IF(E14=FR!$D$12,\"X\",\"\")","v":""},{"$f":"IF(E14=FR!$D$16,\"X\",\"\")","v":"X"},"NA",null,{"$f":"IF(L14=FR!$D$15,\"X\",\"\")","v":""},{"$f":"IF(L14=FR!$D$14,\"X\",\"\")","v":""},{"$f":"IF(L14=FR!$D$13,\"X\",\"\")","v":""},{"$f":"IF(L14=FR!$D$12,\"X\",\"\")","v":""},{"$f":"IF(L14=FR!$D$16,\"X\",\"\")","v":"X"},"NA",null,{"$f":"IF(S14=FR!$D$15,\"X\",\"\")","v":""},{"$f":"IF(S14=FR!$D$14,\"X\",\"\")","v":""},{"$f":"IF(S14=FR!$D$13,\"X\",\"\")","v":""},{"$f":"IF(S14=FR!$D$12,\"X\",\"\")","v":""},{"$f":"IF(S14=FR!$D$16,\"X\",\"\")","v":"X"},{"$f":"IF(G14=\"x\",4,IF(H14=\"x\",3,IF(I14=\"x\",2,IF(J14=\"x\",1,IF(K14=\"x\",\"NR\",\"\")))))","v":"NR"},{"$f":"IF(N14=\"x\",4,IF(O14=\"x\",3,IF(P14=\"x\",2,IF(Q14=\"x\",1,IF(R14=\"x\",\"NR\",\"\")))))","v":"NR"},{"$f":"IF(U14=\"x\",4,IF(V14=\"x\",3,IF(W14=\"x\",2,IF(X14=\"x\",1,IF(Y14=\"x\",\"NR\",\"\")))))","v":"NR"}]
[{"$f":"FR!$A$17","v":"FR1.3"},{"$f":"FR!$C$17","v":"Fast Response meeting issues are addressed"},null,null,"NA",null,{"$f":"IF(E15=FR!$D$21,\"X\",\"\")","v":""},{"$f":"IF(E15=FR!$D$20,\"X\",\"\")","v":""},{"$f":"IF(E15=FR!$D$19,\"X\",\"\")","v":""},{"$f":"IF(E15=FR!$D$18,\"X\",\"\")","v":""},{"$f":"IF(E15=FR!$D$22,\"X\",\"\")","v":"X"},"NA",null,{"$f":"IF(L15=FR!$D$21,\"X\",\"\")","v":""},{"$f":"IF(L15=FR!$D$20,\"X\",\"\")","v":""},{"$f":"IF(L15=FR!$D$19,\"X\",\"\")","v":""},{"$f":"IF(L15=FR!$D$18,\"X\",\"\")","v":""},{"$f":"IF(L15=FR!$D$22,\"X\",\"\")","v":"X"},"NA",null,{"$f":"IF(S15=FR!$D$21,\"X\",\"\")","v":""},{"$f":"IF(S15=FR!$D$20,\"X\",\"\")","v":""},{"$f":"IF(S15=FR!$D$19,\"X\",\"\")","v":""},{"$f":"IF(S15=FR!$D$18,\"X\",\"\")","v":""},{"$f":"IF(S15=FR!$D$22,\"X\",\"\")","v":"X"},{"$f":"IF(G15=\"x\",4,IF(H15=\"x\",3,IF(I15=\"x\",2,IF(J15=\"x\",1,IF(K15=\"x\",\"NR\",\"\")))))","v":"NR"},{"$f":"IF(N15=\"x\",4,IF(O15=\"x\",3,IF(P15=\"x\",2,IF(Q15=\"x\",1,IF(R15=\"x\",\"NR\",\"\")))))","v":"NR"},{"$f":"IF(U15=\"x\",4,IF(V15=\"x\",3,IF(W15=\"x\",2,IF(X15=\"x\",1,IF(Y15=\"x\",\"NR\",\"\")))))","v":"NR"}]
[{"$f":"FR!$A$23","v":"FR1.4"},{"$f":"FR!$C$23","v":"Fast Response meeting issues are assigned"},null,null,"NA",null,{"$f":"IF(E16=FR!$D$27,\"X\",\"\")","v":""},{"$f":"IF(E16=FR!$D$26,\"X\",\"\")","v":""},{"$f":"IF(E16=FR!$D$25,\"X\",\"\")","v":""},{"$f":"IF(E16=FR!$D$24,\"X\",\"\")","v":""},{"$f":"IF(E16=FR!$D$28,\"X\",\"\")","v":"X"},"NA",null,{"$f":"IF(L16=FR!$D$27,\"X\",\"\")","v":""},{"$f":"IF(L16=FR!$D$26,\"X\",\"\")","v":""},{"$f":"IF(L16=FR!$D$25,\"X\",\"\")","v":""},{"$f":"IF(L16=FR!$D$24,\"X\",\"\")","v":""},{"$f":"IF(L16=FR!$D$28,\"X\",\"\")","v":"X"},"NA",null,{"$f":"IF(S16=FR!$D$27,\"X\",\"\")","v":""},{"$f":"IF(S16=FR!$D$26,\"X\",\"\")","v":""},{"$f":"IF(S16=FR!$D$25,\"X\",\"\")","v":""},{"$f":"IF(S16=FR!$D$24,\"X\",\"\")","v":""},{"$f":"IF(S16=FR!$D$28,\"X\",\"\")","v":"X"},{"$f":"IF(G16=\"x\",4,IF(H16=\"x\",3,IF(I16=\"x\",2,IF(J16=\"x\",1,IF(K16=\"x\",\"NR\",\"\")))))","v":"NR"},{"$f":"IF(N16=\"x\",4,IF(O16=\"x\",3,IF(P16=\"x\",2,IF(Q16=\"x\",1,IF(R16=\"x\",\"NR\",\"\")))))","v":"NR"},{"$f":"IF(U16=\"x\",4,IF(V16=\"x\",3,IF(W16=\"x\",2,IF(X16=\"x\",1,IF(Y16=\"x\",\"NR\",\"\")))))","v":"NR"}]
[]
[{"$f":"FR!$A$29","v":"FR2.0"},{"$f":"FR!$B$29","v":"Fast Response Tracking Board"}]
[{"$f":"FR!$A$30","v":"FR2.1"},{"$f":"FR!$C$30","v":"Fast Response Tracking Board"},null,null,"NA",null,{"$f":"IF(E19=FR!$D$34,\"X\",\"\")","v":""},{"$f":"IF(E19=FR!$D$33,\"X\",\"\")","v":""},{"$f":"IF(E19=FR!$D$32,\"X\",\"\")","v":""},{"$f":"IF(E19=FR!$D$31,\"X\",\"\")","v":""},{"$f":"IF(E19=FR!$D$35,\"X\",\"\")","v":"X"},"NA",null,{"$f":"IF(L19=FR!$D$34,\"X\",\"\")","v":""},{"$f":"IF(L19=FR!$D$33,\"X\",\"\")","v":""},{"$f":"IF(L19=FR!$D$32,\"X\",\"\")","v":""},{"$f":"IF(L19=FR!$D$31,\"X\",\"\")","v":""},{"$f":"IF(L19=FR!$D$35,\"X\",\"\")","v":"X"},"NA",null,{"$f":"IF(S19=FR!$D$34,\"X\",\"\")","v":""},{"$f":"IF(S19=FR!$D$33,\"X\",\"\")","v":""},{"$f":"IF(S19=FR!$D$32,\"X\",\"\")","v":""},{"$f":"IF(S19=FR!$D$31,\"X\",\"\")","v":""},{"$f":"IF(S19=FR!$D$35,\"X\",\"\")","v":"X"},{"$f":"IF(G19=\"x\",4,IF(H19=\"x\",3,IF(I19=\"x\",2,IF(J19=\"x\",1,IF(K19=\"x\",\"NR\",\"\")))))","v":"NR"},{"$f":"IF(N19=\"x\",4,IF(O19=\"x\",3,IF(P19=\"x\",2,IF(Q19=\"x\",1,IF(R19=\"x\",\"NR\",\"\")))))","v":"NR"},{"$f":"IF(U19=\"x\",4,IF(V19=\"x\",3,IF(W19=\"x\",2,IF(X19=\"x\",1,IF(Y19=\"x\",\"NR\",\"\")))))","v":"NR"},{"$f":"SUM(Z19:Z22)","v":0},{"$f":"SUM(AA19:AA22)","v":0},{"$f":"SUM(AB19:AB22)","v":0}]
[{"$f":"FR!$A$36","v":"FR2.2"},{"$f":"FR!$C$36","v":"Fast Response Issues are communicated"},null,null,"NA",null,{"$f":"IF(E20=FR!$D$40,\"X\",\"\")","v":""},{"$f":"IF(E20=FR!$D$39,\"X\",\"\")","v":""},{"$f":"IF(E20=FR!$D$38,\"X\",\"\")","v":""},{"$f":"IF(E20=FR!$D$37,\"X\",\"\")","v":""},{"$f":"IF(E20=FR!$D$41,\"X\",\"\")","v":"X"},"NA",null,{"$f":"IF(L20=FR!$D$40,\"X\",\"\")","v":""},{"$f":"IF(L20=FR!$D$39,\"X\",\"\")","v":""},{"$f":"IF(L20=FR!$D$38,\"X\",\"\")","v":""},{"$f":"IF(L20=FR!$D$37,\"X\",\"\")","v":""},{"$f":"IF(L20=FR!$D$41,\"X\",\"\")","v":"X"},"NA",null,{"$f":"IF(S20=FR!$D$40,\"X\",\"\")","v":""},{"$f":"IF(S20=FR!$D$39,\"X\",\"\")","v":""},{"$f":"IF(S20=FR!$D$38,\"X\",\"\")","v":""},{"$f":"IF(S20=FR!$D$37,\"X\",\"\")","v":""},{"$f":"IF(S20=FR!$D$41,\"X\",\"\")","v":"X"},{"$f":"IF(G20=\"x\",4,IF(H20=\"x\",3,IF(I20=\"x\",2,IF(J20=\"x\",1,IF(K20=\"x\",\"NR\",\"\")))))","v":"NR"},{"$f":"IF(N20=\"x\",4,IF(O20=\"x\",3,IF(P20=\"x\",2,IF(Q20=\"x\",1,IF(R20=\"x\",\"NR\",\"\")))))","v":"NR"},{"$f":"IF(U20=\"x\",4,IF(V20=\"x\",3,IF(W20=\"x\",2,IF(X20=\"x\",1,IF(Y20=\"x\",\"NR\",\"\")))))","v":"NR"}]
[{"$f":"FR!$A$42","v":"FR2.3"},{"$f":"FR!$C$42","v":"Standard Problem Solving Method is used"},null,null,"NA",null,{"$f":"IF(E21=FR!$D$46,\"X\",\"\")","v":""},{"$f":"IF(E21=FR!$D$45,\"X\",\"\")","v":""},{"$f":"IF(E21=FR!$D$44,\"X\",\"\")","v":""},{"$f":"IF(E21=FR!$D$43,\"X\",\"\")","v":""},{"$f":"IF(E21=FR!$D$47,\"X\",\"\")","v":"X"},"NA",null,{"$f":"IF(L21=FR!$D$46,\"X\",\"\")","v":""},{"$f":"IF(L21=FR!$D$45,\"X\",\"\")","v":""},{"$f":"IF(L21=FR!$D$44,\"X\",\"\")","v":""},{"$f":"IF(L21=FR!$D$43,\"X\",\"\")","v":""},{"$f":"IF(L21=FR!$D$47,\"X\",\"\")","v":"X"},"NA",null,{"$f":"IF(S21=FR!$D$46,\"X\",\"\")","v":""},{"$f":"IF(S21=FR!$D$45,\"X\",\"\")","v":""},{"$f":"IF(S21=FR!$D$44,\"X\",\"\")","v":""},{"$f":"IF(S21=FR!$D$43,\"X\",\"\")","v":""},{"$f":"IF(S21=FR!$D$47,\"X\",\"\")","v":"X"},{"$f":"IF(G21=\"x\",4,IF(H21=\"x\",3,IF(I21=\"x\",2,IF(J21=\"x\",1,IF(K21=\"x\",\"NR\",\"\")))))","v":"NR"},{"$f":"IF(N21=\"x\",4,IF(O21=\"x\",3,IF(P21=\"x\",2,IF(Q21=\"x\",1,IF(R21=\"x\",\"NR\",\"\")))))","v":"NR"},{"$f":"IF(U21=\"x\",4,IF(V21=\"x\",3,IF(W21=\"x\",2,IF(X21=\"x\",1,IF(Y21=\"x\",\"NR\",\"\")))))","v":"NR"}]
[{"$f":"FR!$A$48","v":"FR2.4"},{"$f":"FR!$C$48","v":"Fast Response Items are completed in a timely manner"},null,null,"NA",null,{"$f":"IF(E22=FR!$D$52,\"X\",\"\")","v":""},{"$f":"IF(E22=FR!$D$51,\"X\",\"\")","v":""},{"$f":"IF(E22=FR!$D$50,\"X\",\"\")","v":""},{"$f":"IF(E22=FR!$D$49,\"X\",\"\")","v":""},{"$f":"IF(E22=FR!$D$53,\"X\",\"\")","v":"X"},"NA",null,{"$f":"IF(L22=FR!$D$52,\"X\",\"\")","v":""},{"$f":"IF(L22=FR!$D$51,\"X\",\"\")","v":""},{"$f":"IF(L22=FR!$D$50,\"X\",\"\")","v":""},{"$f":"IF(L22=FR!$D$49,\"X\",\"\")","v":""},{"$f":"IF(L22=FR!$D$53,\"X\",\"\")","v":"X"},"NA",null,{"$f":"IF(S22=FR!$D$52,\"X\",\"\")","v":""},{"$f":"IF(S22=FR!$D$51,\"X\",\"\")","v":""},{"$f":"IF(S22=FR!$D$50,\"X\",\"\")","v":""},{"$f":"IF(S22=FR!$D$49,\"X\",\"\")","v":""},{"$f":"IF(S22=FR!$D$53,\"X\",\"\")","v":"X"},{"$f":"IF(G22=\"x\",4,IF(H22=\"x\",3,IF(I22=\"x\",2,IF(J22=\"x\",1,IF(K22=\"x\",\"NR\",\"\")))))","v":"NR"},{"$f":"IF(N22=\"x\",4,IF(O22=\"x\",3,IF(P22=\"x\",2,IF(Q22=\"x\",1,IF(R22=\"x\",\"NR\",\"\")))))","v":"NR"},{"$f":"IF(U22=\"x\",4,IF(V22=\"x\",3,IF(W22=\"x\",2,IF(X22=\"x\",1,IF(Y22=\"x\",\"NR\",\"\")))))","v":"NR"}]
[]
[{"$f":"FR!$A$54","v":"FR3.0"},{"$f":"FR!$B$54","v":"Problem communication"}]
[{"$f":"FR!$A$55","v":"FR3.1"},{"$f":"FR!$C$55","v":"Quality Alerts process is in place"},null,null,"NA",null,{"$f":"IF(E25=FR!$D$59,\"X\",\"\")","v":""},{"$f":"IF(E25=FR!$D$58,\"X\",\"\")","v":""},{"$f":"IF(E25=FR!$D$57,\"X\",\"\")","v":""},{"$f":"IF(E25=FR!$D$56,\"X\",\"\")","v":""},{"$f":"IF(E25=FR!$D$60,\"X\",\"\")","v":"X"},"NA",null,{"$f":"IF(L25=FR!$D$59,\"X\",\"\")","v":""},{"$f":"IF(L25=FR!$D$58,\"X\",\"\")","v":""},{"$f":"IF(L25=FR!$D$57,\"X\",\"\")","v":""},{"$f":"IF(L25=FR!$D$56,\"X\",\"\")","v":""},{"$f":"IF(L25=FR!$D$60,\"X\",\"\")","v":"X"},"NA",null,{"$f":"IF(S25=FR!$D$59,\"X\",\"\")","v":""},{"$f":"IF(S25=FR!$D$58,\"X\",\"\")","v":""},{"$f":"IF(S25=FR!$D$57,\"X\",\"\")","v":""},{"$f":"IF(S25=FR!$D$56,\"X\",\"\")","v":""},{"$f":"IF(S25=FR!$D$60,\"X\",\"\")","v":"X"},{"$f":"IF(G25=\"x\",4,IF(H25=\"x\",3,IF(I25=\"x\",2,IF(J25=\"x\",1,IF(K25=\"x\",\"NR\",\"\")))))","v":"NR"},{"$f":"IF(N25=\"x\",4,IF(O25=\"x\",3,IF(P25=\"x\",2,IF(Q25=\"x\",1,IF(R25=\"x\",\"NR\",\"\")))))","v":"NR"},{"$f":"IF(U25=\"x\",4,IF(V25=\"x\",3,IF(W25=\"x\",2,IF(X25=\"x\",1,IF(Y25=\"x\",\"NR\",\"\")))))","v":"NR"},{"$f":"SUM(Z25:Z28)","v":0},{"$f":"SUM(AA25:AA28)","v":0},{"$f":"SUM(AB25:AB28)","v":0}]
[{"$f":"FR!$A$61","v":"FR3.2"},{"$f":"FR!$C$61","v":"Detailed standard problem solving forms exists"},null,null,"NA",null,{"$f":"IF(E26=FR!$D$65,\"X\",\"\")","v":""},{"$f":"IF(E26=FR!$D$64,\"X\",\"\")","v":""},{"$f":"IF(E26=FR!$D$63,\"X\",\"\")","v":""},{"$f":"IF(E26=FR!$D$62,\"X\",\"\")","v":""},{"$f":"IF(E26=FR!$D$66,\"X\",\"\")","v":"X"},"NA",null,{"$f":"IF(L26=FR!$D$65,\"X\",\"\")","v":""},{"$f":"IF(L26=FR!$D$64,\"X\",\"\")","v":""},{"$f":"IF(L26=FR!$D$63,\"X\",\"\")","v":""},{"$f":"IF(L26=FR!$D$62,\"X\",\"\")","v":""},{"$f":"IF(L26=FR!$D$66,\"X\",\"\")","v":"X"},"NA",null,{"$f":"IF(S26=FR!$D$65,\"X\",\"\")","v":""},{"$f":"IF(S26=FR!$D$64,\"X\",\"\")","v":""},{"$f":"IF(S26=FR!$D$63,\"X\",\"\")","v":""},{"$f":"IF(S26=FR!$D$62,\"X\",\"\")","v":""},{"$f":"IF(S26=FR!$D$66,\"X\",\"\")","v":"X"},{"$f":"IF(G26=\"x\",4,IF(H26=\"x\",3,IF(I26=\"x\",2,IF(J26=\"x\",1,IF(K26=\"x\",\"NR\",\"\")))))","v":"NR"},{"$f":"IF(N26=\"x\",4,IF(O26=\"x\",3,IF(P26=\"x\",2,IF(Q26=\"x\",1,IF(R26=\"x\",\"NR\",\"\")))))","v":"NR"},{"$f":"IF(U26=\"x\",4,IF(V26=\"x\",3,IF(W26=\"x\",2,IF(X26=\"x\",1,IF(Y26=\"x\",\"NR\",\"\")))))","v":"NR"}]
[{"$f":"FR!$A$67","v":"FR3.3"},{"$f":"FR!$C$67","v":"Communication between shifts is assured"},null,null,"NA",null,{"$f":"IF(E27=FR!$D$71,\"X\",\"\")","v":""},{"$f":"IF(E27=FR!$D$70,\"X\",\"\")","v":""},{"$f":"IF(E27=FR!$D$69,\"X\",\"\")","v":""},{"$f":"IF(E27=FR!$D$68,\"X\",\"\")","v":""},{"$f":"IF(E27=FR!$D$72,\"X\",\"\")","v":"X"},"NA",null,{"$f":"IF(L27=FR!$D$71,\"X\",\"\")","v":""},{"$f":"IF(L27=FR!$D$70,\"X\",\"\")","v":""},{"$f":"IF(L27=FR!$D$69,\"X\",\"\")","v":""},{"$f":"IF(L27=FR!$D$68,\"X\",\"\")","v":""},{"$f":"IF(L27=FR!$D$72,\"X\",\"\")","v":"X"},"NA",null,{"$f":"IF(S27=FR!$D$71,\"X\",\"\")","v":""},{"$f":"IF(S27=FR!$D$70,\"X\",\"\")","v":""},{"$f":"IF(S27=FR!$D$69,\"X\",\"\")","v":""},{"$f":"IF(S27=FR!$D$68,\"X\",\"\")","v":""},{"$f":"IF(S27=FR!$D$72,\"X\",\"\")","v":"X"},{"$f":"IF(G27=\"x\",4,IF(H27=\"x\",3,IF(I27=\"x\",2,IF(J27=\"x\",1,IF(K27=\"x\",\"NR\",\"\")))))","v":"NR"},{"$f":"IF(N27=\"x\",4,IF(O27=\"x\",3,IF(P27=\"x\",2,IF(Q27=\"x\",1,IF(R27=\"x\",\"NR\",\"\")))))","v":"NR"},{"$f":"IF(U27=\"x\",4,IF(V27=\"x\",3,IF(W27=\"x\",2,IF(X27=\"x\",1,IF(Y27=\"x\",\"NR\",\"\")))))","v":"NR"}]
[{"$f":"FR!$A$73","v":"FR3.4"},{"$f":"FR!$C$73","v":"A functioning Andon system is in place"},null,null,"NA",null,{"$f":"IF(E28=FR!$D$77,\"X\",\"\")","v":""},{"$f":"IF(E28=FR!$D$76,\"X\",\"\")","v":""},{"$f":"IF(E28=FR!$D$75,\"X\",\"\")","v":""},{"$f":"IF(E28=FR!$D$74,\"X\",\"\")","v":""},{"$f":"IF(E28=FR!$D$78,\"X\",\"\")","v":"X"},"NA",null,{"$f":"IF(L28=FR!$D$77,\"X\",\"\")","v":""},{"$f":"IF(L28=FR!$D$76,\"X\",\"\")","v":""},{"$f":"IF(L28=FR!$D$75,\"X\",\"\")","v":""},{"$f":"IF(L28=FR!$D$74,\"X\",\"\")","v":""},{"$f":"IF(L28=FR!$D$78,\"X\",\"\")","v":"X"},"NA",null,{"$f":"IF(S28=FR!$D$77,\"X\",\"\")","v":""},{"$f":"IF(S28=FR!$D$76,\"X\",\"\")","v":""},{"$f":"IF(S28=FR!$D$75,\"X\",\"\")","v":""},{"$f":"IF(S28=FR!$D$74,\"X\",\"\")","v":""},{"$f":"IF(S28=FR!$D$78,\"X\",\"\")","v":"X"},{"$f":"IF(G28=\"x\",4,IF(H28=\"x\",3,IF(I28=\"x\",2,IF(J28=\"x\",1,IF(K28=\"x\",\"NR\",\"\")))))","v":"NR"},{"$f":"IF(N28=\"x\",4,IF(O28=\"x\",3,IF(P28=\"x\",2,IF(Q28=\"x\",1,IF(R28=\"x\",\"NR\",\"\")))))","v":"NR"},{"$f":"IF(U28=\"x\",4,IF(V28=\"x\",3,IF(W28=\"x\",2,IF(X28=\"x\",1,IF(Y28=\"x\",\"NR\",\"\")))))","v":"NR"}]
[]
[{"$f":"FR!$A$79","v":"FR4"},{"$f":"FR!$B$79","v":"Problem Solving Process"}]
[{"$f":"FR!$A$80","v":"FR4.1"},{"$f":"FR!$C$80","v":"Standard Problem Solving Process"},null,null,"NA",null,{"$f":"IF(E31=FR!$D$84,\"X\",\"\")","v":""},{"$f":"IF(E31=FR!$D$83,\"X\",\"\")","v":""},{"$f":"IF(E31=FR!$D$82,\"X\",\"\")","v":""},{"$f":"IF(E31=FR!$D$81,\"X\",\"\")","v":""},{"$f":"IF(E31=FR!$D$85,\"X\",\"\")","v":"X"},"NA",null,{"$f":"IF(L31=FR!$D$84,\"X\",\"\")","v":""},{"$f":"IF(L31=FR!$D$83,\"X\",\"\")","v":""},{"$f":"IF(L31=FR!$D$82,\"X\",\"\")","v":""},{"$f":"IF(L31=FR!$D$81,\"X\",\"\")","v":""},{"$f":"IF(L31=FR!$D$85,\"X\",\"\")","v":"X"},"NA",null,{"$f":"IF(S31=FR!$D$84,\"X\",\"\")","v":""},{"$f":"IF(S31=FR!$D$83,\"X\",\"\")","v":""},{"$f":"IF(S31=FR!$D$82,\"X\",\"\")","v":""},{"$f":"IF(S31=FR!$D$81,\"X\",\"\")","v":""},{"$f":"IF(S31=FR!$D$85,\"X\",\"\")","v":"X"},{"$f":"IF(G31=\"x\",4,IF(H31=\"x\",3,IF(I31=\"x\",2,IF(J31=\"x\",1,IF(K31=\"x\",\"NR\",\"\")))))","v":"NR"},{"$f":"IF(N31=\"x\",4,IF(O31=\"x\",3,IF(P31=\"x\",2,IF(Q31=\"x\",1,IF(R31=\"x\",\"NR\",\"\")))))","v":"NR"},{"$f":"IF(U31=\"x\",4,IF(V31=\"x\",3,IF(W31=\"x\",2,IF(X31=\"x\",1,IF(Y31=\"x\",\"NR\",\"\")))))","v":"NR"},{"$f":"SUM(Z31:Z34)","v":0},{"$f":"SUM(AA31:AA34)","v":0},{"$f":"SUM(AB31:AB34)","v":0}]
[{"$f":"FR!$A$86","v":"FR4.2"},{"$f":"FR!$C$86","v":"Return Part Analysis Process"},null,null,"NA",null,{"$f":"IF(E32=FR!$D$90,\"X\",\"\")","v":""},{"$f":"IF(E32=FR!$D$89,\"X\",\"\")","v":""},{"$f":"IF(E32=FR!$D$88,\"X\",\"\")","v":""},{"$f":"IF(E32=FR!$D$87,\"X\",\"\")","v":""},{"$f":"IF(E32=FR!$D$91,\"X\",\"\")","v":"X"},"NA",null,{"$f":"IF(L32=FR!$D$90,\"X\",\"\")","v":""},{"$f":"IF(L32=FR!$D$89,\"X\",\"\")","v":""},{"$f":"IF(L32=FR!$D$88,\"X\",\"\")","v":""},{"$f":"IF(L32=FR!$D$87,\"X\",\"\")","v":""},{"$f":"IF(L32=FR!$D$91,\"X\",\"\")","v":"X"},"NA",null,{"$f":"IF(S32=FR!$D$90,\"X\",\"\")","v":""},{"$f":"IF(S32=FR!$D$89,\"X\",\"\")","v":""},{"$f":"IF(S32=FR!$D$88,\"X\",\"\")","v":""},{"$f":"IF(S32=FR!$D$87,\"X\",\"\")","v":""},{"$f":"IF(S32=FR!$D$91,\"X\",\"\")","v":"X"},{"$f":"IF(G32=\"x\",4,IF(H32=\"x\",3,IF(I32=\"x\",2,IF(J32=\"x\",1,IF(K32=\"x\",\"NR\",\"\")))))","v":"NR"},{"$f":"IF(N32=\"x\",4,IF(O32=\"x\",3,IF(P32=\"x\",2,IF(Q32=\"x\",1,IF(R32=\"x\",\"NR\",\"\")))))","v":"NR"},{"$f":"IF(U32=\"x\",4,IF(V32=\"x\",3,IF(W32=\"x\",2,IF(X32=\"x\",1,IF(Y32=\"x\",\"NR\",\"\")))))","v":"NR"}]
[{"$f":"FR!$A$92","v":"FR4.3"},{"$f":"FR!$C$92","v":"Problems are completed by cross functional teams"},null,null,"NA",null,{"$f":"IF(E33=FR!$D$96,\"X\",\"\")","v":""},{"$f":"IF(E33=FR!$D$95,\"X\",\"\")","v":""},{"$f":"IF(E33=FR!$D$94,\"X\",\"\")","v":""},{"$f":"IF(E33=FR!$D$93,\"X\",\"\")","v":""},{"$f":"IF(E33=FR!$D$97,\"X\",\"\")","v":"X"},"NA",null,{"$f":"IF(L33=FR!$D$96,\"X\",\"\")","v":""},{"$f":"IF(L33=FR!$D$95,\"X\",\"\")","v":""},{"$f":"IF(L33=FR!$D$94,\"X\",\"\")","v":""},{"$f":"IF(L33=FR!$D$93,\"X\",\"\")","v":""},{"$f":"IF(L33=FR!$D$97,\"X\",\"\")","v":"X"},"NA",null,{"$f":"IF(S33=FR!$D$96,\"X\",\"\")","v":""},{"$f":"IF(S33=FR!$D$95,\"X\",\"\")","v":""},{"$f":"IF(S33=FR!$D$94,\"X\",\"\")","v":""},{"$f":"IF(S33=FR!$D$93,\"X\",\"\")","v":""},{"$f":"IF(S33=FR!$D$97,\"X\",\"\")","v":"X"},{"$f":"IF(G33=\"x\",4,IF(H33=\"x\",3,IF(I33=\"x\",2,IF(J33=\"x\",1,IF(K33=\"x\",\"NR\",\"\")))))","v":"NR"},{"$f":"IF(N33=\"x\",4,IF(O33=\"x\",3,IF(P33=\"x\",2,IF(Q33=\"x\",1,IF(R33=\"x\",\"NR\",\"\")))))","v":"NR"},{"$f":"IF(U33=\"x\",4,IF(V33=\"x\",3,IF(W33=\"x\",2,IF(X33=\"x\",1,IF(Y33=\"x\",\"NR\",\"\")))))","v":"NR"}]
[{"$f":"FR!$A$98","v":"FR4.4"},{"$f":"FR!$C$98","v":"Systemic Root cause is identified"},null,null,"NA",null,{"$f":"IF(E34=FR!$D$102,\"X\",\"\")","v":""},{"$f":"IF(E34=FR!$D$101,\"X\",\"\")","v":""},{"$f":"IF(E34=FR!$D$100,\"X\",\"\")","v":""},{"$f":"IF(E34=FR!$D$99,\"X\",\"\")","v":""},{"$f":"IF(E34=FR!$D$103,\"X\",\"\")","v":"X"},"NA",null,{"$f":"IF(L34=FR!$D$102,\"X\",\"\")","v":""},{"$f":"IF(L34=FR!$D$101,\"X\",\"\")","v":""},{"$f":"IF(L34=FR!$D$100,\"X\",\"\")","v":""},{"$f":"IF(L34=FR!$D$99,\"X\",\"\")","v":""},{"$f":"IF(L34=FR!$D$103,\"X\",\"\")","v":"X"},"NA",null,{"$f":"IF(S34=FR!$D$102,\"X\",\"\")","v":""},{"$f":"IF(S34=FR!$D$101,\"X\",\"\")","v":""},{"$f":"IF(S34=FR!$D$100,\"X\",\"\")","v":""},{"$f":"IF(S34=FR!$D$99,\"X\",\"\")","v":""},{"$f":"IF(S34=FR!$D$103,\"X\",\"\")","v":"X"},{"$f":"IF(G34=\"x\",4,IF(H34=\"x\",3,IF(I34=\"x\",2,IF(J34=\"x\",1,IF(K34=\"x\",\"NR\",\"\")))))","v":"NR"},{"$f":"IF(N34=\"x\",4,IF(O34=\"x\",3,IF(P34=\"x\",2,IF(Q34=\"x\",1,IF(R34=\"x\",\"NR\",\"\")))))","v":"NR"},{"$f":"IF(U34=\"x\",4,IF(V34=\"x\",3,IF(W34=\"x\",2,IF(X34=\"x\",1,IF(Y34=\"x\",\"NR\",\"\")))))","v":"NR"}]
[]
[{"$f":"FR!$A$104","v":"FR5"},{"$f":"FR!$B$104","v":"Lessons learned."}]
[{"$f":"FR!$A$105","v":"FR5.1"},{"$f":"FR!$C$105","v":"Lessons Learned Database"},null,null,"NA",null,{"$f":"IF(E37=FR!$D$109,\"X\",\"\")","v":""},{"$f":"IF(E37=FR!$D$108,\"X\",\"\")","v":""},{"$f":"IF(E37=FR!$D$107,\"X\",\"\")","v":""},{"$f":"IF(E37=FR!$D$106,\"X\",\"\")","v":""},{"$f":"IF(E37=FR!$D$110,\"X\",\"\")","v":"X"},"NA",null,{"$f":"IF(L37=FR!$D$109,\"X\",\"\")","v":""},{"$f":"IF(L37=FR!$D$108,\"X\",\"\")","v":""},{"$f":"IF(L37=FR!$D$107,\"X\",\"\")","v":""},{"$f":"IF(L37=FR!$D$106,\"X\",\"\")","v":""},{"$f":"IF(L37=FR!$D$110,\"X\",\"\")","v":"X"},"NA",null,{"$f":"IF(S37=FR!$D$109,\"X\",\"\")","v":""},{"$f":"IF(S37=FR!$D$108,\"X\",\"\")","v":""},{"$f":"IF(S37=FR!$D$107,\"X\",\"\")","v":""},{"$f":"IF(S37=FR!$D$106,\"X\",\"\")","v":""},{"$f":"IF(S37=FR!$D$110,\"X\",\"\")","v":"X"},{"$f":"IF(G37=\"x\",4,IF(H37=\"x\",3,IF(I37=\"x\",2,IF(J37=\"x\",1,IF(K37=\"x\",\"NR\",\"\")))))","v":"NR"},{"$f":"IF(N37=\"x\",4,IF(O37=\"x\",3,IF(P37=\"x\",2,IF(Q37=\"x\",1,IF(R37=\"x\",\"NR\",\"\")))))","v":"NR"},{"$f":"IF(U37=\"x\",4,IF(V37=\"x\",3,IF(W37=\"x\",2,IF(X37=\"x\",1,IF(Y37=\"x\",\"NR\",\"\")))))","v":"NR"},{"$f":"SUM(Z37:Z40)","v":0},{"$f":"SUM(AA37:AA40)","v":0},{"$f":"SUM(AB37:AB40)","v":0}]
[{"$f":"FR!$A$111","v":"FR5.2"},{"$f":"FR!$C$111","v":"Lessons Learned review process"},null,null,"NA",null,{"$f":"IF(E38=FR!$D$115,\"X\",\"\")","v":""},{"$f":"IF(E38=FR!$D$114,\"X\",\"\")","v":""},{"$f":"IF(E38=FR!$D$113,\"X\",\"\")","v":""},{"$f":"IF(E38=FR!$D$112,\"X\",\"\")","v":""},{"$f":"IF(E38=FR!$D$116,\"X\",\"\")","v":"X"},"NA",null,{"$f":"IF(L38=FR!$D$115,\"X\",\"\")","v":""},{"$f":"IF(L38=FR!$D$114,\"X\",\"\")","v":""},{"$f":"IF(L38=FR!$D$113,\"X\",\"\")","v":""},{"$f":"IF(L38=FR!$D$112,\"X\",\"\")","v":""},{"$f":"IF(L38=FR!$D$116,\"X\",\"\")","v":"X"},"NA",null,{"$f":"IF(S38=FR!$D$115,\"X\",\"\")","v":""},{"$f":"IF(S38=FR!$D$114,\"X\",\"\")","v":""},{"$f":"IF(S38=FR!$D$113,\"X\",\"\")","v":""},{"$f":"IF(S38=FR!$D$112,\"X\",\"\")","v":""},{"$f":"IF(S38=FR!$D$116,\"X\",\"\")","v":"X"},{"$f":"IF(G38=\"x\",4,IF(H38=\"x\",3,IF(I38=\"x\",2,IF(J38=\"x\",1,IF(K38=\"x\",\"NR\",\"\")))))","v":"NR"},{"$f":"IF(N38=\"x\",4,IF(O38=\"x\",3,IF(P38=\"x\",2,IF(Q38=\"x\",1,IF(R38=\"x\",\"NR\",\"\")))))","v":"NR"},{"$f":"IF(U38=\"x\",4,IF(V38=\"x\",3,IF(W38=\"x\",2,IF(X38=\"x\",1,IF(Y38=\"x\",\"NR\",\"\")))))","v":"NR"}]
[{"$f":"FR!$A$117","v":"FR5.3"},{"$f":"FR!$C$117","v":"Read Across is Institutionalized"},null,null,"NA",null,{"$f":"IF(E39=FR!$D$121,\"X\",\"\")","v":""},{"$f":"IF(E39=FR!$D$120,\"X\",\"\")","v":""},{"$f":"IF(E39=FR!$D$119,\"X\",\"\")","v":""},{"$f":"IF(E39=FR!$D$118,\"X\",\"\")","v":""},{"$f":"IF(E39=FR!$D$122,\"X\",\"\")","v":"X"},"NA",null,{"$f":"IF(L39=FR!$D$121,\"X\",\"\")","v":""},{"$f":"IF(L39=FR!$D$120,\"X\",\"\")","v":""},{"$f":"IF(L39=FR!$D$119,\"X\",\"\")","v":""},{"$f":"IF(L39=FR!$D$118,\"X\",\"\")","v":""},{"$f":"IF(L39=FR!$D$122,\"X\",\"\")","v":"X"},"NA",null,{"$f":"IF(S39=FR!$D$121,\"X\",\"\")","v":""},{"$f":"IF(S39=FR!$D$120,\"X\",\"\")","v":""},{"$f":"IF(S39=FR!$D$119,\"X\",\"\")","v":""},{"$f":"IF(S39=FR!$D$118,\"X\",\"\")","v":""},{"$f":"IF(S39=FR!$D$122,\"X\",\"\")","v":"X"},{"$f":"IF(G39=\"x\",4,IF(H39=\"x\",3,IF(I39=\"x\",2,IF(J39=\"x\",1,IF(K39=\"x\",\"NR\",\"\")))))","v":"NR"},{"$f":"IF(N39=\"x\",4,IF(O39=\"x\",3,IF(P39=\"x\",2,IF(Q39=\"x\",1,IF(R39=\"x\",\"NR\",\"\")))))","v":"NR"},{"$f":"IF(U39=\"x\",4,IF(V39=\"x\",3,IF(W39=\"x\",2,IF(X39=\"x\",1,IF(Y39=\"x\",\"NR\",\"\")))))","v":"NR"}]
[{"$f":"FR!$A$123","v":"FR5.4"},{"$f":"FR!$C$123","v":"Lessons Learned Database"},null,null,"NA",null,{"$f":"IF(E40=FR!$D$127,\"X\",\"\")","v":""},{"$f":"IF(E40=FR!$D$126,\"X\",\"\")","v":""},{"$f":"IF(E40=FR!$D$125,\"X\",\"\")","v":""},{"$f":"IF(E40=FR!$D$124,\"X\",\"\")","v":""},{"$f":"IF(E40=FR!$D$128,\"X\",\"\")","v":"X"},"NA",null,{"$f":"IF(L40=FR!$D$127,\"X\",\"\")","v":""},{"$f":"IF(L40=FR!$D$126,\"X\",\"\")","v":""},{"$f":"IF(L40=FR!$D$125,\"X\",\"\")","v":""},{"$f":"IF(L40=FR!$D$124,\"X\",\"\")","v":""},{"$f":"IF(L40=FR!$D$128,\"X\",\"\")","v":"X"},"NA",null,{"$f":"IF(S40=FR!$D$127,\"X\",\"\")","v":""},{"$f":"IF(S40=FR!$D$126,\"X\",\"\")","v":""},{"$f":"IF(S40=FR!$D$125,\"X\",\"\")","v":""},{"$f":"IF(S40=FR!$D$124,\"X\",\"\")","v":""},{"$f":"IF(S40=FR!$D$128,\"X\",\"\")","v":"X"},{"$f":"IF(G40=\"x\",4,IF(H40=\"x\",3,IF(I40=\"x\",2,IF(J40=\"x\",1,IF(K40=\"x\",\"NR\",\"\")))))","v":"NR"},{"$f":"IF(N40=\"x\",4,IF(O40=\"x\",3,IF(P40=\"x\",2,IF(Q40=\"x\",1,IF(R40=\"x\",\"NR\",\"\")))))","v":"NR"},{"$f":"IF(U40=\"x\",4,IF(V40=\"x\",3,IF(W40=\"x\",2,IF(X40=\"x\",1,IF(Y40=\"x\",\"NR\",\"\")))))","v":"NR"}]
[]
[{"$f":"FR!$A$129","v":"FRE"},{"$f":"FR!$B$129","v":"Effectiveness"}]
[{"$f":"FR!$A$130","v":"FRE1"},{"$f":"FR!$C$130","v":"Targets are defined."},null,null,"NA",null,{"$f":"IF(E43=FR!$D$134,\"X\",\"\")","v":""},{"$f":"IF(E43=FR!$D$133,\"X\",\"\")","v":""},{"$f":"IF(E43=FR!$D$132,\"X\",\"\")","v":""},{"$f":"IF(E43=FR!$D$131,\"X\",\"\")","v":""},{"$f":"IF(E43=FR!$D$135,\"X\",\"\")","v":"X"},"NA",null,{"$f":"IF(L43=FR!$D$134,\"X\",\"\")","v":""},{"$f":"IF(L43=FR!$D$133,\"X\",\"\")","v":""},{"$f":"IF(L43=FR!$D$132,\"X\",\"\")","v":""},{"$f":"IF(L43=FR!$D$131,\"X\",\"\")","v":""},{"$f":"IF(L43=FR!$D$135,\"X\",\"\")","v":"X"},"NA",null,{"$f":"IF(S43=FR!$D$134,\"X\",\"\")","v":""},{"$f":"IF(S43=FR!$D$133,\"X\",\"\")","v":""},{"$f":"IF(S43=FR!$D$132,\"X\",\"\")","v":""},{"$f":"IF(S43=FR!$D$131,\"X\",\"\")","v":""},{"$f":"IF(S43=FR!$D$135,\"X\",\"\")","v":"X"},{"$f":"IF(G43=\"x\",4,IF(H43=\"x\",3,IF(I43=\"x\",2,IF(J43=\"x\",1,IF(K43=\"x\",\"NR\",\"\")))))","v":"NR"},{"$f":"IF(N43=\"x\",4,IF(O43=\"x\",3,IF(P43=\"x\",2,IF(Q43=\"x\",1,IF(R43=\"x\",\"NR\",\"\")))))","v":"NR"},{"$f":"IF(U43=\"x\",4,IF(V43=\"x\",3,IF(W43=\"x\",2,IF(X43=\"x\",1,IF(Y43=\"x\",\"NR\",\"\")))))","v":"NR"},{"$f":"SUM(Z43)","v":0},{"$f":"SUM(AA43)","v":0},{"$f":"SUM(AB43)","v":0}]
[]
[null,null,null,null,null,null,null,null,null,null,null,null,null,null,null,null,null,null,null,null,null,null,null,null,null,"Total",null,null,{"$f":"(AC13+AC19+AC25+AC31+AC37+AC43)","v":0},{"$f":"(AD37+AD31+AD25+AD19+AD13+AD43)","v":0},{"$f":"(AE37+AE31+AE25+AE19+AE13+AE43)","v":0}]
[null,null,null,null,null,null,null,null,null,null,null," "," "," "," "," "," "," ",null," "," "," "," "," "," ","Potential",null,null,{"$f":"COUNT(Z13:Z43)*4","v":0},{"$f":"COUNT(AA13:AA43)*4","v":0},{"$f":"COUNT(AB13:AB43)*4","v":0}]
[null,null,null,null,null,null,null,null,null,null,null,null,null,null,null,null,null,null,null,null,null,null,null,null,null,"Total Score",null,null,{"$f":"IF(AC46<>0,AC45/AC46,\"NR\")","v":"NR"},{"$f":"IF(AD46<>0,AD45/AD46,\"NR\")","v":"NR"},{"$f":"IF(AE46<>0,AE45/AE46,\"NR\")","v":"NR"}]
[]
[]
[" ",{"$f":"NC!B2","v":"Non-conforming Material & Identification"},null,null,"Build up Score Assessment"," ","Build up Scoring",null,null,null,null,"Build up Score Assessment"," ","Build up Scoring",null,null,null,null,"Build up Score Assessment"," ","Build up Scoring",null,null,null,null,null,null,null,"Sub Element Score"]
[{"$f":"NC!$A$4","v":"NC1.0"},{"$f":"NC!$B$4","v":"Traceability rules "},null,"Sub-Element",null,null,4,3,2,1,"NR",null,null,4,3,2,1,"NR",null,null,4,3,2,1,"NR","Self","Onsite","Current","Self","Onsite","Current","Procedures","Findings","Comments"]
[{"$f":"NC!$A$5","v":"NC1.1"},{"$f":"NC!$C$5","v":"Traceability Requirements"},null,null,"NA",{"$f":"IF(S52=NC!$D$8,\"X\",\"\")","v":""},{"$f":"IF(E52=NC!$D$9,\"X\",\"\")","v":""},{"$f":"IF(E52=NC!$D$8,\"X\",\"\")","v":""},{"$f":"IF(E52=NC!$D$7,\"X\",\"\")","v":""},{"$f":"IF(E52=NC!$D$6,\"X\",\"\")","v":""},{"$f":"IF(E52=NC!$D$10,\"X\",\"\")","v":"X"},"NA",{"$f":"IF(E52=NC!$D$8,\"X\",\"\")","v":""},{"$f":"IF(L52=NC!$D$9,\"X\",\"\")","v":""},{"$f":"IF(L52=NC!$D$8,\"X\",\"\")","v":""},{"$f":"IF(L52=NC!$D$7,\"X\",\"\")","v":""},{"$f":"IF(L52=NC!$D$6,\"X\",\"\")","v":""},{"$f":"IF(L52=NC!$D$10,\"X\",\"\")","v":"X"},"NA",null,{"$f":"IF(S52=NC!$D$9,\"X\",\"\")","v":""},{"$f":"IF(S52=NC!$D$8,\"X\",\"\")","v":""},{"$f":"IF(S52=NC!$D$7,\"X\",\"\")","v":""},{"$f":"IF(S52=NC!$D$6,\"X\",\"\")","v":""},{"$f":"IF(S52=NC!$D$10,\"X\",\"\")","v":"X"},{"$f":"IF(G52=\"x\",4,IF(H52=\"x\",3,IF(I52=\"x\",2,IF(J52=\"x\",1,IF(K52=\"x\",\"NR\",\"\")))))","v":"NR"},{"$f":"IF(N52=\"x\",4,IF(O52=\"x\",3,IF(P52=\"x\",2,IF(Q52=\"x\",1,IF(R52=\"x\",\"NR\",\"\")))))","v":"NR"},{"$f":"IF(U52=\"x\",4,IF(V52=\"x\",3,IF(W52=\"x\",2,IF(X52=\"x\",1,IF(Y52=\"x\",\"NR\",\"\")))))","v":"NR"},{"$f":"SUM(Z52:Z55)","v":0},{"$f":"SUM(AA52:AA55)","v":0},{"$f":"SUM(AB52:AB55)","v":0}]
[{"$f":"NC!$A$11","v":"NC1.2"},{"$f":"NC!$C$11","v":"Quality Status of the product"},null,null,"NA",{"$f":"IF(S53=NC!$D$14,\"X\",\"\")","v":""},{"$f":"IF(E53=NC!$D$15,\"X\",\"\")","v":""},{"$f":"IF(E53=NC!$D$14,\"X\",\"\")","v":""},{"$f":"IF(E53=NC!$D$13,\"X\",\"\")","v":""},{"$f":"IF(E53=NC!$D$12,\"X\",\"\")","v":""},{"$f":"IF(E53=NC!$D$16,\"X\",\"\")","v":"X"},"NA",{"$f":"IF(E53=NC!$D$14,\"X\",\"\")","v":""},{"$f":"IF(L53=NC!$D$15,\"X\",\"\")","v":""},{"$f":"IF(L53=NC!$D$14,\"X\",\"\")","v":""},{"$f":"IF(L53=NC!$D$13,\"X\",\"\")","v":""},{"$f":"IF(L53=NC!$D$12,\"X\",\"\")","v":""},{"$f":"IF(L53=NC!$D$16,\"X\",\"\")","v":"X"},"NA",null,{"$f":"IF(S53=NC!$D$15,\"X\",\"\")","v":""},{"$f":"IF(S53=NC!$D$14,\"X\",\"\")","v":""},{"$f":"IF(S53=NC!$D$13,\"X\",\"\")","v":""},{"$f":"IF(S53=NC!$D$12,\"X\",\"\")","v":""},{"$f":"IF(S53=NC!$D$16,\"X\",\"\")","v":"X"},{"$f":"IF(G53=\"x\",4,IF(H53=\"x\",3,IF(I53=\"x\",2,IF(J53=\"x\",1,IF(K53=\"x\",\"NR\",\"\")))))","v":"NR"},{"$f":"IF(N53=\"x\",4,IF(O53=\"x\",3,IF(P53=\"x\",2,IF(Q53=\"x\",1,IF(R53=\"x\",\"NR\",\"\")))))","v":"NR"},{"$f":"IF(U53=\"x\",4,IF(V53=\"x\",3,IF(W53=\"x\",2,IF(X53=\"x\",1,IF(Y53=\"x\",\"NR\",\"\")))))","v":"NR"}]
[{"$f":"NC!$A$17","v":"NC1.3"},{"$f":"NC!$C$17","v":"Equipment and stock areas are designed for FIFO"},null,null,"NA",{"$f":"IF(S54=NC!$D$20,\"X\",\"\")","v":""},{"$f":"IF(E54=NC!$D$21,\"X\",\"\")","v":""},{"$f":"IF(E54=NC!$D$20,\"X\",\"\")","v":""},{"$f":"IF(E54=NC!$D$19,\"X\",\"\")","v":""},{"$f":"IF(E54=NC!$D$18,\"X\",\"\")","v":""},{"$f":"IF(E54=NC!$D$22,\"X\",\"\")","v":"X"},"NA",{"$f":"IF(E54=NC!$D$20,\"X\",\"\")","v":""},{"$f":"IF(L54=NC!$D$21,\"X\",\"\")","v":""},{"$f":"IF(L54=NC!$D$20,\"X\",\"\")","v":""},{"$f":"IF(L54=NC!$D$19,\"X\",\"\")","v":""},{"$f":"IF(L54=NC!$D$18,\"X\",\"\")","v":""},{"$f":"IF(L54=NC!$D$22,\"X\",\"\")","v":"X"},"NA",null,{"$f":"IF(S54=NC!$D$21,\"X\",\"\")","v":""},{"$f":"IF(S54=NC!$D$20,\"X\",\"\")","v":""},{"$f":"IF(S54=NC!$D$19,\"X\",\"\")","v":""},{"$f":"IF(S54=NC!$D$18,\"X\",\"\")","v":""},{"$f":"IF(S54=NC!$D$22,\"X\",\"\")","v":"X"},"NR",{"$f":"IF(N54=\"x\",4,IF(O54=\"x\",3,IF(P54=\"x\",2,IF(Q54=\"x\",1,IF(R54=\"x\",\"NR\",\"\")))))","v":"NR"},{"$f":"IF(U54=\"x\",4,IF(V54=\"x\",3,IF(W54=\"x\",2,IF(X54=\"x\",1,IF(Y54=\"x\",\"NR\",\"\")))))","v":"NR"}]
[{"$f":"NC!$A$23","v":"NC1.4"},{"$f":"NC!$C$23","v":"Material flow rules"},null,null,"NA",{"$f":"IF(S55=NC!$D$26,\"X\",\"\")","v":""},{"$f":"IF(E55=NC!$D$27,\"X\",\"\")","v":""},{"$f":"IF(E55=NC!$D$26,\"X\",\"\")","v":""},{"$f":"IF(E55=NC!$D$25,\"X\",\"\")","v":""},{"$f":"IF(E55=NC!$D$24,\"X\",\"\")","v":""},{"$f":"IF(E55=NC!$D$28,\"X\",\"\")","v":"X"},"NA",{"$f":"IF(E55=NC!$D$26,\"X\",\"\")","v":""},{"$f":"IF(L55=NC!$D$27,\"X\",\"\")","v":""},{"$f":"IF(L55=NC!$D$26,\"X\",\"\")","v":""},{"$f":"IF(L55=NC!$D$25,\"X\",\"\")","v":""},{"$f":"IF(L55=NC!$D$24,\"X\",\"\")","v":""},{"$f":"IF(L55=NC!$D$28,\"X\",\"\")","v":"X"},"NA",null,{"$f":"IF(S55=NC!$D$27,\"X\",\"\")","v":""},{"$f":"IF(S55=NC!$D$26,\"X\",\"\")","v":""},{"$f":"IF(S55=NC!$D$25,\"X\",\"\")","v":""},{"$f":"IF(S55=NC!$D$24,\"X\",\"\")","v":""},{"$f":"IF(S55=NC!$D$28,\"X\",\"\")","v":"X"},"NR","NR",{"$f":"IF(U55=\"x\",4,IF(V55=\"x\",3,IF(W55=\"x\",2,IF(X55=\"x\",1,IF(Y55=\"x\",\"NR\",\"\")))))","v":"NR"}]
[]
[{"$f":"NC!$A$29","v":"NC2.0"},{"$f":"NC!$B$29","v":"Material Segregation"}]
[{"$f":"NC!$A$30","v":"NC2.1"},{"$f":"NC!$C$30","v":"Tagging & Visual Management"},null,null,"NA",{"$f":"IF(S58=NC!$D$33,\"X\",\"\")","v":""},{"$f":"IF(E58=NC!$D$34,\"X\",\"\")","v":""},{"$f":"IF(E58=NC!$D$33,\"X\",\"\")","v":""},{"$f":"IF(E58=NC!$D$32,\"X\",\"\")","v":""},{"$f":"IF(E58=NC!$D$31,\"X\",\"\")","v":""},{"$f":"IF(E58=NC!$D$35,\"X\",\"\")","v":"X"},"NA",{"$f":"IF(E58=NC!$D$8,\"X\",\"\")","v":""},{"$f":"IF(L58=NC!$D$9,\"X\",\"\")","v":""},{"$f":"IF(L58=NC!$D$8,\"X\",\"\")","v":""},{"$f":"IF(L58=NC!$D$7,\"X\",\"\")","v":""},{"$f":"IF(L58=NC!$D$6,\"X\",\"\")","v":""},{"$f":"IF(L58=NC!$D$10,\"X\",\"\")","v":"X"},"NA",null,{"$f":"IF(S58=NC!$D$9,\"X\",\"\")","v":""},{"$f":"IF(S58=NC!$D$8,\"X\",\"\")","v":""},{"$f":"IF(S58=NC!$D$7,\"X\",\"\")","v":""},{"$f":"IF(S58=NC!$D$6,\"X\",\"\")","v":""},{"$f":"IF(S58=NC!$D$10,\"X\",\"\")","v":"X"},{"$f":"IF(G58=\"x\",4,IF(H58=\"x\",3,IF(I58=\"x\",2,IF(J58=\"x\",1,IF(K58=\"x\",\"NR\",\"\")))))","v":"NR"},{"$f":"IF(N58=\"x\",4,IF(O58=\"x\",3,IF(P58=\"x\",2,IF(Q58=\"x\",1,IF(R58=\"x\",\"NR\",\"\")))))","v":"NR"},{"$f":"IF(U58=\"x\",4,IF(V58=\"x\",3,IF(W58=\"x\",2,IF(X58=\"x\",1,IF(Y58=\"x\",\"NR\",\"\")))))","v":"NR"},{"$f":"SUM(Z58:Z61)","v":0},{"$f":"SUM(AA58:AA61)","v":0},{"$f":"SUM(AB58:AB61)","v":0}]
[{"$f":"NC!$A$36","v":"NC2.2"},{"$f":"NC!$C$36","v":"Sample checks find NOK part, containment procedures executed"},null,null,"NA",{"$f":"IF(S59=NC!$D$39,\"X\",\"\")","v":""},{"$f":"IF(E59=NC!$D$40,\"X\",\"\")","v":""},{"$f":"IF(E59=NC!$D$39,\"X\",\"\")","v":""},{"$f":"IF(E59=NC!$D$38,\"X\",\"\")","v":""},{"$f":"IF(E59=NC!$D$37,\"X\",\"\")","v":""},{"$f":"IF(E59=NC!$D$41,\"X\",\"\")","v":"X"},"NA",{"$f":"IF(E59=NC!$D$14,\"X\",\"\")","v":""},{"$f":"IF(L59=NC!$D$15,\"X\",\"\")","v":""},{"$f":"IF(L59=NC!$D$14,\"X\",\"\")","v":""},{"$f":"IF(L59=NC!$D$13,\"X\",\"\")","v":""},{"$f":"IF(L59=NC!$D$12,\"X\",\"\")","v":""},{"$f":"IF(L59=NC!$D$16,\"X\",\"\")","v":"X"},"NA",null,{"$f":"IF(S59=NC!$D$15,\"X\",\"\")","v":""},{"$f":"IF(S59=NC!$D$14,\"X\",\"\")","v":""},{"$f":"IF(S59=NC!$D$13,\"X\",\"\")","v":""},{"$f":"IF(S59=NC!$D$12,\"X\",\"\")","v":""},{"$f":"IF(S59=NC!$D$16,\"X\",\"\")","v":"X"},{"$f":"IF(G59=\"x\",4,IF(H59=\"x\",3,IF(I59=\"x\",2,IF(J59=\"x\",1,IF(K59=\"x\",\"NR\",\"\")))))","v":"NR"},{"$f":"IF(N59=\"x\",4,IF(O59=\"x\",3,IF(P59=\"x\",2,IF(Q59=\"x\",1,IF(R59=\"x\",\"NR\",\"\")))))","v":"NR"},{"$f":"IF(U59=\"x\",4,IF(V59=\"x\",3,IF(W59=\"x\",2,IF(X59=\"x\",1,IF(Y59=\"x\",\"NR\",\"\")))))","v":"NR"}]
[{"$f":"NC!$A$42","v":"NC2.3"},{"$f":"NC!$C$42","v":"Scrap and suspect material"},null,null,"NA",{"$f":"IF(S60=NC!$D$45,\"X\",\"\")","v":""},{"$f":"IF(E60=NC!$D$46,\"X\",\"\")","v":""},{"$f":"IF(E60=NC!$D$45,\"X\",\"\")","v":""},{"$f":"IF(E60=NC!$D$44,\"X\",\"\")","v":""},{"$f":"IF(E60=NC!$D$43,\"X\",\"\")","v":""},{"$f":"IF(E60=NC!$D$47,\"X\",\"\")","v":"X"},"NA",{"$f":"IF(E60=NC!$D$20,\"X\",\"\")","v":""},{"$f":"IF(L60=NC!$D$21,\"X\",\"\")","v":""},{"$f":"IF(L60=NC!$D$20,\"X\",\"\")","v":""},{"$f":"IF(L60=NC!$D$19,\"X\",\"\")","v":""},{"$f":"IF(L60=NC!$D$18,\"X\",\"\")","v":""},{"$f":"IF(L60=NC!$D$22,\"X\",\"\")","v":"X"},"NA",null,{"$f":"IF(S60=NC!$D$21,\"X\",\"\")","v":""},{"$f":"IF(S60=NC!$D$20,\"X\",\"\")","v":""},{"$f":"IF(S60=NC!$D$19,\"X\",\"\")","v":""},{"$f":"IF(S60=NC!$D$18,\"X\",\"\")","v":""},{"$f":"IF(S60=NC!$D$22,\"X\",\"\")","v":"X"},"NR","NR",{"$f":"IF(U60=\"x\",4,IF(V60=\"x\",3,IF(W60=\"x\",2,IF(X60=\"x\",1,IF(Y60=\"x\",\"NR\",\"\")))))","v":"NR"}]
[{"$f":"NC!$A$48","v":"NC2.4"},{"$f":"NC!$C$48","v":"NOK parts segregated"},null,null,"NA",{"$f":"IF(S61=NC!$D$51,\"X\",\"\")","v":""},{"$f":"IF(E61=NC!$D$52,\"X\",\"\")","v":""},{"$f":"IF(E61=NC!$D$51,\"X\",\"\")","v":""},{"$f":"IF(E61=NC!$D$50,\"X\",\"\")","v":""},{"$f":"IF(E61=NC!$D$49,\"X\",\"\")","v":""},{"$f":"IF(E61=NC!$D$53,\"X\",\"\")","v":"X"},"NA",{"$f":"IF(E61=NC!$D$26,\"X\",\"\")","v":""},{"$f":"IF(L61=NC!$D$27,\"X\",\"\")","v":""},{"$f":"IF(L61=NC!$D$26,\"X\",\"\")","v":""},{"$f":"IF(L61=NC!$D$25,\"X\",\"\")","v":""},{"$f":"IF(L61=NC!$D$24,\"X\",\"\")","v":""},{"$f":"IF(L61=NC!$D$28,\"X\",\"\")","v":"X"},"NA",null,{"$f":"IF(S61=NC!$D$27,\"X\",\"\")","v":""},{"$f":"IF(S61=NC!$D$26,\"X\",\"\")","v":""},{"$f":"IF(S61=NC!$D$25,\"X\",\"\")","v":""},{"$f":"IF(S61=NC!$D$24,\"X\",\"\")","v":""},{"$f":"IF(S61=NC!$D$28,\"X\",\"\")","v":"X"},"NR","NR",{"$f":"IF(U61=\"x\",4,IF(V61=\"x\",3,IF(W61=\"x\",2,IF(X61=\"x\",1,IF(Y61=\"x\",\"NR\",\"\")))))","v":"NR"}]
[]
[{"$f":"NC!$A$54","v":"NC3.0"},{"$f":"NC!$B$54","v":"Reaction and Escalation"}]
[{"$f":"NC!$A$55","v":"NC3.1"},{"$f":"NC!$C$55","v":"Alarm Limits"},null,null,"NA",{"$f":"IF(S64=NC!$D$58,\"X\",\"\")","v":""},{"$f":"IF(E64=NC!$D$59,\"X\",\"\")","v":""},{"$f":"IF(E64=NC!$D$58,\"X\",\"\")","v":""},{"$f":"IF(E64=NC!$D$57,\"X\",\"\")","v":""},{"$f":"IF(E64=NC!$D$56,\"X\",\"\")","v":""},{"$f":"IF(E64=NC!$D$60,\"X\",\"\")","v":"X"},"NA",{"$f":"IF(E64=NC!$D$8,\"X\",\"\")","v":""},{"$f":"IF(L64=NC!$D$9,\"X\",\"\")","v":""},{"$f":"IF(L64=NC!$D$8,\"X\",\"\")","v":""},{"$f":"IF(L64=NC!$D$7,\"X\",\"\")","v":""},{"$f":"IF(L64=NC!$D$6,\"X\",\"\")","v":""},{"$f":"IF(L64=NC!$D$10,\"X\",\"\")","v":"X"},"NA",null,{"$f":"IF(S64=NC!$D$9,\"X\",\"\")","v":""},{"$f":"IF(S64=NC!$D$8,\"X\",\"\")","v":""},{"$f":"IF(S64=NC!$D$7,\"X\",\"\")","v":""},{"$f":"IF(S64=NC!$D$6,\"X\",\"\")","v":""},{"$f":"IF(S64=NC!$D$10,\"X\",\"\")","v":"X"},{"$f":"IF(G64=\"x\",4,IF(H64=\"x\",3,IF(I64=\"x\",2,IF(J64=\"x\",1,IF(K64=\"x\",\"NR\",\"\")))))","v":"NR"},{"$f":"IF(N64=\"x\",4,IF(O64=\"x\",3,IF(P64=\"x\",2,IF(Q64=\"x\",1,IF(R64=\"x\",\"NR\",\"\")))))","v":"NR"},{"$f":"IF(U64=\"x\",4,IF(V64=\"x\",3,IF(W64=\"x\",2,IF(X64=\"x\",1,IF(Y64=\"x\",\"NR\",\"\")))))","v":"NR"},{"$f":"SUM(Z64:Z67)","v":0},{"$f":"SUM(AA64:AA67)","v":0},{"$f":"SUM(AB64:AB67)","v":0}]
[{"$f":"NC!$A$61","v":"NC3.2"},{"$f":"NC!$C$61","v":"Escalation procedure defined"},null,null,"NA",{"$f":"IF(S65=NC!$D$64,\"X\",\"\")","v":""},{"$f":"IF(E65=NC!$D$65,\"X\",\"\")","v":""},{"$f":"IF(E65=NC!$D$64,\"X\",\"\")","v":""},{"$f":"IF(E65=NC!$D$63,\"X\",\"\")","v":""},{"$f":"IF(E65=NC!$D$62,\"X\",\"\")","v":""},{"$f":"IF(E65=NC!$D$66,\"X\",\"\")","v":"X"},"NA",{"$f":"IF(E65=NC!$D$14,\"X\",\"\")","v":""},{"$f":"IF(L65=NC!$D$15,\"X\",\"\")","v":""},{"$f":"IF(L65=NC!$D$14,\"X\",\"\")","v":""},{"$f":"IF(L65=NC!$D$13,\"X\",\"\")","v":""},{"$f":"IF(L65=NC!$D$12,\"X\",\"\")","v":""},{"$f":"IF(L65=NC!$D$16,\"X\",\"\")","v":"X"},"NA",null,{"$f":"IF(S65=NC!$D$15,\"X\",\"\")","v":""},{"$f":"IF(S65=NC!$D$14,\"X\",\"\")","v":""},{"$f":"IF(S65=NC!$D$13,\"X\",\"\")","v":""},{"$f":"IF(S65=NC!$D$12,\"X\",\"\")","v":""},{"$f":"IF(S65=NC!$D$16,\"X\",\"\")","v":"X"},{"$f":"IF(G65=\"x\",4,IF(H65=\"x\",3,IF(I65=\"x\",2,IF(J65=\"x\",1,IF(K65=\"x\",\"NR\",\"\")))))","v":"NR"},{"$f":"IF(N65=\"x\",4,IF(O65=\"x\",3,IF(P65=\"x\",2,IF(Q65=\"x\",1,IF(R65=\"x\",\"NR\",\"\")))))","v":"NR"},{"$f":"IF(U65=\"x\",4,IF(V65=\"x\",3,IF(W65=\"x\",2,IF(X65=\"x\",1,IF(Y65=\"x\",\"NR\",\"\")))))","v":"NR"}]
[{"$f":"NC!$A$67","v":"NC3.3"},{"$f":"NC!$C$67","v":"Reaction plan is defined"},null,null,"NA",{"$f":"IF(S66=NC!$D$70,\"X\",\"\")","v":""},{"$f":"IF(E66=NC!$D$71,\"X\",\"\")","v":""},{"$f":"IF(E66=NC!$D$70,\"X\",\"\")","v":""},{"$f":"IF(E66=NC!$D$69,\"X\",\"\")","v":""},{"$f":"IF(E66=NC!$D$68,\"X\",\"\")","v":""},{"$f":"IF(E66=NC!$D$72,\"X\",\"\")","v":"X"},"NA",{"$f":"IF(E66=NC!$D$20,\"X\",\"\")","v":""},{"$f":"IF(L66=NC!$D$21,\"X\",\"\")","v":""},{"$f":"IF(L66=NC!$D$20,\"X\",\"\")","v":""},{"$f":"IF(L66=NC!$D$19,\"X\",\"\")","v":""},{"$f":"IF(L66=NC!$D$18,\"X\",\"\")","v":""},{"$f":"IF(L66=NC!$D$22,\"X\",\"\")","v":"X"},"NA",null,{"$f":"IF(S66=NC!$D$21,\"X\",\"\")","v":""},{"$f":"IF(S66=NC!$D$20,\"X\",\"\")","v":""},{"$f":"IF(S66=NC!$D$19,\"X\",\"\")","v":""},{"$f":"IF(S66=NC!$D$18,\"X\",\"\")","v":""},{"$f":"IF(S66=NC!$D$22,\"X\",\"\")","v":"X"},"NR","NR",{"$f":"IF(U66=\"x\",4,IF(V66=\"x\",3,IF(W66=\"x\",2,IF(X66=\"x\",1,IF(Y66=\"x\",\"NR\",\"\")))))","v":"NR"}]
[{"$f":"NC!$A$73","v":"NC3.4"},{"$f":"NC!$C$73","v":"Escalation personnel identified"},null,null,"NA",{"$f":"IF(S67=NC!$D$76,\"X\",\"\")","v":""},{"$f":"IF(E67=NC!$D$77,\"X\",\"\")","v":""},{"$f":"IF(E67=NC!$D$76,\"X\",\"\")","v":""},{"$f":"IF(E67=NC!$D$75,\"X\",\"\")","v":""},{"$f":"IF(E67=NC!$D$74,\"X\",\"\")","v":""},{"$f":"IF(E67=NC!$D$78,\"X\",\"\")","v":"X"},"NA",{"$f":"IF(E67=NC!$D$26,\"X\",\"\")","v":""},{"$f":"IF(L67=NC!$D$27,\"X\",\"\")","v":""},{"$f":"IF(L67=NC!$D$26,\"X\",\"\")","v":""},{"$f":"IF(L67=NC!$D$25,\"X\",\"\")","v":""},{"$f":"IF(L67=NC!$D$24,\"X\",\"\")","v":""},{"$f":"IF(L67=NC!$D$28,\"X\",\"\")","v":"X"},"NA",null,{"$f":"IF(S67=NC!$D$27,\"X\",\"\")","v":""},{"$f":"IF(S67=NC!$D$26,\"X\",\"\")","v":""},{"$f":"IF(S67=NC!$D$25,\"X\",\"\")","v":""},{"$f":"IF(S67=NC!$D$24,\"X\",\"\")","v":""},{"$f":"IF(S67=NC!$D$28,\"X\",\"\")","v":"X"},"NR","NR",{"$f":"IF(U67=\"x\",4,IF(V67=\"x\",3,IF(W67=\"x\",2,IF(X67=\"x\",1,IF(Y67=\"x\",\"NR\",\"\")))))","v":"NR"}]
[]
[{"$f":"NC!$A$79","v":"NC4"},{"$f":"NC!$B$79","v":"Containment"}]
[{"$f":"NC!$A$80","v":"NC4.1"},{"$f":"NC!$C$80","v":"Containment Worksheet"},null,null,"NA",{"$f":"IF(S70=NC!$D$83,\"X\",\"\")","v":""},{"$f":"IF(E70=NC!$D$84,\"X\",\"\")","v":""},{"$f":"IF(E70=NC!$D$83,\"X\",\"\")","v":""},{"$f":"IF(E70=NC!$D$82,\"X\",\"\")","v":""},{"$f":"IF(E70=NC!$D$81,\"X\",\"\")","v":""},{"$f":"IF(E70=NC!$D$85,\"X\",\"\")","v":"X"},"NA",{"$f":"IF(E70=NC!$D$8,\"X\",\"\")","v":""},{"$f":"IF(L70=NC!$D$9,\"X\",\"\")","v":""},{"$f":"IF(L70=NC!$D$8,\"X\",\"\")","v":""},{"$f":"IF(L70=NC!$D$7,\"X\",\"\")","v":""},{"$f":"IF(L70=NC!$D$6,\"X\",\"\")","v":""},{"$f":"IF(L70=NC!$D$10,\"X\",\"\")","v":"X"},"NA",null,{"$f":"IF(S70=NC!$D$9,\"X\",\"\")","v":""},{"$f":"IF(S70=NC!$D$8,\"X\",\"\")","v":""},{"$f":"IF(S70=NC!$D$7,\"X\",\"\")","v":""},{"$f":"IF(S70=NC!$D$6,\"X\",\"\")","v":""},{"$f":"IF(S70=NC!$D$10,\"X\",\"\")","v":"X"},{"$f":"IF(G70=\"x\",4,IF(H70=\"x\",3,IF(I70=\"x\",2,IF(J70=\"x\",1,IF(K70=\"x\",\"NR\",\"\")))))","v":"NR"},{"$f":"IF(N70=\"x\",4,IF(O70=\"x\",3,IF(P70=\"x\",2,IF(Q70=\"x\",1,IF(R70=\"x\",\"NR\",\"\")))))","v":"NR"},{"$f":"IF(U70=\"x\",4,IF(V70=\"x\",3,IF(W70=\"x\",2,IF(X70=\"x\",1,IF(Y70=\"x\",\"NR\",\"\")))))","v":"NR"},{"$f":"SUM(Z70:Z73)","v":0},{"$f":"SUM(AA70:AA73)","v":0},{"$f":"SUM(AB70:AB73)","v":0}]
[{"$f":"NC!$A$86","v":"NC4.2"},{"$f":"NC!$C$86","v":"Containment Area"},null,null,"NA",{"$f":"IF(S71=NC!$D$89,\"X\",\"\")","v":""},{"$f":"IF(E71=NC!$D$90,\"X\",\"\")","v":""},{"$f":"IF(E71=NC!$D$89,\"X\",\"\")","v":""},{"$f":"IF(E71=NC!$D$88,\"X\",\"\")","v":""},{"$f":"IF(E71=NC!$D$87,\"X\",\"\")","v":""},{"$f":"IF(E71=NC!$D$91,\"X\",\"\")","v":"X"},"NA",{"$f":"IF(E71=NC!$D$14,\"X\",\"\")","v":""},{"$f":"IF(L71=NC!$D$15,\"X\",\"\")","v":""},{"$f":"IF(L71=NC!$D$14,\"X\",\"\")","v":""},{"$f":"IF(L71=NC!$D$13,\"X\",\"\")","v":""},{"$f":"IF(L71=NC!$D$12,\"X\",\"\")","v":""},{"$f":"IF(L71=NC!$D$16,\"X\",\"\")","v":"X"},"NA",null,{"$f":"IF(S71=NC!$D$15,\"X\",\"\")","v":""},{"$f":"IF(S71=NC!$D$14,\"X\",\"\")","v":""},{"$f":"IF(S71=NC!$D$13,\"X\",\"\")","v":""},{"$f":"IF(S71=NC!$D$12,\"X\",\"\")","v":""},{"$f":"IF(S71=NC!$D$16,\"X\",\"\")","v":"X"},{"$f":"IF(G71=\"x\",4,IF(H71=\"x\",3,IF(I71=\"x\",2,IF(J71=\"x\",1,IF(K71=\"x\",\"NR\",\"\")))))","v":"NR"},{"$f":"IF(N71=\"x\",4,IF(O71=\"x\",3,IF(P71=\"x\",2,IF(Q71=\"x\",1,IF(R71=\"x\",\"NR\",\"\")))))","v":"NR"},{"$f":"IF(U71=\"x\",4,IF(V71=\"x\",3,IF(W71=\"x\",2,IF(X71=\"x\",1,IF(Y71=\"x\",\"NR\",\"\")))))","v":"NR"}]
[{"$f":"NC!$A$92","v":"NC4.3"},{"$f":"NC!$C$92","v":"Containment Process"},null,null,"NA",{"$f":"IF(S72=NC!$D$95,\"X\",\"\")","v":""},{"$f":"IF(E72=NC!$D$96,\"X\",\"\")","v":""},{"$f":"IF(E72=NC!$D$95,\"X\",\"\")","v":""},{"$f":"IF(E72=NC!$D$94,\"X\",\"\")","v":""},{"$f":"IF(E72=NC!$D$93,\"X\",\"\")","v":""},{"$f":"IF(E72=NC!$D$97,\"X\",\"\")","v":"X"},"NA",{"$f":"IF(E72=NC!$D$20,\"X\",\"\")","v":""},{"$f":"IF(L72=NC!$D$21,\"X\",\"\")","v":""},{"$f":"IF(L72=NC!$D$20,\"X\",\"\")","v":""},{"$f":"IF(L72=NC!$D$19,\"X\",\"\")","v":""},{"$f":"IF(L72=NC!$D$18,\"X\",\"\")","v":""},{"$f":"IF(L72=NC!$D$22,\"X\",\"\")","v":"X"},"NA",null,{"$f":"IF(S72=NC!$D$21,\"X\",\"\")","v":""},{"$f":"IF(S72=NC!$D$20,\"X\",\"\")","v":""},{"$f":"IF(S72=NC!$D$19,\"X\",\"\")","v":""},{"$f":"IF(S72=NC!$D$18,\"X\",\"\")","v":""},{"$f":"IF(S72=NC!$D$22,\"X\",\"\")","v":"X"},"NR","NR",{"$f":"IF(U72=\"x\",4,IF(V72=\"x\",3,IF(W72=\"x\",2,IF(X72=\"x\",1,IF(Y72=\"x\",\"NR\",\"\")))))","v":"NR"}]
[{"$f":"NC!$A$98","v":"NC4.4"},{"$f":"NC!$C$98","v":"Disposition"},null,null,"NA",{"$f":"IF(S73=NC!$D$101,\"X\",\"\")","v":""},{"$f":"IF(E73=NC!$D$102,\"X\",\"\")","v":""},{"$f":"IF(E73=NC!$D$101,\"X\",\"\")","v":""},{"$f":"IF(E73=NC!$D$100,\"X\",\"\")","v":""},{"$f":"IF(E73=NC!$D$99,\"X\",\"\")","v":""},{"$f":"IF(E73=NC!$D$103,\"X\",\"\")","v":"X"},"NA",{"$f":"IF(E73=NC!$D$26,\"X\",\"\")","v":""},{"$f":"IF(L73=NC!$D$27,\"X\",\"\")","v":""},{"$f":"IF(L73=NC!$D$26,\"X\",\"\")","v":""},{"$f":"IF(L73=NC!$D$25,\"X\",\"\")","v":""},{"$f":"IF(L73=NC!$D$24,\"X\",\"\")","v":""},{"$f":"IF(L73=NC!$D$28,\"X\",\"\")","v":"X"},"NA",null,{"$f":"IF(S73=NC!$D$27,\"X\",\"\")","v":""},{"$f":"IF(S73=NC!$D$26,\"X\",\"\")","v":""},{"$f":"IF(S73=NC!$D$25,\"X\",\"\")","v":""},{"$f":"IF(S73=NC!$D$24,\"X\",\"\")","v":""},{"$f":"IF(S73=NC!$D$28,\"X\",\"\")","v":"X"},"NR","NR",{"$f":"IF(U73=\"x\",4,IF(V73=\"x\",3,IF(W73=\"x\",2,IF(X73=\"x\",1,IF(Y73=\"x\",\"NR\",\"\")))))","v":"NR"}]
[]
[{"$f":"NC!$A$104","v":"NC5"},{"$f":"NC!$B$104","v":"Rework or (repair) including sub component reuse"}]
[{"$f":"NC!$A$105","v":"NC5.1"},{"$f":"NC!$C$105","v":"Authorized rework has PPAP"},null,null,"NA",{"$f":"IF(S76=NC!$D$108,\"X\",\"\")","v":""},{"$f":"IF(E76=NC!$D$109,\"X\",\"\")","v":""},{"$f":"IF(E76=NC!$D$83108,\"X\",\"\")","v":""},{"$f":"IF(E76=NC!$D$107,\"X\",\"\")","v":""},{"$f":"IF(E76=NC!$D$106,\"X\",\"\")","v":""},{"$f":"IF(E76=NC!$D$110,\"X\",\"\")","v":"X"},"NA",{"$f":"IF(E76=NC!$D$8,\"X\",\"\")","v":""},{"$f":"IF(L76=NC!$D$9,\"X\",\"\")","v":""},{"$f":"IF(L76=NC!$D$8,\"X\",\"\")","v":""},{"$f":"IF(L76=NC!$D$7,\"X\",\"\")","v":""},{"$f":"IF(L76=NC!$D$6,\"X\",\"\")","v":""},{"$f":"IF(L76=NC!$D$10,\"X\",\"\")","v":"X"},"NA",null,{"$f":"IF(S76=NC!$D$9,\"X\",\"\")","v":""},{"$f":"IF(S76=NC!$D$8,\"X\",\"\")","v":""},{"$f":"IF(S76=NC!$D$7,\"X\",\"\")","v":""},{"$f":"IF(S76=NC!$D$6,\"X\",\"\")","v":""},{"$f":"IF(S76=NC!$D$10,\"X\",\"\")","v":"X"},{"$f":"IF(G76=\"x\",4,IF(H76=\"x\",3,IF(I76=\"x\",2,IF(J76=\"x\",1,IF(K76=\"x\",\"NR\",\"\")))))","v":"NR"},{"$f":"IF(N76=\"x\",4,IF(O76=\"x\",3,IF(P76=\"x\",2,IF(Q76=\"x\",1,IF(R76=\"x\",\"NR\",\"\")))))","v":"NR"},{"$f":"IF(U76=\"x\",4,IF(V76=\"x\",3,IF(W76=\"x\",2,IF(X76=\"x\",1,IF(Y76=\"x\",\"NR\",\"\")))))","v":"NR"},{"$f":"SUM(Z76:Z79)","v":0},{"$f":"SUM(AA76:AA79)","v":0},{"$f":"SUM(AB76:AB79)","v":0}]
[{"$f":"NC!$A$111","v":"NC5.2"},{"$f":"NC!$C$111","v":"Failure modes of rework are PFMEA"},null,null,"NA",{"$f":"IF(S77=NC!$D$114,\"X\",\"\")","v":""},{"$f":"IF(E77=NC!$D$115,\"X\",\"\")","v":""},{"$f":"IF(E77=NC!$D$114,\"X\",\"\")","v":""},{"$f":"IF(E77=NC!$D$113,\"X\",\"\")","v":""},{"$f":"IF(E77=NC!$D$112,\"X\",\"\")","v":""},{"$f":"IF(E77=NC!$D$116,\"X\",\"\")","v":"X"},"NA",{"$f":"IF(E77=NC!$D$14,\"X\",\"\")","v":""},{"$f":"IF(L77=NC!$D$15,\"X\",\"\")","v":""},{"$f":"IF(L77=NC!$D$14,\"X\",\"\")","v":""},{"$f":"IF(L77=NC!$D$13,\"X\",\"\")","v":""},{"$f":"IF(L77=NC!$D$12,\"X\",\"\")","v":""},{"$f":"IF(L77=NC!$D$16,\"X\",\"\")","v":"X"},"NA",null,{"$f":"IF(S77=NC!$D$15,\"X\",\"\")","v":""},{"$f":"IF(S77=NC!$D$14,\"X\",\"\")","v":""},{"$f":"IF(S77=NC!$D$13,\"X\",\"\")","v":""},{"$f":"IF(S77=NC!$D$12,\"X\",\"\")","v":""},{"$f":"IF(S77=NC!$D$16,\"X\",\"\")","v":"X"},{"$f":"IF(G77=\"x\",4,IF(H77=\"x\",3,IF(I77=\"x\",2,IF(J77=\"x\",1,IF(K77=\"x\",\"NR\",\"\")))))","v":"NR"},{"$f":"IF(N77=\"x\",4,IF(O77=\"x\",3,IF(P77=\"x\",2,IF(Q77=\"x\",1,IF(R77=\"x\",\"NR\",\"\")))))","v":"NR"},{"$f":"IF(U77=\"x\",4,IF(V77=\"x\",3,IF(W77=\"x\",2,IF(X77=\"x\",1,IF(Y77=\"x\",\"NR\",\"\")))))","v":"NR"}]
[{"$f":"NC!$A$117","v":"NC5.3"},{"$f":"NC!$C$117","v":"Reintroduction of reworked parts"},null,null,"NA",{"$f":"IF(S78=NC!$D$120,\"X\",\"\")","v":""},{"$f":"IF(E78=NC!$D$121,\"X\",\"\")","v":""},{"$f":"IF(E78=NC!$D$120,\"X\",\"\")","v":""},{"$f":"IF(E78=NC!$D$119,\"X\",\"\")","v":""},{"$f":"IF(E78=NC!$D$118,\"X\",\"\")","v":""},{"$f":"IF(E78=NC!$D$122,\"X\",\"\")","v":"X"},"NA",{"$f":"IF(E78=NC!$D$20,\"X\",\"\")","v":""},{"$f":"IF(L78=NC!$D$21,\"X\",\"\")","v":""},{"$f":"IF(L78=NC!$D$20,\"X\",\"\")","v":""},{"$f":"IF(L78=NC!$D$19,\"X\",\"\")","v":""},{"$f":"IF(L78=NC!$D$18,\"X\",\"\")","v":""},{"$f":"IF(L78=NC!$D$22,\"X\",\"\")","v":"X"},"NA",null,{"$f":"IF(S78=NC!$D$21,\"X\",\"\")","v":""},{"$f":"IF(S78=NC!$D$20,\"X\",\"\")","v":""},{"$f":"IF(S78=NC!$D$19,\"X\",\"\")","v":""},{"$f":"IF(S78=NC!$D$18,\"X\",\"\")","v":""},{"$f":"IF(S78=NC!$D$22,\"X\",\"\")","v":"X"},"NR","NR",{"$f":"IF(U78=\"x\",4,IF(V78=\"x\",3,IF(W78=\"x\",2,IF(X78=\"x\",1,IF(Y78=\"x\",\"NR\",\"\")))))","v":"NR"}]
[{"$f":"NC!$A$123","v":"NC5.4"},{"$f":"NC!$C$123","v":"Rework Operation"},null,null,"NA",{"$f":"IF(S79=NC!$D$126,\"X\",\"\")","v":""},{"$f":"IF(E79=NC!$D$127,\"X\",\"\")","v":""},{"$f":"IF(E79=NC!$D$126,\"X\",\"\")","v":""},{"$f":"IF(E79=NC!$D$125,\"X\",\"\")","v":""},{"$f":"IF(E79=NC!$D$124,\"X\",\"\")","v":""},{"$f":"IF(E79=NC!$D$128,\"X\",\"\")","v":"X"},"NA",{"$f":"IF(E79=NC!$D$26,\"X\",\"\")","v":""},{"$f":"IF(L79=NC!$D$27,\"X\",\"\")","v":""},{"$f":"IF(L79=NC!$D$26,\"X\",\"\")","v":""},{"$f":"IF(L79=NC!$D$25,\"X\",\"\")","v":""},{"$f":"IF(L79=NC!$D$24,\"X\",\"\")","v":""},{"$f":"IF(L79=NC!$D$28,\"X\",\"\")","v":"X"},"NA",null,{"$f":"IF(S79=NC!$D$27,\"X\",\"\")","v":""},{"$f":"IF(S79=NC!$D$26,\"X\",\"\")","v":""},{"$f":"IF(S79=NC!$D$25,\"X\",\"\")","v":""},{"$f":"IF(S79=NC!$D$24,\"X\",\"\")","v":""},{"$f":"IF(S79=NC!$D$28,\"X\",\"\")","v":"X"},"NR","NR",{"$f":"IF(U79=\"x\",4,IF(V79=\"x\",3,IF(W79=\"x\",2,IF(X79=\"x\",1,IF(Y79=\"x\",\"NR\",\"\")))))","v":"NR"}]
[]
[{"$f":"NC!$A$129","v":"NCE"},{"$f":"NC!$B$129","v":"Improvement Targets"}]
[{"$f":"NC!$A$130","v":"NCE.1"},{"$f":"NC!$C$130","v":"Performance metrics"},null,null,"NA",{"$f":"IF(S82=NC!$D$133,\"X\",\"\")","v":""},{"$f":"IF(E82=NC!$D$134,\"X\",\"\")","v":""},{"$f":"IF(E82=NC!$D$133,\"X\",\"\")","v":""},{"$f":"IF(E82=NC!$D$132,\"X\",\"\")","v":""},{"$f":"IF(E82=NC!$D$131,\"X\",\"\")","v":""},{"$f":"IF(E82=NC!$D$135,\"X\",\"\")","v":"X"},"NA",{"$f":"IF(E82=NC!$D$26,\"X\",\"\")","v":""},{"$f":"IF(L82=NC!$D$27,\"X\",\"\")","v":""},{"$f":"IF(L82=NC!$D$26,\"X\",\"\")","v":""},{"$f":"IF(L82=NC!$D$25,\"X\",\"\")","v":""},{"$f":"IF(L82=NC!$D$24,\"X\",\"\")","v":""},{"$f":"IF(L82=NC!$D$28,\"X\",\"\")","v":"X"},"NA",null,{"$f":"IF(S82=NC!$D$27,\"X\",\"\")","v":""},{"$f":"IF(S82=NC!$D$26,\"X\",\"\")","v":""},{"$f":"IF(S82=NC!$D$25,\"X\",\"\")","v":""},null,{"$f":"IF(S82=NC!$D$28,\"X\",\"\")","v":"X"},{"$f":"IF(G82=\"x\",4,IF(H82=\"x\",3,IF(I82=\"x\",2,IF(J82=\"x\",1,IF(K82=\"x\",\"NR\",\"\")))))","v":"NR"},{"$f":"IF(N82=\"x\",4,IF(O82=\"x\",3,IF(P82=\"x\",2,IF(Q82=\"x\",1,IF(R82=\"x\",\"NR\",\"\")))))","v":"NR"},{"$f":"IF(U82=\"x\",4,IF(V82=\"x\",3,IF(W82=\"x\",2,IF(X82=\"x\",1,IF(Y82=\"x\",\"NR\",\"\")))))","v":"NR"},{"$f":"SUM(Z82)","v":0},{"$f":"SUM(AA82)","v":0},{"$f":"SUM(AB82)","v":0}]
[]
[null,null,null,null,null,null,null,null,null,null,null,null,null,null,null,null,null,null,null,null,null,null,null,null,null,"Total",null,null,{"$f":"(AC52+AC58+AC64+AC70+AC76+AC82)","v":0},{"$f":"(AD76+AD70+AD64+AD58+AD52+AD82)","v":0},{"$f":"(AE76+AE70+AE64+AE58+AE52+AE82)","v":0}]
[null,null,null,null,null,null,null,null,null,null,null," "," "," "," "," "," "," ",null," "," "," "," "," "," ","Potential",null,null,{"$f":"COUNT(Z52:Z82)*4","v":0},{"$f":"COUNT(AA52:AA82)*4","v":0},{"$f":"COUNT(AB52:AB82)*4","v":0}]
[null,null,null,null,null,null,null,null,null,null,null,null,null,null,null,null,null,null,null,null,null,null,null,null,null,"Total Score",null,null,{"$f":"IF(AC85<>0,AC84/AC85,\"NR\")","v":"NR"},{"$f":"IF(AD85<>0,AD84/AD85,\"NR\")","v":"NR"},{"$f":"IF(AE85<>0,AE84/AE85,\"NR\")","v":"NR"}]
[]
[]
[" ","Verification Station & Error Proof Verification",null,null,"Build up Score Assessment"," ","Build up Scoring",null,null,null,null,"Build up Score Assessment"," ","Build up Scoring",null,null,null,null,"Build up Score Assessment"," ","Build up Scoring",null,null,null,null,null,null,null,"Sub Element Score"]
[{"$f":"VS!$A$4","v":"VS1.0"},{"$f":"VS!$B$4","v":"Quality in Station"},null,"Sub-Element",null,null,4,3,2,1,"NR",null,null,4,3,2,1,"NR",null,null,4,3,2,1,"NR","Self","Onsite","Current","Self","Onsite","Current","Procedures","Findings","Comments"]
[{"$f":"VS!$A$5","v":"VS1.1"},{"$f":"VS!$C$5","v":"Error Proof & Verification Station"},null,null,"NA",null,{"$f":"IF(E91=VS!$D$9,\"X\",\"\")","v":""},{"$f":"IF(E91=VS!$D$8,\"X\",\"\")","v":""},{"$f":"IF(E91=VS!$D$7,\"X\",\"\")","v":""},{"$f":"IF(E91=VS!$D$6,\"X\",\"\")","v":""},{"$f":"IF(E91=VS!$D$10,\"X\",\"\")","v":"X"},"NA",null,{"$f":"IF(L91=VS!$D$9,\"X\",\"\")","v":""},{"$f":"IF(L91=VS!$D$8,\"X\",\"\")","v":""},{"$f":"IF(L91=VS!$D$7,\"X\",\"\")","v":""},{"$f":"IF(L91=VS!$D$6,\"X\",\"\")","v":""},{"$f":"IF(L91=VS!$D$10,\"X\",\"\")","v":"X"},"NA",null,{"$f":"IF(S91=VS!$D$9,\"X\",\"\")","v":""},{"$f":"IF(S91=VS!$D$8,\"X\",\"\")","v":""},{"$f":"IF(S91=VS!$D$7,\"X\",\"\")","v":""},{"$f":"IF(S91=VS!$D$6,\"X\",\"\")","v":""},{"$f":"IF(S91=VS!$D$10,\"X\",\"\")","v":"X"},{"$f":"IF(G91=\"x\",4,IF(H91=\"x\",3,IF(I91=\"x\",2,IF(J91=\"x\",1,IF(K91=\"x\",\"NR\",\"\")))))","v":"NR"},{"$f":"IF(N91=\"x\",4,IF(O91=\"x\",3,IF(P91=\"x\",2,IF(Q91=\"x\",1,IF(R91=\"x\",\"NR\",\"\")))))","v":"NR"},{"$f":"IF(U91=\"x\",4,IF(V91=\"x\",3,IF(W91=\"x\",2,IF(X91=\"x\",1,IF(Y91=\"x\",\"NR\",\"\")))))","v":"NR"},{"$f":"SUM(Z91:Z94)","v":0},{"$f":"SUM(AA91:AA94)","v":0},{"$f":"SUM(AB91:AB94)","v":0}]
[{"$f":"VS!$A$11","v":"VS1.2"},{"$f":"VS!$C$11","v":"Characteristics are defined"},null,null,"NA",null,{"$f":"IF(E92=VS!$D$15,\"X\",\"\")","v":""},{"$f":"IF(E92=VS!$D$14,\"X\",\"\")","v":""},{"$f":"IF(E92=VS!$D$13,\"X\",\"\")","v":""},{"$f":"IF(E92=VS!$D$12,\"X\",\"\")","v":""},{"$f":"IF(E92=VS!$D$16,\"X\",\"\")","v":"X"},"NA",null,{"$f":"IF(L92=VS!$D$15,\"X\",\"\")","v":""},{"$f":"IF(L92=VS!$D$14,\"X\",\"\")","v":""},{"$f":"IF(L92=VS!$D$13,\"X\",\"\")","v":""},{"$f":"IF(L92=VS!$D$12,\"X\",\"\")","v":""},{"$f":"IF(L92=VS!$D$16,\"X\",\"\")","v":"X"},"NA",null,{"$f":"IF(S92=VS!$D$15,\"X\",\"\")","v":""},{"$f":"IF(S92=VS!$D$14,\"X\",\"\")","v":""},{"$f":"IF(S92=VS!$D$13,\"X\",\"\")","v":""},{"$f":"IF(S92=VS!$D$12,\"X\",\"\")","v":""},{"$f":"IF(S92=VS!$D$16,\"X\",\"\")","v":"X"},{"$f":"IF(G92=\"x\",4,IF(H92=\"x\",3,IF(I92=\"x\",2,IF(J92=\"x\",1,IF(K92=\"x\",\"NR\",\"\")))))","v":"NR"},{"$f":"IF(N92=\"x\",4,IF(O92=\"x\",3,IF(P92=\"x\",2,IF(Q92=\"x\",1,IF(R92=\"x\",\"NR\",\"\")))))","v":"NR"},{"$f":"IF(U92=\"x\",4,IF(V92=\"x\",3,IF(W92=\"x\",2,IF(X92=\"x\",1,IF(Y92=\"x\",\"NR\",\"\")))))","v":"NR"}]
[{"$f":"VS!$A$17","v":"VS1.3"},{"$f":"VS!$C$17","v":"Customer complaints require VS review"},null,null,"NA",null,{"$f":"IF(E93=VS!$D$21,\"X\",\"\")","v":""},{"$f":"IF(E93=VS!$D$20,\"X\",\"\")","v":""},{"$f":"IF(E93=VS!$D$19,\"X\",\"\")","v":""},{"$f":"IF(E93=VS!$D$18,\"X\",\"\")","v":""},{"$f":"IF(E93=VS!$D$22,\"X\",\"\")","v":"X"},"NA",null,{"$f":"IF(L93=VS!$D$21,\"X\",\"\")","v":""},{"$f":"IF(L93=VS!$D$20,\"X\",\"\")","v":""},{"$f":"IF(L93=VS!$D$19,\"X\",\"\")","v":""},{"$f":"IF(L93=VS!$D$18,\"X\",\"\")","v":""},{"$f":"IF(L93=VS!$D$22,\"X\",\"\")","v":"X"},"NA",null,{"$f":"IF(S93=VS!$D$21,\"X\",\"\")","v":""},{"$f":"IF(S93=VS!$D$20,\"X\",\"\")","v":""},{"$f":"IF(S93=VS!$D$19,\"X\",\"\")","v":""},{"$f":"IF(S93=VS!$D$18,\"X\",\"\")","v":""},{"$f":"IF(S93=VS!$D$22,\"X\",\"\")","v":"X"},{"$f":"IF(G93=\"x\",4,IF(H93=\"x\",3,IF(I93=\"x\",2,IF(J93=\"x\",1,IF(K93=\"x\",\"NR\",\"\")))))","v":"NR"},{"$f":"IF(N93=\"x\",4,IF(O93=\"x\",3,IF(P93=\"x\",2,IF(Q93=\"x\",1,IF(R93=\"x\",\"NR\",\"\")))))","v":"NR"},{"$f":"IF(U93=\"x\",4,IF(V93=\"x\",3,IF(W93=\"x\",2,IF(X93=\"x\",1,IF(Y93=\"x\",\"NR\",\"\")))))","v":"NR"}]
[{"$f":"VS!$A$23","v":"VS1.4"},{"$f":"VS!$C$23","v":"Verification Station"},null,null,"NA",null,{"$f":"IF(E94=VS!$D$27,\"X\",\"\")","v":""},{"$f":"IF(E94=VS!$D$26,\"X\",\"\")","v":""},{"$f":"IF(E94=VS!$D$25,\"X\",\"\")","v":""},{"$f":"IF(E94=VS!$D$24,\"X\",\"\")","v":""},{"$f":"IF(E94=VS!$D$28,\"X\",\"\")","v":"X"},"NA",null,{"$f":"IF(L94=VS!$D$27,\"X\",\"\")","v":""},{"$f":"IF(L94=VS!$D$26,\"X\",\"\")","v":""},{"$f":"IF(L94=VS!$D$25,\"X\",\"\")","v":""},{"$f":"IF(L94=VS!$D$24,\"X\",\"\")","v":""},{"$f":"IF(L94=VS!$D$28,\"X\",\"\")","v":"X"},"NA",null,{"$f":"IF(S94=VS!$D$27,\"X\",\"\")","v":""},{"$f":"IF(S94=VS!$D$26,\"X\",\"\")","v":""},{"$f":"IF(S94=VS!$D$25,\"X\",\"\")","v":""},{"$f":"IF(S94=VS!$D$24,\"X\",\"\")","v":""},{"$f":"IF(S94=VS!$D$28,\"X\",\"\")","v":"X"},{"$f":"IF(G94=\"x\",4,IF(H94=\"x\",3,IF(I94=\"x\",2,IF(J94=\"x\",1,IF(K94=\"x\",\"NR\",\"\")))))","v":"NR"},{"$f":"IF(N94=\"x\",4,IF(O94=\"x\",3,IF(P94=\"x\",2,IF(Q94=\"x\",1,IF(R94=\"x\",\"NR\",\"\")))))","v":"NR"},{"$f":"IF(U94=\"x\",4,IF(V94=\"x\",3,IF(W94=\"x\",2,IF(X94=\"x\",1,IF(Y94=\"x\",\"NR\",\"\")))))","v":"NR"}]
[]
[{"$f":"VS!$A$29","v":"VS2.0"},{"$f":"VS!$B$29","v":"Alarm Limits"}]
[{"$f":"VS!$A$30","v":"VS2.1"},{"$f":"VS!$C$30","v":"Alarm limit process is defined"},null,null,"NA",null,{"$f":"IF(E97=VS!$D$34,\"X\",\"\")","v":""},{"$f":"IF(E97=VS!$D$33,\"X\",\"\")","v":""},{"$f":"IF(E97=VS!$D$32,\"X\",\"\")","v":""},{"$f":"IF(E97=VS!$D$31,\"X\",\"\")","v":""},{"$f":"IF(E97=VS!$D$35,\"X\",\"\")","v":"X"},"NA",null,{"$f":"IF(L97=VS!$D$34,\"X\",\"\")","v":""},{"$f":"IF(L97=VS!$D$33,\"X\",\"\")","v":""},{"$f":"IF(L97=VS!$D$32,\"X\",\"\")","v":""},{"$f":"IF(L97=VS!$D$31,\"X\",\"\")","v":""},{"$f":"IF(L97=VS!$D$35,\"X\",\"\")","v":"X"},"NA",null,{"$f":"IF(S97=VS!$D$34,\"X\",\"\")","v":""},{"$f":"IF(S97=VS!$D$33,\"X\",\"\")","v":""},{"$f":"IF(S97=VS!$D$32,\"X\",\"\")","v":""},{"$f":"IF(S97=VS!$D$31,\"X\",\"\")","v":""},{"$f":"IF(S97=VS!$D$35,\"X\",\"\")","v":"X"},{"$f":"IF(G97=\"x\",4,IF(H97=\"x\",3,IF(I97=\"x\",2,IF(J97=\"x\",1,IF(K97=\"x\",\"NR\",\"\")))))","v":"NR"},{"$f":"IF(N97=\"x\",4,IF(O97=\"x\",3,IF(P97=\"x\",2,IF(Q97=\"x\",1,IF(R97=\"x\",\"NR\",\"\")))))","v":"NR"},{"$f":"IF(U97=\"x\",4,IF(V97=\"x\",3,IF(W97=\"x\",2,IF(X97=\"x\",1,IF(Y97=\"x\",\"NR\",\"\")))))","v":"NR"},{"$f":"SUM(Z97:Z100)","v":0},{"$f":"SUM(AA97:AA100)","v":0},{"$f":"SUM(AB97:AB100)","v":0}]
[{"$f":"VS!$A$36","v":"VS2.2"},{"$f":"VS!$C$36","v":"Alarm limits are established for processes"},null,null,"NA",null,{"$f":"IF(E98=VS!$D$40,\"X\",\"\")","v":""},{"$f":"IF(E98=VS!$D$39,\"X\",\"\")","v":""},{"$f":"IF(E98=VS!$D$38,\"X\",\"\")","v":""},{"$f":"IF(E98=VS!$D$37,\"X\",\"\")","v":""},{"$f":"IF(E98=VS!$D$41,\"X\",\"\")","v":"X"},"NA",null,{"$f":"IF(L98=VS!$D$40,\"X\",\"\")","v":""},{"$f":"IF(L98=VS!$D$39,\"X\",\"\")","v":""},{"$f":"IF(L98=VS!$D$38,\"X\",\"\")","v":""},{"$f":"IF(L98=VS!$D$37,\"X\",\"\")","v":""},{"$f":"IF(L98=VS!$D$41,\"X\",\"\")","v":"X"},"NA",null,{"$f":"IF(S98=VS!$D$40,\"X\",\"\")","v":""},{"$f":"IF(S98=VS!$D$39,\"X\",\"\")","v":""},{"$f":"IF(S98=VS!$D$38,\"X\",\"\")","v":""},{"$f":"IF(S98=VS!$D$37,\"X\",\"\")","v":""},{"$f":"IF(S98=VS!$D$41,\"X\",\"\")","v":"X"},{"$f":"IF(G98=\"x\",4,IF(H98=\"x\",3,IF(I98=\"x\",2,IF(J98=\"x\",1,IF(K98=\"x\",\"NR\",\"\")))))","v":"NR"},{"$f":"IF(N98=\"x\",4,IF(O98=\"x\",3,IF(P98=\"x\",2,IF(Q98=\"x\",1,IF(R98=\"x\",\"NR\",\"\")))))","v":"NR"},{"$f":"IF(U98=\"x\",4,IF(V98=\"x\",3,IF(W98=\"x\",2,IF(X98=\"x\",1,IF(Y98=\"x\",\"NR\",\"\")))))","v":"NR"}]
[{"$f":"VS!$A$42","v":"VS2.3"},{"$f":"VS!$C$42","v":"Standard format for in-station data collection"},null,null,"NA",null,{"$f":"IF(E99=VS!$D$46,\"X\",\"\")","v":""},{"$f":"IF(E99=VS!$D$45,\"X\",\"\")","v":""},{"$f":"IF(E99=VS!$D$44,\"X\",\"\")","v":""},{"$f":"IF(E99=VS!$D$43,\"X\",\"\")","v":""},{"$f":"IF(E99=VS!$D$47,\"X\",\"\")","v":"X"},"NA",null,{"$f":"IF(L99=VS!$D$46,\"X\",\"\")","v":""},{"$f":"IF(L99=VS!$D$45,\"X\",\"\")","v":""},{"$f":"IF(L99=VS!$D$44,\"X\",\"\")","v":""},{"$f":"IF(L99=VS!$D$43,\"X\",\"\")","v":""},{"$f":"IF(L99=VS!$D$47,\"X\",\"\")","v":"X"},"NA",null,{"$f":"IF(S99=VS!$D$46,\"X\",\"\")","v":""},{"$f":"IF(S99=VS!$D$45,\"X\",\"\")","v":""},{"$f":"IF(S99=VS!$D$44,\"X\",\"\")","v":""},{"$f":"IF(S99=VS!$D$43,\"X\",\"\")","v":""},{"$f":"IF(S99=VS!$D$47,\"X\",\"\")","v":"X"},{"$f":"IF(G99=\"x\",4,IF(H99=\"x\",3,IF(I99=\"x\",2,IF(J99=\"x\",1,IF(K99=\"x\",\"NR\",\"\")))))","v":"NR"},{"$f":"IF(N99=\"x\",4,IF(O99=\"x\",3,IF(P99=\"x\",2,IF(Q99=\"x\",1,IF(R99=\"x\",\"NR\",\"\")))))","v":"NR"},{"$f":"IF(U99=\"x\",4,IF(V99=\"x\",3,IF(W99=\"x\",2,IF(X99=\"x\",1,IF(Y99=\"x\",\"NR\",\"\")))))","v":"NR"}]
[{"$f":"VS!$A$48","v":"VS2.4"},{"$f":"VS!$C$48","v":"Alarm improvement strategy"},null,null,"NA",null,{"$f":"IF(E100=VS!$D$52,\"X\",\"\")","v":""},{"$f":"IF(E100=VS!$D$51,\"X\",\"\")","v":""},{"$f":"IF(E100=VS!$D$50,\"X\",\"\")","v":""},{"$f":"IF(E100=VS!$D$49,\"X\",\"\")","v":""},{"$f":"IF(E100=VS!$D$53,\"X\",\"\")","v":"X"},"NA",null,{"$f":"IF(L100=VS!$D$52,\"X\",\"\")","v":""},{"$f":"IF(L100=VS!$D$51,\"X\",\"\")","v":""},{"$f":"IF(L100=VS!$D$50,\"X\",\"\")","v":""},{"$f":"IF(L100=VS!$D$49,\"X\",\"\")","v":""},{"$f":"IF(L100=VS!$D$53,\"X\",\"\")","v":"X"},"NA",null,{"$f":"IF(S100=VS!$D$52,\"X\",\"\")","v":""},{"$f":"IF(S100=VS!$D$51,\"X\",\"\")","v":""},{"$f":"IF(S100=VS!$D$50,\"X\",\"\")","v":""},{"$f":"IF(S100=VS!$D$49,\"X\",\"\")","v":""},{"$f":"IF(S100=VS!$D$53,\"X\",\"\")","v":"X"},{"$f":"IF(G100=\"x\",4,IF(H100=\"x\",3,IF(I100=\"x\",2,IF(J100=\"x\",1,IF(K100=\"x\",\"NR\",\"\")))))","v":"NR"},{"$f":"IF(N100=\"x\",4,IF(O100=\"x\",3,IF(P100=\"x\",2,IF(Q100=\"x\",1,IF(R100=\"x\",\"NR\",\"\")))))","v":"NR"},{"$f":"IF(U100=\"x\",4,IF(V100=\"x\",3,IF(W100=\"x\",2,IF(X100=\"x\",1,IF(Y100=\"x\",\"NR\",\"\")))))","v":"NR"}]
[]
[{"$f":"VS!$A$54","v":"VS3.0"},{"$f":"VS!$B$54","v":"Improvement Process"}]
[{"$f":"VS!$A$55","v":"VS3.1"},{"$f":"VS!$C$55","v":"Problem solving "},null,null,"NA",null,{"$f":"IF(E103=VS!$D$59,\"X\",\"\")","v":""},{"$f":"IF(E103=VS!$D$58,\"X\",\"\")","v":""},{"$f":"IF(E103=VS!$D$57,\"X\",\"\")","v":""},{"$f":"IF(E103=VS!$D$56,\"X\",\"\")","v":""},{"$f":"IF(E103=VS!$D$60,\"X\",\"\")","v":"X"},"NA",null,{"$f":"IF(L103=VS!$D$59,\"X\",\"\")","v":""},{"$f":"IF(L103=VS!$D$58,\"X\",\"\")","v":""},{"$f":"IF(L103=VS!$D$57,\"X\",\"\")","v":""},{"$f":"IF(L103=VS!$D$56,\"X\",\"\")","v":""},{"$f":"IF(L103=VS!$D$60,\"X\",\"\")","v":"X"},"NA",null,{"$f":"IF(S103=VS!$D$59,\"X\",\"\")","v":""},{"$f":"IF(S103=VS!$D$58,\"X\",\"\")","v":""},{"$f":"IF(S103=VS!$D$57,\"X\",\"\")","v":""},{"$f":"IF(S103=VS!$D$56,\"X\",\"\")","v":""},{"$f":"IF(S103=VS!$D$60,\"X\",\"\")","v":"X"},{"$f":"IF(G103=\"x\",4,IF(H103=\"x\",3,IF(I103=\"x\",2,IF(J103=\"x\",1,IF(K103=\"x\",\"NR\",\"\")))))","v":"NR"},{"$f":"IF(N103=\"x\",4,IF(O103=\"x\",3,IF(P103=\"x\",2,IF(Q103=\"x\",1,IF(R103=\"x\",\"NR\",\"\")))))","v":"NR"},{"$f":"IF(U103=\"x\",4,IF(V103=\"x\",3,IF(W103=\"x\",2,IF(X103=\"x\",1,IF(Y103=\"x\",\"NR\",\"\")))))","v":"NR"},{"$f":"SUM(Z103:Z106)","v":0},{"$f":"SUM(AA103:AA106)","v":0},{"$f":"SUM(AB103:AB106)","v":0}]
[{"$f":"VS!$A$61","v":"VS3.2"},{"$f":"VS!$C$61","v":"Daily review of verification"},null,null,"NA",null,{"$f":"IF(E104=VS!$D$65,\"X\",\"\")","v":""},{"$f":"IF(E104=VS!$D$64,\"X\",\"\")","v":""},{"$f":"IF(E104=VS!$D$63,\"X\",\"\")","v":""},{"$f":"IF(E104=VS!$D$62,\"X\",\"\")","v":""},{"$f":"IF(E104=VS!$D$66,\"X\",\"\")","v":"X"},"NA",null,{"$f":"IF(L104=VS!$D$65,\"X\",\"\")","v":""},{"$f":"IF(L104=VS!$D$64,\"X\",\"\")","v":""},{"$f":"IF(L104=VS!$D$63,\"X\",\"\")","v":""},{"$f":"IF(L104=VS!$D$62,\"X\",\"\")","v":""},{"$f":"IF(L104=VS!$D$66,\"X\",\"\")","v":"X"},"NA",null,{"$f":"IF(S104=VS!$D$65,\"X\",\"\")","v":""},{"$f":"IF(S104=VS!$D$64,\"X\",\"\")","v":""},{"$f":"IF(S104=VS!$D$63,\"X\",\"\")","v":""},{"$f":"IF(S104=VS!$D$62,\"X\",\"\")","v":""},{"$f":"IF(S104=VS!$D$66,\"X\",\"\")","v":"X"},{"$f":"IF(G104=\"x\",4,IF(H104=\"x\",3,IF(I104=\"x\",2,IF(J104=\"x\",1,IF(K104=\"x\",\"NR\",\"\")))))","v":"NR"},{"$f":"IF(N104=\"x\",4,IF(O104=\"x\",3,IF(P104=\"x\",2,IF(Q104=\"x\",1,IF(R104=\"x\",\"NR\",\"\")))))","v":"NR"},{"$f":"IF(U104=\"x\",4,IF(V104=\"x\",3,IF(W104=\"x\",2,IF(X104=\"x\",1,IF(Y104=\"x\",\"NR\",\"\")))))","v":"NR"}]
[{"$f":"VS!$A$67","v":"VS3.3"},{"$f":"VS!$C$67","v":"Leadership/support staff reviews"},null,null,"NA",null,{"$f":"IF(E105=VS!$D$71,\"X\",\"\")","v":""},{"$f":"IF(E105=VS!$D$70,\"X\",\"\")","v":""},{"$f":"IF(E105=VS!$D$69,\"X\",\"\")","v":""},{"$f":"IF(E105=VS!$D$68,\"X\",\"\")","v":""},{"$f":"IF(E105=VS!$D$72,\"X\",\"\")","v":"X"},"NA",null,{"$f":"IF(L105=VS!$D$71,\"X\",\"\")","v":""},{"$f":"IF(L105=VS!$D$70,\"X\",\"\")","v":""},{"$f":"IF(L105=VS!$D$69,\"X\",\"\")","v":""},{"$f":"IF(L105=VS!$D$68,\"X\",\"\")","v":""},{"$f":"IF(L105=VS!$D$72,\"X\",\"\")","v":"X"},"NA",null,{"$f":"IF(S105=VS!$D$71,\"X\",\"\")","v":""},{"$f":"IF(S105=VS!$D$70,\"X\",\"\")","v":""},{"$f":"IF(S105=VS!$D$69,\"X\",\"\")","v":""},{"$f":"IF(S105=VS!$D$68,\"X\",\"\")","v":""},{"$f":"IF(S105=VS!$D$72,\"X\",\"\")","v":"X"},{"$f":"IF(G105=\"x\",4,IF(H105=\"x\",3,IF(I105=\"x\",2,IF(J105=\"x\",1,IF(K105=\"x\",\"NR\",\"\")))))","v":"NR"},{"$f":"IF(N105=\"x\",4,IF(O105=\"x\",3,IF(P105=\"x\",2,IF(Q105=\"x\",1,IF(R105=\"x\",\"NR\",\"\")))))","v":"NR"},{"$f":"IF(U105=\"x\",4,IF(V105=\"x\",3,IF(W105=\"x\",2,IF(X105=\"x\",1,IF(Y105=\"x\",\"NR\",\"\")))))","v":"NR"}]
[{"$f":"VS!$A$73","v":"VS3.4"},{"$f":"VS!$C$73","v":"Look Across"},null,null,"NA",null,{"$f":"IF(E106=VS!$D$77,\"X\",\"\")","v":""},{"$f":"IF(E106=VS!$D$76,\"X\",\"\")","v":""},{"$f":"IF(E106=VS!$D$75,\"X\",\"\")","v":""},{"$f":"IF(E106=VS!$D$74,\"X\",\"\")","v":""},{"$f":"IF(E106=VS!$D$78,\"X\",\"\")","v":"X"},"NA",null,{"$f":"IF(L106=VS!$D$77,\"X\",\"\")","v":""},{"$f":"IF(L106=VS!$D$76,\"X\",\"\")","v":""},{"$f":"IF(L106=VS!$D$75,\"X\",\"\")","v":""},{"$f":"IF(L106=VS!$D$74,\"X\",\"\")","v":""},{"$f":"IF(L106=VS!$D$78,\"X\",\"\")","v":"X"},"NA",null,{"$f":"IF(S106=VS!$D$77,\"X\",\"\")","v":""},{"$f":"IF(S106=VS!$D$76,\"X\",\"\")","v":""},{"$f":"IF(S106=VS!$D$75,\"X\",\"\")","v":""},{"$f":"IF(S106=VS!$D$74,\"X\",\"\")","v":""},{"$f":"IF(S106=VS!$D$78,\"X\",\"\")","v":"X"},{"$f":"IF(G106=\"x\",4,IF(H106=\"x\",3,IF(I106=\"x\",2,IF(J106=\"x\",1,IF(K106=\"x\",\"NR\",\"\")))))","v":"NR"},{"$f":"IF(N106=\"x\",4,IF(O106=\"x\",3,IF(P106=\"x\",2,IF(Q106=\"x\",1,IF(R106=\"x\",\"NR\",\"\")))))","v":"NR"},{"$f":"IF(U106=\"x\",4,IF(V106=\"x\",3,IF(W106=\"x\",2,IF(X106=\"x\",1,IF(Y106=\"x\",\"NR\",\"\")))))","v":"NR"}]
[]
[{"$f":"VS!$A$79","v":"VS4"},{"$f":"VS!$B$79","v":"Gages & Error Proofing Devices"}]
[{"$f":"VS!$A$80","v":"VS4.1"},{"$f":"VS!$C$80","v":"Master list"},null,null,"NA",null,{"$f":"IF(E109=VS!$D$84,\"X\",\"\")","v":""},{"$f":"IF(E109=VS!$D$83,\"X\",\"\")","v":""},{"$f":"IF(E109=VS!$D$82,\"X\",\"\")","v":""},{"$f":"IF(E109=VS!$D$81,\"X\",\"\")","v":""},{"$f":"IF(E109=VS!$D$85,\"X\",\"\")","v":"X"},"NA",null,{"$f":"IF(L109=VS!$D$84,\"X\",\"\")","v":""},{"$f":"IF(L109=VS!$D$83,\"X\",\"\")","v":""},{"$f":"IF(L109=VS!$D$82,\"X\",\"\")","v":""},{"$f":"IF(L109=VS!$D$81,\"X\",\"\")","v":""},{"$f":"IF(L109=VS!$D$85,\"X\",\"\")","v":"X"},"NA",null,{"$f":"IF(S109=VS!$D$84,\"X\",\"\")","v":""},{"$f":"IF(S109=VS!$D$83,\"X\",\"\")","v":""},{"$f":"IF(S109=VS!$D$82,\"X\",\"\")","v":""},{"$f":"IF(S109=VS!$D$81,\"X\",\"\")","v":""},{"$f":"IF(S109=VS!$D$85,\"X\",\"\")","v":"X"},{"$f":"IF(G109=\"x\",4,IF(H109=\"x\",3,IF(I109=\"x\",2,IF(J109=\"x\",1,IF(K109=\"x\",\"NR\",\"\")))))","v":"NR"},{"$f":"IF(N109=\"x\",4,IF(O109=\"x\",3,IF(P109=\"x\",2,IF(Q109=\"x\",1,IF(R109=\"x\",\"NR\",\"\")))))","v":"NR"},{"$f":"IF(U109=\"x\",4,IF(V109=\"x\",3,IF(W109=\"x\",2,IF(X109=\"x\",1,IF(Y109=\"x\",\"NR\",\"\")))))","v":"NR"},{"$f":"SUM(Z109:Z112)","v":0},{"$f":"SUM(AA109:AA112)","v":0},{"$f":"SUM(AB109:AB112)","v":0}]
[{"$f":"VS!$A$86","v":"VS4.2"},{"$f":"VS!$C$86","v":"Error proofing gaging and master sample organization"},null,null,"NA",null,{"$f":"IF(E110=VS!$D$90,\"X\",\"\")","v":""},{"$f":"IF(E110=VS!$D$89,\"X\",\"\")","v":""},{"$f":"IF(E110=VS!$D$88,\"X\",\"\")","v":""},{"$f":"IF(E110=VS!$D$87,\"X\",\"\")","v":""},{"$f":"IF(E110=VS!$D$91,\"X\",\"\")","v":"X"},"NA",null,{"$f":"IF(L110=VS!$D$90,\"X\",\"\")","v":""},{"$f":"IF(L110=VS!$D$89,\"X\",\"\")","v":""},{"$f":"IF(L110=VS!$D$88,\"X\",\"\")","v":""},{"$f":"IF(L110=VS!$D$87,\"X\",\"\")","v":""},{"$f":"IF(L110=VS!$D$91,\"X\",\"\")","v":"X"},"NA",null,{"$f":"IF(S110=VS!$D$90,\"X\",\"\")","v":""},{"$f":"IF(S110=VS!$D$89,\"X\",\"\")","v":""},{"$f":"IF(S110=VS!$D$88,\"X\",\"\")","v":""},{"$f":"IF(S110=VS!$D$87,\"X\",\"\")","v":""},{"$f":"IF(S110=VS!$D$91,\"X\",\"\")","v":"X"},{"$f":"IF(G110=\"x\",4,IF(H110=\"x\",3,IF(I110=\"x\",2,IF(J110=\"x\",1,IF(K110=\"x\",\"NR\",\"\")))))","v":"NR"},{"$f":"IF(N110=\"x\",4,IF(O110=\"x\",3,IF(P110=\"x\",2,IF(Q110=\"x\",1,IF(R110=\"x\",\"NR\",\"\")))))","v":"NR"},{"$f":"IF(U110=\"x\",4,IF(V110=\"x\",3,IF(W110=\"x\",2,IF(X110=\"x\",1,IF(Y110=\"x\",\"NR\",\"\")))))","v":"NR"}]
[{"$f":"VS!$A$92","v":"VS4.3"},{"$f":"VS!$C$92","v":"Error proofing device masters"},null,null,"NA",null,{"$f":"IF(E111=VS!$D$96,\"X\",\"\")","v":""},{"$f":"IF(E111=VS!$D$95,\"X\",\"\")","v":""},{"$f":"IF(E111=VS!$D$94,\"X\",\"\")","v":""},{"$f":"IF(E111=VS!$D$93,\"X\",\"\")","v":""},{"$f":"IF(E111=VS!$D$97,\"X\",\"\")","v":"X"},"NA",null,{"$f":"IF(L111=VS!$D$96,\"X\",\"\")","v":""},{"$f":"IF(L111=VS!$D$95,\"X\",\"\")","v":""},{"$f":"IF(L111=VS!$D$94,\"X\",\"\")","v":""},{"$f":"IF(L111=VS!$D$93,\"X\",\"\")","v":""},{"$f":"IF(L111=VS!$D$97,\"X\",\"\")","v":"X"},"NA",null,{"$f":"IF(S111=VS!$D$96,\"X\",\"\")","v":""},{"$f":"IF(S111=VS!$D$95,\"X\",\"\")","v":""},{"$f":"IF(S111=VS!$D$94,\"X\",\"\")","v":""},{"$f":"IF(S111=VS!$D$93,\"X\",\"\")","v":""},{"$f":"IF(S111=VS!$D$97,\"X\",\"\")","v":"X"},{"$f":"IF(G111=\"x\",4,IF(H111=\"x\",3,IF(I111=\"x\",2,IF(J111=\"x\",1,IF(K111=\"x\",\"NR\",\"\")))))","v":"NR"},{"$f":"IF(N111=\"x\",4,IF(O111=\"x\",3,IF(P111=\"x\",2,IF(Q111=\"x\",1,IF(R111=\"x\",\"NR\",\"\")))))","v":"NR"},{"$f":"IF(U111=\"x\",4,IF(V111=\"x\",3,IF(W111=\"x\",2,IF(X111=\"x\",1,IF(Y111=\"x\",\"NR\",\"\")))))","v":"NR"}]
[{"$f":"VS!$A$98","v":"VS4.4"},{"$f":"VS!$C$98","v":"Gage Calibration"},null,null,"NA",null,{"$f":"IF(E112=VS!$D$102,\"X\",\"\")","v":""},{"$f":"IF(E112=VS!$D$101,\"X\",\"\")","v":""},{"$f":"IF(E112=VS!$D$100,\"X\",\"\")","v":""},{"$f":"IF(E112=VS!$D$99,\"X\",\"\")","v":""},{"$f":"IF(E112=VS!$D$103,\"X\",\"\")","v":"X"},"NA",null,{"$f":"IF(L112=VS!$D$102,\"X\",\"\")","v":""},{"$f":"IF(L112=VS!$D$101,\"X\",\"\")","v":""},{"$f":"IF(L112=VS!$D$100,\"X\",\"\")","v":""},{"$f":"IF(L112=VS!$D$99,\"X\",\"\")","v":""},{"$f":"IF(L112=VS!$D$103,\"X\",\"\")","v":"X"},"NA",null,{"$f":"IF(S112=VS!$D$102,\"X\",\"\")","v":""},{"$f":"IF(S112=VS!$D$101,\"X\",\"\")","v":""},{"$f":"IF(S112=VS!$D$100,\"X\",\"\")","v":""},{"$f":"IF(S112=VS!$D$99,\"X\",\"\")","v":""},{"$f":"IF(S112=VS!$D$103,\"X\",\"\")","v":"X"},{"$f":"IF(G112=\"x\",4,IF(H112=\"x\",3,IF(I112=\"x\",2,IF(J112=\"x\",1,IF(K112=\"x\",\"NR\",\"\")))))","v":"NR"},{"$f":"IF(N112=\"x\",4,IF(O112=\"x\",3,IF(P112=\"x\",2,IF(Q112=\"x\",1,IF(R112=\"x\",\"NR\",\"\")))))","v":"NR"},{"$f":"IF(U112=\"x\",4,IF(V112=\"x\",3,IF(W112=\"x\",2,IF(X112=\"x\",1,IF(Y112=\"x\",\"NR\",\"\")))))","v":"NR"}]
[]
[{"$f":"VS!$A$104","v":"VS5"},{"$f":"VS!$B$104","v":"Reaction Plan"}]
[{"$f":"VS!$A$105","v":"VS5.1"},{"$f":"VS!$C$105","v":"Error Proof (EP) failures  reaction plan"},null,null,"NA",null,{"$f":"IF(E115=VS!$D$109,\"X\",\"\")","v":""},{"$f":"IF(E115=VS!$D$108,\"X\",\"\")","v":""},{"$f":"IF(E115=VS!$D$107,\"X\",\"\")","v":""},{"$f":"IF(E115=VS!$D$106,\"X\",\"\")","v":""},{"$f":"IF(E115=VS!$D$110,\"X\",\"\")","v":"X"},"NA",null,{"$f":"IF(L115=VS!$D$109,\"X\",\"\")","v":""},{"$f":"IF(L115=VS!$D$108,\"X\",\"\")","v":""},{"$f":"IF(L115=VS!$D$107,\"X\",\"\")","v":""},{"$f":"IF(L115=VS!$D$106,\"X\",\"\")","v":""},{"$f":"IF(L115=VS!$D$110,\"X\",\"\")","v":"X"},"NA",null,{"$f":"IF(S115=VS!$D$109,\"X\",\"\")","v":""},{"$f":"IF(S115=VS!$D$108,\"X\",\"\")","v":""},{"$f":"IF(S115=VS!$D$107,\"X\",\"\")","v":""},{"$f":"IF(S115=VS!$D$106,\"X\",\"\")","v":""},{"$f":"IF(S115=VS!$D$110,\"X\",\"\")","v":"X"},{"$f":"IF(G115=\"x\",4,IF(H115=\"x\",3,IF(I115=\"x\",2,IF(J115=\"x\",1,IF(K115=\"x\",\"NR\",\"\")))))","v":"NR"},{"$f":"IF(N115=\"x\",4,IF(O115=\"x\",3,IF(P115=\"x\",2,IF(Q115=\"x\",1,IF(R115=\"x\",\"NR\",\"\")))))","v":"NR"},{"$f":"IF(U115=\"x\",4,IF(V115=\"x\",3,IF(W115=\"x\",2,IF(X115=\"x\",1,IF(Y115=\"x\",\"NR\",\"\")))))","v":"NR"},{"$f":"SUM(Z115:Z118)","v":0},{"$f":"SUM(AA115:AA118)","v":0},{"$f":"SUM(AB115:AB118)","v":0}]
[{"$f":"VS!$A$111","v":"VS5.2"},{"$f":"VS!$C$111","v":"Parts produced"},null,null,"NA",null,{"$f":"IF(E116=VS!$D$115,\"X\",\"\")","v":""},{"$f":"IF(E116=VS!$D$114,\"X\",\"\")","v":""},{"$f":"IF(E116=VS!$D$113,\"X\",\"\")","v":""},{"$f":"IF(E116=VS!$D$112,\"X\",\"\")","v":""},{"$f":"IF(E116=VS!$D$116,\"X\",\"\")","v":"X"},"NA",null,{"$f":"IF(L116=VS!$D$115,\"X\",\"\")","v":""},{"$f":"IF(L116=VS!$D$114,\"X\",\"\")","v":""},{"$f":"IF(L116=VS!$D$113,\"X\",\"\")","v":""},{"$f":"IF(L116=VS!$D$112,\"X\",\"\")","v":""},{"$f":"IF(L116=VS!$D$116,\"X\",\"\")","v":"X"},"NA",null,{"$f":"IF(S116=VS!$D$115,\"X\",\"\")","v":""},{"$f":"IF(S116=VS!$D$114,\"X\",\"\")","v":""},{"$f":"IF(S116=VS!$D$113,\"X\",\"\")","v":""},{"$f":"IF(S116=VS!$D$112,\"X\",\"\")","v":""},{"$f":"IF(S116=VS!$D$116,\"X\",\"\")","v":"X"},{"$f":"IF(G116=\"x\",4,IF(H116=\"x\",3,IF(I116=\"x\",2,IF(J116=\"x\",1,IF(K116=\"x\",\"NR\",\"\")))))","v":"NR"},{"$f":"IF(N116=\"x\",4,IF(O116=\"x\",3,IF(P116=\"x\",2,IF(Q116=\"x\",1,IF(R116=\"x\",\"NR\",\"\")))))","v":"NR"},{"$f":"IF(U116=\"x\",4,IF(V116=\"x\",3,IF(W116=\"x\",2,IF(X116=\"x\",1,IF(Y116=\"x\",\"NR\",\"\")))))","v":"NR"}]
[{"$f":"VS!$A$117","v":"VS5.3"},{"$f":"VS!$C$117","v":"Corrective actions for error proofing"},null,null,"NA",null,{"$f":"IF(E117=VS!$D$121,\"X\",\"\")","v":""},{"$f":"IF(E117=VS!$D$120,\"X\",\"\")","v":""},{"$f":"IF(E117=VS!$D$119,\"X\",\"\")","v":""},{"$f":"IF(E117=VS!$D$118,\"X\",\"\")","v":""},{"$f":"IF(E117=VS!$D$122,\"X\",\"\")","v":"X"},"NA",null,{"$f":"IF(L117=VS!$D$121,\"X\",\"\")","v":""},{"$f":"IF(L117=VS!$D$120,\"X\",\"\")","v":""},{"$f":"IF(L117=VS!$D$119,\"X\",\"\")","v":""},{"$f":"IF(L117=VS!$D$118,\"X\",\"\")","v":""},{"$f":"IF(L117=VS!$D$122,\"X\",\"\")","v":"X"},"NA",null,{"$f":"IF(S117=VS!$D$121,\"X\",\"\")","v":""},{"$f":"IF(S117=VS!$D$120,\"X\",\"\")","v":""},{"$f":"IF(S117=VS!$D$119,\"X\",\"\")","v":""},{"$f":"IF(S117=VS!$D$118,\"X\",\"\")","v":""},{"$f":"IF(S117=VS!$D$122,\"X\",\"\")","v":"X"},{"$f":"IF(G117=\"x\",4,IF(H117=\"x\",3,IF(I117=\"x\",2,IF(J117=\"x\",1,IF(K117=\"x\",\"NR\",\"\")))))","v":"NR"},{"$f":"IF(N117=\"x\",4,IF(O117=\"x\",3,IF(P117=\"x\",2,IF(Q117=\"x\",1,IF(R117=\"x\",\"NR\",\"\")))))","v":"NR"},{"$f":"IF(U117=\"x\",4,IF(V117=\"x\",3,IF(W117=\"x\",2,IF(X117=\"x\",1,IF(Y117=\"x\",\"NR\",\"\")))))","v":"NR"}]
[{"$f":"VS!$A$123","v":"VS5.4"},{"$f":"VS!$C$123","v":"Error proofing devices"},null,null,"NA",null,{"$f":"IF(E118=VS!$D$127,\"X\",\"\")","v":""},{"$f":"IF(E118=VS!$D$126,\"X\",\"\")","v":""},{"$f":"IF(E118=VS!$D$125,\"X\",\"\")","v":""},{"$f":"IF(E118=VS!$D$124,\"X\",\"\")","v":""},{"$f":"IF(E118=VS!$D$128,\"X\",\"\")","v":"X"},"NA",null,{"$f":"IF(L118=VS!$D$127,\"X\",\"\")","v":""},{"$f":"IF(L118=VS!$D$126,\"X\",\"\")","v":""},{"$f":"IF(L118=VS!$D$125,\"X\",\"\")","v":""},{"$f":"IF(L118=VS!$D$124,\"X\",\"\")","v":""},{"$f":"IF(L118=VS!$D$128,\"X\",\"\")","v":"X"},"NA",null,{"$f":"IF(S118=VS!$D$127,\"X\",\"\")","v":""},{"$f":"IF(S118=VS!$D$126,\"X\",\"\")","v":""},{"$f":"IF(S118=VS!$D$125,\"X\",\"\")","v":""},{"$f":"IF(S118=VS!$D$124,\"X\",\"\")","v":""},{"$f":"IF(S118=VS!$D$128,\"X\",\"\")","v":"X"},{"$f":"IF(G118=\"x\",4,IF(H118=\"x\",3,IF(I118=\"x\",2,IF(J118=\"x\",1,IF(K118=\"x\",\"NR\",\"\")))))","v":"NR"},{"$f":"IF(N118=\"x\",4,IF(O118=\"x\",3,IF(P118=\"x\",2,IF(Q118=\"x\",1,IF(R118=\"x\",\"NR\",\"\")))))","v":"NR"},{"$f":"IF(U118=\"x\",4,IF(V118=\"x\",3,IF(W118=\"x\",2,IF(X118=\"x\",1,IF(Y118=\"x\",\"NR\",\"\")))))","v":"NR"}]
[]
[{"$f":"VS!$A$129","v":"VSE"},{"$f":"VS!$B$129","v":"Effectiveness"}]
[{"$f":"VS!$A$130","v":"VSE.1"},{"$f":"VS!$C$130","v":"Performance metrics"},null,null,"NA",null,{"$f":"IF(E121=VS!$D$134,\"X\",\"\")","v":""},{"$f":"IF(E121=VS!$D$133,\"X\",\"\")","v":""},{"$f":"IF(E121=VS!$D$132,\"X\",\"\")","v":""},{"$f":"IF(E121=VS!$D$131,\"X\",\"\")","v":""},{"$f":"IF(E121=VS!$D$135,\"X\",\"\")","v":"X"},"NA",null,{"$f":"IF(L121=VS!$D$134,\"X\",\"\")","v":""},{"$f":"IF(L121=VS!$D$133,\"X\",\"\")","v":""},{"$f":"IF(L121=VS!$D$132,\"X\",\"\")","v":""},{"$f":"IF(L121=VS!$D$131,\"X\",\"\")","v":""},{"$f":"IF(L121=VS!$D$135,\"X\",\"\")","v":"X"},"NA",null,{"$f":"IF(S121=VS!$D$134,\"X\",\"\")","v":""},{"$f":"IF(S121=VS!$D$133,\"X\",\"\")","v":""},{"$f":"IF(S121=VS!$D$132,\"X\",\"\")","v":""},{"$f":"IF(S121=VS!$D$131,\"X\",\"\")","v":""},{"$f":"IF(S121=VS!$D$135,\"X\",\"\")","v":"X"},{"$f":"IF(G121=\"x\",4,IF(H121=\"x\",3,IF(I121=\"x\",2,IF(J121=\"x\",1,IF(K121=\"x\",\"NR\",\"\")))))","v":"NR"},{"$f":"IF(N121=\"x\",4,IF(O121=\"x\",3,IF(P121=\"x\",2,IF(Q121=\"x\",1,IF(R121=\"x\",\"NR\",\"\")))))","v":"NR"},{"$f":"IF(U121=\"x\",4,IF(V121=\"x\",3,IF(W121=\"x\",2,IF(X121=\"x\",1,IF(Y121=\"x\",\"NR\",\"\")))))","v":"NR"},{"$f":"SUM(Z121)","v":0},{"$f":"SUM(AA121)","v":0},{"$f":"SUM(AB121)","v":0}]
[]
[null,null,null,null,null,null,null,null,null,null,null,null,null,null,null,null,null,null,null,null,null,null,null,null,null,"Total",null,null,{"$f":"(AC91+AC97+AC103+AC109+AC115+AC121)","v":0},{"$f":"(AD115+AD109+AD103+AD97+AD91+AD121)","v":0},{"$f":"(AE115+AE109+AE103+AE97+AE91+AE121)","v":0}]
[null,null,null,null,null,null,null,null,null,null,null," "," "," "," "," "," "," ",null," "," "," "," "," "," ","Potential",null,null,{"$f":"COUNT(Z91:Z121)*4","v":0},{"$f":"COUNT(AA91:AA121)*4","v":0},{"$f":"COUNT(AB91:AB121)*4","v":0}]
[null,null,null,null,null,null,null,null,null,null,null,null,null,null,null,null,null,null,null,null,null,null,null,null,null,"Total Score",null,null,{"$f":"IF(AC124<>0,AC123/AC124,\"NR\")","v":"NR"},{"$f":"IF(AD124<>0,AD123/AD124,\"NR\")","v":"NR"},{"$f":"IF(AE124<>0,AE123/AE124,\"NR\")","v":"NR"}]
[]
[]
[" ",{"$f":"SW!B2","v":"Standardized work"},null,null,"Build up Score Assessment"," ","Build up Scoring",null,null,null,null,"Build up Score Assessment"," ","Build up Scoring",null,null,null,null,"Build up Score Assessment"," ","Build up Scoring",null,null,null,null,null,null,null,"Sub Element Score"]
[{"$f":"SW!$A$4","v":"SW1.0"},{"$f":"SW!$B$4","v":"Workplace Safety"},null,"Sub-Element",null,null,4,3,2,1,"NR",null,null,4,3,2,1,"NR",null,null,4,3,2,1,"NR","Self","Onsite","Current","Self","Onsite","Current","Procedures","Findings","Comments"]
[{"$f":"SW!$A$5","v":"SW1.1"},{"$f":"SW!$C$5","v":"Safety standards"},null,null,"NA",null,{"$f":"IF(E130=SW!$D$9,\"X\",\"\")","v":""},{"$f":"IF(E130=SW!$D$8,\"X\",\"\")","v":""},{"$f":"IF(E130=SW!$D$7,\"X\",\"\")","v":""},{"$f":"IF(E130=SW!$D$6,\"X\",\"\")","v":""},{"$f":"IF(E130=SW!$D$10,\"X\",\"\")","v":"X"},"NA",null,{"$f":"IF(L130=SW!$D$9,\"X\",\"\")","v":""},{"$f":"IF(L130=SW!$D$8,\"X\",\"\")","v":""},{"$f":"IF(L130=SW!$D$7,\"X\",\"\")","v":""},{"$f":"IF(L130=SW!$D$6,\"X\",\"\")","v":""},{"$f":"IF(L130=SW!$D$10,\"X\",\"\")","v":"X"},"NA",null,{"$f":"IF(S130=SW!$D$9,\"X\",\"\")","v":""},{"$f":"IF(S130=SW!$D$8,\"X\",\"\")","v":""},{"$f":"IF(S130=SW!$D$7,\"X\",\"\")","v":""},{"$f":"IF(S130=SW!$D$6,\"X\",\"\")","v":""},{"$f":"IF(S130=SW!$D$10,\"X\",\"\")","v":"X"},{"$f":"IF(G130=\"x\",4,IF(H130=\"x\",3,IF(I130=\"x\",2,IF(J130=\"x\",1,IF(K130=\"x\",\"NR\",\"\")))))","v":"NR"},{"$f":"IF(N130=\"x\",4,IF(O130=\"x\",3,IF(P130=\"x\",2,IF(Q130=\"x\",1,IF(R130=\"x\",\"NR\",\"\")))))","v":"NR"},{"$f":"IF(U130=\"x\",4,IF(V130=\"x\",3,IF(W130=\"x\",2,IF(X130=\"x\",1,IF(Y130=\"x\",\"NR\",\"\")))))","v":"NR"},{"$f":"SUM(Z130:Z133)","v":0},{"$f":"SUM(AA130:AA133)","v":0},{"$f":"SUM(AB130:AB133)","v":0}]
[{"$f":"SW!$A$11","v":"SW1.2"},{"$f":"SW!$C$11","v":"Layout considers safety"},null,null,"NA",null,{"$f":"IF(E131=SW!$D$15,\"X\",\"\")","v":""},{"$f":"IF(E131=SW!$D$14,\"X\",\"\")","v":""},{"$f":"IF(E131=SW!$D$13,\"X\",\"\")","v":""},{"$f":"IF(E131=SW!$D$12,\"X\",\"\")","v":""},{"$f":"IF(E131=SW!$D$16,\"X\",\"\")","v":"X"},"NA",null,{"$f":"IF(L131=SW!$D$15,\"X\",\"\")","v":""},{"$f":"IF(L131=SW!$D$14,\"X\",\"\")","v":""},{"$f":"IF(L131=SW!$D$13,\"X\",\"\")","v":""},{"$f":"IF(L131=SW!$D$12,\"X\",\"\")","v":""},{"$f":"IF(L131=SW!$D$16,\"X\",\"\")","v":"X"},"NA",null,{"$f":"IF(S131=SW!$D$15,\"X\",\"\")","v":""},{"$f":"IF(S131=SW!$D$14,\"X\",\"\")","v":""},{"$f":"IF(S131=SW!$D$13,\"X\",\"\")","v":""},{"$f":"IF(S131=SW!$D$12,\"X\",\"\")","v":""},{"$f":"IF(S131=SW!$D$16,\"X\",\"\")","v":"X"},{"$f":"IF(G131=\"x\",4,IF(H131=\"x\",3,IF(I131=\"x\",2,IF(J131=\"x\",1,IF(K131=\"x\",\"NR\",\"\")))))","v":"NR"},{"$f":"IF(N131=\"x\",4,IF(O131=\"x\",3,IF(P131=\"x\",2,IF(Q131=\"x\",1,IF(R131=\"x\",\"NR\",\"\")))))","v":"NR"},{"$f":"IF(U131=\"x\",4,IF(V131=\"x\",3,IF(W131=\"x\",2,IF(X131=\"x\",1,IF(Y131=\"x\",\"NR\",\"\")))))","v":"NR"}]
[{"$f":"SW!$A$17","v":"SW1.3"},{"$f":"SW!$C$17","v":"Ergonomics"},null,null,"NA",null,{"$f":"IF(E132=SW!$D$21,\"X\",\"\")","v":""},{"$f":"IF(E132=SW!$D$20,\"X\",\"\")","v":""},{"$f":"IF(E132=SW!$D$19,\"X\",\"\")","v":""},{"$f":"IF(E132=SW!$D$18,\"X\",\"\")","v":""},{"$f":"IF(E132=SW!$D$22,\"X\",\"\")","v":"X"},"NA",null,{"$f":"IF(L132=SW!$D$21,\"X\",\"\")","v":""},{"$f":"IF(L132=SW!$D$20,\"X\",\"\")","v":""},{"$f":"IF(L132=SW!$D$19,\"X\",\"\")","v":""},{"$f":"IF(L132=SW!$D$18,\"X\",\"\")","v":""},{"$f":"IF(L132=SW!$D$22,\"X\",\"\")","v":"X"},"NA",null,{"$f":"IF(S132=SW!$D$21,\"X\",\"\")","v":""},{"$f":"IF(S132=SW!$D$20,\"X\",\"\")","v":""},{"$f":"IF(S132=SW!$D$19,\"X\",\"\")","v":""},{"$f":"IF(S132=SW!$D$18,\"X\",\"\")","v":""},{"$f":"IF(S132=SW!$D$22,\"X\",\"\")","v":"X"},{"$f":"IF(G132=\"x\",4,IF(H132=\"x\",3,IF(I132=\"x\",2,IF(J132=\"x\",1,IF(K132=\"x\",\"NR\",\"\")))))","v":"NR"},{"$f":"IF(N132=\"x\",4,IF(O132=\"x\",3,IF(P132=\"x\",2,IF(Q132=\"x\",1,IF(R132=\"x\",\"NR\",\"\")))))","v":"NR"},{"$f":"IF(U132=\"x\",4,IF(V132=\"x\",3,IF(W132=\"x\",2,IF(X132=\"x\",1,IF(Y132=\"x\",\"NR\",\"\")))))","v":"NR"}]
[{"$f":"SW!$A$23","v":"SW1.4"},{"$f":"SW!$C$23","v":"Workstation design"},null,null,"NA",null,{"$f":"IF(E133=SW!$D$27,\"X\",\"\")","v":""},{"$f":"IF(E133=SW!$D$26,\"X\",\"\")","v":""},{"$f":"IF(E133=SW!$D$25,\"X\",\"\")","v":""},{"$f":"IF(E133=SW!$D$24,\"X\",\"\")","v":""},{"$f":"IF(E133=SW!$D$28,\"X\",\"\")","v":"X"},"NA",null,{"$f":"IF(L133=SW!$D$27,\"X\",\"\")","v":""},{"$f":"IF(L133=SW!$D$26,\"X\",\"\")","v":""},{"$f":"IF(L133=SW!$D$25,\"X\",\"\")","v":""},{"$f":"IF(L133=SW!$D$24,\"X\",\"\")","v":""},{"$f":"IF(L133=SW!$D$28,\"X\",\"\")","v":"X"},"NA",null,{"$f":"IF(S133=SW!$D$27,\"X\",\"\")","v":""},{"$f":"IF(S133=SW!$D$26,\"X\",\"\")","v":""},{"$f":"IF(S133=SW!$D$25,\"X\",\"\")","v":""},{"$f":"IF(S133=SW!$D$24,\"X\",\"\")","v":""},{"$f":"IF(S133=SW!$D$28,\"X\",\"\")","v":"X"},{"$f":"IF(G133=\"x\",4,IF(H133=\"x\",3,IF(I133=\"x\",2,IF(J133=\"x\",1,IF(K133=\"x\",\"NR\",\"\")))))","v":"NR"},{"$f":"IF(N133=\"x\",4,IF(O133=\"x\",3,IF(P133=\"x\",2,IF(Q133=\"x\",1,IF(R133=\"x\",\"NR\",\"\")))))","v":"NR"},{"$f":"IF(U133=\"x\",4,IF(V133=\"x\",3,IF(W133=\"x\",2,IF(X133=\"x\",1,IF(Y133=\"x\",\"NR\",\"\")))))","v":"NR"}]
[]
[{"$f":"SW!$A$29","v":"SW2.0"},{"$f":"SW!$B$29","v":"Workplace Organization"}]
[{"$f":"SW!$A$30","v":"SW2.1"},{"$f":"SW!$C$30","v":"Organization of workplace"},null,null,"NA",null,{"$f":"IF(E136=SW!$D$34,\"X\",\"\")","v":""},{"$f":"IF(E136=SW!$D$33,\"X\",\"\")","v":""},{"$f":"IF(E136=SW!$D$32,\"X\",\"\")","v":""},{"$f":"IF(E136=SW!$D$31,\"X\",\"\")","v":""},{"$f":"IF(E136=SW!$D$35,\"X\",\"\")","v":"X"},"NA",null,{"$f":"IF(L136=SW!$D$34,\"X\",\"\")","v":""},{"$f":"IF(L136=SW!$D$33,\"X\",\"\")","v":""},{"$f":"IF(L136=SW!$D$32,\"X\",\"\")","v":""},{"$f":"IF(L136=SW!$D$31,\"X\",\"\")","v":""},{"$f":"IF(L136=SW!$D$35,\"X\",\"\")","v":"X"},"NA",null,{"$f":"IF(S136=SW!$D$34,\"X\",\"\")","v":""},{"$f":"IF(S136=SW!$D$33,\"X\",\"\")","v":""},{"$f":"IF(S136=SW!$D$32,\"X\",\"\")","v":""},{"$f":"IF(S136=SW!$D$31,\"X\",\"\")","v":""},{"$f":"IF(S136=SW!$D$35,\"X\",\"\")","v":"X"},{"$f":"IF(G136=\"x\",4,IF(H136=\"x\",3,IF(I136=\"x\",2,IF(J136=\"x\",1,IF(K136=\"x\",\"NR\",\"\")))))","v":"NR"},{"$f":"IF(N136=\"x\",4,IF(O136=\"x\",3,IF(P136=\"x\",2,IF(Q136=\"x\",1,IF(R136=\"x\",\"NR\",\"\")))))","v":"NR"},{"$f":"IF(U136=\"x\",4,IF(V136=\"x\",3,IF(W136=\"x\",2,IF(X136=\"x\",1,IF(Y136=\"x\",\"NR\",\"\")))))","v":"NR"},{"$f":"SUM(Z136:Z139)","v":0},{"$f":"SUM(AA136:AA139)","v":0},{"$f":"SUM(AB136:AB139)","v":0}]
[{"$f":"SW!$A$36","v":"SW2.2"},{"$f":"SW!$C$36","v":"Systematic approach"},null,null,"NA",null,{"$f":"IF(E137=SW!$D$40,\"X\",\"\")","v":""},{"$f":"IF(E137=SW!$D$39,\"X\",\"\")","v":""},{"$f":"IF(E137=SW!$D$38,\"X\",\"\")","v":""},{"$f":"IF(E137=SW!$D$37,\"X\",\"\")","v":""},{"$f":"IF(E137=SW!$D$41,\"X\",\"\")","v":"X"},"NA",null,{"$f":"IF(L137=SW!$D$40,\"X\",\"\")","v":""},{"$f":"IF(L137=SW!$D$39,\"X\",\"\")","v":""},{"$f":"IF(L137=SW!$D$38,\"X\",\"\")","v":""},{"$f":"IF(L137=SW!$D$37,\"X\",\"\")","v":""},{"$f":"IF(L137=SW!$D$41,\"X\",\"\")","v":"X"},"NA",null,{"$f":"IF(S137=SW!$D$40,\"X\",\"\")","v":""},{"$f":"IF(S137=SW!$D$39,\"X\",\"\")","v":""},{"$f":"IF(S137=SW!$D$38,\"X\",\"\")","v":""},{"$f":"IF(S137=SW!$D$37,\"X\",\"\")","v":""},{"$f":"IF(S137=SW!$D$41,\"X\",\"\")","v":"X"},{"$f":"IF(G137=\"x\",4,IF(H137=\"x\",3,IF(I137=\"x\",2,IF(J137=\"x\",1,IF(K137=\"x\",\"NR\",\"\")))))","v":"NR"},{"$f":"IF(N137=\"x\",4,IF(O137=\"x\",3,IF(P137=\"x\",2,IF(Q137=\"x\",1,IF(R137=\"x\",\"NR\",\"\")))))","v":"NR"},{"$f":"IF(U137=\"x\",4,IF(V137=\"x\",3,IF(W137=\"x\",2,IF(X137=\"x\",1,IF(Y137=\"x\",\"NR\",\"\")))))","v":"NR"}]
[{"$f":"SW!$A$42","v":"SW2.3"},{"$f":"SW!$C$42","v":"Shop floor"},null,null,"NA",null,{"$f":"IF(E138=SW!$D$46,\"X\",\"\")","v":""},{"$f":"IF(E138=SW!$D$45,\"X\",\"\")","v":""},{"$f":"IF(E138=SW!$D$44,\"X\",\"\")","v":""},{"$f":"IF(E138=SW!$D$43,\"X\",\"\")","v":""},{"$f":"IF(E138=SW!$D$47,\"X\",\"\")","v":"X"},"NA",null,{"$f":"IF(L138=SW!$D$46,\"X\",\"\")","v":""},{"$f":"IF(L138=SW!$D$45,\"X\",\"\")","v":""},{"$f":"IF(L138=SW!$D$44,\"X\",\"\")","v":""},{"$f":"IF(L138=SW!$D$43,\"X\",\"\")","v":""},{"$f":"IF(L138=SW!$D$47,\"X\",\"\")","v":"X"},"NA",null,{"$f":"IF(S138=SW!$D$46,\"X\",\"\")","v":""},{"$f":"IF(S138=SW!$D$45,\"X\",\"\")","v":""},{"$f":"IF(S138=SW!$D$44,\"X\",\"\")","v":""},{"$f":"IF(S138=SW!$D$43,\"X\",\"\")","v":""},{"$f":"IF(S138=SW!$D$47,\"X\",\"\")","v":"X"},{"$f":"IF(G138=\"x\",4,IF(H138=\"x\",3,IF(I138=\"x\",2,IF(J138=\"x\",1,IF(K138=\"x\",\"NR\",\"\")))))","v":"NR"},{"$f":"IF(N138=\"x\",4,IF(O138=\"x\",3,IF(P138=\"x\",2,IF(Q138=\"x\",1,IF(R138=\"x\",\"NR\",\"\")))))","v":"NR"},{"$f":"IF(U138=\"x\",4,IF(V138=\"x\",3,IF(W138=\"x\",2,IF(X138=\"x\",1,IF(Y138=\"x\",\"NR\",\"\")))))","v":"NR"}]
[{"$f":"SW!$A$48","v":"SW2.4"},{"$f":"SW!$C$48","v":"Continuous improvement/waste elimination"},null,null,"NA",null,{"$f":"IF(E139=SW!$D$52,\"X\",\"\")","v":""},{"$f":"IF(E139=SW!$D$51,\"X\",\"\")","v":""},{"$f":"IF(E139=SW!$D$50,\"X\",\"\")","v":""},{"$f":"IF(E139=SW!$D$49,\"X\",\"\")","v":""},{"$f":"IF(E139=SW!$D$53,\"X\",\"\")","v":"X"},"NA",null,{"$f":"IF(L139=SW!$D$52,\"X\",\"\")","v":""},{"$f":"IF(L139=SW!$D$51,\"X\",\"\")","v":""},{"$f":"IF(L139=SW!$D$50,\"X\",\"\")","v":""},{"$f":"IF(L139=SW!$D$49,\"X\",\"\")","v":""},{"$f":"IF(L139=SW!$D$53,\"X\",\"\")","v":"X"},"NA",null,{"$f":"IF(S139=SW!$D$52,\"X\",\"\")","v":""},{"$f":"IF(S139=SW!$D$51,\"X\",\"\")","v":""},{"$f":"IF(S139=SW!$D$50,\"X\",\"\")","v":""},{"$f":"IF(S139=SW!$D$49,\"X\",\"\")","v":""},{"$f":"IF(S139=SW!$D$53,\"X\",\"\")","v":"X"},{"$f":"IF(G139=\"x\",4,IF(H139=\"x\",3,IF(I139=\"x\",2,IF(J139=\"x\",1,IF(K139=\"x\",\"NR\",\"\")))))","v":"NR"},{"$f":"IF(N139=\"x\",4,IF(O139=\"x\",3,IF(P139=\"x\",2,IF(Q139=\"x\",1,IF(R139=\"x\",\"NR\",\"\")))))","v":"NR"},{"$f":"IF(U139=\"x\",4,IF(V139=\"x\",3,IF(W139=\"x\",2,IF(X139=\"x\",1,IF(Y139=\"x\",\"NR\",\"\")))))","v":"NR"}]
[]
[{"$f":"SW!$A$54","v":"SW3.0"},{"$f":"SW!$B$54","v":"Work Instructions"}]
[{"$f":"SW!$A$55","v":"SW3.1"},{"$f":"SW!$C$55","v":"Standardized work instructions (SWI)"},null,null,"NA",null,{"$f":"IF(E142=SW!$D$59,\"X\",\"\")","v":""},{"$f":"IF(E142=SW!$D$58,\"X\",\"\")","v":""},{"$f":"IF(E142=SW!$D$57,\"X\",\"\")","v":""},{"$f":"IF(E142=SW!$D$56,\"X\",\"\")","v":""},{"$f":"IF(E142=SW!$D$60,\"X\",\"\")","v":"X"},"NA",null,{"$f":"IF(L142=SW!$D$59,\"X\",\"\")","v":""},{"$f":"IF(L142=SW!$D$58,\"X\",\"\")","v":""},{"$f":"IF(L142=SW!$D$57,\"X\",\"\")","v":""},{"$f":"IF(L142=SW!$D$56,\"X\",\"\")","v":""},{"$f":"IF(L142=SW!$D$60,\"X\",\"\")","v":"X"},"NA",null,{"$f":"IF(S142=SW!$D$59,\"X\",\"\")","v":""},{"$f":"IF(S142=SW!$D$58,\"X\",\"\")","v":""},{"$f":"IF(S142=SW!$D$57,\"X\",\"\")","v":""},{"$f":"IF(S142=SW!$D$56,\"X\",\"\")","v":""},{"$f":"IF(S142=SW!$D$60,\"X\",\"\")","v":"X"},{"$f":"IF(G142=\"x\",4,IF(H142=\"x\",3,IF(I142=\"x\",2,IF(J142=\"x\",1,IF(K142=\"x\",\"NR\",\"\")))))","v":"NR"},{"$f":"IF(N142=\"x\",4,IF(O142=\"x\",3,IF(P142=\"x\",2,IF(Q142=\"x\",1,IF(R142=\"x\",\"NR\",\"\")))))","v":"NR"},{"$f":"IF(U142=\"x\",4,IF(V142=\"x\",3,IF(W142=\"x\",2,IF(X142=\"x\",1,IF(Y142=\"x\",\"NR\",\"\")))))","v":"NR"},{"$f":"SUM(Z142:Z145)","v":0},{"$f":"SUM(AA142:AA145)","v":0},{"$f":"SUM(AB142:AB145)","v":0}]
[{"$f":"SW!$A$61","v":"SW3.2"},{"$f":"SW!$C$61","v":"Revision history"},null,null,"NA",null,{"$f":"IF(E143=SW!$D$65,\"X\",\"\")","v":""},{"$f":"IF(E143=SW!$D$64,\"X\",\"\")","v":""},{"$f":"IF(E143=SW!$D$63,\"X\",\"\")","v":""},{"$f":"IF(E143=SW!$D$62,\"X\",\"\")","v":""},{"$f":"IF(E143=SW!$D$66,\"X\",\"\")","v":"X"},"NA",null,{"$f":"IF(L143=SW!$D$65,\"X\",\"\")","v":""},{"$f":"IF(L143=SW!$D$64,\"X\",\"\")","v":""},{"$f":"IF(L143=SW!$D$63,\"X\",\"\")","v":""},{"$f":"IF(L143=SW!$D$62,\"X\",\"\")","v":""},{"$f":"IF(L143=SW!$D$66,\"X\",\"\")","v":"X"},"NA",null,{"$f":"IF(S143=SW!$D$65,\"X\",\"\")","v":""},{"$f":"IF(S143=SW!$D$64,\"X\",\"\")","v":""},{"$f":"IF(S143=SW!$D$63,\"X\",\"\")","v":""},{"$f":"IF(S143=SW!$D$62,\"X\",\"\")","v":""},{"$f":"IF(S143=SW!$D$66,\"X\",\"\")","v":"X"},{"$f":"IF(G143=\"x\",4,IF(H143=\"x\",3,IF(I143=\"x\",2,IF(J143=\"x\",1,IF(K143=\"x\",\"NR\",\"\")))))","v":"NR"},{"$f":"IF(N143=\"x\",4,IF(O143=\"x\",3,IF(P143=\"x\",2,IF(Q143=\"x\",1,IF(R143=\"x\",\"NR\",\"\")))))","v":"NR"},{"$f":"IF(U143=\"x\",4,IF(V143=\"x\",3,IF(W143=\"x\",2,IF(X143=\"x\",1,IF(Y143=\"x\",\"NR\",\"\")))))","v":"NR"}]
[{"$f":"SW!$A$67","v":"SW3.3"},{"$f":"SW!$C$67","v":"SWI by cross-functional team"},null,null,"NA",null,{"$f":"IF(E144=SW!$D$71,\"X\",\"\")","v":""},{"$f":"IF(E144=SW!$D$70,\"X\",\"\")","v":""},{"$f":"IF(E144=SW!$D$69,\"X\",\"\")","v":""},{"$f":"IF(E144=SW!$D$68,\"X\",\"\")","v":""},{"$f":"IF(E144=SW!$D$72,\"X\",\"\")","v":"X"},"NA",null,{"$f":"IF(L144=SW!$D$71,\"X\",\"\")","v":""},{"$f":"IF(L144=SW!$D$70,\"X\",\"\")","v":""},{"$f":"IF(L144=SW!$D$69,\"X\",\"\")","v":""},{"$f":"IF(L144=SW!$D$68,\"X\",\"\")","v":""},{"$f":"IF(L144=SW!$D$72,\"X\",\"\")","v":"X"},"NA",null,{"$f":"IF(S144=SW!$D$71,\"X\",\"\")","v":""},{"$f":"IF(S144=SW!$D$70,\"X\",\"\")","v":""},{"$f":"IF(S144=SW!$D$69,\"X\",\"\")","v":""},{"$f":"IF(S144=SW!$D$68,\"X\",\"\")","v":""},{"$f":"IF(S144=SW!$D$72,\"X\",\"\")","v":"X"},{"$f":"IF(G144=\"x\",4,IF(H144=\"x\",3,IF(I144=\"x\",2,IF(J144=\"x\",1,IF(K144=\"x\",\"NR\",\"\")))))","v":"NR"},{"$f":"IF(N144=\"x\",4,IF(O144=\"x\",3,IF(P144=\"x\",2,IF(Q144=\"x\",1,IF(R144=\"x\",\"NR\",\"\")))))","v":"NR"},{"$f":"IF(U144=\"x\",4,IF(V144=\"x\",3,IF(W144=\"x\",2,IF(X144=\"x\",1,IF(Y144=\"x\",\"NR\",\"\")))))","v":"NR"}]
[{"$f":"SW!$A$73","v":"SW3.4"},{"$f":"SW!$C$73","v":"What, How and Why"},null,null,"NA",null,{"$f":"IF(E145=SW!$D$77,\"X\",\"\")","v":""},{"$f":"IF(E145=SW!$D$76,\"X\",\"\")","v":""},{"$f":"IF(E145=SW!$D$75,\"X\",\"\")","v":""},{"$f":"IF(E145=SW!$D$74,\"X\",\"\")","v":""},{"$f":"IF(E145=SW!$D$78,\"X\",\"\")","v":"X"},"NA",null,{"$f":"IF(L145=SW!$D$77,\"X\",\"\")","v":""},{"$f":"IF(L145=SW!$D$76,\"X\",\"\")","v":""},{"$f":"IF(L145=SW!$D$75,\"X\",\"\")","v":""},{"$f":"IF(L145=SW!$D$74,\"X\",\"\")","v":""},{"$f":"IF(L145=SW!$D$78,\"X\",\"\")","v":"X"},"NA",null,{"$f":"IF(S145=SW!$D$77,\"X\",\"\")","v":""},{"$f":"IF(S145=SW!$D$76,\"X\",\"\")","v":""},{"$f":"IF(S145=SW!$D$75,\"X\",\"\")","v":""},{"$f":"IF(S145=SW!$D$74,\"X\",\"\")","v":""},{"$f":"IF(S145=SW!$D$78,\"X\",\"\")","v":"X"},{"$f":"IF(G145=\"x\",4,IF(H145=\"x\",3,IF(I145=\"x\",2,IF(J145=\"x\",1,IF(K145=\"x\",\"NR\",\"\")))))","v":"NR"},{"$f":"IF(N145=\"x\",4,IF(O145=\"x\",3,IF(P145=\"x\",2,IF(Q145=\"x\",1,IF(R145=\"x\",\"NR\",\"\")))))","v":"NR"},{"$f":"IF(U145=\"x\",4,IF(V145=\"x\",3,IF(W145=\"x\",2,IF(X145=\"x\",1,IF(Y145=\"x\",\"NR\",\"\")))))","v":"NR"}]
[]
[{"$f":"SW!$A$79","v":"SW4"},{"$f":"SW!$B$79","v":"Start of Production Validation"}]
[{"$f":"SW!$A$80","v":"SW4.1"},{"$f":"SW!$C$80","v":"Start up productions"},null,null,"NA",null,{"$f":"IF(E148=SW!$D$84,\"X\",\"\")","v":""},{"$f":"IF(E148=SW!$D$83,\"X\",\"\")","v":""},{"$f":"IF(E148=SW!$D$82,\"X\",\"\")","v":""},{"$f":"IF(E148=SW!$D$81,\"X\",\"\")","v":""},{"$f":"IF(E148=SW!$D$85,\"X\",\"\")","v":"X"},"NA",null,{"$f":"IF(L148=SW!$D$84,\"X\",\"\")","v":""},{"$f":"IF(L148=SW!$D$83,\"X\",\"\")","v":""},{"$f":"IF(L148=SW!$D$82,\"X\",\"\")","v":""},{"$f":"IF(L148=SW!$D$81,\"X\",\"\")","v":""},{"$f":"IF(L148=SW!$D$85,\"X\",\"\")","v":"X"},"NA",null,{"$f":"IF(S148=SW!$D$84,\"X\",\"\")","v":""},{"$f":"IF(S148=SW!$D$83,\"X\",\"\")","v":""},{"$f":"IF(S148=SW!$D$82,\"X\",\"\")","v":""},{"$f":"IF(S148=SW!$D$81,\"X\",\"\")","v":""},{"$f":"IF(S148=SW!$D$85,\"X\",\"\")","v":"X"},{"$f":"IF(G148=\"x\",4,IF(H148=\"x\",3,IF(I148=\"x\",2,IF(J148=\"x\",1,IF(K148=\"x\",\"NR\",\"\")))))","v":"NR"},{"$f":"IF(N148=\"x\",4,IF(O148=\"x\",3,IF(P148=\"x\",2,IF(Q148=\"x\",1,IF(R148=\"x\",\"NR\",\"\")))))","v":"NR"},{"$f":"IF(U148=\"x\",4,IF(V148=\"x\",3,IF(W148=\"x\",2,IF(X148=\"x\",1,IF(Y148=\"x\",\"NR\",\"\")))))","v":"NR"},{"$f":"SUM(Z148:Z151)","v":0},{"$f":"SUM(AA148:AA151)","v":0},{"$f":"SUM(AB148:AB151)","v":0}]
[{"$f":"SW!$A$86","v":"SW4.2"},{"$f":"SW!$C$86","v":"Start up process"},null,null,"NA",null,{"$f":"IF(E149=SW!$D$90,\"X\",\"\")","v":""},{"$f":"IF(E149=SW!$D$89,\"X\",\"\")","v":""},{"$f":"IF(E149=SW!$D$88,\"X\",\"\")","v":""},{"$f":"IF(E149=SW!$D$87,\"X\",\"\")","v":""},{"$f":"IF(E149=SW!$D$91,\"X\",\"\")","v":"X"},"NA",null,{"$f":"IF(L149=SW!$D$90,\"X\",\"\")","v":""},{"$f":"IF(L149=SW!$D$89,\"X\",\"\")","v":""},{"$f":"IF(L149=SW!$D$88,\"X\",\"\")","v":""},{"$f":"IF(L149=SW!$D$87,\"X\",\"\")","v":""},{"$f":"IF(L149=SW!$D$91,\"X\",\"\")","v":"X"},"NA",null,{"$f":"IF(S149=SW!$D$90,\"X\",\"\")","v":""},{"$f":"IF(S149=SW!$D$89,\"X\",\"\")","v":""},{"$f":"IF(S149=SW!$D$88,\"X\",\"\")","v":""},{"$f":"IF(S149=SW!$D$87,\"X\",\"\")","v":""},{"$f":"IF(S149=SW!$D$91,\"X\",\"\")","v":"X"},{"$f":"IF(G149=\"x\",4,IF(H149=\"x\",3,IF(I149=\"x\",2,IF(J149=\"x\",1,IF(K149=\"x\",\"NR\",\"\")))))","v":"NR"},{"$f":"IF(N149=\"x\",4,IF(O149=\"x\",3,IF(P149=\"x\",2,IF(Q149=\"x\",1,IF(R149=\"x\",\"NR\",\"\")))))","v":"NR"},{"$f":"IF(U149=\"x\",4,IF(V149=\"x\",3,IF(W149=\"x\",2,IF(X149=\"x\",1,IF(Y149=\"x\",\"NR\",\"\")))))","v":"NR"}]
[{"$f":"SW!$A$92","v":"SW4.3"},{"$f":"SW!$C$92","v":"Start up instruction"},null,null,"NA",null,{"$f":"IF(E150=SW!$D$96,\"X\",\"\")","v":""},{"$f":"IF(E150=SW!$D$95,\"X\",\"\")","v":""},{"$f":"IF(E150=SW!$D$94,\"X\",\"\")","v":""},{"$f":"IF(E150=SW!$D$93,\"X\",\"\")","v":""},{"$f":"IF(E150=SW!$D$97,\"X\",\"\")","v":"X"},"NA",null,{"$f":"IF(L150=SW!$D$96,\"X\",\"\")","v":""},{"$f":"IF(L150=SW!$D$95,\"X\",\"\")","v":""},{"$f":"IF(L150=SW!$D$94,\"X\",\"\")","v":""},{"$f":"IF(L150=SW!$D$93,\"X\",\"\")","v":""},{"$f":"IF(L150=SW!$D$97,\"X\",\"\")","v":"X"},"NA",null,{"$f":"IF(S150=SW!$D$96,\"X\",\"\")","v":""},{"$f":"IF(S150=SW!$D$95,\"X\",\"\")","v":""},{"$f":"IF(S150=SW!$D$94,\"X\",\"\")","v":""},{"$f":"IF(S150=SW!$D$93,\"X\",\"\")","v":""},{"$f":"IF(S150=SW!$D$97,\"X\",\"\")","v":"X"},{"$f":"IF(G150=\"x\",4,IF(H150=\"x\",3,IF(I150=\"x\",2,IF(J150=\"x\",1,IF(K150=\"x\",\"NR\",\"\")))))","v":"NR"},{"$f":"IF(N150=\"x\",4,IF(O150=\"x\",3,IF(P150=\"x\",2,IF(Q150=\"x\",1,IF(R150=\"x\",\"NR\",\"\")))))","v":"NR"},{"$f":"IF(U150=\"x\",4,IF(V150=\"x\",3,IF(W150=\"x\",2,IF(X150=\"x\",1,IF(Y150=\"x\",\"NR\",\"\")))))","v":"NR"}]
[{"$f":"SW!$A$98","v":"SW4.4"},{"$f":"SW!$C$98","v":"First-off parts validation"},null,null,"NA",null,{"$f":"IF(E151=SW!$D$102,\"X\",\"\")","v":""},{"$f":"IF(E151=SW!$D$101,\"X\",\"\")","v":""},{"$f":"IF(E151=SW!$D$100,\"X\",\"\")","v":""},{"$f":"IF(E151=SW!$D$99,\"X\",\"\")","v":""},{"$f":"IF(E151=SW!$D$103,\"X\",\"\")","v":"X"},"NA",null,{"$f":"IF(L151=SW!$D$102,\"X\",\"\")","v":""},{"$f":"IF(L151=SW!$D$101,\"X\",\"\")","v":""},{"$f":"IF(L151=SW!$D$100,\"X\",\"\")","v":""},{"$f":"IF(L151=SW!$D$99,\"X\",\"\")","v":""},{"$f":"IF(L151=SW!$D$103,\"X\",\"\")","v":"X"},"NA",null,{"$f":"IF(S151=SW!$D$102,\"X\",\"\")","v":""},{"$f":"IF(S151=SW!$D$101,\"X\",\"\")","v":""},{"$f":"IF(S151=SW!$D$100,\"X\",\"\")","v":""},{"$f":"IF(S151=SW!$D$99,\"X\",\"\")","v":""},{"$f":"IF(S151=SW!$D$103,\"X\",\"\")","v":"X"},{"$f":"IF(G151=\"x\",4,IF(H151=\"x\",3,IF(I151=\"x\",2,IF(J151=\"x\",1,IF(K151=\"x\",\"NR\",\"\")))))","v":"NR"},{"$f":"IF(N151=\"x\",4,IF(O151=\"x\",3,IF(P151=\"x\",2,IF(Q151=\"x\",1,IF(R151=\"x\",\"NR\",\"\")))))","v":"NR"},{"$f":"IF(U151=\"x\",4,IF(V151=\"x\",3,IF(W151=\"x\",2,IF(X151=\"x\",1,IF(Y151=\"x\",\"NR\",\"\")))))","v":"NR"}]
[]
[{"$f":"SW!$A$104","v":"SW5"},{"$f":"SW!$B$104","v":"Reference Samples"}]
[{"$f":"SW!$A$105","v":"SW5.1"},{"$f":"SW!$C$105","v":"Definition of samples"},null,null,"NA",null,{"$f":"IF(E154=SW!$D$109,\"X\",\"\")","v":""},{"$f":"IF(E154=SW!$D$108,\"X\",\"\")","v":""},{"$f":"IF(E154=SW!$D$107,\"X\",\"\")","v":""},{"$f":"IF(E154=SW!$D$106,\"X\",\"\")","v":""},{"$f":"IF(E154=SW!$D$110,\"X\",\"\")","v":"X"},"NA",null,{"$f":"IF(L154=SW!$D$109,\"X\",\"\")","v":""},{"$f":"IF(L154=SW!$D$108,\"X\",\"\")","v":""},{"$f":"IF(L154=SW!$D$107,\"X\",\"\")","v":""},{"$f":"IF(L154=SW!$D$106,\"X\",\"\")","v":""},{"$f":"IF(L154=SW!$D$110,\"X\",\"\")","v":"X"},"NA",null,{"$f":"IF(S154=SW!$D$109,\"X\",\"\")","v":""},{"$f":"IF(S154=SW!$D$108,\"X\",\"\")","v":""},{"$f":"IF(S154=SW!$D$107,\"X\",\"\")","v":""},{"$f":"IF(S154=SW!$D$106,\"X\",\"\")","v":""},{"$f":"IF(S154=SW!$D$110,\"X\",\"\")","v":"X"},{"$f":"IF(G154=\"x\",4,IF(H154=\"x\",3,IF(I154=\"x\",2,IF(J154=\"x\",1,IF(K154=\"x\",\"NR\",\"\")))))","v":"NR"},{"$f":"IF(N154=\"x\",4,IF(O154=\"x\",3,IF(P154=\"x\",2,IF(Q154=\"x\",1,IF(R154=\"x\",\"NR\",\"\")))))","v":"NR"},{"$f":"IF(U154=\"x\",4,IF(V154=\"x\",3,IF(W154=\"x\",2,IF(X154=\"x\",1,IF(Y154=\"x\",\"NR\",\"\")))))","v":"NR"},{"$f":"SUM(Z154:Z157)","v":0},{"$f":"SUM(AA154:AA157)","v":0},{"$f":"SUM(AB154:AB157)","v":0}]
[{"$f":"SW!$A$111","v":"SW5.2"},{"$f":"SW!$C$111","v":"Samples clearly identified"},null,null,"NA",null,{"$f":"IF(E155=SW!$D$115,\"X\",\"\")","v":""},{"$f":"IF(E155=SW!$D$114,\"X\",\"\")","v":""},{"$f":"IF(E155=SW!$D$113,\"X\",\"\")","v":""},{"$f":"IF(E155=SW!$D$112,\"X\",\"\")","v":""},{"$f":"IF(E155=SW!$D$116,\"X\",\"\")","v":"X"},"NA",null,{"$f":"IF(L155=SW!$D$115,\"X\",\"\")","v":""},{"$f":"IF(L155=SW!$D$114,\"X\",\"\")","v":""},{"$f":"IF(L155=SW!$D$113,\"X\",\"\")","v":""},{"$f":"IF(L155=SW!$D$112,\"X\",\"\")","v":""},{"$f":"IF(L155=SW!$D$116,\"X\",\"\")","v":"X"},"NA",null,{"$f":"IF(S155=SW!$D$115,\"X\",\"\")","v":""},{"$f":"IF(S155=SW!$D$114,\"X\",\"\")","v":""},{"$f":"IF(S155=SW!$D$113,\"X\",\"\")","v":""},{"$f":"IF(S155=SW!$D$112,\"X\",\"\")","v":""},{"$f":"IF(S155=SW!$D$116,\"X\",\"\")","v":"X"},{"$f":"IF(G155=\"x\",4,IF(H155=\"x\",3,IF(I155=\"x\",2,IF(J155=\"x\",1,IF(K155=\"x\",\"NR\",\"\")))))","v":"NR"},{"$f":"IF(N155=\"x\",4,IF(O155=\"x\",3,IF(P155=\"x\",2,IF(Q155=\"x\",1,IF(R155=\"x\",\"NR\",\"\")))))","v":"NR"},{"$f":"IF(U155=\"x\",4,IF(V155=\"x\",3,IF(W155=\"x\",2,IF(X155=\"x\",1,IF(Y155=\"x\",\"NR\",\"\")))))","v":"NR"}]
[{"$f":"SW!$A$117","v":"SW5.3"},{"$f":"SW!$C$117","v":"Samples is referenced"},null,null,"NA",null,{"$f":"IF(E156=SW!$D$121,\"X\",\"\")","v":""},{"$f":"IF(E156=SW!$D$120,\"X\",\"\")","v":""},{"$f":"IF(E156=SW!$D$119,\"X\",\"\")","v":""},{"$f":"IF(E156=SW!$D$118,\"X\",\"\")","v":""},{"$f":"IF(E156=SW!$D$122,\"X\",\"\")","v":"X"},"NA",null,{"$f":"IF(L156=SW!$D$121,\"X\",\"\")","v":""},{"$f":"IF(L156=SW!$D$120,\"X\",\"\")","v":""},{"$f":"IF(L156=SW!$D$119,\"X\",\"\")","v":""},{"$f":"IF(L156=SW!$D$118,\"X\",\"\")","v":""},{"$f":"IF(L156=SW!$D$122,\"X\",\"\")","v":"X"},"NA",null,{"$f":"IF(S156=SW!$D$121,\"X\",\"\")","v":""},{"$f":"IF(S156=SW!$D$120,\"X\",\"\")","v":""},{"$f":"IF(S156=SW!$D$119,\"X\",\"\")","v":""},{"$f":"IF(S156=SW!$D$118,\"X\",\"\")","v":""},{"$f":"IF(S156=SW!$D$122,\"X\",\"\")","v":"X"},{"$f":"IF(G156=\"x\",4,IF(H156=\"x\",3,IF(I156=\"x\",2,IF(J156=\"x\",1,IF(K156=\"x\",\"NR\",\"\")))))","v":"NR"},{"$f":"IF(N156=\"x\",4,IF(O156=\"x\",3,IF(P156=\"x\",2,IF(Q156=\"x\",1,IF(R156=\"x\",\"NR\",\"\")))))","v":"NR"},{"$f":"IF(U156=\"x\",4,IF(V156=\"x\",3,IF(W156=\"x\",2,IF(X156=\"x\",1,IF(Y156=\"x\",\"NR\",\"\")))))","v":"NR"}]
[{"$f":"SW!$A$123","v":"SW5.4"},{"$f":"SW!$C$123","v":"Samples are reviewed"},null,null,"NA",null,{"$f":"IF(E157=SW!$D$127,\"X\",\"\")","v":""},{"$f":"IF(E157=SW!$D$126,\"X\",\"\")","v":""},{"$f":"IF(E157=SW!$D$125,\"X\",\"\")","v":""},{"$f":"IF(E157=SW!$D$124,\"X\",\"\")","v":""},{"$f":"IF(E157=SW!$D$128,\"X\",\"\")","v":"X"},"NA",null,{"$f":"IF(L157=SW!$D$127,\"X\",\"\")","v":""},{"$f":"IF(L157=SW!$D$126,\"X\",\"\")","v":""},{"$f":"IF(L157=SW!$D$125,\"X\",\"\")","v":""},{"$f":"IF(L157=SW!$D$124,\"X\",\"\")","v":""},{"$f":"IF(L157=SW!$D$128,\"X\",\"\")","v":"X"},"NA",null,{"$f":"IF(S157=SW!$D$127,\"X\",\"\")","v":""},{"$f":"IF(S157=SW!$D$126,\"X\",\"\")","v":""},{"$f":"IF(S157=SW!$D$125,\"X\",\"\")","v":""},{"$f":"IF(S157=SW!$D$124,\"X\",\"\")","v":""},{"$f":"IF(S157=SW!$D$128,\"X\",\"\")","v":"X"},{"$f":"IF(G157=\"x\",4,IF(H157=\"x\",3,IF(I157=\"x\",2,IF(J157=\"x\",1,IF(K157=\"x\",\"NR\",\"\")))))","v":"NR"},{"$f":"IF(N157=\"x\",4,IF(O157=\"x\",3,IF(P157=\"x\",2,IF(Q157=\"x\",1,IF(R157=\"x\",\"NR\",\"\")))))","v":"NR"},{"$f":"IF(U157=\"x\",4,IF(V157=\"x\",3,IF(W157=\"x\",2,IF(X157=\"x\",1,IF(Y157=\"x\",\"NR\",\"\")))))","v":"NR"}]
[]
[{"$f":"SW!$A$129","v":"SWE"},{"$f":"SW!$B$129","v":"Targets defined and followed to optimize processes"}]
[{"$f":"SW!$A$130","v":"SWE.1"},{"$f":"SW!$C$130","v":"Tracking of external/internal issues"},null,null,"NA",null,{"$f":"IF(E160=SW!$D$134,\"X\",\"\")","v":""},{"$f":"IF(E160=SW!$D$133,\"X\",\"\")","v":""},{"$f":"IF(E160=SW!$D$132,\"X\",\"\")","v":""},{"$f":"IF(E160=SW!$D$131,\"X\",\"\")","v":""},{"$f":"IF(E160=SW!$D$135,\"X\",\"\")","v":"X"},"NA",null,{"$f":"IF(L160=SW!$D$134,\"X\",\"\")","v":""},{"$f":"IF(L160=SW!$D$133,\"X\",\"\")","v":""},{"$f":"IF(L160=SW!$D$132,\"X\",\"\")","v":""},{"$f":"IF(L160=SW!$D$131,\"X\",\"\")","v":""},{"$f":"IF(L160=SW!$D$135,\"X\",\"\")","v":"X"},"NA",null,{"$f":"IF(S160=SW!$D$134,\"X\",\"\")","v":""},{"$f":"IF(S160=SW!$D$133,\"X\",\"\")","v":""},{"$f":"IF(S160=SW!$D$132,\"X\",\"\")","v":""},{"$f":"IF(S160=SW!$D$131,\"X\",\"\")","v":""},{"$f":"IF(S160=SW!$D$135,\"X\",\"\")","v":"X"},{"$f":"IF(G160=\"x\",4,IF(H160=\"x\",3,IF(I160=\"x\",2,IF(J160=\"x\",1,IF(K160=\"x\",\"NR\",\"\")))))","v":"NR"},{"$f":"IF(N160=\"x\",4,IF(O160=\"x\",3,IF(P160=\"x\",2,IF(Q160=\"x\",1,IF(R160=\"x\",\"NR\",\"\")))))","v":"NR"},{"$f":"IF(U160=\"x\",4,IF(V160=\"x\",3,IF(W160=\"x\",2,IF(X160=\"x\",1,IF(Y160=\"x\",\"NR\",\"\")))))","v":"NR"},{"$f":"SUM(Z160)","v":0},{"$f":"SUM(AA160)","v":0},{"$f":"SUM(AB160)","v":0}]
[]
[null,null,null,null,null,null,null,null,null,null,null,null,null,null,null,null,null,null,null,null,null,null,null,null,null,"Total",null,null,{"$f":"(AC130+AC136+AC142+AC148+AC154+AC160)","v":0},{"$f":"(AD154+AD148+AD142+AD136+AD130+AD160)","v":0},{"$f":"(AE154+AE148+AE142+AE136+AE130+AE160)","v":0}]
[null,null,null,null,null,null,null,null,null,null,null," "," "," "," "," "," "," ",null," "," "," "," "," "," ","Potential",null,null,{"$f":"COUNT(Z130:Z160)*4","v":0},{"$f":"COUNT(AA130:AA160)*4","v":0},{"$f":"COUNT(AB130:AB160)*4","v":0}]
[null,null,null,null,null,null,null,null,null,null,null,null,null,null,null,null,null,null,null,null,null,null,null,null,null,"Total Score",null,null,{"$f":"IF(AC163<>0,AC162/AC163,\"NR\")","v":"NR"},{"$f":"IF(AD163<>0,AD162/AD163,\"NR\")","v":"NR"},{"$f":"IF(AE163<>0,AE162/AE163,\"NR\")","v":"NR"}]
[]
[]
[" ",{"$f":"MA!B2","v":"Maintenance"},null,null,"Build up Score Assessment"," ","Build up Scoring",null,null,null,null,"Build up Score Assessment"," ","Build up Scoring",null,null,null,null,"Build up Score Assessment"," ","Build up Scoring",null,null,null,null,null,null,null,"Sub Element Score"]
[{"$f":"MA!$A$4","v":"MA1.0"},{"$f":"MA!$B$4","v":"Maintenance strategy"},null,"Sub-Element",null,null,4,3,2,1,"NR",null,null,4,3,2,1,"NR",null,null,4,3,2,1,"NR","Self","Onsite","Current","Self","Onsite","Current","Procedures","Findings","Comments"]
[{"$f":"MA!$A$5","v":"MA1.1"},{"$f":"MA!$C$5","v":"Process is formalized and includes preventive and corrective maintenance"},null,null,"NA",null,{"$f":"IF(E169=MA!$D$9,\"X\",\"\")","v":""},{"$f":"IF(E169=MA!$D$8,\"X\",\"\")","v":""},{"$f":"IF(E169=MA!$D$7,\"X\",\"\")","v":""},{"$f":"IF(E169=MA!$D$6,\"X\",\"\")","v":""},{"$f":"IF(E169=MA!$D$10,\"X\",\"\")","v":"X"},"NA",null,{"$f":"IF(L169=MA!$D$9,\"X\",\"\")","v":""},{"$f":"IF(L169=MA!$D$8,\"X\",\"\")","v":""},{"$f":"IF(L169=MA!$D$7,\"X\",\"\")","v":""},{"$f":"IF(L169=MA!$D$6,\"X\",\"\")","v":""},{"$f":"IF(L169=MA!$D$10,\"X\",\"\")","v":"X"},"NA",null,{"$f":"IF(S169=MA!$D$9,\"X\",\"\")","v":""},{"$f":"IF(S169=MA!$D$8,\"X\",\"\")","v":""},{"$f":"IF(S169=MA!$D$7,\"X\",\"\")","v":""},{"$f":"IF(S169=MA!$D$6,\"X\",\"\")","v":""},{"$f":"IF(S169=MA!$D$10,\"X\",\"\")","v":"X"},{"$f":"IF(G169=\"x\",4,IF(H169=\"x\",3,IF(I169=\"x\",2,IF(J169=\"x\",1,IF(K169=\"x\",\"NR\",\"\")))))","v":"NR"},{"$f":"IF(N169=\"x\",4,IF(O169=\"x\",3,IF(P169=\"x\",2,IF(Q169=\"x\",1,IF(R169=\"x\",\"NR\",\"\")))))","v":"NR"},{"$f":"IF(U169=\"x\",4,IF(V169=\"x\",3,IF(W169=\"x\",2,IF(X169=\"x\",1,IF(Y169=\"x\",\"NR\",\"\")))))","v":"NR"},{"$f":"SUM(Z169:Z172)","v":0},{"$f":"SUM(AA169:AA172)","v":0},{"$f":"SUM(AB169:AB172)","v":0}]
[{"$f":"MA!$A$11","v":"MA1.2"},{"$f":"MA!$C$11","v":"System for maintenance operations"},null,null,"NA",null,{"$f":"IF(E170=MA!$D$15,\"X\",\"\")","v":""},{"$f":"IF(E170=MA!$D$14,\"X\",\"\")","v":""},{"$f":"IF(E170=MA!$D$13,\"X\",\"\")","v":""},{"$f":"IF(E170=MA!$D$12,\"X\",\"\")","v":""},{"$f":"IF(E170=MA!$D$16,\"X\",\"\")","v":"X"},"NA",null,{"$f":"IF(L170=MA!$D$15,\"X\",\"\")","v":""},{"$f":"IF(L170=MA!$D$14,\"X\",\"\")","v":""},{"$f":"IF(L170=MA!$D$13,\"X\",\"\")","v":""},{"$f":"IF(L170=MA!$D$12,\"X\",\"\")","v":""},{"$f":"IF(L170=MA!$D$16,\"X\",\"\")","v":"X"},"NA",null,{"$f":"IF(S170=MA!$D$15,\"X\",\"\")","v":""},{"$f":"IF(S170=MA!$D$14,\"X\",\"\")","v":""},{"$f":"IF(S170=MA!$D$13,\"X\",\"\")","v":""},{"$f":"IF(S170=MA!$D$12,\"X\",\"\")","v":""},{"$f":"IF(S170=MA!$D$16,\"X\",\"\")","v":"X"},{"$f":"IF(G170=\"x\",4,IF(H170=\"x\",3,IF(I170=\"x\",2,IF(J170=\"x\",1,IF(K170=\"x\",\"NR\",\"\")))))","v":"NR"},{"$f":"IF(N170=\"x\",4,IF(O170=\"x\",3,IF(P170=\"x\",2,IF(Q170=\"x\",1,IF(R170=\"x\",\"NR\",\"\")))))","v":"NR"},{"$f":"IF(U170=\"x\",4,IF(V170=\"x\",3,IF(W170=\"x\",2,IF(X170=\"x\",1,IF(Y170=\"x\",\"NR\",\"\")))))","v":"NR"}]
[{"$f":"MA!$A$17","v":"MA1.3"},{"$f":"MA!$C$17","v":"Breakdown maintenance lessons learned are included in preventative maintenance"},null,null,"NA",null,{"$f":"IF(E171=MA!$D$21,\"X\",\"\")","v":""},{"$f":"IF(E171=MA!$D$20,\"X\",\"\")","v":""},{"$f":"IF(E171=MA!$D$19,\"X\",\"\")","v":""},{"$f":"IF(E171=MA!$D$18,\"X\",\"\")","v":""},{"$f":"IF(E171=MA!$D$22,\"X\",\"\")","v":"X"},"NA",null,{"$f":"IF(L171=MA!$D$21,\"X\",\"\")","v":""},{"$f":"IF(L171=MA!$D$20,\"X\",\"\")","v":""},{"$f":"IF(L171=MA!$D$19,\"X\",\"\")","v":""},{"$f":"IF(L171=MA!$D$18,\"X\",\"\")","v":""},{"$f":"IF(L171=MA!$D$22,\"X\",\"\")","v":"X"},"NA",null,{"$f":"IF(S171=MA!$D$21,\"X\",\"\")","v":""},{"$f":"IF(S171=MA!$D$20,\"X\",\"\")","v":""},{"$f":"IF(S171=MA!$D$19,\"X\",\"\")","v":""},{"$f":"IF(S171=MA!$D$18,\"X\",\"\")","v":""},{"$f":"IF(S171=MA!$D$22,\"X\",\"\")","v":"X"},{"$f":"IF(G171=\"x\",4,IF(H171=\"x\",3,IF(I171=\"x\",2,IF(J171=\"x\",1,IF(K171=\"x\",\"NR\",\"\")))))","v":"NR"},{"$f":"IF(N171=\"x\",4,IF(O171=\"x\",3,IF(P171=\"x\",2,IF(Q171=\"x\",1,IF(R171=\"x\",\"NR\",\"\")))))","v":"NR"},{"$f":"IF(U171=\"x\",4,IF(V171=\"x\",3,IF(W171=\"x\",2,IF(X171=\"x\",1,IF(Y171=\"x\",\"NR\",\"\")))))","v":"NR"}]
[{"$f":"MA!$A$23","v":"MA1.4"},{"$f":"MA!$C$23","v":"Process to improve production output (OEE)"},null,null,"NA",null,{"$f":"IF(E172=MA!$D$27,\"X\",\"\")","v":""},{"$f":"IF(E172=MA!$D$26,\"X\",\"\")","v":""},{"$f":"IF(E172=MA!$D$25,\"X\",\"\")","v":""},{"$f":"IF(E172=MA!$D$24,\"X\",\"\")","v":""},{"$f":"IF(E172=MA!$D$28,\"X\",\"\")","v":"X"},"NA",null,{"$f":"IF(L172=MA!$D$27,\"X\",\"\")","v":""},{"$f":"IF(L172=MA!$D$26,\"X\",\"\")","v":""},{"$f":"IF(L172=MA!$D$25,\"X\",\"\")","v":""},{"$f":"IF(L172=MA!$D$24,\"X\",\"\")","v":""},{"$f":"IF(L172=MA!$D$28,\"X\",\"\")","v":"X"},"NA",null,{"$f":"IF(S172=MA!$D$27,\"X\",\"\")","v":""},{"$f":"IF(S172=MA!$D$26,\"X\",\"\")","v":""},{"$f":"IF(S172=MA!$D$25,\"X\",\"\")","v":""},{"$f":"IF(S172=MA!$D$24,\"X\",\"\")","v":""},{"$f":"IF(S172=MA!$D$28,\"X\",\"\")","v":"X"},{"$f":"IF(G172=\"x\",4,IF(H172=\"x\",3,IF(I172=\"x\",2,IF(J172=\"x\",1,IF(K172=\"x\",\"NR\",\"\")))))","v":"NR"},{"$f":"IF(N172=\"x\",4,IF(O172=\"x\",3,IF(P172=\"x\",2,IF(Q172=\"x\",1,IF(R172=\"x\",\"NR\",\"\")))))","v":"NR"},{"$f":"IF(U172=\"x\",4,IF(V172=\"x\",3,IF(W172=\"x\",2,IF(X172=\"x\",1,IF(Y172=\"x\",\"NR\",\"\")))))","v":"NR"}]
[]
[{"$f":"MA!$A$29","v":"MA2.0"},{"$f":"MA!$B$29","v":"Activities are planned, performed and tracked"}]
[{"$f":"MA!$A$30","v":"MA2.1"},{"$f":"MA!$C$30","v":"Preventive maintenance planning"},null,null,"NA",null,{"$f":"IF(E175=MA!$D$34,\"X\",\"\")","v":""},{"$f":"IF(E175=MA!$D$33,\"X\",\"\")","v":""},{"$f":"IF(E175=MA!$D$32,\"X\",\"\")","v":""},{"$f":"IF(E175=MA!$D$31,\"X\",\"\")","v":""},{"$f":"IF(E175=MA!$D$35,\"X\",\"\")","v":"X"},"NA",null,{"$f":"IF(L175=MA!$D$34,\"X\",\"\")","v":""},{"$f":"IF(L175=MA!$D$33,\"X\",\"\")","v":""},{"$f":"IF(L175=MA!$D$32,\"X\",\"\")","v":""},{"$f":"IF(L175=MA!$D$31,\"X\",\"\")","v":""},{"$f":"IF(L175=MA!$D$35,\"X\",\"\")","v":"X"},"NA",null,{"$f":"IF(S175=MA!$D$34,\"X\",\"\")","v":""},{"$f":"IF(S175=MA!$D$33,\"X\",\"\")","v":""},{"$f":"IF(S175=MA!$D$32,\"X\",\"\")","v":""},{"$f":"IF(S175=MA!$D$31,\"X\",\"\")","v":""},{"$f":"IF(S175=MA!$D$35,\"X\",\"\")","v":"X"},{"$f":"IF(G175=\"x\",4,IF(H175=\"x\",3,IF(I175=\"x\",2,IF(J175=\"x\",1,IF(K175=\"x\",\"NR\",\"\")))))","v":"NR"},{"$f":"IF(N175=\"x\",4,IF(O175=\"x\",3,IF(P175=\"x\",2,IF(Q175=\"x\",1,IF(R175=\"x\",\"NR\",\"\")))))","v":"NR"},{"$f":"IF(U175=\"x\",4,IF(V175=\"x\",3,IF(W175=\"x\",2,IF(X175=\"x\",1,IF(Y175=\"x\",\"NR\",\"\")))))","v":"NR"},{"$f":"SUM(Z175:Z178)","v":0},{"$f":"SUM(AA175:AA178)","v":0},{"$f":"SUM(AB175:AB178)","v":0}]
[{"$f":"MA!$A$36","v":"MA2.2"},{"$f":"MA!$C$36","v":"Planning is followed"},null,null,"NA",null,{"$f":"IF(E176=MA!$D$40,\"X\",\"\")","v":""},{"$f":"IF(E176=MA!$D$39,\"X\",\"\")","v":""},{"$f":"IF(E176=MA!$D$38,\"X\",\"\")","v":""},{"$f":"IF(E176=MA!$D$37,\"X\",\"\")","v":""},{"$f":"IF(E176=MA!$D$41,\"X\",\"\")","v":"X"},"NA",null,{"$f":"IF(L176=MA!$D$40,\"X\",\"\")","v":""},{"$f":"IF(L176=MA!$D$39,\"X\",\"\")","v":""},{"$f":"IF(L176=MA!$D$38,\"X\",\"\")","v":""},{"$f":"IF(L176=MA!$D$37,\"X\",\"\")","v":""},{"$f":"IF(L176=MA!$D$41,\"X\",\"\")","v":"X"},"NA",null,{"$f":"IF(S176=MA!$D$40,\"X\",\"\")","v":""},{"$f":"IF(S176=MA!$D$39,\"X\",\"\")","v":""},{"$f":"IF(S176=MA!$D$38,\"X\",\"\")","v":""},{"$f":"IF(S176=MA!$D$37,\"X\",\"\")","v":""},{"$f":"IF(S176=MA!$D$41,\"X\",\"\")","v":"X"},{"$f":"IF(G176=\"x\",4,IF(H176=\"x\",3,IF(I176=\"x\",2,IF(J176=\"x\",1,IF(K176=\"x\",\"NR\",\"\")))))","v":"NR"},{"$f":"IF(N176=\"x\",4,IF(O176=\"x\",3,IF(P176=\"x\",2,IF(Q176=\"x\",1,IF(R176=\"x\",\"NR\",\"\")))))","v":"NR"},{"$f":"IF(U176=\"x\",4,IF(V176=\"x\",3,IF(W176=\"x\",2,IF(X176=\"x\",1,IF(Y176=\"x\",\"NR\",\"\")))))","v":"NR"}]
[{"$f":"MA!$A$42","v":"MA2.3"},{"$f":"MA!$C$42","v":"Corrective maintenance is completed"},null,null,"NA",null,{"$f":"IF(E177=MA!$D$46,\"X\",\"\")","v":""},{"$f":"IF(E177=MA!$D$45,\"X\",\"\")","v":""},{"$f":"IF(E177=MA!$D$44,\"X\",\"\")","v":""},{"$f":"IF(E177=MA!$D$43,\"X\",\"\")","v":""},{"$f":"IF(E177=MA!$D$47,\"X\",\"\")","v":"X"},"NA",null,{"$f":"IF(L177=MA!$D$46,\"X\",\"\")","v":""},{"$f":"IF(L177=MA!$D$45,\"X\",\"\")","v":""},{"$f":"IF(L177=MA!$D$44,\"X\",\"\")","v":""},{"$f":"IF(L177=MA!$D$43,\"X\",\"\")","v":""},{"$f":"IF(L177=MA!$D$47,\"X\",\"\")","v":"X"},"NA",null,{"$f":"IF(S177=MA!$D$46,\"X\",\"\")","v":""},{"$f":"IF(S177=MA!$D$45,\"X\",\"\")","v":""},{"$f":"IF(S177=MA!$D$44,\"X\",\"\")","v":""},{"$f":"IF(S177=MA!$D$43,\"X\",\"\")","v":""},{"$f":"IF(S177=MA!$D$47,\"X\",\"\")","v":"X"},{"$f":"IF(G177=\"x\",4,IF(H177=\"x\",3,IF(I177=\"x\",2,IF(J177=\"x\",1,IF(K177=\"x\",\"NR\",\"\")))))","v":"NR"},{"$f":"IF(N177=\"x\",4,IF(O177=\"x\",3,IF(P177=\"x\",2,IF(Q177=\"x\",1,IF(R177=\"x\",\"NR\",\"\")))))","v":"NR"},{"$f":"IF(U177=\"x\",4,IF(V177=\"x\",3,IF(W177=\"x\",2,IF(X177=\"x\",1,IF(Y177=\"x\",\"NR\",\"\")))))","v":"NR"}]
[{"$f":"MA!$A$48","v":"MA2.4"},{"$f":"MA!$C$48","v":"Records of all maintenance"},null,null,"NA",null,{"$f":"IF(E178=MA!$D$52,\"X\",\"\")","v":""},{"$f":"IF(E178=MA!$D$51,\"X\",\"\")","v":""},{"$f":"IF(E178=MA!$D$50,\"X\",\"\")","v":""},{"$f":"IF(E178=MA!$D$49,\"X\",\"\")","v":""},{"$f":"IF(E178=MA!$D$53,\"X\",\"\")","v":"X"},"NA",null,{"$f":"IF(L178=MA!$D$52,\"X\",\"\")","v":""},{"$f":"IF(L178=MA!$D$51,\"X\",\"\")","v":""},{"$f":"IF(L178=MA!$D$50,\"X\",\"\")","v":""},{"$f":"IF(L178=MA!$D$49,\"X\",\"\")","v":""},{"$f":"IF(L178=MA!$D$53,\"X\",\"\")","v":"X"},"NA",null,{"$f":"IF(S178=MA!$D$52,\"X\",\"\")","v":""},{"$f":"IF(S178=MA!$D$51,\"X\",\"\")","v":""},{"$f":"IF(S178=MA!$D$50,\"X\",\"\")","v":""},{"$f":"IF(S178=MA!$D$49,\"X\",\"\")","v":""},{"$f":"IF(S178=MA!$D$53,\"X\",\"\")","v":"X"},{"$f":"IF(G178=\"x\",4,IF(H178=\"x\",3,IF(I178=\"x\",2,IF(J178=\"x\",1,IF(K178=\"x\",\"NR\",\"\")))))","v":"NR"},{"$f":"IF(N178=\"x\",4,IF(O178=\"x\",3,IF(P178=\"x\",2,IF(Q178=\"x\",1,IF(R178=\"x\",\"NR\",\"\")))))","v":"NR"},{"$f":"IF(U178=\"x\",4,IF(V178=\"x\",3,IF(W178=\"x\",2,IF(X178=\"x\",1,IF(Y178=\"x\",\"NR\",\"\")))))","v":"NR"}]
[]
[{"$f":"MA!$A$54","v":"MA3.0"},{"$f":"MA!$B$54","v":"Level 1 Maintenance"}]
[{"$f":"MA!$A$55","v":"MA3.1"},{"$f":"MA!$C$55","v":"Level 1 maintenance covers equipment identification, cleaning, self-maintenance and safety"},null,null,"NA",null,{"$f":"IF(E181=MA!$D$59,\"X\",\"\")","v":""},{"$f":"IF(E181=MA!$D$58,\"X\",\"\")","v":""},{"$f":"IF(E181=MA!$D$57,\"X\",\"\")","v":""},{"$f":"IF(E181=MA!$D$56,\"X\",\"\")","v":""},{"$f":"IF(E181=MA!$D$60,\"X\",\"\")","v":"X"},"NA",null,{"$f":"IF(L181=MA!$D$59,\"X\",\"\")","v":""},{"$f":"IF(L181=MA!$D$58,\"X\",\"\")","v":""},{"$f":"IF(L181=MA!$D$57,\"X\",\"\")","v":""},{"$f":"IF(L181=MA!$D$56,\"X\",\"\")","v":""},{"$f":"IF(L181=MA!$D$60,\"X\",\"\")","v":"X"},"NA",null,{"$f":"IF(S181=MA!$D$59,\"X\",\"\")","v":""},{"$f":"IF(S181=MA!$D$58,\"X\",\"\")","v":""},{"$f":"IF(S181=MA!$D$57,\"X\",\"\")","v":""},{"$f":"IF(S181=MA!$D$56,\"X\",\"\")","v":""},{"$f":"IF(S181=MA!$D$60,\"X\",\"\")","v":"X"},{"$f":"IF(G181=\"x\",4,IF(H181=\"x\",3,IF(I181=\"x\",2,IF(J181=\"x\",1,IF(K181=\"x\",\"NR\",\"\")))))","v":"NR"},{"$f":"IF(N181=\"x\",4,IF(O181=\"x\",3,IF(P181=\"x\",2,IF(Q181=\"x\",1,IF(R181=\"x\",\"NR\",\"\")))))","v":"NR"},{"$f":"IF(U181=\"x\",4,IF(V181=\"x\",3,IF(W181=\"x\",2,IF(X181=\"x\",1,IF(Y181=\"x\",\"NR\",\"\")))))","v":"NR"},{"$f":"SUM(Z181:Z184)","v":0},{"$f":"SUM(AA181:AA184)","v":0},{"$f":"SUM(AB181:AB184)","v":0}]
[{"$f":"MA!$A$61","v":"MA3.2"},{"$f":"MA!$C$61","v":"Level 1 maintenance is performed by manufacturing instructions"},null,null,"NA",null,{"$f":"IF(E182=MA!$D$65,\"X\",\"\")","v":""},{"$f":"IF(E182=MA!$D$64,\"X\",\"\")","v":""},{"$f":"IF(E182=MA!$D$63,\"X\",\"\")","v":""},{"$f":"IF(E182=MA!$D$62,\"X\",\"\")","v":""},{"$f":"IF(E182=MA!$D$66,\"X\",\"\")","v":"X"},"NA",null,{"$f":"IF(L182=MA!$D$65,\"X\",\"\")","v":""},{"$f":"IF(L182=MA!$D$64,\"X\",\"\")","v":""},{"$f":"IF(L182=MA!$D$63,\"X\",\"\")","v":""},{"$f":"IF(L182=MA!$D$62,\"X\",\"\")","v":""},{"$f":"IF(L182=MA!$D$66,\"X\",\"\")","v":"X"},"NA",null,{"$f":"IF(S182=MA!$D$65,\"X\",\"\")","v":""},{"$f":"IF(S182=MA!$D$64,\"X\",\"\")","v":""},{"$f":"IF(S182=MA!$D$63,\"X\",\"\")","v":""},{"$f":"IF(S182=MA!$D$62,\"X\",\"\")","v":""},{"$f":"IF(S182=MA!$D$66,\"X\",\"\")","v":"X"},{"$f":"IF(G182=\"x\",4,IF(H182=\"x\",3,IF(I182=\"x\",2,IF(J182=\"x\",1,IF(K182=\"x\",\"NR\",\"\")))))","v":"NR"},{"$f":"IF(N182=\"x\",4,IF(O182=\"x\",3,IF(P182=\"x\",2,IF(Q182=\"x\",1,IF(R182=\"x\",\"NR\",\"\")))))","v":"NR"},{"$f":"IF(U182=\"x\",4,IF(V182=\"x\",3,IF(W182=\"x\",2,IF(X182=\"x\",1,IF(Y182=\"x\",\"NR\",\"\")))))","v":"NR"}]
[{"$f":"MA!$A$67","v":"MA3.3"},{"$f":"MA!$C$67","v":"Any deviation or suggestion is escalated to a high level maintenance activity"},null,null,"NA",null,{"$f":"IF(E183=MA!$D$71,\"X\",\"\")","v":""},{"$f":"IF(E183=MA!$D$70,\"X\",\"\")","v":""},{"$f":"IF(E183=MA!$D$69,\"X\",\"\")","v":""},{"$f":"IF(E183=MA!$D$68,\"X\",\"\")","v":""},{"$f":"IF(E183=MA!$D$72,\"X\",\"\")","v":"X"},"NA",null,{"$f":"IF(L183=MA!$D$71,\"X\",\"\")","v":""},{"$f":"IF(L183=MA!$D$70,\"X\",\"\")","v":""},{"$f":"IF(L183=MA!$D$69,\"X\",\"\")","v":""},{"$f":"IF(L183=MA!$D$68,\"X\",\"\")","v":""},{"$f":"IF(L183=MA!$D$72,\"X\",\"\")","v":"X"},"NA",null,{"$f":"IF(S183=MA!$D$71,\"X\",\"\")","v":""},{"$f":"IF(S183=MA!$D$70,\"X\",\"\")","v":""},{"$f":"IF(S183=MA!$D$69,\"X\",\"\")","v":""},{"$f":"IF(S183=MA!$D$68,\"X\",\"\")","v":""},{"$f":"IF(S183=MA!$D$72,\"X\",\"\")","v":"X"},{"$f":"IF(G183=\"x\",4,IF(H183=\"x\",3,IF(I183=\"x\",2,IF(J183=\"x\",1,IF(K183=\"x\",\"NR\",\"\")))))","v":"NR"},{"$f":"IF(N183=\"x\",4,IF(O183=\"x\",3,IF(P183=\"x\",2,IF(Q183=\"x\",1,IF(R183=\"x\",\"NR\",\"\")))))","v":"NR"},{"$f":"IF(U183=\"x\",4,IF(V183=\"x\",3,IF(W183=\"x\",2,IF(X183=\"x\",1,IF(Y183=\"x\",\"NR\",\"\")))))","v":"NR"}]
[{"$f":"MA!$A$73","v":"MA3.4"},{"$f":"MA!$C$73","v":"Level 1 maintenance is periodically reviewed and updated"},null,null,"NA",null,{"$f":"IF(E184=MA!$D$77,\"X\",\"\")","v":""},{"$f":"IF(E184=MA!$D$76,\"X\",\"\")","v":""},{"$f":"IF(E184=MA!$D$75,\"X\",\"\")","v":""},{"$f":"IF(E184=MA!$D$74,\"X\",\"\")","v":""},{"$f":"IF(E184=MA!$D$78,\"X\",\"\")","v":"X"},"NA",null,{"$f":"IF(L184=MA!$D$77,\"X\",\"\")","v":""},{"$f":"IF(L184=MA!$D$76,\"X\",\"\")","v":""},{"$f":"IF(L184=MA!$D$75,\"X\",\"\")","v":""},{"$f":"IF(L184=MA!$D$74,\"X\",\"\")","v":""},{"$f":"IF(L184=MA!$D$78,\"X\",\"\")","v":"X"},"NA",null,{"$f":"IF(S184=MA!$D$77,\"X\",\"\")","v":""},{"$f":"IF(S184=MA!$D$76,\"X\",\"\")","v":""},{"$f":"IF(S184=MA!$D$75,\"X\",\"\")","v":""},{"$f":"IF(S184=MA!$D$74,\"X\",\"\")","v":""},{"$f":"IF(S184=MA!$D$78,\"X\",\"\")","v":"X"},{"$f":"IF(G184=\"x\",4,IF(H184=\"x\",3,IF(I184=\"x\",2,IF(J184=\"x\",1,IF(K184=\"x\",\"NR\",\"\")))))","v":"NR"},{"$f":"IF(N184=\"x\",4,IF(O184=\"x\",3,IF(P184=\"x\",2,IF(Q184=\"x\",1,IF(R184=\"x\",\"NR\",\"\")))))","v":"NR"},{"$f":"IF(U184=\"x\",4,IF(V184=\"x\",3,IF(W184=\"x\",2,IF(X184=\"x\",1,IF(Y184=\"x\",\"NR\",\"\")))))","v":"NR"}]
[]
[{"$f":"MA!$A$79","v":"MA4"},{"$f":"MA!$B$79","v":"Maintenance materials"}]
[{"$f":"MA!$A$80","v":"MA4.1"},{"$f":"MA!$C$80","v":"List of critical spare parts"},null,null,"NA",null,{"$f":"IF(E187=MA!$D$84,\"X\",\"\")","v":""},{"$f":"IF(E187=MA!$D$83,\"X\",\"\")","v":""},{"$f":"IF(E187=MA!$D$82,\"X\",\"\")","v":""},{"$f":"IF(E187=MA!$D$81,\"X\",\"\")","v":""},{"$f":"IF(E187=MA!$D$85,\"X\",\"\")","v":"X"},"NA",null,{"$f":"IF(L187=MA!$D$84,\"X\",\"\")","v":""},{"$f":"IF(L187=MA!$D$83,\"X\",\"\")","v":""},{"$f":"IF(L187=MA!$D$82,\"X\",\"\")","v":""},{"$f":"IF(L187=MA!$D$81,\"X\",\"\")","v":""},{"$f":"IF(L187=MA!$D$85,\"X\",\"\")","v":"X"},"NA",null,{"$f":"IF(S187=MA!$D$84,\"X\",\"\")","v":""},{"$f":"IF(S187=MA!$D$83,\"X\",\"\")","v":""},{"$f":"IF(S187=MA!$D$82,\"X\",\"\")","v":""},{"$f":"IF(S187=MA!$D$81,\"X\",\"\")","v":""},{"$f":"IF(S187=MA!$D$85,\"X\",\"\")","v":"X"},{"$f":"IF(G187=\"x\",4,IF(H187=\"x\",3,IF(I187=\"x\",2,IF(J187=\"x\",1,IF(K187=\"x\",\"NR\",\"\")))))","v":"NR"},{"$f":"IF(N187=\"x\",4,IF(O187=\"x\",3,IF(P187=\"x\",2,IF(Q187=\"x\",1,IF(R187=\"x\",\"NR\",\"\")))))","v":"NR"},{"$f":"IF(U187=\"x\",4,IF(V187=\"x\",3,IF(W187=\"x\",2,IF(X187=\"x\",1,IF(Y187=\"x\",\"NR\",\"\")))))","v":"NR"},{"$f":"SUM(Z187:Z190)","v":0},{"$f":"SUM(AA187:AA190)","v":0},{"$f":"SUM(AB187:AB190)","v":0}]
[{"$f":"MA!$A$86","v":"MA4.2"},{"$f":"MA!$C$86","v":"Spare parts are available"},null,null,"NA",null,{"$f":"IF(E188=MA!$D$90,\"X\",\"\")","v":""},{"$f":"IF(E188=MA!$D$89,\"X\",\"\")","v":""},{"$f":"IF(E188=MA!$D$88,\"X\",\"\")","v":""},{"$f":"IF(E188=MA!$D$87,\"X\",\"\")","v":""},{"$f":"IF(E188=MA!$D$91,\"X\",\"\")","v":"X"},"NA",null,{"$f":"IF(L188=MA!$D$90,\"X\",\"\")","v":""},{"$f":"IF(L188=MA!$D$89,\"X\",\"\")","v":""},{"$f":"IF(L188=MA!$D$88,\"X\",\"\")","v":""},{"$f":"IF(L188=MA!$D$87,\"X\",\"\")","v":""},{"$f":"IF(L188=MA!$D$91,\"X\",\"\")","v":"X"},"NA",null,{"$f":"IF(S188=MA!$D$90,\"X\",\"\")","v":""},{"$f":"IF(S188=MA!$D$89,\"X\",\"\")","v":""},{"$f":"IF(S188=MA!$D$88,\"X\",\"\")","v":""},{"$f":"IF(S188=MA!$D$87,\"X\",\"\")","v":""},{"$f":"IF(S188=MA!$D$91,\"X\",\"\")","v":"X"},{"$f":"IF(G188=\"x\",4,IF(H188=\"x\",3,IF(I188=\"x\",2,IF(J188=\"x\",1,IF(K188=\"x\",\"NR\",\"\")))))","v":"NR"},{"$f":"IF(N188=\"x\",4,IF(O188=\"x\",3,IF(P188=\"x\",2,IF(Q188=\"x\",1,IF(R188=\"x\",\"NR\",\"\")))))","v":"NR"},{"$f":"IF(U188=\"x\",4,IF(V188=\"x\",3,IF(W188=\"x\",2,IF(X188=\"x\",1,IF(Y188=\"x\",\"NR\",\"\")))))","v":"NR"}]
[{"$f":"MA!$A$92","v":"MA4.3"},{"$f":"MA!$C$92","v":"Part storage condition and physical inspections are performed"},null,null,"NA",null,{"$f":"IF(E189=MA!$D$96,\"X\",\"\")","v":""},{"$f":"IF(E189=MA!$D$95,\"X\",\"\")","v":""},{"$f":"IF(E189=MA!$D$94,\"X\",\"\")","v":""},{"$f":"IF(E189=MA!$D$93,\"X\",\"\")","v":""},{"$f":"IF(E189=MA!$D$97,\"X\",\"\")","v":"X"},"NA",null,{"$f":"IF(L189=MA!$D$96,\"X\",\"\")","v":""},{"$f":"IF(L189=MA!$D$95,\"X\",\"\")","v":""},{"$f":"IF(L189=MA!$D$94,\"X\",\"\")","v":""},{"$f":"IF(L189=MA!$D$93,\"X\",\"\")","v":""},{"$f":"IF(L189=MA!$D$97,\"X\",\"\")","v":"X"},"NA",null,{"$f":"IF(S189=MA!$D$96,\"X\",\"\")","v":""},{"$f":"IF(S189=MA!$D$95,\"X\",\"\")","v":""},{"$f":"IF(S189=MA!$D$94,\"X\",\"\")","v":""},{"$f":"IF(S189=MA!$D$93,\"X\",\"\")","v":""},{"$f":"IF(S189=MA!$D$97,\"X\",\"\")","v":"X"},{"$f":"IF(G189=\"x\",4,IF(H189=\"x\",3,IF(I189=\"x\",2,IF(J189=\"x\",1,IF(K189=\"x\",\"NR\",\"\")))))","v":"NR"},{"$f":"IF(N189=\"x\",4,IF(O189=\"x\",3,IF(P189=\"x\",2,IF(Q189=\"x\",1,IF(R189=\"x\",\"NR\",\"\")))))","v":"NR"},{"$f":"IF(U189=\"x\",4,IF(V189=\"x\",3,IF(W189=\"x\",2,IF(X189=\"x\",1,IF(Y189=\"x\",\"NR\",\"\")))))","v":"NR"}]
[{"$f":"MA!$A$98","v":"MA4.4"},{"$f":"MA!$C$98","v":"Maintenance material suppliers are identified"},null,null,"NA",null,{"$f":"IF(E190=MA!$D$102,\"X\",\"\")","v":""},{"$f":"IF(E190=MA!$D$101,\"X\",\"\")","v":""},{"$f":"IF(E190=MA!$D$100,\"X\",\"\")","v":""},{"$f":"IF(E190=MA!$D$99,\"X\",\"\")","v":""},{"$f":"IF(E190=MA!$D$103,\"X\",\"\")","v":"X"},"NA",null,{"$f":"IF(L190=MA!$D$102,\"X\",\"\")","v":""},{"$f":"IF(L190=MA!$D$101,\"X\",\"\")","v":""},{"$f":"IF(L190=MA!$D$100,\"X\",\"\")","v":""},{"$f":"IF(L190=MA!$D$99,\"X\",\"\")","v":""},{"$f":"IF(L190=MA!$D$103,\"X\",\"\")","v":"X"},"NA",null,{"$f":"IF(S190=MA!$D$102,\"X\",\"\")","v":""},{"$f":"IF(S190=MA!$D$101,\"X\",\"\")","v":""},{"$f":"IF(S190=MA!$D$100,\"X\",\"\")","v":""},{"$f":"IF(S190=MA!$D$99,\"X\",\"\")","v":""},{"$f":"IF(S190=MA!$D$103,\"X\",\"\")","v":"X"},{"$f":"IF(G190=\"x\",4,IF(H190=\"x\",3,IF(I190=\"x\",2,IF(J190=\"x\",1,IF(K190=\"x\",\"NR\",\"\")))))","v":"NR"},{"$f":"IF(N190=\"x\",4,IF(O190=\"x\",3,IF(P190=\"x\",2,IF(Q190=\"x\",1,IF(R190=\"x\",\"NR\",\"\")))))","v":"NR"},{"$f":"IF(U190=\"x\",4,IF(V190=\"x\",3,IF(W190=\"x\",2,IF(X190=\"x\",1,IF(Y190=\"x\",\"NR\",\"\")))))","v":"NR"}]
[]
[{"$f":"MA!$A$104","v":"MA5"},{"$f":"MA!$B$104","v":"Product specific tools"}]
[{"$f":"MA!$A$105","v":"MA5.1"},{"$f":"MA!$C$105","v":"Customer Specific Tool (CST) is identified"},null,null,"NA",null,{"$f":"IF(E193=MA!$D$109,\"X\",\"\")","v":""},{"$f":"IF(E193=MA!$D$108,\"X\",\"\")","v":""},{"$f":"IF(E193=MA!$D$107,\"X\",\"\")","v":""},{"$f":"IF(E193=MA!$D$106,\"X\",\"\")","v":""},{"$f":"IF(E193=MA!$D$110,\"X\",\"\")","v":"X"},"NA",null,{"$f":"IF(L193=MA!$D$109,\"X\",\"\")","v":""},{"$f":"IF(L193=MA!$D$108,\"X\",\"\")","v":""},{"$f":"IF(L193=MA!$D$107,\"X\",\"\")","v":""},{"$f":"IF(L193=MA!$D$106,\"X\",\"\")","v":""},{"$f":"IF(L193=MA!$D$110,\"X\",\"\")","v":"X"},"NA",null,{"$f":"IF(S193=MA!$D$109,\"X\",\"\")","v":""},{"$f":"IF(S193=MA!$D$108,\"X\",\"\")","v":""},{"$f":"IF(S193=MA!$D$107,\"X\",\"\")","v":""},{"$f":"IF(S193=MA!$D$106,\"X\",\"\")","v":""},{"$f":"IF(S193=MA!$D$110,\"X\",\"\")","v":"X"},{"$f":"IF(G193=\"x\",4,IF(H193=\"x\",3,IF(I193=\"x\",2,IF(J193=\"x\",1,IF(K193=\"x\",\"NR\",\"\")))))","v":"NR"},{"$f":"IF(N193=\"x\",4,IF(O193=\"x\",3,IF(P193=\"x\",2,IF(Q193=\"x\",1,IF(R193=\"x\",\"NR\",\"\")))))","v":"NR"},{"$f":"IF(U193=\"x\",4,IF(V193=\"x\",3,IF(W193=\"x\",2,IF(X193=\"x\",1,IF(Y193=\"x\",\"NR\",\"\")))))","v":"NR"},{"$f":"SUM(Z193:Z196)","v":0},{"$f":"SUM(AA193:AA196)","v":0},{"$f":"SUM(AB193:AB196)","v":0}]
[{"$f":"MA!$A$111","v":"MA5.2"},{"$f":"MA!$C$111","v":"Storage of CST is organized and managed"},null,null,"NA",null,{"$f":"IF(E194=MA!$D$115,\"X\",\"\")","v":""},{"$f":"IF(E194=MA!$D$114,\"X\",\"\")","v":""},{"$f":"IF(E194=MA!$D$113,\"X\",\"\")","v":""},{"$f":"IF(E194=MA!$D$112,\"X\",\"\")","v":""},{"$f":"IF(E194=MA!$D$116,\"X\",\"\")","v":"X"},"NA",null,{"$f":"IF(L194=MA!$D$115,\"X\",\"\")","v":""},{"$f":"IF(L194=MA!$D$114,\"X\",\"\")","v":""},{"$f":"IF(L194=MA!$D$113,\"X\",\"\")","v":""},{"$f":"IF(L194=MA!$D$112,\"X\",\"\")","v":""},{"$f":"IF(L194=MA!$D$116,\"X\",\"\")","v":"X"},"NA",null,{"$f":"IF(S194=MA!$D$115,\"X\",\"\")","v":""},{"$f":"IF(S194=MA!$D$114,\"X\",\"\")","v":""},{"$f":"IF(S194=MA!$D$113,\"X\",\"\")","v":""},{"$f":"IF(S194=MA!$D$112,\"X\",\"\")","v":""},{"$f":"IF(S194=MA!$D$116,\"X\",\"\")","v":"X"},{"$f":"IF(G194=\"x\",4,IF(H194=\"x\",3,IF(I194=\"x\",2,IF(J194=\"x\",1,IF(K194=\"x\",\"NR\",\"\")))))","v":"NR"},{"$f":"IF(N194=\"x\",4,IF(O194=\"x\",3,IF(P194=\"x\",2,IF(Q194=\"x\",1,IF(R194=\"x\",\"NR\",\"\")))))","v":"NR"},{"$f":"IF(U194=\"x\",4,IF(V194=\"x\",3,IF(W194=\"x\",2,IF(X194=\"x\",1,IF(Y194=\"x\",\"NR\",\"\")))))","v":"NR"}]
[{"$f":"MA!$A$117","v":"MA5.3"},{"$f":"MA!$C$117","v":"Tool release process after storage"},null,null,"NA",null,{"$f":"IF(E195=MA!$D$121,\"X\",\"\")","v":""},{"$f":"IF(E195=MA!$D$120,\"X\",\"\")","v":""},{"$f":"IF(E195=MA!$D$119,\"X\",\"\")","v":""},{"$f":"IF(E195=MA!$D$118,\"X\",\"\")","v":""},{"$f":"IF(E195=MA!$D$122,\"X\",\"\")","v":"X"},"NA",null,{"$f":"IF(L195=MA!$D$121,\"X\",\"\")","v":""},{"$f":"IF(L195=MA!$D$120,\"X\",\"\")","v":""},{"$f":"IF(L195=MA!$D$119,\"X\",\"\")","v":""},{"$f":"IF(L195=MA!$D$118,\"X\",\"\")","v":""},{"$f":"IF(L195=MA!$D$122,\"X\",\"\")","v":"X"},"NA",null,{"$f":"IF(S195=MA!$D$121,\"X\",\"\")","v":""},{"$f":"IF(S195=MA!$D$120,\"X\",\"\")","v":""},{"$f":"IF(S195=MA!$D$119,\"X\",\"\")","v":""},{"$f":"IF(S195=MA!$D$118,\"X\",\"\")","v":""},{"$f":"IF(S195=MA!$D$122,\"X\",\"\")","v":"X"},{"$f":"IF(G195=\"x\",4,IF(H195=\"x\",3,IF(I195=\"x\",2,IF(J195=\"x\",1,IF(K195=\"x\",\"NR\",\"\")))))","v":"NR"},{"$f":"IF(N195=\"x\",4,IF(O195=\"x\",3,IF(P195=\"x\",2,IF(Q195=\"x\",1,IF(R195=\"x\",\"NR\",\"\")))))","v":"NR"},{"$f":"IF(U195=\"x\",4,IF(V195=\"x\",3,IF(W195=\"x\",2,IF(X195=\"x\",1,IF(Y195=\"x\",\"NR\",\"\")))))","v":"NR"}]
[{"$f":"MA!$A$123","v":"MA5.4"},{"$f":"MA!$C$123","v":"Product/process re-qualification is carried out"},null,null,"NA",null,{"$f":"IF(E196=MA!$D$127,\"X\",\"\")","v":""},{"$f":"IF(E196=MA!$D$126,\"X\",\"\")","v":""},{"$f":"IF(E196=MA!$D$125,\"X\",\"\")","v":""},{"$f":"IF(E196=MA!$D$124,\"X\",\"\")","v":""},{"$f":"IF(E196=MA!$D$128,\"X\",\"\")","v":"X"},"NA",null,{"$f":"IF(L196=MA!$D$127,\"X\",\"\")","v":""},{"$f":"IF(L196=MA!$D$126,\"X\",\"\")","v":""},{"$f":"IF(L196=MA!$D$125,\"X\",\"\")","v":""},{"$f":"IF(L196=MA!$D$124,\"X\",\"\")","v":""},{"$f":"IF(L196=MA!$D$128,\"X\",\"\")","v":"X"},"NA",null,{"$f":"IF(S196=MA!$D$127,\"X\",\"\")","v":""},{"$f":"IF(S196=MA!$D$126,\"X\",\"\")","v":""},{"$f":"IF(S196=MA!$D$125,\"X\",\"\")","v":""},{"$f":"IF(S196=MA!$D$124,\"X\",\"\")","v":""},{"$f":"IF(S196=MA!$D$128,\"X\",\"\")","v":"X"},{"$f":"IF(G196=\"x\",4,IF(H196=\"x\",3,IF(I196=\"x\",2,IF(J196=\"x\",1,IF(K196=\"x\",\"NR\",\"\")))))","v":"NR"},{"$f":"IF(N196=\"x\",4,IF(O196=\"x\",3,IF(P196=\"x\",2,IF(Q196=\"x\",1,IF(R196=\"x\",\"NR\",\"\")))))","v":"NR"},{"$f":"IF(U196=\"x\",4,IF(V196=\"x\",3,IF(W196=\"x\",2,IF(X196=\"x\",1,IF(Y196=\"x\",\"NR\",\"\")))))","v":"NR"}]
[]
[{"$f":"MA!$A$129","v":"MAE"},{"$f":"MA!$B$129","v":"Activities are tracked to ensure effectiveness"}]
[{"$f":"MA!$A$130","v":"MAE.1"},{"$f":"MA!$C$130","v":"Effectiveness & Efficiency targets defined"},null,null,"NA",null,{"$f":"IF(E199=MA!$D$134,\"X\",\"\")","v":""},{"$f":"IF(E199=MA!$D$133,\"X\",\"\")","v":""},{"$f":"IF(E199=MA!$D$132,\"X\",\"\")","v":""},{"$f":"IF(E199=MA!$D$131,\"X\",\"\")","v":""},{"$f":"IF(E199=MA!$D$135,\"X\",\"\")","v":"X"},"NA",null,{"$f":"IF(L199=MA!$D$134,\"X\",\"\")","v":""},{"$f":"IF(L199=MA!$D$133,\"X\",\"\")","v":""},{"$f":"IF(L199=MA!$D$132,\"X\",\"\")","v":""},{"$f":"IF(L199=MA!$D$131,\"X\",\"\")","v":""},{"$f":"IF(L199=MA!$D$135,\"X\",\"\")","v":"X"},"NA",null,{"$f":"IF(S199=MA!$D$134,\"X\",\"\")","v":""},{"$f":"IF(S199=MA!$D$133,\"X\",\"\")","v":""},{"$f":"IF(S199=MA!$D$132,\"X\",\"\")","v":""},{"$f":"IF(S199=MA!$D$131,\"X\",\"\")","v":""},{"$f":"IF(S199=MA!$D$135,\"X\",\"\")","v":"X"},{"$f":"IF(G199=\"x\",4,IF(H199=\"x\",3,IF(I199=\"x\",2,IF(J199=\"x\",1,IF(K199=\"x\",\"NR\",\"\")))))","v":"NR"},{"$f":"IF(N199=\"x\",4,IF(O199=\"x\",3,IF(P199=\"x\",2,IF(Q199=\"x\",1,IF(R199=\"x\",\"NR\",\"\")))))","v":"NR"},{"$f":"IF(U199=\"x\",4,IF(V199=\"x\",3,IF(W199=\"x\",2,IF(X199=\"x\",1,IF(Y199=\"x\",\"NR\",\"\")))))","v":"NR"},{"$f":"SUM(Z199)","v":0},{"$f":"SUM(AA199)","v":0},{"$f":"SUM(AB199)","v":0}]
[]
[null,null,null,null,null,null,null,null,null,null,null,null,null,null,null,null,null,null,null,null,null,null,null,null,null,"Total",null,null,{"$f":"(AC169+AC175+AC181+AC187+AC193+AC199)","v":0},{"$f":"(AD193+AD187+AD181+AD175+AD169+AD199)","v":0},{"$f":"(AE193+AE187+AE181+AE175+AE169+AE199)","v":0}]
[null,null,null,null,null,null,null,null,null,null,null," "," "," "," "," "," "," ",null," "," "," "," "," "," ","Potential",null,null,{"$f":"COUNT(Z169:Z199)*4","v":0},{"$f":"COUNT(AA169:AA199)*4","v":0},{"$f":"COUNT(AB169:AB199)*4","v":0}]
[null,null,null,null,null,null,null,null,null,null,null,null,null,null,null,null,null,null,null,null,null,null,null,null,null,"Total Score",null,null,{"$f":"IF(AC202<>0,AC201/AC202,\"NR\")","v":"NR"},{"$f":"IF(AD202<>0,AD201/AD202,\"NR\")","v":"NR"},{"$f":"IF(AE202<>0,AE201/AE202,\"NR\")","v":"NR"}]
[]
[]
[" ",{"$f":"TR!B2","v":"Training"},null,null,"Build up Score Assessment"," ","Build up Scoring",null,null,null,null,"Build up Score Assessment"," ","Build up Scoring",null,null,null,null,"Build up Score Assessment"," ","Build up Scoring",null,null,null,null,null,null,null,"Sub Element Score"]
[{"$f":"TR!$A$4","v":"TR1.0"},{"$f":"TR!$B$4","v":"Training process is defined"},null,"Sub-Element",null,null,4,3,2,1,"NR",null,null,4,3,2,1,"NR",null,null,4,3,2,1,"NR","Self","Onsite","Current","Self","Onsite","Current","Procedures","Findings","Comments"]
[{"$f":"TR!$A$5","v":"TR1.1"},{"$f":"TR!$C$5","v":"Training process covers the staff"},null,null,"NA",null,{"$f":"IF(E208=TR!$D$9,\"X\",\"\")","v":""},{"$f":"IF(E208=TR!$D$8,\"X\",\"\")","v":""},{"$f":"IF(E208=TR!$D$7,\"X\",\"\")","v":""},{"$f":"IF(E208=TR!$D$6,\"X\",\"\")","v":""},{"$f":"IF(E208=TR!$D$10,\"X\",\"\")","v":"X"},"NA",null,{"$f":"IF(L208=TR!$D$9,\"X\",\"\")","v":""},{"$f":"IF(L208=TR!$D$8,\"X\",\"\")","v":""},{"$f":"IF(L208=TR!$D$7,\"X\",\"\")","v":""},{"$f":"IF(L208=TR!$D$6,\"X\",\"\")","v":""},{"$f":"IF(L208=TR!$D$10,\"X\",\"\")","v":"X"},"NA",null,{"$f":"IF(S208=TR!$D$9,\"X\",\"\")","v":""},{"$f":"IF(S208=TR!$D$8,\"X\",\"\")","v":""},{"$f":"IF(S208=TR!$D$7,\"X\",\"\")","v":""},{"$f":"IF(S208=TR!$D$6,\"X\",\"\")","v":""},{"$f":"IF(S208=TR!$D$10,\"X\",\"\")","v":"X"},{"$f":"IF(G208=\"x\",4,IF(H208=\"x\",3,IF(I208=\"x\",2,IF(J208=\"x\",1,IF(K208=\"x\",\"NR\",\"\")))))","v":"NR"},{"$f":"IF(N208=\"x\",4,IF(O208=\"x\",3,IF(P208=\"x\",2,IF(Q208=\"x\",1,IF(R208=\"x\",\"NR\",\"\")))))","v":"NR"},{"$f":"IF(U208=\"x\",4,IF(V208=\"x\",3,IF(W208=\"x\",2,IF(X208=\"x\",1,IF(Y208=\"x\",\"NR\",\"\")))))","v":"NR"},{"$f":"SUM(Z208:Z211)","v":0},{"$f":"SUM(AA208:AA211)","v":0},{"$f":"SUM(AB208:AB211)","v":0}]
[{"$f":"TR!$A$11","v":"TR1.2"},{"$f":"TR!$C$11","v":"Internal trainers"},null,null,"NA",null,{"$f":"IF(E209=TR!$D$15,\"X\",\"\")","v":""},{"$f":"IF(E209=TR!$D$14,\"X\",\"\")","v":""},{"$f":"IF(E209=TR!$D$13,\"X\",\"\")","v":""},{"$f":"IF(E209=TR!$D$12,\"X\",\"\")","v":""},{"$f":"IF(E209=TR!$D$16,\"X\",\"\")","v":"X"},"NA",null,{"$f":"IF(L209=TR!$D$15,\"X\",\"\")","v":""},{"$f":"IF(L209=TR!$D$14,\"X\",\"\")","v":""},{"$f":"IF(L209=TR!$D$13,\"X\",\"\")","v":""},{"$f":"IF(L209=TR!$D$12,\"X\",\"\")","v":""},{"$f":"IF(L209=TR!$D$16,\"X\",\"\")","v":"X"},"NA",null,{"$f":"IF(S209=TR!$D$15,\"X\",\"\")","v":""},{"$f":"IF(S209=TR!$D$14,\"X\",\"\")","v":""},{"$f":"IF(S209=TR!$D$13,\"X\",\"\")","v":""},{"$f":"IF(S209=TR!$D$12,\"X\",\"\")","v":""},{"$f":"IF(S209=TR!$D$16,\"X\",\"\")","v":"X"},{"$f":"IF(G209=\"x\",4,IF(H209=\"x\",3,IF(I209=\"x\",2,IF(J209=\"x\",1,IF(K209=\"x\",\"NR\",\"\")))))","v":"NR"},{"$f":"IF(N209=\"x\",4,IF(O209=\"x\",3,IF(P209=\"x\",2,IF(Q209=\"x\",1,IF(R209=\"x\",\"NR\",\"\")))))","v":"NR"},{"$f":"IF(U209=\"x\",4,IF(V209=\"x\",3,IF(W209=\"x\",2,IF(X209=\"x\",1,IF(Y209=\"x\",\"NR\",\"\")))))","v":"NR"}]
[{"$f":"TR!$A$17","v":"TR1.3"},{"$f":"TR!$C$17","v":"Graduating step "},null,null,"NA",null,{"$f":"IF(E210=TR!$D$21,\"X\",\"\")","v":""},{"$f":"IF(E210=TR!$D$20,\"X\",\"\")","v":""},{"$f":"IF(E210=TR!$D$19,\"X\",\"\")","v":""},{"$f":"IF(E210=TR!$D$18,\"X\",\"\")","v":""},{"$f":"IF(E210=TR!$D$22,\"X\",\"\")","v":"X"},"NA",null,{"$f":"IF(L210=TR!$D$21,\"X\",\"\")","v":""},{"$f":"IF(L210=TR!$D$20,\"X\",\"\")","v":""},{"$f":"IF(L210=TR!$D$19,\"X\",\"\")","v":""},{"$f":"IF(L210=TR!$D$18,\"X\",\"\")","v":""},{"$f":"IF(L210=TR!$D$22,\"X\",\"\")","v":"X"},"NA",null,{"$f":"IF(S210=TR!$D$21,\"X\",\"\")","v":""},{"$f":"IF(S210=TR!$D$20,\"X\",\"\")","v":""},{"$f":"IF(S210=TR!$D$19,\"X\",\"\")","v":""},{"$f":"IF(S210=TR!$D$18,\"X\",\"\")","v":""},{"$f":"IF(S210=TR!$D$22,\"X\",\"\")","v":"X"},{"$f":"IF(G210=\"x\",4,IF(H210=\"x\",3,IF(I210=\"x\",2,IF(J210=\"x\",1,IF(K210=\"x\",\"NR\",\"\")))))","v":"NR"},{"$f":"IF(N210=\"x\",4,IF(O210=\"x\",3,IF(P210=\"x\",2,IF(Q210=\"x\",1,IF(R210=\"x\",\"NR\",\"\")))))","v":"NR"},{"$f":"IF(U210=\"x\",4,IF(V210=\"x\",3,IF(W210=\"x\",2,IF(X210=\"x\",1,IF(Y210=\"x\",\"NR\",\"\")))))","v":"NR"}]
[{"$f":"TR!$A$23","v":"TR1.4"},{"$f":"TR!$C$23","v":"On the job training"},null,null,"NA",null,{"$f":"IF(E211=TR!$D$27,\"X\",\"\")","v":""},{"$f":"IF(E211=TR!$D$26,\"X\",\"\")","v":""},{"$f":"IF(E211=TR!$D$25,\"X\",\"\")","v":""},{"$f":"IF(E211=TR!$D$24,\"X\",\"\")","v":""},{"$f":"IF(E211=TR!$D$28,\"X\",\"\")","v":"X"},"NA",null,{"$f":"IF(L211=TR!$D$27,\"X\",\"\")","v":""},{"$f":"IF(L211=TR!$D$26,\"X\",\"\")","v":""},{"$f":"IF(L211=TR!$D$25,\"X\",\"\")","v":""},{"$f":"IF(L211=TR!$D$24,\"X\",\"\")","v":""},{"$f":"IF(L211=TR!$D$28,\"X\",\"\")","v":"X"},"NA",null,{"$f":"IF(S211=TR!$D$27,\"X\",\"\")","v":""},{"$f":"IF(S211=TR!$D$26,\"X\",\"\")","v":""},{"$f":"IF(S211=TR!$D$25,\"X\",\"\")","v":""},{"$f":"IF(S211=TR!$D$24,\"X\",\"\")","v":""},{"$f":"IF(S211=TR!$D$28,\"X\",\"\")","v":"X"},{"$f":"IF(G211=\"x\",4,IF(H211=\"x\",3,IF(I211=\"x\",2,IF(J211=\"x\",1,IF(K211=\"x\",\"NR\",\"\")))))","v":"NR"},{"$f":"IF(N211=\"x\",4,IF(O211=\"x\",3,IF(P211=\"x\",2,IF(Q211=\"x\",1,IF(R211=\"x\",\"NR\",\"\")))))","v":"NR"},{"$f":"IF(U211=\"x\",4,IF(V211=\"x\",3,IF(W211=\"x\",2,IF(X211=\"x\",1,IF(Y211=\"x\",\"NR\",\"\")))))","v":"NR"}]
[]
[{"$f":"TR!$A$29","v":"TR2.0"},{"$f":"TR!$B$29","v":"Training Safety & Corporate Responsibility"}]
[{"$f":"TR!$A$30","v":"TR2.1"},{"$f":"TR!$C$30","v":"Safety policy"},null,null,"NA",null,{"$f":"IF(E214=TR!$D$34,\"X\",\"\")","v":""},{"$f":"IF(E214=TR!$D$33,\"X\",\"\")","v":""},{"$f":"IF(E214=TR!$D$32,\"X\",\"\")","v":""},{"$f":"IF(E214=TR!$D$31,\"X\",\"\")","v":""},{"$f":"IF(E214=TR!$D$35,\"X\",\"\")","v":"X"},"NA",null,{"$f":"IF(L214=TR!$D$34,\"X\",\"\")","v":""},{"$f":"IF(L214=TR!$D$33,\"X\",\"\")","v":""},{"$f":"IF(L214=TR!$D$32,\"X\",\"\")","v":""},{"$f":"IF(L214=TR!$D$31,\"X\",\"\")","v":""},{"$f":"IF(L214=TR!$D$35,\"X\",\"\")","v":"X"},"NA",null,{"$f":"IF(S214=TR!$D$34,\"X\",\"\")","v":""},{"$f":"IF(S214=TR!$D$33,\"X\",\"\")","v":""},{"$f":"IF(S214=TR!$D$32,\"X\",\"\")","v":""},{"$f":"IF(S214=TR!$D$31,\"X\",\"\")","v":""},{"$f":"IF(S214=TR!$D$35,\"X\",\"\")","v":"X"},{"$f":"IF(G214=\"x\",4,IF(H214=\"x\",3,IF(I214=\"x\",2,IF(J214=\"x\",1,IF(K214=\"x\",\"NR\",\"\")))))","v":"NR"},{"$f":"IF(N214=\"x\",4,IF(O214=\"x\",3,IF(P214=\"x\",2,IF(Q214=\"x\",1,IF(R214=\"x\",\"NR\",\"\")))))","v":"NR"},{"$f":"IF(U214=\"x\",4,IF(V214=\"x\",3,IF(W214=\"x\",2,IF(X214=\"x\",1,IF(Y214=\"x\",\"NR\",\"\")))))","v":"NR"},{"$f":"SUM(Z214:Z217)","v":0},{"$f":"SUM(AA214:AA217)","v":0},{"$f":"SUM(AB214:AB217)","v":0}]
[{"$f":"TR!$A$36","v":"TR2.2"},{"$f":"TR!$C$36","v":"Staff is trained"},null,null,"NA",null,{"$f":"IF(E215=TR!$D$40,\"X\",\"\")","v":""},{"$f":"IF(E215=TR!$D$39,\"X\",\"\")","v":""},{"$f":"IF(E215=TR!$D$38,\"X\",\"\")","v":""},{"$f":"IF(E215=TR!$D$37,\"X\",\"\")","v":""},{"$f":"IF(E215=TR!$D$41,\"X\",\"\")","v":"X"},"NA",null,{"$f":"IF(L215=TR!$D$40,\"X\",\"\")","v":""},{"$f":"IF(L215=TR!$D$39,\"X\",\"\")","v":""},{"$f":"IF(L215=TR!$D$38,\"X\",\"\")","v":""},{"$f":"IF(L215=TR!$D$37,\"X\",\"\")","v":""},{"$f":"IF(L215=TR!$D$41,\"X\",\"\")","v":"X"},"NA",null,{"$f":"IF(S215=TR!$D$40,\"X\",\"\")","v":""},{"$f":"IF(S215=TR!$D$39,\"X\",\"\")","v":""},{"$f":"IF(S215=TR!$D$38,\"X\",\"\")","v":""},{"$f":"IF(S215=TR!$D$37,\"X\",\"\")","v":""},{"$f":"IF(S215=TR!$D$41,\"X\",\"\")","v":"X"},{"$f":"IF(G215=\"x\",4,IF(H215=\"x\",3,IF(I215=\"x\",2,IF(J215=\"x\",1,IF(K215=\"x\",\"NR\",\"\")))))","v":"NR"},{"$f":"IF(N215=\"x\",4,IF(O215=\"x\",3,IF(P215=\"x\",2,IF(Q215=\"x\",1,IF(R215=\"x\",\"NR\",\"\")))))","v":"NR"},{"$f":"IF(U215=\"x\",4,IF(V215=\"x\",3,IF(W215=\"x\",2,IF(X215=\"x\",1,IF(Y215=\"x\",\"NR\",\"\")))))","v":"NR"}]
[{"$f":"TR!$A$42","v":"TR2.3"},{"$f":"TR!$C$42","v":"Visitors safety"},null,null,"NA",null,{"$f":"IF(E216=TR!$D$46,\"X\",\"\")","v":""},{"$f":"IF(E216=TR!$D$45,\"X\",\"\")","v":""},{"$f":"IF(E216=TR!$D$44,\"X\",\"\")","v":""},{"$f":"IF(E216=TR!$D$43,\"X\",\"\")","v":""},{"$f":"IF(E216=TR!$D$47,\"X\",\"\")","v":"X"},"NA",null,{"$f":"IF(L216=TR!$D$46,\"X\",\"\")","v":""},{"$f":"IF(L216=TR!$D$45,\"X\",\"\")","v":""},{"$f":"IF(L216=TR!$D$44,\"X\",\"\")","v":""},{"$f":"IF(L216=TR!$D$43,\"X\",\"\")","v":""},{"$f":"IF(L216=TR!$D$47,\"X\",\"\")","v":"X"},"NA",null,{"$f":"IF(S216=TR!$D$46,\"X\",\"\")","v":""},{"$f":"IF(S216=TR!$D$45,\"X\",\"\")","v":""},{"$f":"IF(S216=TR!$D$44,\"X\",\"\")","v":""},{"$f":"IF(S216=TR!$D$43,\"X\",\"\")","v":""},{"$f":"IF(S216=TR!$D$47,\"X\",\"\")","v":"X"},{"$f":"IF(G216=\"x\",4,IF(H216=\"x\",3,IF(I216=\"x\",2,IF(J216=\"x\",1,IF(K216=\"x\",\"NR\",\"\")))))","v":"NR"},{"$f":"IF(N216=\"x\",4,IF(O216=\"x\",3,IF(P216=\"x\",2,IF(Q216=\"x\",1,IF(R216=\"x\",\"NR\",\"\")))))","v":"NR"},{"$f":"IF(U216=\"x\",4,IF(V216=\"x\",3,IF(W216=\"x\",2,IF(X216=\"x\",1,IF(Y216=\"x\",\"NR\",\"\")))))","v":"NR"}]
[{"$f":"TR!$A$48","v":"TR2.4"},{"$f":"TR!$C$48","v":"Corporate Responsibility Training"},null,null,"NA",null,{"$f":"IF(E217=TR!$D$52,\"X\",\"\")","v":""},{"$f":"IF(E217=TR!$D$51,\"X\",\"\")","v":""},{"$f":"IF(E217=TR!$D$50,\"X\",\"\")","v":""},{"$f":"IF(E217=TR!$D$49,\"X\",\"\")","v":""},{"$f":"IF(E217=TR!$D$53,\"X\",\"\")","v":"X"},"NA",null,{"$f":"IF(L217=TR!$D$52,\"X\",\"\")","v":""},{"$f":"IF(L217=TR!$D$51,\"X\",\"\")","v":""},{"$f":"IF(L217=TR!$D$50,\"X\",\"\")","v":""},{"$f":"IF(L217=TR!$D$49,\"X\",\"\")","v":""},{"$f":"IF(L217=TR!$D$53,\"X\",\"\")","v":"X"},"NA",null,{"$f":"IF(S217=TR!$D$52,\"X\",\"\")","v":""},{"$f":"IF(S217=TR!$D$51,\"X\",\"\")","v":""},{"$f":"IF(S217=TR!$D$50,\"X\",\"\")","v":""},{"$f":"IF(S217=TR!$D$49,\"X\",\"\")","v":""},{"$f":"IF(S217=TR!$D$53,\"X\",\"\")","v":"X"},{"$f":"IF(G217=\"x\",4,IF(H217=\"x\",3,IF(I217=\"x\",2,IF(J217=\"x\",1,IF(K217=\"x\",\"NR\",\"\")))))","v":"NR"},{"$f":"IF(N217=\"x\",4,IF(O217=\"x\",3,IF(P217=\"x\",2,IF(Q217=\"x\",1,IF(R217=\"x\",\"NR\",\"\")))))","v":"NR"},{"$f":"IF(U217=\"x\",4,IF(V217=\"x\",3,IF(W217=\"x\",2,IF(X217=\"x\",1,IF(Y217=\"x\",\"NR\",\"\")))))","v":"NR"}]
[]
[{"$f":"TR!$A$54","v":"TR3.0"},{"$f":"TR!$B$54","v":"Employee Training"}]
[{"$f":"TR!$A$55","v":"TR3.1"},{"$f":"TR!$C$55","v":"Basic training"},null,null,"NA",null,{"$f":"IF(E220=TR!$D$59,\"X\",\"\")","v":""},{"$f":"IF(E220=TR!$D$58,\"X\",\"\")","v":""},{"$f":"IF(E220=TR!$D$57,\"X\",\"\")","v":""},{"$f":"IF(E220=TR!$D$56,\"X\",\"\")","v":""},{"$f":"IF(E220=TR!$D$60,\"X\",\"\")","v":"X"},"NA",null,{"$f":"IF(L220=TR!$D$59,\"X\",\"\")","v":""},{"$f":"IF(L220=TR!$D$58,\"X\",\"\")","v":""},{"$f":"IF(L220=TR!$D$57,\"X\",\"\")","v":""},{"$f":"IF(L220=TR!$D$56,\"X\",\"\")","v":""},{"$f":"IF(L220=TR!$D$60,\"X\",\"\")","v":"X"},"NA",null,{"$f":"IF(S220=TR!$D$59,\"X\",\"\")","v":""},{"$f":"IF(S220=TR!$D$58,\"X\",\"\")","v":""},{"$f":"IF(S220=TR!$D$57,\"X\",\"\")","v":""},{"$f":"IF(S220=TR!$D$56,\"X\",\"\")","v":""},{"$f":"IF(S220=TR!$D$60,\"X\",\"\")","v":"X"},{"$f":"IF(G220=\"x\",4,IF(H220=\"x\",3,IF(I220=\"x\",2,IF(J220=\"x\",1,IF(K220=\"x\",\"NR\",\"\")))))","v":"NR"},{"$f":"IF(N220=\"x\",4,IF(O220=\"x\",3,IF(P220=\"x\",2,IF(Q220=\"x\",1,IF(R220=\"x\",\"NR\",\"\")))))","v":"NR"},{"$f":"IF(U220=\"x\",4,IF(V220=\"x\",3,IF(W220=\"x\",2,IF(X220=\"x\",1,IF(Y220=\"x\",\"NR\",\"\")))))","v":"NR"},{"$f":"SUM(Z220:Z223)","v":0},{"$f":"SUM(AA220:AA223)","v":0},{"$f":"SUM(AB220:AB223)","v":0}]
[{"$f":"TR!$A$61","v":"TR3.2"},{"$f":"TR!$C$61","v":"Training is documented"},null,null,"NA",null,{"$f":"IF(E221=TR!$D$65,\"X\",\"\")","v":""},{"$f":"IF(E221=TR!$D$64,\"X\",\"\")","v":""},{"$f":"IF(E221=TR!$D$63,\"X\",\"\")","v":""},{"$f":"IF(E221=TR!$D$62,\"X\",\"\")","v":""},{"$f":"IF(E221=TR!$D$66,\"X\",\"\")","v":"X"},"NA",null,{"$f":"IF(L221=TR!$D$65,\"X\",\"\")","v":""},{"$f":"IF(L221=TR!$D$64,\"X\",\"\")","v":""},{"$f":"IF(L221=TR!$D$63,\"X\",\"\")","v":""},{"$f":"IF(L221=TR!$D$62,\"X\",\"\")","v":""},{"$f":"IF(L221=TR!$D$66,\"X\",\"\")","v":"X"},"NA",null,{"$f":"IF(S221=TR!$D$65,\"X\",\"\")","v":""},{"$f":"IF(S221=TR!$D$64,\"X\",\"\")","v":""},{"$f":"IF(S221=TR!$D$63,\"X\",\"\")","v":""},{"$f":"IF(S221=TR!$D$62,\"X\",\"\")","v":""},{"$f":"IF(S221=TR!$D$66,\"X\",\"\")","v":"X"},{"$f":"IF(G221=\"x\",4,IF(H221=\"x\",3,IF(I221=\"x\",2,IF(J221=\"x\",1,IF(K221=\"x\",\"NR\",\"\")))))","v":"NR"},{"$f":"IF(N221=\"x\",4,IF(O221=\"x\",3,IF(P221=\"x\",2,IF(Q221=\"x\",1,IF(R221=\"x\",\"NR\",\"\")))))","v":"NR"},{"$f":"IF(U221=\"x\",4,IF(V221=\"x\",3,IF(W221=\"x\",2,IF(X221=\"x\",1,IF(Y221=\"x\",\"NR\",\"\")))))","v":"NR"}]
[{"$f":"TR!$A$67","v":"TR3.3"},{"$f":"TR!$C$67","v":"Qualification levels established"},null,null,"NA",null,{"$f":"IF(E222=TR!$D$71,\"X\",\"\")","v":""},{"$f":"IF(E222=TR!$D$70,\"X\",\"\")","v":""},{"$f":"IF(E222=TR!$D$69,\"X\",\"\")","v":""},{"$f":"IF(E222=TR!$D$68,\"X\",\"\")","v":""},{"$f":"IF(E222=TR!$D$72,\"X\",\"\")","v":"X"},"NA",null,{"$f":"IF(L222=TR!$D$71,\"X\",\"\")","v":""},{"$f":"IF(L222=TR!$D$70,\"X\",\"\")","v":""},{"$f":"IF(L222=TR!$D$69,\"X\",\"\")","v":""},{"$f":"IF(L222=TR!$D$68,\"X\",\"\")","v":""},{"$f":"IF(L222=TR!$D$72,\"X\",\"\")","v":"X"},"NA",null,{"$f":"IF(S222=TR!$D$71,\"X\",\"\")","v":""},{"$f":"IF(S222=TR!$D$70,\"X\",\"\")","v":""},{"$f":"IF(S222=TR!$D$69,\"X\",\"\")","v":""},{"$f":"IF(S222=TR!$D$68,\"X\",\"\")","v":""},{"$f":"IF(S222=TR!$D$72,\"X\",\"\")","v":"X"},{"$f":"IF(G222=\"x\",4,IF(H222=\"x\",3,IF(I222=\"x\",2,IF(J222=\"x\",1,IF(K222=\"x\",\"NR\",\"\")))))","v":"NR"},{"$f":"IF(N222=\"x\",4,IF(O222=\"x\",3,IF(P222=\"x\",2,IF(Q222=\"x\",1,IF(R222=\"x\",\"NR\",\"\")))))","v":"NR"},{"$f":"IF(U222=\"x\",4,IF(V222=\"x\",3,IF(W222=\"x\",2,IF(X222=\"x\",1,IF(Y222=\"x\",\"NR\",\"\")))))","v":"NR"}]
[{"$f":"TR!$A$73","v":"TR3.4"},{"$f":"TR!$C$73","v":"Employee refresher training"},null,null,"NA",null,{"$f":"IF(E223=TR!$D$77,\"X\",\"\")","v":""},{"$f":"IF(E223=TR!$D$76,\"X\",\"\")","v":""},{"$f":"IF(E223=TR!$D$75,\"X\",\"\")","v":""},{"$f":"IF(E223=TR!$D$74,\"X\",\"\")","v":""},{"$f":"IF(E223=TR!$D$78,\"X\",\"\")","v":"X"},"NA",null,{"$f":"IF(L223=TR!$D$77,\"X\",\"\")","v":""},{"$f":"IF(L223=TR!$D$76,\"X\",\"\")","v":""},{"$f":"IF(L223=TR!$D$75,\"X\",\"\")","v":""},{"$f":"IF(L223=TR!$D$74,\"X\",\"\")","v":""},{"$f":"IF(L223=TR!$D$78,\"X\",\"\")","v":"X"},"NA",null,{"$f":"IF(S223=TR!$D$77,\"X\",\"\")","v":""},{"$f":"IF(S223=TR!$D$76,\"X\",\"\")","v":""},{"$f":"IF(S223=TR!$D$75,\"X\",\"\")","v":""},{"$f":"IF(S223=TR!$D$74,\"X\",\"\")","v":""},{"$f":"IF(S223=TR!$D$78,\"X\",\"\")","v":"X"},{"$f":"IF(G223=\"x\",4,IF(H223=\"x\",3,IF(I223=\"x\",2,IF(J223=\"x\",1,IF(K223=\"x\",\"NR\",\"\")))))","v":"NR"},{"$f":"IF(N223=\"x\",4,IF(O223=\"x\",3,IF(P223=\"x\",2,IF(Q223=\"x\",1,IF(R223=\"x\",\"NR\",\"\")))))","v":"NR"},{"$f":"IF(U223=\"x\",4,IF(V223=\"x\",3,IF(W223=\"x\",2,IF(X223=\"x\",1,IF(Y223=\"x\",\"NR\",\"\")))))","v":"NR"}]
[]
[{"$f":"TR!$A$79","v":"TR4"},{"$f":"TR!$B$79","v":"Employee Recognition"}]
[{"$f":"TR!$A$80","v":"TR4.1"},{"$f":"TR!$C$80","v":"Recognize employee achievements"},null,null,"NA",null,{"$f":"IF(E226=TR!$D$84,\"X\",\"\")","v":""},{"$f":"IF(E226=TR!$D$83,\"X\",\"\")","v":""},{"$f":"IF(E226=TR!$D$82,\"X\",\"\")","v":""},{"$f":"IF(E226=TR!$D$81,\"X\",\"\")","v":""},{"$f":"IF(E226=TR!$D$85,\"X\",\"\")","v":"X"},"NA",null,{"$f":"IF(L226=TR!$D$84,\"X\",\"\")","v":""},{"$f":"IF(L226=TR!$D$83,\"X\",\"\")","v":""},{"$f":"IF(L226=TR!$D$82,\"X\",\"\")","v":""},{"$f":"IF(L226=TR!$D$81,\"X\",\"\")","v":""},{"$f":"IF(L226=TR!$D$85,\"X\",\"\")","v":"X"},"NA",null,{"$f":"IF(S226=TR!$D$84,\"X\",\"\")","v":""},{"$f":"IF(S226=TR!$D$83,\"X\",\"\")","v":""},{"$f":"IF(S226=TR!$D$82,\"X\",\"\")","v":""},{"$f":"IF(S226=TR!$D$81,\"X\",\"\")","v":""},{"$f":"IF(S226=TR!$D$85,\"X\",\"\")","v":"X"},{"$f":"IF(G226=\"x\",4,IF(H226=\"x\",3,IF(I226=\"x\",2,IF(J226=\"x\",1,IF(K226=\"x\",\"NR\",\"\")))))","v":"NR"},{"$f":"IF(N226=\"x\",4,IF(O226=\"x\",3,IF(P226=\"x\",2,IF(Q226=\"x\",1,IF(R226=\"x\",\"NR\",\"\")))))","v":"NR"},{"$f":"IF(U226=\"x\",4,IF(V226=\"x\",3,IF(W226=\"x\",2,IF(X226=\"x\",1,IF(Y226=\"x\",\"NR\",\"\")))))","v":"NR"},{"$f":"SUM(Z226:Z229)","v":0},{"$f":"SUM(AA226:AA229)","v":0},{"$f":"SUM(AB226:AB229)","v":0}]
[{"$f":"TR!$A$86","v":"TR4.2"},{"$f":"TR!$C$86","v":"Individual objectives "},null,null,"NA",null,{"$f":"IF(E227=TR!$D$90,\"X\",\"\")","v":""},{"$f":"IF(E227=TR!$D$89,\"X\",\"\")","v":""},{"$f":"IF(E227=TR!$D$88,\"X\",\"\")","v":""},{"$f":"IF(E227=TR!$D$87,\"X\",\"\")","v":""},{"$f":"IF(E227=TR!$D$91,\"X\",\"\")","v":"X"},"NA",null,{"$f":"IF(L227=TR!$D$90,\"X\",\"\")","v":""},{"$f":"IF(L227=TR!$D$89,\"X\",\"\")","v":""},{"$f":"IF(L227=TR!$D$88,\"X\",\"\")","v":""},{"$f":"IF(L227=TR!$D$87,\"X\",\"\")","v":""},{"$f":"IF(L227=TR!$D$91,\"X\",\"\")","v":"X"},"NA",null,{"$f":"IF(S227=TR!$D$90,\"X\",\"\")","v":""},{"$f":"IF(S227=TR!$D$89,\"X\",\"\")","v":""},{"$f":"IF(S227=TR!$D$88,\"X\",\"\")","v":""},{"$f":"IF(S227=TR!$D$87,\"X\",\"\")","v":""},{"$f":"IF(S227=TR!$D$91,\"X\",\"\")","v":"X"},{"$f":"IF(G227=\"x\",4,IF(H227=\"x\",3,IF(I227=\"x\",2,IF(J227=\"x\",1,IF(K227=\"x\",\"NR\",\"\")))))","v":"NR"},{"$f":"IF(N227=\"x\",4,IF(O227=\"x\",3,IF(P227=\"x\",2,IF(Q227=\"x\",1,IF(R227=\"x\",\"NR\",\"\")))))","v":"NR"},{"$f":"IF(U227=\"x\",4,IF(V227=\"x\",3,IF(W227=\"x\",2,IF(X227=\"x\",1,IF(Y227=\"x\",\"NR\",\"\")))))","v":"NR"}]
[{"$f":"TR!$A$92","v":"TR4.3"},{"$f":"TR!$C$92","v":"Process to collect employee suggestions"},null,null,"NA",null,{"$f":"IF(E228=TR!$D$96,\"X\",\"\")","v":""},{"$f":"IF(E228=TR!$D$95,\"X\",\"\")","v":""},{"$f":"IF(E228=TR!$D$94,\"X\",\"\")","v":""},{"$f":"IF(E228=TR!$D$93,\"X\",\"\")","v":""},{"$f":"IF(E228=TR!$D$97,\"X\",\"\")","v":"X"},"NA",null,{"$f":"IF(L228=TR!$D$96,\"X\",\"\")","v":""},{"$f":"IF(L228=TR!$D$95,\"X\",\"\")","v":""},{"$f":"IF(L228=TR!$D$94,\"X\",\"\")","v":""},{"$f":"IF(L228=TR!$D$93,\"X\",\"\")","v":""},{"$f":"IF(L228=TR!$D$97,\"X\",\"\")","v":"X"},"NA",null,{"$f":"IF(S228=TR!$D$96,\"X\",\"\")","v":""},{"$f":"IF(S228=TR!$D$95,\"X\",\"\")","v":""},{"$f":"IF(S228=TR!$D$94,\"X\",\"\")","v":""},{"$f":"IF(S228=TR!$D$93,\"X\",\"\")","v":""},{"$f":"IF(S228=TR!$D$97,\"X\",\"\")","v":"X"},{"$f":"IF(G228=\"x\",4,IF(H228=\"x\",3,IF(I228=\"x\",2,IF(J228=\"x\",1,IF(K228=\"x\",\"NR\",\"\")))))","v":"NR"},{"$f":"IF(N228=\"x\",4,IF(O228=\"x\",3,IF(P228=\"x\",2,IF(Q228=\"x\",1,IF(R228=\"x\",\"NR\",\"\")))))","v":"NR"},{"$f":"IF(U228=\"x\",4,IF(V228=\"x\",3,IF(W228=\"x\",2,IF(X228=\"x\",1,IF(Y228=\"x\",\"NR\",\"\")))))","v":"NR"}]
[{"$f":"TR!$A$98","v":"TR4.4"},{"$f":"TR!$C$98","v":"Recognition Communication"},null,null,"NA",null,{"$f":"IF(E229=TR!$D$102,\"X\",\"\")","v":""},{"$f":"IF(E229=TR!$D$101,\"X\",\"\")","v":""},{"$f":"IF(E229=TR!$D$100,\"X\",\"\")","v":""},{"$f":"IF(E229=TR!$D$99,\"X\",\"\")","v":""},{"$f":"IF(E229=TR!$D$103,\"X\",\"\")","v":"X"},"NA",null,{"$f":"IF(L229=TR!$D$102,\"X\",\"\")","v":""},{"$f":"IF(L229=TR!$D$101,\"X\",\"\")","v":""},{"$f":"IF(L229=TR!$D$100,\"X\",\"\")","v":""},{"$f":"IF(L229=TR!$D$99,\"X\",\"\")","v":""},{"$f":"IF(L229=TR!$D$103,\"X\",\"\")","v":"X"},"NA",null,{"$f":"IF(S229=TR!$D$102,\"X\",\"\")","v":""},{"$f":"IF(S229=TR!$D$101,\"X\",\"\")","v":""},{"$f":"IF(S229=TR!$D$100,\"X\",\"\")","v":""},{"$f":"IF(S229=TR!$D$99,\"X\",\"\")","v":""},{"$f":"IF(S229=TR!$D$103,\"X\",\"\")","v":"X"},{"$f":"IF(G229=\"x\",4,IF(H229=\"x\",3,IF(I229=\"x\",2,IF(J229=\"x\",1,IF(K229=\"x\",\"NR\",\"\")))))","v":"NR"},{"$f":"IF(N229=\"x\",4,IF(O229=\"x\",3,IF(P229=\"x\",2,IF(Q229=\"x\",1,IF(R229=\"x\",\"NR\",\"\")))))","v":"NR"},{"$f":"IF(U229=\"x\",4,IF(V229=\"x\",3,IF(W229=\"x\",2,IF(X229=\"x\",1,IF(Y229=\"x\",\"NR\",\"\")))))","v":"NR"}]
[]
[{"$f":"TR!$A$104","v":"TRE"},{"$f":"TR!$B$104","v":"Metrics & Effectiveness"}]
[{"$f":"TR!$A$105","v":"TRE.1"},{"$f":"TR!$C$105","v":"Flexibility target"},null,null,"NA",null,{"$f":"IF(E232=TR!$D$109,\"X\",\"\")","v":""},{"$f":"IF(E232=TR!$D$108,\"X\",\"\")","v":""},{"$f":"IF(E232=TR!$D$107,\"X\",\"\")","v":""},{"$f":"IF(E232=TR!$D$106,\"X\",\"\")","v":""},{"$f":"IF(E232=TR!$D$110,\"X\",\"\")","v":"X"},"NA",null,{"$f":"IF(L232=TR!$D$109,\"X\",\"\")","v":""},{"$f":"IF(L232=TR!$D$108,\"X\",\"\")","v":""},{"$f":"IF(L232=TR!$D$107,\"X\",\"\")","v":""},{"$f":"IF(L232=TR!$D$106,\"X\",\"\")","v":""},{"$f":"IF(L232=TR!$D$110,\"X\",\"\")","v":"X"},"NA",null,{"$f":"IF(S232=TR!$D$109,\"X\",\"\")","v":""},{"$f":"IF(S232=TR!$D$108,\"X\",\"\")","v":""},{"$f":"IF(S232=TR!$D$107,\"X\",\"\")","v":""},{"$f":"IF(S232=TR!$D$106,\"X\",\"\")","v":""},{"$f":"IF(S232=TR!$D$110,\"X\",\"\")","v":"X"},{"$f":"IF(G232=\"x\",4,IF(H232=\"x\",3,IF(I232=\"x\",2,IF(J232=\"x\",1,IF(K232=\"x\",\"NR\",\"\")))))","v":"NR"},{"$f":"IF(N232=\"x\",4,IF(O232=\"x\",3,IF(P232=\"x\",2,IF(Q232=\"x\",1,IF(R232=\"x\",\"NR\",\"\")))))","v":"NR"},{"$f":"IF(U232=\"x\",4,IF(V232=\"x\",3,IF(W232=\"x\",2,IF(X232=\"x\",1,IF(Y232=\"x\",\"NR\",\"\")))))","v":"NR"},{"$f":"SUM(Z232)","v":0},{"$f":"SUM(AA232)","v":0},{"$f":"SUM(AB232)","v":0}]
[]
[null,null,null,null,null,null,null,null,null,null,null,null,null,null,null,null,null,null,null,null,null,null,null,null,null,"Total",null,null,{"$f":"(AC208+AC214+AC220+AC226+AC232)","v":0},{"$f":"(AD226+AD220+AD214+AD208+AD232)","v":0},{"$f":"(AE226+AE220+AE214+AE208+AE232)","v":0}]
[null,null,null,null,null,null,null,null,null,null,null," "," "," "," "," "," "," ",null," "," "," "," "," "," ","Potential",null,null,{"$f":"COUNT(Z208:Z232)*4","v":0},{"$f":"COUNT(AA208:AA232)*4","v":0},{"$f":"COUNT(AB208:AB232)*4","v":0}]
[null,null,null,null,null,null,null,null,null,null,null,null,null,null,null,null,null,null,null,null,null,null,null,null,null,"Total Score",null,null,{"$f":"IF(AC235<>0,AC234/AC235,\"NR\")","v":"NR"},{"$f":"IF(AD235<>0,AD234/AD235,\"NR\")","v":"NR"},{"$f":"IF(AE235<>0,AE234/AE235,\"NR\")","v":"NR"}]
[]
[]
[" ",{"$f":"LP!B2","v":"Layered Process Audit"},null,null,"Build up Score Assessment"," ","Build up Scoring",null,null,null,null,"Build up Score Assessment"," ","Build up Scoring",null,null,null,null,"Build up Score Assessment"," ","Build up Scoring",null,null,null,null,null,null,null,"Sub Element Score"]
[{"$f":"LP!$A$4","v":"LP1.0"},{"$f":"LP!$B$4","v":"A Layered Process Audit (LPA) is established"},null,"Sub-Element",null,null,4,3,2,1,"NR",null,null,4,3,2,1,"NR",null,null,4,3,2,1,"NR","Self","Onsite","Current","Self","Onsite","Current","Procedures","Findings","Comments"]
[{"$f":"LP!$A$5","v":"LP1.1"},{"$f":"LP!$C$5","v":"Written procedure of LPA"},null,null,"NA",null,{"$f":"IF(E241=LP!$D$9,\"X\",\"\")","v":""},{"$f":"IF(E241=LP!$D$8,\"X\",\"\")","v":""},{"$f":"IF(E241=LP!$D$7,\"X\",\"\")","v":""},{"$f":"IF(E241=LP!$D$6,\"X\",\"\")","v":""},{"$f":"IF(E241=LP!$D$10,\"X\",\"\")","v":"X"},"NA",null,{"$f":"IF(L241=LP!$D$9,\"X\",\"\")","v":""},{"$f":"IF(L241=LP!$D$8,\"X\",\"\")","v":""},{"$f":"IF(L241=LP!$D$7,\"X\",\"\")","v":""},{"$f":"IF(L241=LP!$D$6,\"X\",\"\")","v":""},{"$f":"IF(L241=LP!$D$10,\"X\",\"\")","v":"X"},"NA",null,{"$f":"IF(S241=LP!$D$9,\"X\",\"\")","v":""},{"$f":"IF(S241=LP!$D$8,\"X\",\"\")","v":""},{"$f":"IF(S241=LP!$D$7,\"X\",\"\")","v":""},{"$f":"IF(S241=LP!$D$6,\"X\",\"\")","v":""},{"$f":"IF(S241=LP!$D$10,\"X\",\"\")","v":"X"},{"$f":"IF(G241=\"x\",4,IF(H241=\"x\",3,IF(I241=\"x\",2,IF(J241=\"x\",1,IF(K241=\"x\",\"NR\",\"\")))))","v":"NR"},{"$f":"IF(N241=\"x\",4,IF(O241=\"x\",3,IF(P241=\"x\",2,IF(Q241=\"x\",1,IF(R241=\"x\",\"NR\",\"\")))))","v":"NR"},{"$f":"IF(U241=\"x\",4,IF(V241=\"x\",3,IF(W241=\"x\",2,IF(X241=\"x\",1,IF(Y241=\"x\",\"NR\",\"\")))))","v":"NR"},{"$f":"SUM(Z241:Z244)","v":0},{"$f":"SUM(AA241:AA244)","v":0},{"$f":"SUM(AB241:AB244)","v":0}]
[{"$f":"LP!$A$11","v":"LP1.2"},{"$f":"LP!$C$11","v":"Layered Audit for manufacturing"},null,null,"NA",null,{"$f":"IF(E242=LP!$D$15,\"X\",\"\")","v":""},{"$f":"IF(E242=LP!$D$14,\"X\",\"\")","v":""},{"$f":"IF(E242=LP!$D$13,\"X\",\"\")","v":""},{"$f":"IF(E242=LP!$D$12,\"X\",\"\")","v":""},{"$f":"IF(E242=LP!$D$16,\"X\",\"\")","v":"X"},"NA",null,{"$f":"IF(L242=LP!$D$15,\"X\",\"\")","v":""},{"$f":"IF(L242=LP!$D$14,\"X\",\"\")","v":""},{"$f":"IF(L242=LP!$D$13,\"X\",\"\")","v":""},{"$f":"IF(L242=LP!$D$12,\"X\",\"\")","v":""},{"$f":"IF(L242=LP!$D$16,\"X\",\"\")","v":"X"},"NA",null,{"$f":"IF(S242=LP!$D$15,\"X\",\"\")","v":""},{"$f":"IF(S242=LP!$D$14,\"X\",\"\")","v":""},{"$f":"IF(S242=LP!$D$13,\"X\",\"\")","v":""},{"$f":"IF(S242=LP!$D$12,\"X\",\"\")","v":""},{"$f":"IF(S242=LP!$D$16,\"X\",\"\")","v":"X"},{"$f":"IF(G242=\"x\",4,IF(H242=\"x\",3,IF(I242=\"x\",2,IF(J242=\"x\",1,IF(K242=\"x\",\"NR\",\"\")))))","v":"NR"},{"$f":"IF(N242=\"x\",4,IF(O242=\"x\",3,IF(P242=\"x\",2,IF(Q242=\"x\",1,IF(R242=\"x\",\"NR\",\"\")))))","v":"NR"},{"$f":"IF(U242=\"x\",4,IF(V242=\"x\",3,IF(W242=\"x\",2,IF(X242=\"x\",1,IF(Y242=\"x\",\"NR\",\"\")))))","v":"NR"}]
[{"$f":"LP!$A$17","v":"LP1.3"},{"$f":"LP!$C$17","v":"LPA check sheet"},null,null,"NA",null,{"$f":"IF(E243=LP!$D$21,\"X\",\"\")","v":""},{"$f":"IF(E243=LP!$D$20,\"X\",\"\")","v":""},{"$f":"IF(E243=LP!$D$19,\"X\",\"\")","v":""},{"$f":"IF(E243=LP!$D$18,\"X\",\"\")","v":""},{"$f":"IF(E243=LP!$D$22,\"X\",\"\")","v":"X"},"NA",null,{"$f":"IF(L243=LP!$D$21,\"X\",\"\")","v":""},{"$f":"IF(L243=LP!$D$20,\"X\",\"\")","v":""},{"$f":"IF(L243=LP!$D$19,\"X\",\"\")","v":""},{"$f":"IF(L243=LP!$D$18,\"X\",\"\")","v":""},{"$f":"IF(L243=LP!$D$22,\"X\",\"\")","v":"X"},"NA",null,{"$f":"IF(S243=LP!$D$21,\"X\",\"\")","v":""},{"$f":"IF(S243=LP!$D$20,\"X\",\"\")","v":""},{"$f":"IF(S243=LP!$D$19,\"X\",\"\")","v":""},{"$f":"IF(S243=LP!$D$18,\"X\",\"\")","v":""},{"$f":"IF(S243=LP!$D$22,\"X\",\"\")","v":"X"},{"$f":"IF(G243=\"x\",4,IF(H243=\"x\",3,IF(I243=\"x\",2,IF(J243=\"x\",1,IF(K243=\"x\",\"NR\",\"\")))))","v":"NR"},{"$f":"IF(N243=\"x\",4,IF(O243=\"x\",3,IF(P243=\"x\",2,IF(Q243=\"x\",1,IF(R243=\"x\",\"NR\",\"\")))))","v":"NR"},{"$f":"IF(U243=\"x\",4,IF(V243=\"x\",3,IF(W243=\"x\",2,IF(X243=\"x\",1,IF(Y243=\"x\",\"NR\",\"\")))))","v":"NR"}]
[{"$f":"LP!$A$23","v":"LP1.4"},{"$f":"LP!$C$23","v":"Auditors trained"},null,null,"NA",null,{"$f":"IF(E244=LP!$D$27,\"X\",\"\")","v":""},{"$f":"IF(E244=LP!$D$26,\"X\",\"\")","v":""},{"$f":"IF(E244=LP!$D$25,\"X\",\"\")","v":""},{"$f":"IF(E244=LP!$D$24,\"X\",\"\")","v":""},{"$f":"IF(E244=LP!$D$28,\"X\",\"\")","v":"X"},"NA",null,{"$f":"IF(L244=LP!$D$27,\"X\",\"\")","v":""},{"$f":"IF(L244=LP!$D$26,\"X\",\"\")","v":""},{"$f":"IF(L244=LP!$D$25,\"X\",\"\")","v":""},{"$f":"IF(L244=LP!$D$24,\"X\",\"\")","v":""},{"$f":"IF(L244=LP!$D$28,\"X\",\"\")","v":"X"},"NA",null,{"$f":"IF(S244=LP!$D$27,\"X\",\"\")","v":""},{"$f":"IF(S244=LP!$D$26,\"X\",\"\")","v":""},{"$f":"IF(S244=LP!$D$25,\"X\",\"\")","v":""},{"$f":"IF(S244=LP!$D$24,\"X\",\"\")","v":""},{"$f":"IF(S244=LP!$D$28,\"X\",\"\")","v":"X"},{"$f":"IF(G244=\"x\",4,IF(H244=\"x\",3,IF(I244=\"x\",2,IF(J244=\"x\",1,IF(K244=\"x\",\"NR\",\"\")))))","v":"NR"},{"$f":"IF(N244=\"x\",4,IF(O244=\"x\",3,IF(P244=\"x\",2,IF(Q244=\"x\",1,IF(R244=\"x\",\"NR\",\"\")))))","v":"NR"},{"$f":"IF(U244=\"x\",4,IF(V244=\"x\",3,IF(W244=\"x\",2,IF(X244=\"x\",1,IF(Y244=\"x\",\"NR\",\"\")))))","v":"NR"}]
[]
[{"$f":"LP!$A$29","v":"LP2.0"},{"$f":"LP!$B$29","v":"LPA covers all operational activities"}]
[{"$f":"LP!$A$30","v":"LP2.1"},{"$f":"LP!$C$30","v":"Layered audit"},null,null,"NA",null,{"$f":"IF(E247=LP!$D$34,\"X\",\"\")","v":""},{"$f":"IF(E247=LP!$D$33,\"X\",\"\")","v":""},{"$f":"IF(E247=LP!$D$32,\"X\",\"\")","v":""},{"$f":"IF(E247=LP!$D$31,\"X\",\"\")","v":""},{"$f":"IF(E247=LP!$D$35,\"X\",\"\")","v":"X"},"NA",null,{"$f":"IF(L247=LP!$D$34,\"X\",\"\")","v":""},{"$f":"IF(L247=LP!$D$33,\"X\",\"\")","v":""},{"$f":"IF(L247=LP!$D$32,\"X\",\"\")","v":""},{"$f":"IF(L247=LP!$D$31,\"X\",\"\")","v":""},{"$f":"IF(L247=LP!$D$35,\"X\",\"\")","v":"X"},"NA",null,{"$f":"IF(S247=LP!$D$34,\"X\",\"\")","v":""},{"$f":"IF(S247=LP!$D$33,\"X\",\"\")","v":""},{"$f":"IF(S247=LP!$D$32,\"X\",\"\")","v":""},{"$f":"IF(S247=LP!$D$31,\"X\",\"\")","v":""},{"$f":"IF(S247=LP!$D$35,\"X\",\"\")","v":"X"},{"$f":"IF(G247=\"x\",4,IF(H247=\"x\",3,IF(I247=\"x\",2,IF(J247=\"x\",1,IF(K247=\"x\",\"NR\",\"\")))))","v":"NR"},{"$f":"IF(N247=\"x\",4,IF(O247=\"x\",3,IF(P247=\"x\",2,IF(Q247=\"x\",1,IF(R247=\"x\",\"NR\",\"\")))))","v":"NR"},{"$f":"IF(U247=\"x\",4,IF(V247=\"x\",3,IF(W247=\"x\",2,IF(X247=\"x\",1,IF(Y247=\"x\",\"NR\",\"\")))))","v":"NR"},{"$f":"SUM(Z247:Z250)","v":0},{"$f":"SUM(AA247:AA250)","v":0},{"$f":"SUM(AB247:AB250)","v":0}]
[{"$f":"LP!$A$36","v":"LP2.2"},{"$f":"LP!$C$36","v":"LPA is scheduled"},null,null,"NA",null,{"$f":"IF(E248=LP!$D$40,\"X\",\"\")","v":""},{"$f":"IF(E248=LP!$D$39,\"X\",\"\")","v":""},{"$f":"IF(E248=LP!$D$38,\"X\",\"\")","v":""},{"$f":"IF(E248=LP!$D$37,\"X\",\"\")","v":""},{"$f":"IF(E248=LP!$D$41,\"X\",\"\")","v":"X"},"NA",null,{"$f":"IF(L248=LP!$D$40,\"X\",\"\")","v":""},{"$f":"IF(L248=LP!$D$39,\"X\",\"\")","v":""},{"$f":"IF(L248=LP!$D$38,\"X\",\"\")","v":""},{"$f":"IF(L248=LP!$D$37,\"X\",\"\")","v":""},{"$f":"IF(L248=LP!$D$41,\"X\",\"\")","v":"X"},"NA",null,{"$f":"IF(S248=LP!$D$40,\"X\",\"\")","v":""},{"$f":"IF(S248=LP!$D$39,\"X\",\"\")","v":""},{"$f":"IF(S248=LP!$D$38,\"X\",\"\")","v":""},{"$f":"IF(S248=LP!$D$37,\"X\",\"\")","v":""},{"$f":"IF(S248=LP!$D$41,\"X\",\"\")","v":"X"},{"$f":"IF(G248=\"x\",4,IF(H248=\"x\",3,IF(I248=\"x\",2,IF(J248=\"x\",1,IF(K248=\"x\",\"NR\",\"\")))))","v":"NR"},{"$f":"IF(N248=\"x\",4,IF(O248=\"x\",3,IF(P248=\"x\",2,IF(Q248=\"x\",1,IF(R248=\"x\",\"NR\",\"\")))))","v":"NR"},{"$f":"IF(U248=\"x\",4,IF(V248=\"x\",3,IF(W248=\"x\",2,IF(X248=\"x\",1,IF(Y248=\"x\",\"NR\",\"\")))))","v":"NR"}]
[{"$f":"LP!$A$42","v":"LP2.3"},{"$f":"LP!$C$42","v":"LPA schedule attainment"},null,null,"NA",null,{"$f":"IF(E249=LP!$D$46,\"X\",\"\")","v":""},{"$f":"IF(E249=LP!$D$45,\"X\",\"\")","v":""},{"$f":"IF(E249=LP!$D$44,\"X\",\"\")","v":""},{"$f":"IF(E249=LP!$D$43,\"X\",\"\")","v":""},{"$f":"IF(E249=LP!$D$47,\"X\",\"\")","v":"X"},"NA",null,{"$f":"IF(L249=LP!$D$46,\"X\",\"\")","v":""},{"$f":"IF(L249=LP!$D$45,\"X\",\"\")","v":""},{"$f":"IF(L249=LP!$D$44,\"X\",\"\")","v":""},{"$f":"IF(L249=LP!$D$43,\"X\",\"\")","v":""},{"$f":"IF(L249=LP!$D$47,\"X\",\"\")","v":"X"},"NA",null,{"$f":"IF(S249=LP!$D$46,\"X\",\"\")","v":""},{"$f":"IF(S249=LP!$D$45,\"X\",\"\")","v":""},{"$f":"IF(S249=LP!$D$44,\"X\",\"\")","v":""},{"$f":"IF(S249=LP!$D$43,\"X\",\"\")","v":""},{"$f":"IF(S249=LP!$D$47,\"X\",\"\")","v":"X"},{"$f":"IF(G249=\"x\",4,IF(H249=\"x\",3,IF(I249=\"x\",2,IF(J249=\"x\",1,IF(K249=\"x\",\"NR\",\"\")))))","v":"NR"},{"$f":"IF(N249=\"x\",4,IF(O249=\"x\",3,IF(P249=\"x\",2,IF(Q249=\"x\",1,IF(R249=\"x\",\"NR\",\"\")))))","v":"NR"},{"$f":"IF(U249=\"x\",4,IF(V249=\"x\",3,IF(W249=\"x\",2,IF(X249=\"x\",1,IF(Y249=\"x\",\"NR\",\"\")))))","v":"NR"}]
[{"$f":"LP!$A$48","v":"LP2.4"},{"$f":"LP!$C$48","v":"LPA Prioritization"},null,null,"NA",null,{"$f":"IF(E250=LP!$D$52,\"X\",\"\")","v":""},{"$f":"IF(E250=LP!$D$51,\"X\",\"\")","v":""},{"$f":"IF(E250=LP!$D$50,\"X\",\"\")","v":""},{"$f":"IF(E250=LP!$D$49,\"X\",\"\")","v":""},{"$f":"IF(E250=LP!$D$53,\"X\",\"\")","v":"X"},"NA",null,{"$f":"IF(L250=LP!$D$52,\"X\",\"\")","v":""},{"$f":"IF(L250=LP!$D$51,\"X\",\"\")","v":""},{"$f":"IF(L250=LP!$D$50,\"X\",\"\")","v":""},{"$f":"IF(L250=LP!$D$49,\"X\",\"\")","v":""},{"$f":"IF(L250=LP!$D$53,\"X\",\"\")","v":"X"},"NA",null,{"$f":"IF(S250=LP!$D$52,\"X\",\"\")","v":""},{"$f":"IF(S250=LP!$D$51,\"X\",\"\")","v":""},{"$f":"IF(S250=LP!$D$50,\"X\",\"\")","v":""},{"$f":"IF(S250=LP!$D$49,\"X\",\"\")","v":""},{"$f":"IF(S250=LP!$D$53,\"X\",\"\")","v":"X"},{"$f":"IF(G250=\"x\",4,IF(H250=\"x\",3,IF(I250=\"x\",2,IF(J250=\"x\",1,IF(K250=\"x\",\"NR\",\"\")))))","v":"NR"},{"$f":"IF(N250=\"x\",4,IF(O250=\"x\",3,IF(P250=\"x\",2,IF(Q250=\"x\",1,IF(R250=\"x\",\"NR\",\"\")))))","v":"NR"},{"$f":"IF(U250=\"x\",4,IF(V250=\"x\",3,IF(W250=\"x\",2,IF(X250=\"x\",1,IF(Y250=\"x\",\"NR\",\"\")))))","v":"NR"}]
[]
[{"$f":"LP!$A$54","v":"LP3.0"},{"$f":"LP!$B$54","v":"LPA action plans are in place"}]
[{"$f":"LP!$A$55","v":"LP3.1"},{"$f":"LP!$C$55","v":"LPA records"},null,null,"NA",null,{"$f":"IF(E253=LP!$D$59,\"X\",\"\")","v":""},{"$f":"IF(E253=LP!$D$58,\"X\",\"\")","v":""},{"$f":"IF(E253=LP!$D$57,\"X\",\"\")","v":""},{"$f":"IF(E253=LP!$D$56,\"X\",\"\")","v":""},{"$f":"IF(E253=LP!$D$60,\"X\",\"\")","v":"X"},"NA",null,{"$f":"IF(L253=LP!$D$59,\"X\",\"\")","v":""},{"$f":"IF(L253=LP!$D$58,\"X\",\"\")","v":""},{"$f":"IF(L253=LP!$D$57,\"X\",\"\")","v":""},{"$f":"IF(L253=LP!$D$56,\"X\",\"\")","v":""},{"$f":"IF(L253=LP!$D$60,\"X\",\"\")","v":"X"},"NA",null,{"$f":"IF(S253=LP!$D$59,\"X\",\"\")","v":""},{"$f":"IF(S253=LP!$D$58,\"X\",\"\")","v":""},{"$f":"IF(S253=LP!$D$57,\"X\",\"\")","v":""},{"$f":"IF(S253=LP!$D$56,\"X\",\"\")","v":""},{"$f":"IF(S253=LP!$D$60,\"X\",\"\")","v":"X"},{"$f":"IF(G253=\"x\",4,IF(H253=\"x\",3,IF(I253=\"x\",2,IF(J253=\"x\",1,IF(K253=\"x\",\"NR\",\"\")))))","v":"NR"},{"$f":"IF(N253=\"x\",4,IF(O253=\"x\",3,IF(P253=\"x\",2,IF(Q253=\"x\",1,IF(R253=\"x\",\"NR\",\"\")))))","v":"NR"},{"$f":"IF(U253=\"x\",4,IF(V253=\"x\",3,IF(W253=\"x\",2,IF(X253=\"x\",1,IF(Y253=\"x\",\"NR\",\"\")))))","v":"NR"},{"$f":"SUM(Z253:Z256)","v":0},{"$f":"SUM(AA253:AA256)","v":0},{"$f":"SUM(AB253:AB256)","v":0}]
[{"$f":"LP!$A$61","v":"LP3.2"},{"$f":"LP!$C$61","v":"Problem solving with action plans"},null,null,"NA",null,{"$f":"IF(E254=LP!$D$65,\"X\",\"\")","v":""},{"$f":"IF(E254=LP!$D$64,\"X\",\"\")","v":""},{"$f":"IF(E254=LP!$D$63,\"X\",\"\")","v":""},{"$f":"IF(E254=LP!$D$62,\"X\",\"\")","v":""},{"$f":"IF(E254=LP!$D$66,\"X\",\"\")","v":"X"},"NA",null,{"$f":"IF(L254=LP!$D$65,\"X\",\"\")","v":""},{"$f":"IF(L254=LP!$D$64,\"X\",\"\")","v":""},{"$f":"IF(L254=LP!$D$63,\"X\",\"\")","v":""},{"$f":"IF(L254=LP!$D$62,\"X\",\"\")","v":""},{"$f":"IF(L254=LP!$D$66,\"X\",\"\")","v":"X"},"NA",null,{"$f":"IF(S254=LP!$D$65,\"X\",\"\")","v":""},{"$f":"IF(S254=LP!$D$64,\"X\",\"\")","v":""},{"$f":"IF(S254=LP!$D$63,\"X\",\"\")","v":""},{"$f":"IF(S254=LP!$D$62,\"X\",\"\")","v":""},{"$f":"IF(S254=LP!$D$66,\"X\",\"\")","v":"X"},{"$f":"IF(G254=\"x\",4,IF(H254=\"x\",3,IF(I254=\"x\",2,IF(J254=\"x\",1,IF(K254=\"x\",\"NR\",\"\")))))","v":"NR"},{"$f":"IF(N254=\"x\",4,IF(O254=\"x\",3,IF(P254=\"x\",2,IF(Q254=\"x\",1,IF(R254=\"x\",\"NR\",\"\")))))","v":"NR"},{"$f":"IF(U254=\"x\",4,IF(V254=\"x\",3,IF(W254=\"x\",2,IF(X254=\"x\",1,IF(Y254=\"x\",\"NR\",\"\")))))","v":"NR"}]
[{"$f":"LP!$A$67","v":"LP3.3"},{"$f":"LP!$C$67","v":"LPA results for continuous improvement"},null,null,"NA",null,{"$f":"IF(E255=LP!$D$71,\"X\",\"\")","v":""},{"$f":"IF(E255=LP!$D$70,\"X\",\"\")","v":""},{"$f":"IF(E255=LP!$D$69,\"X\",\"\")","v":""},{"$f":"IF(E255=LP!$D$68,\"X\",\"\")","v":""},{"$f":"IF(E255=LP!$D$72,\"X\",\"\")","v":"X"},"NA",null,{"$f":"IF(L255=LP!$D$71,\"X\",\"\")","v":""},{"$f":"IF(L255=LP!$D$70,\"X\",\"\")","v":""},{"$f":"IF(L255=LP!$D$69,\"X\",\"\")","v":""},{"$f":"IF(L255=LP!$D$68,\"X\",\"\")","v":""},{"$f":"IF(L255=LP!$D$72,\"X\",\"\")","v":"X"},"NA",null,{"$f":"IF(S255=LP!$D$71,\"X\",\"\")","v":""},{"$f":"IF(S255=LP!$D$70,\"X\",\"\")","v":""},{"$f":"IF(S255=LP!$D$69,\"X\",\"\")","v":""},{"$f":"IF(S255=LP!$D$68,\"X\",\"\")","v":""},{"$f":"IF(S255=LP!$D$72,\"X\",\"\")","v":"X"},{"$f":"IF(G255=\"x\",4,IF(H255=\"x\",3,IF(I255=\"x\",2,IF(J255=\"x\",1,IF(K255=\"x\",\"NR\",\"\")))))","v":"NR"},{"$f":"IF(N255=\"x\",4,IF(O255=\"x\",3,IF(P255=\"x\",2,IF(Q255=\"x\",1,IF(R255=\"x\",\"NR\",\"\")))))","v":"NR"},{"$f":"IF(U255=\"x\",4,IF(V255=\"x\",3,IF(W255=\"x\",2,IF(X255=\"x\",1,IF(Y255=\"x\",\"NR\",\"\")))))","v":"NR"}]
[{"$f":"LP!$A$73","v":"LP3.4"},{"$f":"LP!$C$73","v":"LPA results for compliance"},null,null,"NA",null,{"$f":"IF(E256=LP!$D$77,\"X\",\"\")","v":""},{"$f":"IF(E256=LP!$D$76,\"X\",\"\")","v":""},{"$f":"IF(E256=LP!$D$75,\"X\",\"\")","v":""},{"$f":"IF(E256=LP!$D$74,\"X\",\"\")","v":""},{"$f":"IF(E256=LP!$D$78,\"X\",\"\")","v":"X"},"NA",null,{"$f":"IF(L256=LP!$D$77,\"X\",\"\")","v":""},{"$f":"IF(L256=LP!$D$76,\"X\",\"\")","v":""},{"$f":"IF(L256=LP!$D$75,\"X\",\"\")","v":""},{"$f":"IF(L256=LP!$D$74,\"X\",\"\")","v":""},{"$f":"IF(L256=LP!$D$78,\"X\",\"\")","v":"X"},"NA",null,{"$f":"IF(S256=LP!$D$77,\"X\",\"\")","v":""},{"$f":"IF(S256=LP!$D$76,\"X\",\"\")","v":""},{"$f":"IF(S256=LP!$D$75,\"X\",\"\")","v":""},{"$f":"IF(S256=LP!$D$74,\"X\",\"\")","v":""},{"$f":"IF(S256=LP!$D$78,\"X\",\"\")","v":"X"},{"$f":"IF(G256=\"x\",4,IF(H256=\"x\",3,IF(I256=\"x\",2,IF(J256=\"x\",1,IF(K256=\"x\",\"NR\",\"\")))))","v":"NR"},{"$f":"IF(N256=\"x\",4,IF(O256=\"x\",3,IF(P256=\"x\",2,IF(Q256=\"x\",1,IF(R256=\"x\",\"NR\",\"\")))))","v":"NR"},{"$f":"IF(U256=\"x\",4,IF(V256=\"x\",3,IF(W256=\"x\",2,IF(X256=\"x\",1,IF(Y256=\"x\",\"NR\",\"\")))))","v":"NR"}]
[]
[{"$f":"LP!$A$79","v":"LP4"},{"$f":"LP!$B$79","v":"Manufacturing process audit"}]
[{"$f":"LP!$A$80","v":"LP4.1"},{"$f":"LP!$C$80","v":"Process Flow chart"},null,null,"NA",null,{"$f":"IF(E259=LP!$D$84,\"X\",\"\")","v":""},{"$f":"IF(E259=LP!$D$83,\"X\",\"\")","v":""},{"$f":"IF(E259=LP!$D$82,\"X\",\"\")","v":""},{"$f":"IF(E259=LP!$D$81,\"X\",\"\")","v":""},{"$f":"IF(E259=LP!$D$85,\"X\",\"\")","v":"X"},"NA",null,{"$f":"IF(L259=LP!$D$84,\"X\",\"\")","v":""},{"$f":"IF(L259=LP!$D$83,\"X\",\"\")","v":""},{"$f":"IF(L259=LP!$D$82,\"X\",\"\")","v":""},{"$f":"IF(L259=LP!$D$81,\"X\",\"\")","v":""},{"$f":"IF(L259=LP!$D$85,\"X\",\"\")","v":"X"},"NA",null,{"$f":"IF(S259=LP!$D$84,\"X\",\"\")","v":""},{"$f":"IF(S259=LP!$D$83,\"X\",\"\")","v":""},{"$f":"IF(S259=LP!$D$82,\"X\",\"\")","v":""},{"$f":"IF(S259=LP!$D$81,\"X\",\"\")","v":""},{"$f":"IF(S259=LP!$D$85,\"X\",\"\")","v":"X"},{"$f":"IF(G259=\"x\",4,IF(H259=\"x\",3,IF(I259=\"x\",2,IF(J259=\"x\",1,IF(K259=\"x\",\"NR\",\"\")))))","v":"NR"},{"$f":"IF(N259=\"x\",4,IF(O259=\"x\",3,IF(P259=\"x\",2,IF(Q259=\"x\",1,IF(R259=\"x\",\"NR\",\"\")))))","v":"NR"},{"$f":"IF(U259=\"x\",4,IF(V259=\"x\",3,IF(W259=\"x\",2,IF(X259=\"x\",1,IF(Y259=\"x\",\"NR\",\"\")))))","v":"NR"},{"$f":"SUM(Z259:Z262)","v":0},{"$f":"SUM(AA259:AA262)","v":0},{"$f":"SUM(AB259:AB262)","v":0}]
[{"$f":"LP!$A$86","v":"LP4.2"},{"$f":"LP!$C$86","v":"PFMEA"},null,null,"NA",null,{"$f":"IF(E260=LP!$D$90,\"X\",\"\")","v":""},{"$f":"IF(E260=LP!$D$89,\"X\",\"\")","v":""},{"$f":"IF(E260=LP!$D$88,\"X\",\"\")","v":""},{"$f":"IF(E260=LP!$D$87,\"X\",\"\")","v":""},{"$f":"IF(E260=LP!$D$91,\"X\",\"\")","v":"X"},"NA",null,{"$f":"IF(L260=LP!$D$90,\"X\",\"\")","v":""},{"$f":"IF(L260=LP!$D$89,\"X\",\"\")","v":""},{"$f":"IF(L260=LP!$D$88,\"X\",\"\")","v":""},{"$f":"IF(L260=LP!$D$87,\"X\",\"\")","v":""},{"$f":"IF(L260=LP!$D$91,\"X\",\"\")","v":"X"},"NA",null,{"$f":"IF(S260=LP!$D$90,\"X\",\"\")","v":""},{"$f":"IF(S260=LP!$D$89,\"X\",\"\")","v":""},{"$f":"IF(S260=LP!$D$88,\"X\",\"\")","v":""},{"$f":"IF(S260=LP!$D$87,\"X\",\"\")","v":""},{"$f":"IF(S260=LP!$D$91,\"X\",\"\")","v":"X"},{"$f":"IF(G260=\"x\",4,IF(H260=\"x\",3,IF(I260=\"x\",2,IF(J260=\"x\",1,IF(K260=\"x\",\"NR\",\"\")))))","v":"NR"},{"$f":"IF(N260=\"x\",4,IF(O260=\"x\",3,IF(P260=\"x\",2,IF(Q260=\"x\",1,IF(R260=\"x\",\"NR\",\"\")))))","v":"NR"},{"$f":"IF(U260=\"x\",4,IF(V260=\"x\",3,IF(W260=\"x\",2,IF(X260=\"x\",1,IF(Y260=\"x\",\"NR\",\"\")))))","v":"NR"}]
[{"$f":"LP!$A$92","v":"LP4.3"},{"$f":"LP!$C$92","v":"Control Plan"},null,null,"NA",null,{"$f":"IF(E261=LP!$D$96,\"X\",\"\")","v":""},{"$f":"IF(E261=LP!$D$95,\"X\",\"\")","v":""},{"$f":"IF(E261=LP!$D$94,\"X\",\"\")","v":""},{"$f":"IF(E261=LP!$D$93,\"X\",\"\")","v":""},{"$f":"IF(E261=LP!$D$97,\"X\",\"\")","v":"X"},"NA",null,{"$f":"IF(L261=LP!$D$96,\"X\",\"\")","v":""},{"$f":"IF(L261=LP!$D$95,\"X\",\"\")","v":""},{"$f":"IF(L261=LP!$D$94,\"X\",\"\")","v":""},{"$f":"IF(L261=LP!$D$93,\"X\",\"\")","v":""},{"$f":"IF(L261=LP!$D$97,\"X\",\"\")","v":"X"},"NA",null,{"$f":"IF(S261=LP!$D$96,\"X\",\"\")","v":""},{"$f":"IF(S261=LP!$D$95,\"X\",\"\")","v":""},{"$f":"IF(S261=LP!$D$94,\"X\",\"\")","v":""},{"$f":"IF(S261=LP!$D$93,\"X\",\"\")","v":""},{"$f":"IF(S261=LP!$D$97,\"X\",\"\")","v":"X"},{"$f":"IF(G261=\"x\",4,IF(H261=\"x\",3,IF(I261=\"x\",2,IF(J261=\"x\",1,IF(K261=\"x\",\"NR\",\"\")))))","v":"NR"},{"$f":"IF(N261=\"x\",4,IF(O261=\"x\",3,IF(P261=\"x\",2,IF(Q261=\"x\",1,IF(R261=\"x\",\"NR\",\"\")))))","v":"NR"},{"$f":"IF(U261=\"x\",4,IF(V261=\"x\",3,IF(W261=\"x\",2,IF(X261=\"x\",1,IF(Y261=\"x\",\"NR\",\"\")))))","v":"NR"}]
[{"$f":"LP!$A$98","v":"LP4.4"},{"$f":"LP!$C$98","v":"Process documentation"},null,null,"NA",null,{"$f":"IF(E262=LP!$D$102,\"X\",\"\")","v":""},{"$f":"IF(E262=LP!$D$101,\"X\",\"\")","v":""},{"$f":"IF(E262=LP!$D$100,\"X\",\"\")","v":""},{"$f":"IF(E262=LP!$D$99,\"X\",\"\")","v":""},{"$f":"IF(E262=LP!$D$103,\"X\",\"\")","v":"X"},"NA",null,{"$f":"IF(L262=LP!$D$102,\"X\",\"\")","v":""},{"$f":"IF(L262=LP!$D$101,\"X\",\"\")","v":""},{"$f":"IF(L262=LP!$D$100,\"X\",\"\")","v":""},{"$f":"IF(L262=LP!$D$99,\"X\",\"\")","v":""},{"$f":"IF(L262=LP!$D$103,\"X\",\"\")","v":"X"},"NA",null,{"$f":"IF(S262=LP!$D$102,\"X\",\"\")","v":""},{"$f":"IF(S262=LP!$D$101,\"X\",\"\")","v":""},{"$f":"IF(S262=LP!$D$100,\"X\",\"\")","v":""},{"$f":"IF(S262=LP!$D$99,\"X\",\"\")","v":""},{"$f":"IF(S262=LP!$D$103,\"X\",\"\")","v":"X"},{"$f":"IF(G262=\"x\",4,IF(H262=\"x\",3,IF(I262=\"x\",2,IF(J262=\"x\",1,IF(K262=\"x\",\"NR\",\"\")))))","v":"NR"},{"$f":"IF(N262=\"x\",4,IF(O262=\"x\",3,IF(P262=\"x\",2,IF(Q262=\"x\",1,IF(R262=\"x\",\"NR\",\"\")))))","v":"NR"},{"$f":"IF(U262=\"x\",4,IF(V262=\"x\",3,IF(W262=\"x\",2,IF(X262=\"x\",1,IF(Y262=\"x\",\"NR\",\"\")))))","v":"NR"}]
[]
[{"$f":"LP!$A$104","v":"LPE"},{"$f":"LP!$B$104","v":"LPA effectiveness is continuously monitored"}]
[{"$f":"LP!$A$105","v":"LPE.1"},{"$f":"LP!$C$105","v":"Tracking of audit results"},null,null,"NA",null,{"$f":"IF(E265=LP!$D$109,\"X\",\"\")","v":""},{"$f":"IF(E265=LP!$D$108,\"X\",\"\")","v":""},{"$f":"IF(E265=LP!$D$107,\"X\",\"\")","v":""},{"$f":"IF(E265=LP!$D$106,\"X\",\"\")","v":""},{"$f":"IF(E265=LP!$D$110,\"X\",\"\")","v":"X"},"NA",null,{"$f":"IF(L265=LP!$D$109,\"X\",\"\")","v":""},{"$f":"IF(L265=LP!$D$108,\"X\",\"\")","v":""},{"$f":"IF(L265=LP!$D$107,\"X\",\"\")","v":""},{"$f":"IF(L265=LP!$D$106,\"X\",\"\")","v":""},{"$f":"IF(L265=LP!$D$110,\"X\",\"\")","v":"X"},"NA",null,{"$f":"IF(S265=LP!$D$109,\"X\",\"\")","v":""},{"$f":"IF(S265=LP!$D$108,\"X\",\"\")","v":""},{"$f":"IF(S265=LP!$D$107,\"X\",\"\")","v":""},{"$f":"IF(S265=LP!$D$106,\"X\",\"\")","v":""},{"$f":"IF(S265=LP!$D$110,\"X\",\"\")","v":"X"},{"$f":"IF(G265=\"x\",4,IF(H265=\"x\",3,IF(I265=\"x\",2,IF(J265=\"x\",1,IF(K265=\"x\",\"NR\",\"\")))))","v":"NR"},{"$f":"IF(N265=\"x\",4,IF(O265=\"x\",3,IF(P265=\"x\",2,IF(Q265=\"x\",1,IF(R265=\"x\",\"NR\",\"\")))))","v":"NR"},{"$f":"IF(U265=\"x\",4,IF(V265=\"x\",3,IF(W265=\"x\",2,IF(X265=\"x\",1,IF(Y265=\"x\",\"NR\",\"\")))))","v":"NR"},{"$f":"SUM(Z265)","v":0},{"$f":"SUM(AA265)","v":0},{"$f":"SUM(AB265)","v":0}]
[]
[null,null,null,null,null,null,null,null,null,null,null,null,null,null,null,null,null,null,null,null,null,null,null,null,null,"Total",null,null,{"$f":"(AC241+AC247+AC253+AC259+AC265)","v":0},{"$f":"(AD259+AD253+AD247+AD241+AD265)","v":0},{"$f":"(AE259+AE253+AE247+AE241+AE265)","v":0}]
[null,null,null,null,null,null,null,null,null,null,null," "," "," "," "," "," "," ",null," "," "," "," "," "," ","Potential",null,null,{"$f":"COUNT(Z241:Z265)*4","v":0},{"$f":"COUNT(AA241:AA265)*4","v":0},{"$f":"COUNT(AB241:AB265)*4","v":0}]
[null,null,null,null,null,null,null,null,null,null,null,null,null,null,null,null,null,null,null,null,null,null,null,null,null,"Total Score",null,null,{"$f":"IF(AC268<>0,AC267/AC268,\"NR\")","v":"NR"},{"$f":"IF(AD268<>0,AD267/AD268,\"NR\")","v":"NR"},{"$f":"IF(AE268<>0,AE267/AE268,\"NR\")","v":"NR"}]
[]
[]
[" ",{"$f":"RR!B2","v":"Risk Reduction"},null,null,"Build up Score Assessment"," ","Build up Scoring",null,null,null,null,"Build up Score Assessment"," ","Build up Scoring",null,null,null,null,"Build up Score Assessment"," ","Build up Scoring",null,null,null,null,null,null,null,"Sub Element Score"]
[{"$f":"RR!$A$4","v":"RR1.0"},{"$f":"RR!$B$4","v":"PFMEA developed and maintained"},null,"Sub-Element",null,null,4,3,2,1,"NR",null,null,4,3,2,1,"NR",null,null,4,3,2,1,"NR","Self","Onsite","Current","Self","Onsite","Current","Procedures","Findings","Comments"]
[{"$f":"RR!$A$5","v":"RR1.1"},{"$f":"RR!$C$5","v":"PFMEA is developed"},null,null,"NA",null,{"$f":"IF(E274=RR!$D$9,\"X\",\"\")","v":""},{"$f":"IF(E274=RR!$D$8,\"X\",\"\")","v":""},{"$f":"IF(E274=RR!$D$7,\"X\",\"\")","v":""},{"$f":"IF(E274=RR!$D$6,\"X\",\"\")","v":""},{"$f":"IF(E274=RR!$D$10,\"X\",\"\")","v":"X"},"NA",null,{"$f":"IF(L274=RR!$D$9,\"X\",\"\")","v":""},{"$f":"IF(L274=RR!$D$8,\"X\",\"\")","v":""},{"$f":"IF(L274=RR!$D$7,\"X\",\"\")","v":""},{"$f":"IF(L274=RR!$D$6,\"X\",\"\")","v":""},{"$f":"IF(L274=RR!$D$10,\"X\",\"\")","v":"X"},"NA",null,{"$f":"IF(S274=RR!$D$9,\"X\",\"\")","v":""},{"$f":"IF(S274=RR!$D$8,\"X\",\"\")","v":""},{"$f":"IF(S274=RR!$D$7,\"X\",\"\")","v":""},{"$f":"IF(S274=RR!$D$6,\"X\",\"\")","v":""},{"$f":"IF(S274=RR!$D$10,\"X\",\"\")","v":"X"},{"$f":"IF(G274=\"x\",4,IF(H274=\"x\",3,IF(I274=\"x\",2,IF(J274=\"x\",1,IF(K274=\"x\",\"NR\",\"\")))))","v":"NR"},{"$f":"IF(N274=\"x\",4,IF(O274=\"x\",3,IF(P274=\"x\",2,IF(Q274=\"x\",1,IF(R274=\"x\",\"NR\",\"\")))))","v":"NR"},{"$f":"IF(U274=\"x\",4,IF(V274=\"x\",3,IF(W274=\"x\",2,IF(X274=\"x\",1,IF(Y274=\"x\",\"NR\",\"\")))))","v":"NR"},{"$f":"SUM(Z274:Z277)","v":0},{"$f":"SUM(AA274:AA277)","v":0},{"$f":"SUM(AB274:AB277)","v":0}]
[{"$f":"RR!$A$11","v":"RR1.2"},{"$f":"RR!$C$11","v":"PFMEA available for all part numbers and operations"},null,null,"NA",null,{"$f":"IF(E275=RR!$D$15,\"X\",\"\")","v":""},{"$f":"IF(E275=RR!$D$14,\"X\",\"\")","v":""},{"$f":"IF(E275=RR!$D$13,\"X\",\"\")","v":""},{"$f":"IF(E275=RR!$D$12,\"X\",\"\")","v":""},{"$f":"IF(E275=RR!$D$16,\"X\",\"\")","v":"X"},"NA",null,{"$f":"IF(L275=RR!$D$15,\"X\",\"\")","v":""},{"$f":"IF(L275=RR!$D$14,\"X\",\"\")","v":""},{"$f":"IF(L275=RR!$D$13,\"X\",\"\")","v":""},{"$f":"IF(L275=RR!$D$12,\"X\",\"\")","v":""},{"$f":"IF(L275=RR!$D$16,\"X\",\"\")","v":"X"},"NA",null,{"$f":"IF(S275=RR!$D$15,\"X\",\"\")","v":""},{"$f":"IF(S275=RR!$D$14,\"X\",\"\")","v":""},{"$f":"IF(S275=RR!$D$13,\"X\",\"\")","v":""},{"$f":"IF(S275=RR!$D$12,\"X\",\"\")","v":""},{"$f":"IF(S275=RR!$D$16,\"X\",\"\")","v":"X"},{"$f":"IF(G275=\"x\",4,IF(H275=\"x\",3,IF(I275=\"x\",2,IF(J275=\"x\",1,IF(K275=\"x\",\"NR\",\"\")))))","v":"NR"},{"$f":"IF(N275=\"x\",4,IF(O275=\"x\",3,IF(P275=\"x\",2,IF(Q275=\"x\",1,IF(R275=\"x\",\"NR\",\"\")))))","v":"NR"},{"$f":"IF(U275=\"x\",4,IF(V275=\"x\",3,IF(W275=\"x\",2,IF(X275=\"x\",1,IF(Y275=\"x\",\"NR\",\"\")))))","v":"NR"}]
[{"$f":"RR!$A$17","v":"RR1.3"},{"$f":"RR!$C$17","v":"PFMEA is updated for quality issue"},null,null,"NA",null,{"$f":"IF(E276=RR!$D$21,\"X\",\"\")","v":""},{"$f":"IF(E276=RR!$D$20,\"X\",\"\")","v":""},{"$f":"IF(E276=RR!$D$19,\"X\",\"\")","v":""},{"$f":"IF(E276=RR!$D$18,\"X\",\"\")","v":""},{"$f":"IF(E276=RR!$D$22,\"X\",\"\")","v":"X"},"NA",null,{"$f":"IF(L276=RR!$D$21,\"X\",\"\")","v":""},{"$f":"IF(L276=RR!$D$20,\"X\",\"\")","v":""},{"$f":"IF(L276=RR!$D$19,\"X\",\"\")","v":""},{"$f":"IF(L276=RR!$D$18,\"X\",\"\")","v":""},{"$f":"IF(L276=RR!$D$22,\"X\",\"\")","v":"X"},"NA",null,{"$f":"IF(S276=RR!$D$21,\"X\",\"\")","v":""},{"$f":"IF(S276=RR!$D$20,\"X\",\"\")","v":""},{"$f":"IF(S276=RR!$D$19,\"X\",\"\")","v":""},{"$f":"IF(S276=RR!$D$18,\"X\",\"\")","v":""},{"$f":"IF(S276=RR!$D$22,\"X\",\"\")","v":"X"},{"$f":"IF(G276=\"x\",4,IF(H276=\"x\",3,IF(I276=\"x\",2,IF(J276=\"x\",1,IF(K276=\"x\",\"NR\",\"\")))))","v":"NR"},{"$f":"IF(N276=\"x\",4,IF(O276=\"x\",3,IF(P276=\"x\",2,IF(Q276=\"x\",1,IF(R276=\"x\",\"NR\",\"\")))))","v":"NR"},{"$f":"IF(U276=\"x\",4,IF(V276=\"x\",3,IF(W276=\"x\",2,IF(X276=\"x\",1,IF(Y276=\"x\",\"NR\",\"\")))))","v":"NR"}]
[{"$f":"RR!$A$23","v":"RR1.4"},{"$f":"RR!$C$23","v":"Periodic reviews are scheduled"},null,null,"NA",null,{"$f":"IF(E277=RR!$D$27,\"X\",\"\")","v":""},{"$f":"IF(E277=RR!$D$26,\"X\",\"\")","v":""},{"$f":"IF(E277=RR!$D$25,\"X\",\"\")","v":""},{"$f":"IF(E277=RR!$D$24,\"X\",\"\")","v":""},{"$f":"IF(E277=RR!$D$28,\"X\",\"\")","v":"X"},"NA",null,{"$f":"IF(L277=RR!$D$27,\"X\",\"\")","v":""},{"$f":"IF(L277=RR!$D$26,\"X\",\"\")","v":""},{"$f":"IF(L277=RR!$D$25,\"X\",\"\")","v":""},{"$f":"IF(L277=RR!$D$24,\"X\",\"\")","v":""},{"$f":"IF(L277=RR!$D$28,\"X\",\"\")","v":"X"},"NA",null,{"$f":"IF(S277=RR!$D$27,\"X\",\"\")","v":""},{"$f":"IF(S277=RR!$D$26,\"X\",\"\")","v":""},{"$f":"IF(S277=RR!$D$25,\"X\",\"\")","v":""},{"$f":"IF(S277=RR!$D$24,\"X\",\"\")","v":""},{"$f":"IF(S277=RR!$D$28,\"X\",\"\")","v":"X"},{"$f":"IF(G277=\"x\",4,IF(H277=\"x\",3,IF(I277=\"x\",2,IF(J277=\"x\",1,IF(K277=\"x\",\"NR\",\"\")))))","v":"NR"},{"$f":"IF(N277=\"x\",4,IF(O277=\"x\",3,IF(P277=\"x\",2,IF(Q277=\"x\",1,IF(R277=\"x\",\"NR\",\"\")))))","v":"NR"},{"$f":"IF(U277=\"x\",4,IF(V277=\"x\",3,IF(W277=\"x\",2,IF(X277=\"x\",1,IF(Y277=\"x\",\"NR\",\"\")))))","v":"NR"}]
[]
[{"$f":"RR!$A$29","v":"RR2.0"},{"$f":"RR!$B$29","v":"Proactive approach for high risk items"}]
[{"$f":"RR!$A$30","v":"RR2.1"},{"$f":"RR!$C$30","v":"High severity and high risk items"},null,null,"NA",null,{"$f":"IF(E280=RR!$D$34,\"X\",\"\")","v":""},{"$f":"IF(E280=RR!$D$33,\"X\",\"\")","v":""},{"$f":"IF(E280=RR!$D$32,\"X\",\"\")","v":""},{"$f":"IF(E280=RR!$D$31,\"X\",\"\")","v":""},{"$f":"IF(E280=RR!$D$35,\"X\",\"\")","v":"X"},"NA",null,{"$f":"IF(L280=RR!$D$34,\"X\",\"\")","v":""},{"$f":"IF(L280=RR!$D$33,\"X\",\"\")","v":""},{"$f":"IF(L280=RR!$D$32,\"X\",\"\")","v":""},{"$f":"IF(L280=RR!$D$31,\"X\",\"\")","v":""},{"$f":"IF(L280=RR!$D$35,\"X\",\"\")","v":"X"},"NA",null,{"$f":"IF(S280=RR!$D$34,\"X\",\"\")","v":""},{"$f":"IF(S280=RR!$D$33,\"X\",\"\")","v":""},{"$f":"IF(S280=RR!$D$32,\"X\",\"\")","v":""},{"$f":"IF(S280=RR!$D$31,\"X\",\"\")","v":""},{"$f":"IF(S280=RR!$D$35,\"X\",\"\")","v":"X"},{"$f":"IF(G280=\"x\",4,IF(H280=\"x\",3,IF(I280=\"x\",2,IF(J280=\"x\",1,IF(K280=\"x\",\"NR\",\"\")))))","v":"NR"},{"$f":"IF(N280=\"x\",4,IF(O280=\"x\",3,IF(P280=\"x\",2,IF(Q280=\"x\",1,IF(R280=\"x\",\"NR\",\"\")))))","v":"NR"},{"$f":"IF(U280=\"x\",4,IF(V280=\"x\",3,IF(W280=\"x\",2,IF(X280=\"x\",1,IF(Y280=\"x\",\"NR\",\"\")))))","v":"NR"},{"$f":"SUM(Z280:Z283)","v":0},{"$f":"SUM(AA280:AA283)","v":0},{"$f":"SUM(AB280:AB283)","v":0}]
[{"$f":"RR!$A$36","v":"RR2.2"},{"$f":"RR!$C$36","v":"Prioritization based on defined approach"},null,null,"NA",null,{"$f":"IF(E281=RR!$D$40,\"X\",\"\")","v":""},{"$f":"IF(E281=RR!$D$39,\"X\",\"\")","v":""},{"$f":"IF(E281=RR!$D$38,\"X\",\"\")","v":""},{"$f":"IF(E281=RR!$D$37,\"X\",\"\")","v":""},{"$f":"IF(E281=RR!$D$41,\"X\",\"\")","v":"X"},"NA",null,{"$f":"IF(L281=RR!$D$40,\"X\",\"\")","v":""},{"$f":"IF(L281=RR!$D$39,\"X\",\"\")","v":""},{"$f":"IF(L281=RR!$D$38,\"X\",\"\")","v":""},{"$f":"IF(L281=RR!$D$37,\"X\",\"\")","v":""},{"$f":"IF(L281=RR!$D$41,\"X\",\"\")","v":"X"},"NA",null,{"$f":"IF(S281=RR!$D$40,\"X\",\"\")","v":""},{"$f":"IF(S281=RR!$D$39,\"X\",\"\")","v":""},{"$f":"IF(S281=RR!$D$38,\"X\",\"\")","v":""},{"$f":"IF(S281=RR!$D$37,\"X\",\"\")","v":""},{"$f":"IF(S281=RR!$D$41,\"X\",\"\")","v":"X"},{"$f":"IF(G281=\"x\",4,IF(H281=\"x\",3,IF(I281=\"x\",2,IF(J281=\"x\",1,IF(K281=\"x\",\"NR\",\"\")))))","v":"NR"},{"$f":"IF(N281=\"x\",4,IF(O281=\"x\",3,IF(P281=\"x\",2,IF(Q281=\"x\",1,IF(R281=\"x\",\"NR\",\"\")))))","v":"NR"},{"$f":"IF(U281=\"x\",4,IF(V281=\"x\",3,IF(W281=\"x\",2,IF(X281=\"x\",1,IF(Y281=\"x\",\"NR\",\"\")))))","v":"NR"}]
[{"$f":"RR!$A$42","v":"RR2.3"},{"$f":"RR!$C$42","v":"Recommended actions documented"},null,null,"NA",null,{"$f":"IF(E282=RR!$D$46,\"X\",\"\")","v":""},{"$f":"IF(E282=RR!$D$45,\"X\",\"\")","v":""},{"$f":"IF(E282=RR!$D$44,\"X\",\"\")","v":""},{"$f":"IF(E282=RR!$D$43,\"X\",\"\")","v":""},{"$f":"IF(E282=RR!$D$47,\"X\",\"\")","v":"X"},"NA",null,{"$f":"IF(L282=RR!$D$46,\"X\",\"\")","v":""},{"$f":"IF(L282=RR!$D$45,\"X\",\"\")","v":""},{"$f":"IF(L282=RR!$D$44,\"X\",\"\")","v":""},{"$f":"IF(L282=RR!$D$43,\"X\",\"\")","v":""},{"$f":"IF(L282=RR!$D$47,\"X\",\"\")","v":"X"},"NA",null,{"$f":"IF(S282=RR!$D$46,\"X\",\"\")","v":""},{"$f":"IF(S282=RR!$D$45,\"X\",\"\")","v":""},{"$f":"IF(S282=RR!$D$44,\"X\",\"\")","v":""},{"$f":"IF(S282=RR!$D$43,\"X\",\"\")","v":""},{"$f":"IF(S282=RR!$D$47,\"X\",\"\")","v":"X"},{"$f":"IF(G282=\"x\",4,IF(H282=\"x\",3,IF(I282=\"x\",2,IF(J282=\"x\",1,IF(K282=\"x\",\"NR\",\"\")))))","v":"NR"},{"$f":"IF(N282=\"x\",4,IF(O282=\"x\",3,IF(P282=\"x\",2,IF(Q282=\"x\",1,IF(R282=\"x\",\"NR\",\"\")))))","v":"NR"},{"$f":"IF(U282=\"x\",4,IF(V282=\"x\",3,IF(W282=\"x\",2,IF(X282=\"x\",1,IF(Y282=\"x\",\"NR\",\"\")))))","v":"NR"}]
[{"$f":"RR!$A$48","v":"RR2.4"},{"$f":"RR!$C$48","v":"Quality tools are applied to mitigate risk"},null,null,"NA",null,{"$f":"IF(E283=RR!$D$52,\"X\",\"\")","v":""},{"$f":"IF(E283=RR!$D$51,\"X\",\"\")","v":""},{"$f":"IF(E283=RR!$D$50,\"X\",\"\")","v":""},{"$f":"IF(E283=RR!$D$49,\"X\",\"\")","v":""},{"$f":"IF(E283=RR!$D$53,\"X\",\"\")","v":"X"},"NA",null,{"$f":"IF(L283=RR!$D$52,\"X\",\"\")","v":""},{"$f":"IF(L283=RR!$D$51,\"X\",\"\")","v":""},{"$f":"IF(L283=RR!$D$50,\"X\",\"\")","v":""},{"$f":"IF(L283=RR!$D$49,\"X\",\"\")","v":""},{"$f":"IF(L283=RR!$D$53,\"X\",\"\")","v":"X"},"NA",null,{"$f":"IF(S283=RR!$D$52,\"X\",\"\")","v":""},{"$f":"IF(S283=RR!$D$51,\"X\",\"\")","v":""},{"$f":"IF(S283=RR!$D$50,\"X\",\"\")","v":""},{"$f":"IF(S283=RR!$D$49,\"X\",\"\")","v":""},{"$f":"IF(S283=RR!$D$53,\"X\",\"\")","v":"X"},{"$f":"IF(G283=\"x\",4,IF(H283=\"x\",3,IF(I283=\"x\",2,IF(J283=\"x\",1,IF(K283=\"x\",\"NR\",\"\")))))","v":"NR"},{"$f":"IF(N283=\"x\",4,IF(O283=\"x\",3,IF(P283=\"x\",2,IF(Q283=\"x\",1,IF(R283=\"x\",\"NR\",\"\")))))","v":"NR"},{"$f":"IF(U283=\"x\",4,IF(V283=\"x\",3,IF(W283=\"x\",2,IF(X283=\"x\",1,IF(Y283=\"x\",\"NR\",\"\")))))","v":"NR"}]
[]
[{"$f":"RR!$A$54","v":"RR3.0"},{"$f":"RR!$B$54","v":"Reverse PFMEA process"}]
[{"$f":"RR!$A$55","v":"RR3.1"},{"$f":"RR!$C$55","v":"Cross-functional team conducts on-stations review"},null,null,"NA",null,{"$f":"IF(E286=RR!$D$59,\"X\",\"\")","v":""},{"$f":"IF(E286=RR!$D$58,\"X\",\"\")","v":""},{"$f":"IF(E286=RR!$D$57,\"X\",\"\")","v":""},{"$f":"IF(E286=RR!$D$56,\"X\",\"\")","v":""},{"$f":"IF(E286=RR!$D$60,\"X\",\"\")","v":"X"},"NA",null,{"$f":"IF(L286=RR!$D$59,\"X\",\"\")","v":""},{"$f":"IF(L286=RR!$D$58,\"X\",\"\")","v":""},{"$f":"IF(L286=RR!$D$57,\"X\",\"\")","v":""},{"$f":"IF(L286=RR!$D$56,\"X\",\"\")","v":""},{"$f":"IF(L286=RR!$D$60,\"X\",\"\")","v":"X"},"NA",null,{"$f":"IF(S286=RR!$D$59,\"X\",\"\")","v":""},{"$f":"IF(S286=RR!$D$58,\"X\",\"\")","v":""},{"$f":"IF(S286=RR!$D$57,\"X\",\"\")","v":""},{"$f":"IF(S286=RR!$D$56,\"X\",\"\")","v":""},{"$f":"IF(S286=RR!$D$60,\"X\",\"\")","v":"X"},{"$f":"IF(G286=\"x\",4,IF(H286=\"x\",3,IF(I286=\"x\",2,IF(J286=\"x\",1,IF(K286=\"x\",\"NR\",\"\")))))","v":"NR"},{"$f":"IF(N286=\"x\",4,IF(O286=\"x\",3,IF(P286=\"x\",2,IF(Q286=\"x\",1,IF(R286=\"x\",\"NR\",\"\")))))","v":"NR"},{"$f":"IF(U286=\"x\",4,IF(V286=\"x\",3,IF(W286=\"x\",2,IF(X286=\"x\",1,IF(Y286=\"x\",\"NR\",\"\")))))","v":"NR"},{"$f":"SUM(Z286:Z289)","v":0},{"$f":"SUM(AA286:AA289)","v":0},{"$f":"SUM(AB286:AB289)","v":0}]
[{"$f":"RR!$A$61","v":"RR3.2"},{"$f":"RR!$C$61","v":"Schedule of reverse PFMEA"},null,null,"NA",null,{"$f":"IF(E287=RR!$D$65,\"X\",\"\")","v":""},{"$f":"IF(E287=RR!$D$64,\"X\",\"\")","v":""},{"$f":"IF(E287=RR!$D$63,\"X\",\"\")","v":""},{"$f":"IF(E287=RR!$D$62,\"X\",\"\")","v":""},{"$f":"IF(E287=RR!$D$66,\"X\",\"\")","v":"X"},"NA",null,{"$f":"IF(L287=RR!$D$65,\"X\",\"\")","v":""},{"$f":"IF(L287=RR!$D$64,\"X\",\"\")","v":""},{"$f":"IF(L287=RR!$D$63,\"X\",\"\")","v":""},{"$f":"IF(L287=RR!$D$62,\"X\",\"\")","v":""},{"$f":"IF(L287=RR!$D$66,\"X\",\"\")","v":"X"},"NA",null,{"$f":"IF(S287=RR!$D$65,\"X\",\"\")","v":""},{"$f":"IF(S287=RR!$D$64,\"X\",\"\")","v":""},{"$f":"IF(S287=RR!$D$63,\"X\",\"\")","v":""},{"$f":"IF(S287=RR!$D$62,\"X\",\"\")","v":""},{"$f":"IF(S287=RR!$D$66,\"X\",\"\")","v":"X"},{"$f":"IF(G287=\"x\",4,IF(H287=\"x\",3,IF(I287=\"x\",2,IF(J287=\"x\",1,IF(K287=\"x\",\"NR\",\"\")))))","v":"NR"},{"$f":"IF(N287=\"x\",4,IF(O287=\"x\",3,IF(P287=\"x\",2,IF(Q287=\"x\",1,IF(R287=\"x\",\"NR\",\"\")))))","v":"NR"},{"$f":"IF(U287=\"x\",4,IF(V287=\"x\",3,IF(W287=\"x\",2,IF(X287=\"x\",1,IF(Y287=\"x\",\"NR\",\"\")))))","v":"NR"}]
[{"$f":"RR!$A$67","v":"RR3.3"},{"$f":"RR!$C$67","v":"Findings are driven back into Process Flow, PFMEA, Control Plan, Work Instructions"},null,null,"NA",null,{"$f":"IF(E288=RR!$D$71,\"X\",\"\")","v":""},{"$f":"IF(E288=RR!$D$70,\"X\",\"\")","v":""},{"$f":"IF(E288=RR!$D$69,\"X\",\"\")","v":""},{"$f":"IF(E288=RR!$D$68,\"X\",\"\")","v":""},{"$f":"IF(E288=RR!$D$72,\"X\",\"\")","v":"X"},"NA",null,{"$f":"IF(L288=RR!$D$71,\"X\",\"\")","v":""},{"$f":"IF(L288=RR!$D$70,\"X\",\"\")","v":""},{"$f":"IF(L288=RR!$D$69,\"X\",\"\")","v":""},{"$f":"IF(L288=RR!$D$68,\"X\",\"\")","v":""},{"$f":"IF(L288=RR!$D$72,\"X\",\"\")","v":"X"},"NA",null,{"$f":"IF(S288=RR!$D$71,\"X\",\"\")","v":""},{"$f":"IF(S288=RR!$D$70,\"X\",\"\")","v":""},{"$f":"IF(S288=RR!$D$69,\"X\",\"\")","v":""},{"$f":"IF(S288=RR!$D$68,\"X\",\"\")","v":""},{"$f":"IF(S288=RR!$D$72,\"X\",\"\")","v":"X"},{"$f":"IF(G288=\"x\",4,IF(H288=\"x\",3,IF(I288=\"x\",2,IF(J288=\"x\",1,IF(K288=\"x\",\"NR\",\"\")))))","v":"NR"},{"$f":"IF(N288=\"x\",4,IF(O288=\"x\",3,IF(P288=\"x\",2,IF(Q288=\"x\",1,IF(R288=\"x\",\"NR\",\"\")))))","v":"NR"},{"$f":"IF(U288=\"x\",4,IF(V288=\"x\",3,IF(W288=\"x\",2,IF(X288=\"x\",1,IF(Y288=\"x\",\"NR\",\"\")))))","v":"NR"}]
[{"$f":"RR!$A$73","v":"RR3.4"},{"$f":"RR!$C$73","v":"PFMEA Look across"},null,null,"NA",null,{"$f":"IF(E289=RR!$D$77,\"X\",\"\")","v":""},{"$f":"IF(E289=RR!$D$76,\"X\",\"\")","v":""},{"$f":"IF(E289=RR!$D$75,\"X\",\"\")","v":""},{"$f":"IF(E289=RR!$D$74,\"X\",\"\")","v":""},{"$f":"IF(E289=RR!$D$78,\"X\",\"\")","v":"X"},"NA",null,{"$f":"IF(L289=RR!$D$77,\"X\",\"\")","v":""},{"$f":"IF(L289=RR!$D$76,\"X\",\"\")","v":""},{"$f":"IF(L289=RR!$D$75,\"X\",\"\")","v":""},{"$f":"IF(L289=RR!$D$74,\"X\",\"\")","v":""},{"$f":"IF(L289=RR!$D$78,\"X\",\"\")","v":"X"},"NA",null,{"$f":"IF(S289=RR!$D$77,\"X\",\"\")","v":""},{"$f":"IF(S289=RR!$D$76,\"X\",\"\")","v":""},{"$f":"IF(S289=RR!$D$75,\"X\",\"\")","v":""},{"$f":"IF(S289=RR!$D$74,\"X\",\"\")","v":""},{"$f":"IF(S289=RR!$D$78,\"X\",\"\")","v":"X"},{"$f":"IF(G289=\"x\",4,IF(H289=\"x\",3,IF(I289=\"x\",2,IF(J289=\"x\",1,IF(K289=\"x\",\"NR\",\"\")))))","v":"NR"},{"$f":"IF(N289=\"x\",4,IF(O289=\"x\",3,IF(P289=\"x\",2,IF(Q289=\"x\",1,IF(R289=\"x\",\"NR\",\"\")))))","v":"NR"},{"$f":"IF(U289=\"x\",4,IF(V289=\"x\",3,IF(W289=\"x\",2,IF(X289=\"x\",1,IF(Y289=\"x\",\"NR\",\"\")))))","v":"NR"}]
[]
[{"$f":"RR!$A$79","v":"RR4"},{"$f":"RR!$B$79","v":"Assess potential risks which could impact the plant"}]
[{"$f":"RR!$A$80","v":"RR4.1"},{"$f":"RR!$C$80","v":"Process to evaluate and control risk "},null,null,"NA",null,{"$f":"IF(E292=RR!$D$84,\"X\",\"\")","v":""},{"$f":"IF(E292=RR!$D$83,\"X\",\"\")","v":""},{"$f":"IF(E292=RR!$D$82,\"X\",\"\")","v":""},{"$f":"IF(E292=RR!$D$81,\"X\",\"\")","v":""},{"$f":"IF(E292=RR!$D$85,\"X\",\"\")","v":"X"},"NA",null,{"$f":"IF(L292=RR!$D$84,\"X\",\"\")","v":""},{"$f":"IF(L292=RR!$D$83,\"X\",\"\")","v":""},{"$f":"IF(L292=RR!$D$82,\"X\",\"\")","v":""},{"$f":"IF(L292=RR!$D$81,\"X\",\"\")","v":""},{"$f":"IF(L292=RR!$D$85,\"X\",\"\")","v":"X"},"NA",null,{"$f":"IF(S292=RR!$D$84,\"X\",\"\")","v":""},{"$f":"IF(S292=RR!$D$83,\"X\",\"\")","v":""},{"$f":"IF(S292=RR!$D$82,\"X\",\"\")","v":""},{"$f":"IF(S292=RR!$D$81,\"X\",\"\")","v":""},{"$f":"IF(S292=RR!$D$85,\"X\",\"\")","v":"X"},{"$f":"IF(G292=\"x\",4,IF(H292=\"x\",3,IF(I292=\"x\",2,IF(J292=\"x\",1,IF(K292=\"x\",\"NR\",\"\")))))","v":"NR"},{"$f":"IF(N292=\"x\",4,IF(O292=\"x\",3,IF(P292=\"x\",2,IF(Q292=\"x\",1,IF(R292=\"x\",\"NR\",\"\")))))","v":"NR"},{"$f":"IF(U292=\"x\",4,IF(V292=\"x\",3,IF(W292=\"x\",2,IF(X292=\"x\",1,IF(Y292=\"x\",\"NR\",\"\")))))","v":"NR"},{"$f":"SUM(Z292:Z295)","v":0},{"$f":"SUM(AA292:AA295)","v":0},{"$f":"SUM(AB292:AB295)","v":0}]
[{"$f":"RR!$A$86","v":"RR4.2"},{"$f":"RR!$C$86","v":"Tool to identify, evaluate and prioritize risk"},null,null,"NA",null,{"$f":"IF(E293=RR!$D$90,\"X\",\"\")","v":""},{"$f":"IF(E293=RR!$D$89,\"X\",\"\")","v":""},{"$f":"IF(E293=RR!$D$88,\"X\",\"\")","v":""},{"$f":"IF(E293=RR!$D$87,\"X\",\"\")","v":""},{"$f":"IF(E293=RR!$D$91,\"X\",\"\")","v":"X"},"NA",null,{"$f":"IF(L293=RR!$D$90,\"X\",\"\")","v":""},{"$f":"IF(L293=RR!$D$89,\"X\",\"\")","v":""},{"$f":"IF(L293=RR!$D$88,\"X\",\"\")","v":""},{"$f":"IF(L293=RR!$D$87,\"X\",\"\")","v":""},{"$f":"IF(L293=RR!$D$91,\"X\",\"\")","v":"X"},"NA",null,{"$f":"IF(S293=RR!$D$90,\"X\",\"\")","v":""},{"$f":"IF(S293=RR!$D$89,\"X\",\"\")","v":""},{"$f":"IF(S293=RR!$D$88,\"X\",\"\")","v":""},{"$f":"IF(S293=RR!$D$87,\"X\",\"\")","v":""},{"$f":"IF(S293=RR!$D$91,\"X\",\"\")","v":"X"},{"$f":"IF(G293=\"x\",4,IF(H293=\"x\",3,IF(I293=\"x\",2,IF(J293=\"x\",1,IF(K293=\"x\",\"NR\",\"\")))))","v":"NR"},{"$f":"IF(N293=\"x\",4,IF(O293=\"x\",3,IF(P293=\"x\",2,IF(Q293=\"x\",1,IF(R293=\"x\",\"NR\",\"\")))))","v":"NR"},{"$f":"IF(U293=\"x\",4,IF(V293=\"x\",3,IF(W293=\"x\",2,IF(X293=\"x\",1,IF(Y293=\"x\",\"NR\",\"\")))))","v":"NR"}]
[{"$f":"RR!$A$92","v":"RR4.3"},{"$f":"RR!$C$92","v":"Prevention and reaction plans"},null,null,"NA",null,{"$f":"IF(E294=RR!$D$96,\"X\",\"\")","v":""},{"$f":"IF(E294=RR!$D$95,\"X\",\"\")","v":""},{"$f":"IF(E294=RR!$D$94,\"X\",\"\")","v":""},{"$f":"IF(E294=RR!$D$93,\"X\",\"\")","v":""},{"$f":"IF(E294=RR!$D$97,\"X\",\"\")","v":"X"},"NA",null,{"$f":"IF(L294=RR!$D$96,\"X\",\"\")","v":""},{"$f":"IF(L294=RR!$D$95,\"X\",\"\")","v":""},{"$f":"IF(L294=RR!$D$94,\"X\",\"\")","v":""},{"$f":"IF(L294=RR!$D$93,\"X\",\"\")","v":""},{"$f":"IF(L294=RR!$D$97,\"X\",\"\")","v":"X"},"NA",null,{"$f":"IF(S294=RR!$D$96,\"X\",\"\")","v":""},{"$f":"IF(S294=RR!$D$95,\"X\",\"\")","v":""},{"$f":"IF(S294=RR!$D$94,\"X\",\"\")","v":""},{"$f":"IF(S294=RR!$D$93,\"X\",\"\")","v":""},{"$f":"IF(S294=RR!$D$97,\"X\",\"\")","v":"X"},{"$f":"IF(G294=\"x\",4,IF(H294=\"x\",3,IF(I294=\"x\",2,IF(J294=\"x\",1,IF(K294=\"x\",\"NR\",\"\")))))","v":"NR"},{"$f":"IF(N294=\"x\",4,IF(O294=\"x\",3,IF(P294=\"x\",2,IF(Q294=\"x\",1,IF(R294=\"x\",\"NR\",\"\")))))","v":"NR"},{"$f":"IF(U294=\"x\",4,IF(V294=\"x\",3,IF(W294=\"x\",2,IF(X294=\"x\",1,IF(Y294=\"x\",\"NR\",\"\")))))","v":"NR"}]
[{"$f":"RR!$A$98","v":"RR4.4"},{"$f":"RR!$C$98","v":"Notification Process"},null,null,"NA",null,{"$f":"IF(E295=RR!$D$102,\"X\",\"\")","v":""},{"$f":"IF(E295=RR!$D$101,\"X\",\"\")","v":""},{"$f":"IF(E295=RR!$D$100,\"X\",\"\")","v":""},{"$f":"IF(E295=RR!$D$99,\"X\",\"\")","v":""},{"$f":"IF(E295=RR!$D$103,\"X\",\"\")","v":"X"},"NA",null,{"$f":"IF(L295=RR!$D$102,\"X\",\"\")","v":""},{"$f":"IF(L295=RR!$D$101,\"X\",\"\")","v":""},{"$f":"IF(L295=RR!$D$100,\"X\",\"\")","v":""},{"$f":"IF(L295=RR!$D$99,\"X\",\"\")","v":""},{"$f":"IF(L295=RR!$D$103,\"X\",\"\")","v":"X"},"NA",null,{"$f":"IF(S295=RR!$D$102,\"X\",\"\")","v":""},{"$f":"IF(S295=RR!$D$101,\"X\",\"\")","v":""},{"$f":"IF(S295=RR!$D$100,\"X\",\"\")","v":""},{"$f":"IF(S295=RR!$D$99,\"X\",\"\")","v":""},{"$f":"IF(S295=RR!$D$103,\"X\",\"\")","v":"X"},{"$f":"IF(G295=\"x\",4,IF(H295=\"x\",3,IF(I295=\"x\",2,IF(J295=\"x\",1,IF(K295=\"x\",\"NR\",\"\")))))","v":"NR"},{"$f":"IF(N295=\"x\",4,IF(O295=\"x\",3,IF(P295=\"x\",2,IF(Q295=\"x\",1,IF(R295=\"x\",\"NR\",\"\")))))","v":"NR"},{"$f":"IF(U295=\"x\",4,IF(V295=\"x\",3,IF(W295=\"x\",2,IF(X295=\"x\",1,IF(Y295=\"x\",\"NR\",\"\")))))","v":"NR"}]
[]
[{"$f":"RR!$A$104","v":"RRE"},{"$f":"RR!$B$104","v":"Targets are defined to ensure effectiveness  and efficiency of risk reduction activity"}]
[{"$f":"RR!$A$105","v":"RRE.1"},{"$f":"RR!$C$105","v":"Tracking number of high risk items"},null,null,"NA",null,{"$f":"IF(E298=RR!$D$109,\"X\",\"\")","v":""},{"$f":"IF(E298=RR!$D$108,\"X\",\"\")","v":""},{"$f":"IF(E298=RR!$D$107,\"X\",\"\")","v":""},{"$f":"IF(E298=RR!$D$106,\"X\",\"\")","v":""},{"$f":"IF(E298=RR!$D$110,\"X\",\"\")","v":"X"},"NA",null,{"$f":"IF(L298=RR!$D$109,\"X\",\"\")","v":""},{"$f":"IF(L298=RR!$D$108,\"X\",\"\")","v":""},{"$f":"IF(L298=RR!$D$107,\"X\",\"\")","v":""},{"$f":"IF(L298=RR!$D$106,\"X\",\"\")","v":""},{"$f":"IF(L298=RR!$D$110,\"X\",\"\")","v":"X"},"NA",null,{"$f":"IF(S298=RR!$D$109,\"X\",\"\")","v":""},{"$f":"IF(S298=RR!$D$108,\"X\",\"\")","v":""},{"$f":"IF(S298=RR!$D$107,\"X\",\"\")","v":""},{"$f":"IF(S298=RR!$D$106,\"X\",\"\")","v":""},{"$f":"IF(S298=RR!$D$110,\"X\",\"\")","v":"X"},{"$f":"IF(G298=\"x\",4,IF(H298=\"x\",3,IF(I298=\"x\",2,IF(J298=\"x\",1,IF(K298=\"x\",\"NR\",\"\")))))","v":"NR"},{"$f":"IF(N298=\"x\",4,IF(O298=\"x\",3,IF(P298=\"x\",2,IF(Q298=\"x\",1,IF(R298=\"x\",\"NR\",\"\")))))","v":"NR"},{"$f":"IF(U298=\"x\",4,IF(V298=\"x\",3,IF(W298=\"x\",2,IF(X298=\"x\",1,IF(Y298=\"x\",\"NR\",\"\")))))","v":"NR"},{"$f":"SUM(Z298)","v":0},{"$f":"SUM(AA298)","v":0},{"$f":"SUM(AB298)","v":0}]
[]
[null,null,null,null,null,null,null,null,null,null,null,null,null,null,null,null,null,null,null,null,null,null,null,null,null,"Total",null,null,{"$f":"(AC274+AC280+AC286+AC292+AC298)","v":0},{"$f":"(AD292+AD286+AD280+AD274+AD298)","v":0},{"$f":"(AE292+AE286+AE280+AE274+AE298)","v":0}]
[null,null,null,null,null,null,null,null,null,null,null," "," "," "," "," "," "," ",null," "," "," "," "," "," ","Potential",null,null,{"$f":"COUNT(Z274:Z298)*4","v":0},{"$f":"COUNT(AA274:AA298)*4","v":0},{"$f":"COUNT(AB274:AB298)*4","v":0}]
[null,null,null,null,null,null,null,null,null,null,null,null,null,null,null,null,null,null,null,null,null,null,null,null,null,"Total Score",null,null,{"$f":"IF(AC301<>0,AC300/AC301,\"NR\")","v":"NR"},{"$f":"IF(AD301<>0,AD300/AD301,\"NR\")","v":"NR"},{"$f":"IF(AE301<>0,AE300/AE301,\"NR\")","v":"NR"}]
[]
[]
[" ",{"$f":"SC!B2","v":"Supply Chain Management"},null,null,"Build up Score Assessment"," ","Build up Scoring",null,null,null,null,"Build up Score Assessment"," ","Build up Scoring",null,null,null,null,"Build up Score Assessment"," ","Build up Scoring",null,null,null,null,null,null,null,"Sub Element Score"]
[{"$f":"SC!$A$4","v":"SC1.0"},{"$f":"SC!$B$4","v":"Procedures to select and evaluate suppliers"},null,"Sub-Element",null,null,4,3,2,1,"NR",null,null,4,3,2,1,"NR",null,null,4,3,2,1,"NR","Self","Onsite","Current","Self","Onsite","Current","Procedures","Findings","Comments"]
[{"$f":"SC!$A$5","v":"SC1.1"},{"$f":"SC!$C$5","v":"Procedures require supplier audits"},null,null,"NA",null,{"$f":"IF(E307=SC!$D$9,\"X\",\"\")","v":""},{"$f":"IF(E307=SC!$D$8,\"X\",\"\")","v":""},{"$f":"IF(E307=SC!$D$7,\"X\",\"\")","v":""},{"$f":"IF(E307=SC!$D$6,\"X\",\"\")","v":""},{"$f":"IF(E307=SC!$D$10,\"X\",\"\")","v":"X"},"NA",null,{"$f":"IF(L307=SC!$D$9,\"X\",\"\")","v":""},{"$f":"IF(L307=SC!$D$8,\"X\",\"\")","v":""},{"$f":"IF(L307=SC!$D$7,\"X\",\"\")","v":""},{"$f":"IF(L307=SC!$D$6,\"X\",\"\")","v":""},{"$f":"IF(L307=SC!$D$10,\"X\",\"\")","v":"X"},"NA",null,{"$f":"IF(S307=SC!$D$9,\"X\",\"\")","v":""},{"$f":"IF(S307=SC!$D$8,\"X\",\"\")","v":""},{"$f":"IF(S307=SC!$D$7,\"X\",\"\")","v":""},{"$f":"IF(S307=SC!$D$6,\"X\",\"\")","v":""},{"$f":"IF(S307=SC!$D$10,\"X\",\"\")","v":"X"},{"$f":"IF(G307=\"x\",4,IF(H307=\"x\",3,IF(I307=\"x\",2,IF(J307=\"x\",1,IF(K307=\"x\",\"NR\",\"\")))))","v":"NR"},{"$f":"IF(N307=\"x\",4,IF(O307=\"x\",3,IF(P307=\"x\",2,IF(Q307=\"x\",1,IF(R307=\"x\",\"NR\",\"\")))))","v":"NR"},{"$f":"IF(U307=\"x\",4,IF(V307=\"x\",3,IF(W307=\"x\",2,IF(X307=\"x\",1,IF(Y307=\"x\",\"NR\",\"\")))))","v":"NR"},{"$f":"SUM(Z307:Z310)","v":0},{"$f":"SUM(AA307:AA310)","v":0},{"$f":"SUM(AB307:AB310)","v":0}]
[{"$f":"SC!$A$11","v":"SC1.2"},{"$f":"SC!$C$11","v":"Criteria to become a sourceable supplier is defined"},null,null,"NA",null,{"$f":"IF(E308=SC!$D$15,\"X\",\"\")","v":""},{"$f":"IF(E308=SC!$D$14,\"X\",\"\")","v":""},{"$f":"IF(E308=SC!$D$13,\"X\",\"\")","v":""},{"$f":"IF(E308=SC!$D$12,\"X\",\"\")","v":""},{"$f":"IF(E308=SC!$D$16,\"X\",\"\")","v":"X"},"NA",null,{"$f":"IF(L308=SC!$D$15,\"X\",\"\")","v":""},{"$f":"IF(L308=SC!$D$14,\"X\",\"\")","v":""},{"$f":"IF(L308=SC!$D$13,\"X\",\"\")","v":""},{"$f":"IF(L308=SC!$D$12,\"X\",\"\")","v":""},{"$f":"IF(L308=SC!$D$16,\"X\",\"\")","v":"X"},"NA",null,{"$f":"IF(S308=SC!$D$15,\"X\",\"\")","v":""},{"$f":"IF(S308=SC!$D$14,\"X\",\"\")","v":""},{"$f":"IF(S308=SC!$D$13,\"X\",\"\")","v":""},{"$f":"IF(S308=SC!$D$12,\"X\",\"\")","v":""},{"$f":"IF(S308=SC!$D$16,\"X\",\"\")","v":"X"},{"$f":"IF(G308=\"x\",4,IF(H308=\"x\",3,IF(I308=\"x\",2,IF(J308=\"x\",1,IF(K308=\"x\",\"NR\",\"\")))))","v":"NR"},{"$f":"IF(N308=\"x\",4,IF(O308=\"x\",3,IF(P308=\"x\",2,IF(Q308=\"x\",1,IF(R308=\"x\",\"NR\",\"\")))))","v":"NR"},{"$f":"IF(U308=\"x\",4,IF(V308=\"x\",3,IF(W308=\"x\",2,IF(X308=\"x\",1,IF(Y308=\"x\",\"NR\",\"\")))))","v":"NR"}]
[{"$f":"SC!$A$17","v":"SC1.3"},{"$f":"SC!$C$17","v":"Supplier Monitoring"},null,null,"NA",null,{"$f":"IF(E309=SC!$D$21,\"X\",\"\")","v":""},{"$f":"IF(E309=SC!$D$20,\"X\",\"\")","v":""},{"$f":"IF(E309=SC!$D$19,\"X\",\"\")","v":""},{"$f":"IF(E309=SC!$D$18,\"X\",\"\")","v":""},{"$f":"IF(E309=SC!$D$22,\"X\",\"\")","v":"X"},"NA",null,{"$f":"IF(L309=SC!$D$21,\"X\",\"\")","v":""},{"$f":"IF(L309=SC!$D$20,\"X\",\"\")","v":""},{"$f":"IF(L309=SC!$D$19,\"X\",\"\")","v":""},{"$f":"IF(L309=SC!$D$18,\"X\",\"\")","v":""},{"$f":"IF(L309=SC!$D$22,\"X\",\"\")","v":"X"},"NA",null,{"$f":"IF(S309=SC!$D$21,\"X\",\"\")","v":""},{"$f":"IF(S309=SC!$D$20,\"X\",\"\")","v":""},{"$f":"IF(S309=SC!$D$19,\"X\",\"\")","v":""},{"$f":"IF(S309=SC!$D$18,\"X\",\"\")","v":""},{"$f":"IF(S309=SC!$D$22,\"X\",\"\")","v":"X"},{"$f":"IF(G309=\"x\",4,IF(H309=\"x\",3,IF(I309=\"x\",2,IF(J309=\"x\",1,IF(K309=\"x\",\"NR\",\"\")))))","v":"NR"},{"$f":"IF(N309=\"x\",4,IF(O309=\"x\",3,IF(P309=\"x\",2,IF(Q309=\"x\",1,IF(R309=\"x\",\"NR\",\"\")))))","v":"NR"},{"$f":"IF(U309=\"x\",4,IF(V309=\"x\",3,IF(W309=\"x\",2,IF(X309=\"x\",1,IF(Y309=\"x\",\"NR\",\"\")))))","v":"NR"}]
[{"$f":"SC!$A$23","v":"SC1.4"},{"$f":"SC!$C$23","v":"QMS development"},null,null,"NA",null,{"$f":"IF(E310=SC!$D$27,\"X\",\"\")","v":""},{"$f":"IF(E310=SC!$D$26,\"X\",\"\")","v":""},{"$f":"IF(E310=SC!$D$25,\"X\",\"\")","v":""},{"$f":"IF(E310=SC!$D$24,\"X\",\"\")","v":""},{"$f":"IF(E310=SC!$D$28,\"X\",\"\")","v":"X"},"NA",null,{"$f":"IF(L310=SC!$D$27,\"X\",\"\")","v":""},{"$f":"IF(L310=SC!$D$26,\"X\",\"\")","v":""},{"$f":"IF(L310=SC!$D$25,\"X\",\"\")","v":""},{"$f":"IF(L310=SC!$D$24,\"X\",\"\")","v":""},{"$f":"IF(L310=SC!$D$28,\"X\",\"\")","v":"X"},"NA",null,{"$f":"IF(S310=SC!$D$27,\"X\",\"\")","v":""},{"$f":"IF(S310=SC!$D$26,\"X\",\"\")","v":""},{"$f":"IF(S310=SC!$D$25,\"X\",\"\")","v":""},{"$f":"IF(S310=SC!$D$24,\"X\",\"\")","v":""},{"$f":"IF(S310=SC!$D$28,\"X\",\"\")","v":"X"},{"$f":"IF(G310=\"x\",4,IF(H310=\"x\",3,IF(I310=\"x\",2,IF(J310=\"x\",1,IF(K310=\"x\",\"NR\",\"\")))))","v":"NR"},{"$f":"IF(N310=\"x\",4,IF(O310=\"x\",3,IF(P310=\"x\",2,IF(Q310=\"x\",1,IF(R310=\"x\",\"NR\",\"\")))))","v":"NR"},{"$f":"IF(U310=\"x\",4,IF(V310=\"x\",3,IF(W310=\"x\",2,IF(X310=\"x\",1,IF(Y310=\"x\",\"NR\",\"\")))))","v":"NR"}]
[]
[{"$f":"SC!$A$29","v":"SC2.0"},{"$f":"SC!$B$29","v":"Customer requirements are cascaded"}]
[{"$f":"SC!$A$30","v":"SC2.1"},{"$f":"SC!$C$30","v":"Customer specific requirements are implements"},null,null,"NA",null,{"$f":"IF(E313=SC!$D$34,\"X\",\"\")","v":""},{"$f":"IF(E313=SC!$D$33,\"X\",\"\")","v":""},{"$f":"IF(E313=SC!$D$32,\"X\",\"\")","v":""},{"$f":"IF(E313=SC!$D$31,\"X\",\"\")","v":""},{"$f":"IF(E313=SC!$D$35,\"X\",\"\")","v":"X"},"NA",null,{"$f":"IF(L313=SC!$D$34,\"X\",\"\")","v":""},{"$f":"IF(L313=SC!$D$33,\"X\",\"\")","v":""},{"$f":"IF(L313=SC!$D$32,\"X\",\"\")","v":""},{"$f":"IF(L313=SC!$D$31,\"X\",\"\")","v":""},{"$f":"IF(L313=SC!$D$35,\"X\",\"\")","v":"X"},"NA",null,{"$f":"IF(S313=SC!$D$34,\"X\",\"\")","v":""},{"$f":"IF(S313=SC!$D$33,\"X\",\"\")","v":""},{"$f":"IF(S313=SC!$D$32,\"X\",\"\")","v":""},{"$f":"IF(S313=SC!$D$31,\"X\",\"\")","v":""},{"$f":"IF(S313=SC!$D$35,\"X\",\"\")","v":"X"},{"$f":"IF(G313=\"x\",4,IF(H313=\"x\",3,IF(I313=\"x\",2,IF(J313=\"x\",1,IF(K313=\"x\",\"NR\",\"\")))))","v":"NR"},{"$f":"IF(N313=\"x\",4,IF(O313=\"x\",3,IF(P313=\"x\",2,IF(Q313=\"x\",1,IF(R313=\"x\",\"NR\",\"\")))))","v":"NR"},{"$f":"IF(U313=\"x\",4,IF(V313=\"x\",3,IF(W313=\"x\",2,IF(X313=\"x\",1,IF(Y313=\"x\",\"NR\",\"\")))))","v":"NR"},{"$f":"SUM(Z313:Z316)","v":0},{"$f":"SUM(AA313:AA316)","v":0},{"$f":"SUM(AB313:AB316)","v":0}]
[{"$f":"SC!$A$36","v":"SC2.2"},{"$f":"SC!$C$36","v":"Tiered supplier comply to product specifications"},null,null,"NA",null,{"$f":"IF(E314=SC!$D$40,\"X\",\"\")","v":""},{"$f":"IF(E314=SC!$D$39,\"X\",\"\")","v":""},{"$f":"IF(E314=SC!$D$38,\"X\",\"\")","v":""},{"$f":"IF(E314=SC!$D$37,\"X\",\"\")","v":""},{"$f":"IF(E314=SC!$D$41,\"X\",\"\")","v":"X"},"NA",null,{"$f":"IF(L314=SC!$D$40,\"X\",\"\")","v":""},{"$f":"IF(L314=SC!$D$39,\"X\",\"\")","v":""},{"$f":"IF(L314=SC!$D$38,\"X\",\"\")","v":""},{"$f":"IF(L314=SC!$D$37,\"X\",\"\")","v":""},{"$f":"IF(L314=SC!$D$41,\"X\",\"\")","v":"X"},"NA",null,{"$f":"IF(S314=SC!$D$40,\"X\",\"\")","v":""},{"$f":"IF(S314=SC!$D$39,\"X\",\"\")","v":""},{"$f":"IF(S314=SC!$D$38,\"X\",\"\")","v":""},{"$f":"IF(S314=SC!$D$37,\"X\",\"\")","v":""},{"$f":"IF(S314=SC!$D$41,\"X\",\"\")","v":"X"},{"$f":"IF(G314=\"x\",4,IF(H314=\"x\",3,IF(I314=\"x\",2,IF(J314=\"x\",1,IF(K314=\"x\",\"NR\",\"\")))))","v":"NR"},{"$f":"IF(N314=\"x\",4,IF(O314=\"x\",3,IF(P314=\"x\",2,IF(Q314=\"x\",1,IF(R314=\"x\",\"NR\",\"\")))))","v":"NR"},{"$f":"IF(U314=\"x\",4,IF(V314=\"x\",3,IF(W314=\"x\",2,IF(X314=\"x\",1,IF(Y314=\"x\",\"NR\",\"\")))))","v":"NR"}]
[{"$f":"SC!$A$42","v":"SC2.3"},{"$f":"SC!$C$42","v":"Key and pass through characteristics"},null,null,"NA",null,{"$f":"IF(E315=SC!$D$46,\"X\",\"\")","v":""},{"$f":"IF(E315=SC!$D$45,\"X\",\"\")","v":""},{"$f":"IF(E315=SC!$D$44,\"X\",\"\")","v":""},{"$f":"IF(E315=SC!$D$43,\"X\",\"\")","v":""},{"$f":"IF(E315=SC!$D$47,\"X\",\"\")","v":"X"},"NA",null,{"$f":"IF(L315=SC!$D$46,\"X\",\"\")","v":""},{"$f":"IF(L315=SC!$D$45,\"X\",\"\")","v":""},{"$f":"IF(L315=SC!$D$44,\"X\",\"\")","v":""},{"$f":"IF(L315=SC!$D$43,\"X\",\"\")","v":""},{"$f":"IF(L315=SC!$D$47,\"X\",\"\")","v":"X"},"NA",null,{"$f":"IF(S315=SC!$D$46,\"X\",\"\")","v":""},{"$f":"IF(S315=SC!$D$45,\"X\",\"\")","v":""},{"$f":"IF(S315=SC!$D$44,\"X\",\"\")","v":""},{"$f":"IF(S315=SC!$D$43,\"X\",\"\")","v":""},{"$f":"IF(S315=SC!$D$47,\"X\",\"\")","v":"X"},{"$f":"IF(G315=\"x\",4,IF(H315=\"x\",3,IF(I315=\"x\",2,IF(J315=\"x\",1,IF(K315=\"x\",\"NR\",\"\")))))","v":"NR"},{"$f":"IF(N315=\"x\",4,IF(O315=\"x\",3,IF(P315=\"x\",2,IF(Q315=\"x\",1,IF(R315=\"x\",\"NR\",\"\")))))","v":"NR"},{"$f":"IF(U315=\"x\",4,IF(V315=\"x\",3,IF(W315=\"x\",2,IF(X315=\"x\",1,IF(Y315=\"x\",\"NR\",\"\")))))","v":"NR"}]
[{"$f":"SC!$A$48","v":"SC2.4"},{"$f":"SC!$C$48","v":"All design and process changes are communicated"},null,null,"NA",null,{"$f":"IF(E316=SC!$D$52,\"X\",\"\")","v":""},{"$f":"IF(E316=SC!$D$51,\"X\",\"\")","v":""},{"$f":"IF(E316=SC!$D$50,\"X\",\"\")","v":""},{"$f":"IF(E316=SC!$D$49,\"X\",\"\")","v":""},{"$f":"IF(E316=SC!$D$53,\"X\",\"\")","v":"X"},"NA",null,{"$f":"IF(L316=SC!$D$52,\"X\",\"\")","v":""},{"$f":"IF(L316=SC!$D$51,\"X\",\"\")","v":""},{"$f":"IF(L316=SC!$D$50,\"X\",\"\")","v":""},{"$f":"IF(L316=SC!$D$49,\"X\",\"\")","v":""},{"$f":"IF(L316=SC!$D$53,\"X\",\"\")","v":"X"},"NA",null,{"$f":"IF(S316=SC!$D$52,\"X\",\"\")","v":""},{"$f":"IF(S316=SC!$D$51,\"X\",\"\")","v":""},{"$f":"IF(S316=SC!$D$50,\"X\",\"\")","v":""},{"$f":"IF(S316=SC!$D$49,\"X\",\"\")","v":""},{"$f":"IF(S316=SC!$D$53,\"X\",\"\")","v":"X"},{"$f":"IF(G316=\"x\",4,IF(H316=\"x\",3,IF(I316=\"x\",2,IF(J316=\"x\",1,IF(K316=\"x\",\"NR\",\"\")))))","v":"NR"},{"$f":"IF(N316=\"x\",4,IF(O316=\"x\",3,IF(P316=\"x\",2,IF(Q316=\"x\",1,IF(R316=\"x\",\"NR\",\"\")))))","v":"NR"},{"$f":"IF(U316=\"x\",4,IF(V316=\"x\",3,IF(W316=\"x\",2,IF(X316=\"x\",1,IF(Y316=\"x\",\"NR\",\"\")))))","v":"NR"}]
[]
[{"$f":"SC!$A$54","v":"SC3.0"},{"$f":"SC!$B$54","v":"Escalation process"}]
[{"$f":"SC!$A$55","v":"SC3.1"},{"$f":"SC!$C$55","v":"Parts with deviation "},null,null,"NA",null,{"$f":"IF(E319=SC!$D$59,\"X\",\"\")","v":""},{"$f":"IF(E319=SC!$D$58,\"X\",\"\")","v":""},{"$f":"IF(E319=SC!$D$57,\"X\",\"\")","v":""},{"$f":"IF(E319=SC!$D$56,\"X\",\"\")","v":""},{"$f":"IF(E319=SC!$D$60,\"X\",\"\")","v":"X"},"NA",null,{"$f":"IF(L319=SC!$D$59,\"X\",\"\")","v":""},{"$f":"IF(L319=SC!$D$58,\"X\",\"\")","v":""},{"$f":"IF(L319=SC!$D$57,\"X\",\"\")","v":""},{"$f":"IF(L319=SC!$D$56,\"X\",\"\")","v":""},{"$f":"IF(L319=SC!$D$60,\"X\",\"\")","v":"X"},"NA",null,{"$f":"IF(S319=SC!$D$59,\"X\",\"\")","v":""},{"$f":"IF(S319=SC!$D$58,\"X\",\"\")","v":""},{"$f":"IF(S319=SC!$D$57,\"X\",\"\")","v":""},{"$f":"IF(S319=SC!$D$56,\"X\",\"\")","v":""},{"$f":"IF(S319=SC!$D$60,\"X\",\"\")","v":"X"},{"$f":"IF(G319=\"x\",4,IF(H319=\"x\",3,IF(I319=\"x\",2,IF(J319=\"x\",1,IF(K319=\"x\",\"NR\",\"\")))))","v":"NR"},{"$f":"IF(N319=\"x\",4,IF(O319=\"x\",3,IF(P319=\"x\",2,IF(Q319=\"x\",1,IF(R319=\"x\",\"NR\",\"\")))))","v":"NR"},{"$f":"IF(U319=\"x\",4,IF(V319=\"x\",3,IF(W319=\"x\",2,IF(X319=\"x\",1,IF(Y319=\"x\",\"NR\",\"\")))))","v":"NR"},{"$f":"SUM(Z319:Z322)","v":0},{"$f":"SUM(AA319:AA322)","v":0},{"$f":"SUM(AB319:AB322)","v":0}]
[{"$f":"SC!$A$61","v":"SC3.2"},{"$f":"SC!$C$61","v":"Quality issue problem solving "},null,null,"NA",null,{"$f":"IF(E320=SC!$D$65,\"X\",\"\")","v":""},{"$f":"IF(E320=SC!$D$64,\"X\",\"\")","v":""},{"$f":"IF(E320=SC!$D$63,\"X\",\"\")","v":""},{"$f":"IF(E320=SC!$D$62,\"X\",\"\")","v":""},{"$f":"IF(E320=SC!$D$66,\"X\",\"\")","v":"X"},"NA",null,{"$f":"IF(L320=SC!$D$65,\"X\",\"\")","v":""},{"$f":"IF(L320=SC!$D$64,\"X\",\"\")","v":""},{"$f":"IF(L320=SC!$D$63,\"X\",\"\")","v":""},{"$f":"IF(L320=SC!$D$62,\"X\",\"\")","v":""},{"$f":"IF(L320=SC!$D$66,\"X\",\"\")","v":"X"},"NA",null,{"$f":"IF(S320=SC!$D$65,\"X\",\"\")","v":""},{"$f":"IF(S320=SC!$D$64,\"X\",\"\")","v":""},{"$f":"IF(S320=SC!$D$63,\"X\",\"\")","v":""},{"$f":"IF(S320=SC!$D$62,\"X\",\"\")","v":""},{"$f":"IF(S320=SC!$D$66,\"X\",\"\")","v":"X"},{"$f":"IF(G320=\"x\",4,IF(H320=\"x\",3,IF(I320=\"x\",2,IF(J320=\"x\",1,IF(K320=\"x\",\"NR\",\"\")))))","v":"NR"},{"$f":"IF(N320=\"x\",4,IF(O320=\"x\",3,IF(P320=\"x\",2,IF(Q320=\"x\",1,IF(R320=\"x\",\"NR\",\"\")))))","v":"NR"},{"$f":"IF(U320=\"x\",4,IF(V320=\"x\",3,IF(W320=\"x\",2,IF(X320=\"x\",1,IF(Y320=\"x\",\"NR\",\"\")))))","v":"NR"}]
[{"$f":"SC!$A$67","v":"SC3.3"},{"$f":"SC!$C$67","v":"Approved supplier performance list"},null,null,"NA",null,{"$f":"IF(E321=SC!$D$71,\"X\",\"\")","v":""},{"$f":"IF(E321=SC!$D$70,\"X\",\"\")","v":""},{"$f":"IF(E321=SC!$D$69,\"X\",\"\")","v":""},{"$f":"IF(E321=SC!$D$68,\"X\",\"\")","v":""},{"$f":"IF(E321=SC!$D$72,\"X\",\"\")","v":"X"},"NA",null,{"$f":"IF(L321=SC!$D$71,\"X\",\"\")","v":""},{"$f":"IF(L321=SC!$D$70,\"X\",\"\")","v":""},{"$f":"IF(L321=SC!$D$69,\"X\",\"\")","v":""},{"$f":"IF(L321=SC!$D$68,\"X\",\"\")","v":""},{"$f":"IF(L321=SC!$D$72,\"X\",\"\")","v":"X"},"NA",null,{"$f":"IF(S321=SC!$D$71,\"X\",\"\")","v":""},{"$f":"IF(S321=SC!$D$70,\"X\",\"\")","v":""},{"$f":"IF(S321=SC!$D$69,\"X\",\"\")","v":""},{"$f":"IF(S321=SC!$D$68,\"X\",\"\")","v":""},{"$f":"IF(S321=SC!$D$72,\"X\",\"\")","v":"X"},{"$f":"IF(G321=\"x\",4,IF(H321=\"x\",3,IF(I321=\"x\",2,IF(J321=\"x\",1,IF(K321=\"x\",\"NR\",\"\")))))","v":"NR"},{"$f":"IF(N321=\"x\",4,IF(O321=\"x\",3,IF(P321=\"x\",2,IF(Q321=\"x\",1,IF(R321=\"x\",\"NR\",\"\")))))","v":"NR"},{"$f":"IF(U321=\"x\",4,IF(V321=\"x\",3,IF(W321=\"x\",2,IF(X321=\"x\",1,IF(Y321=\"x\",\"NR\",\"\")))))","v":"NR"}]
[{"$f":"SC!$A$73","v":"SC3.4"},{"$f":"SC!$C$73","v":"Tiered supplier management"},null,null,"NA",null,{"$f":"IF(E322=SC!$D$77,\"X\",\"\")","v":""},{"$f":"IF(E322=SC!$D$76,\"X\",\"\")","v":""},{"$f":"IF(E322=SC!$D$75,\"X\",\"\")","v":""},{"$f":"IF(E322=SC!$D$74,\"X\",\"\")","v":""},{"$f":"IF(E322=SC!$D$78,\"X\",\"\")","v":"X"},"NA",null,{"$f":"IF(L322=SC!$D$77,\"X\",\"\")","v":""},{"$f":"IF(L322=SC!$D$76,\"X\",\"\")","v":""},{"$f":"IF(L322=SC!$D$75,\"X\",\"\")","v":""},{"$f":"IF(L322=SC!$D$74,\"X\",\"\")","v":""},{"$f":"IF(L322=SC!$D$78,\"X\",\"\")","v":"X"},"NA",null,{"$f":"IF(S322=SC!$D$77,\"X\",\"\")","v":""},{"$f":"IF(S322=SC!$D$76,\"X\",\"\")","v":""},{"$f":"IF(S322=SC!$D$75,\"X\",\"\")","v":""},{"$f":"IF(S322=SC!$D$74,\"X\",\"\")","v":""},{"$f":"IF(S322=SC!$D$78,\"X\",\"\")","v":"X"},{"$f":"IF(G322=\"x\",4,IF(H322=\"x\",3,IF(I322=\"x\",2,IF(J322=\"x\",1,IF(K322=\"x\",\"NR\",\"\")))))","v":"NR"},{"$f":"IF(N322=\"x\",4,IF(O322=\"x\",3,IF(P322=\"x\",2,IF(Q322=\"x\",1,IF(R322=\"x\",\"NR\",\"\")))))","v":"NR"},{"$f":"IF(U322=\"x\",4,IF(V322=\"x\",3,IF(W322=\"x\",2,IF(X322=\"x\",1,IF(Y322=\"x\",\"NR\",\"\")))))","v":"NR"}]
[]
[{"$f":"SC!$A$79","v":"SC4"},{"$f":"SC!$B$79","v":"Incoming inspection"}]
[{"$f":"SC!$A$80","v":"SC4.1"},{"$f":"SC!$C$80","v":"Control plan established "},null,null,"NA",null,{"$f":"IF(E325=SC!$D$84,\"X\",\"\")","v":""},{"$f":"IF(E325=SC!$D$83,\"X\",\"\")","v":""},{"$f":"IF(E325=SC!$D$82,\"X\",\"\")","v":""},{"$f":"IF(E325=SC!$D$81,\"X\",\"\")","v":""},{"$f":"IF(E325=SC!$D$85,\"X\",\"\")","v":"X"},"NA",null,{"$f":"IF(L325=SC!$D$84,\"X\",\"\")","v":""},{"$f":"IF(L325=SC!$D$83,\"X\",\"\")","v":""},{"$f":"IF(L325=SC!$D$82,\"X\",\"\")","v":""},{"$f":"IF(L325=SC!$D$81,\"X\",\"\")","v":""},{"$f":"IF(L325=SC!$D$85,\"X\",\"\")","v":"X"},"NA",null,{"$f":"IF(S325=SC!$D$84,\"X\",\"\")","v":""},{"$f":"IF(S325=SC!$D$83,\"X\",\"\")","v":""},{"$f":"IF(S325=SC!$D$82,\"X\",\"\")","v":""},{"$f":"IF(S325=SC!$D$81,\"X\",\"\")","v":""},{"$f":"IF(S325=SC!$D$85,\"X\",\"\")","v":"X"},{"$f":"IF(G325=\"x\",4,IF(H325=\"x\",3,IF(I325=\"x\",2,IF(J325=\"x\",1,IF(K325=\"x\",\"NR\",\"\")))))","v":"NR"},{"$f":"IF(N325=\"x\",4,IF(O325=\"x\",3,IF(P325=\"x\",2,IF(Q325=\"x\",1,IF(R325=\"x\",\"NR\",\"\")))))","v":"NR"},{"$f":"IF(U325=\"x\",4,IF(V325=\"x\",3,IF(W325=\"x\",2,IF(X325=\"x\",1,IF(Y325=\"x\",\"NR\",\"\")))))","v":"NR"},{"$f":"SUM(Z325:Z328)","v":0},{"$f":"SUM(AA325:AA328)","v":0},{"$f":"SUM(AB325:AB328)","v":0}]
[{"$f":"SC!$A$86","v":"SC4.2"},{"$f":"SC!$C$86","v":"Approved components/material used for assembled part"},null,null,"NA",null,{"$f":"IF(E326=SC!$D$90,\"X\",\"\")","v":""},{"$f":"IF(E326=SC!$D$89,\"X\",\"\")","v":""},{"$f":"IF(E326=SC!$D$88,\"X\",\"\")","v":""},{"$f":"IF(E326=SC!$D$87,\"X\",\"\")","v":""},{"$f":"IF(E326=SC!$D$91,\"X\",\"\")","v":"X"},"NA",null,{"$f":"IF(L326=SC!$D$90,\"X\",\"\")","v":""},{"$f":"IF(L326=SC!$D$89,\"X\",\"\")","v":""},{"$f":"IF(L326=SC!$D$88,\"X\",\"\")","v":""},{"$f":"IF(L326=SC!$D$87,\"X\",\"\")","v":""},{"$f":"IF(L326=SC!$D$91,\"X\",\"\")","v":"X"},"NA",null,{"$f":"IF(S326=SC!$D$90,\"X\",\"\")","v":""},{"$f":"IF(S326=SC!$D$89,\"X\",\"\")","v":""},{"$f":"IF(S326=SC!$D$88,\"X\",\"\")","v":""},{"$f":"IF(S326=SC!$D$87,\"X\",\"\")","v":""},{"$f":"IF(S326=SC!$D$91,\"X\",\"\")","v":"X"},{"$f":"IF(G326=\"x\",4,IF(H326=\"x\",3,IF(I326=\"x\",2,IF(J326=\"x\",1,IF(K326=\"x\",\"NR\",\"\")))))","v":"NR"},{"$f":"IF(N326=\"x\",4,IF(O326=\"x\",3,IF(P326=\"x\",2,IF(Q326=\"x\",1,IF(R326=\"x\",\"NR\",\"\")))))","v":"NR"},{"$f":"IF(U326=\"x\",4,IF(V326=\"x\",3,IF(W326=\"x\",2,IF(X326=\"x\",1,IF(Y326=\"x\",\"NR\",\"\")))))","v":"NR"}]
[{"$f":"SC!$A$92","v":"SC4.3"},{"$f":"SC!$C$92","v":"Part inspection requirement"},null,null,"NA",null,{"$f":"IF(E327=SC!$D$96,\"X\",\"\")","v":""},{"$f":"IF(E327=SC!$D$95,\"X\",\"\")","v":""},{"$f":"IF(E327=SC!$D$94,\"X\",\"\")","v":""},{"$f":"IF(E327=SC!$D$93,\"X\",\"\")","v":""},{"$f":"IF(E327=SC!$D$97,\"X\",\"\")","v":"X"},"NA",null,{"$f":"IF(L327=SC!$D$96,\"X\",\"\")","v":""},{"$f":"IF(L327=SC!$D$95,\"X\",\"\")","v":""},{"$f":"IF(L327=SC!$D$94,\"X\",\"\")","v":""},{"$f":"IF(L327=SC!$D$93,\"X\",\"\")","v":""},{"$f":"IF(L327=SC!$D$97,\"X\",\"\")","v":"X"},"NA",null,{"$f":"IF(S327=SC!$D$96,\"X\",\"\")","v":""},{"$f":"IF(S327=SC!$D$95,\"X\",\"\")","v":""},{"$f":"IF(S327=SC!$D$94,\"X\",\"\")","v":""},{"$f":"IF(S327=SC!$D$93,\"X\",\"\")","v":""},{"$f":"IF(S327=SC!$D$97,\"X\",\"\")","v":"X"},{"$f":"IF(G327=\"x\",4,IF(H327=\"x\",3,IF(I327=\"x\",2,IF(J327=\"x\",1,IF(K327=\"x\",\"NR\",\"\")))))","v":"NR"},{"$f":"IF(N327=\"x\",4,IF(O327=\"x\",3,IF(P327=\"x\",2,IF(Q327=\"x\",1,IF(R327=\"x\",\"NR\",\"\")))))","v":"NR"},{"$f":"IF(U327=\"x\",4,IF(V327=\"x\",3,IF(W327=\"x\",2,IF(X327=\"x\",1,IF(Y327=\"x\",\"NR\",\"\")))))","v":"NR"}]
[{"$f":"SC!$A$98","v":"SC4.4"},{"$f":"SC!$C$98","v":"Part traceability"},null,null,"NA",null,{"$f":"IF(E328=SC!$D$102,\"X\",\"\")","v":""},{"$f":"IF(E328=SC!$D$101,\"X\",\"\")","v":""},{"$f":"IF(E328=SC!$D$100,\"X\",\"\")","v":""},{"$f":"IF(E328=SC!$D$99,\"X\",\"\")","v":""},{"$f":"IF(E328=SC!$D$103,\"X\",\"\")","v":"X"},"NA",null,{"$f":"IF(L328=SC!$D$102,\"X\",\"\")","v":""},{"$f":"IF(L328=SC!$D$101,\"X\",\"\")","v":""},{"$f":"IF(L328=SC!$D$100,\"X\",\"\")","v":""},{"$f":"IF(L328=SC!$D$99,\"X\",\"\")","v":""},{"$f":"IF(L328=SC!$D$103,\"X\",\"\")","v":"X"},"NA",null,{"$f":"IF(S328=SC!$D$102,\"X\",\"\")","v":""},{"$f":"IF(S328=SC!$D$101,\"X\",\"\")","v":""},{"$f":"IF(S328=SC!$D$100,\"X\",\"\")","v":""},{"$f":"IF(S328=SC!$D$99,\"X\",\"\")","v":""},{"$f":"IF(S328=SC!$D$103,\"X\",\"\")","v":"X"},{"$f":"IF(G328=\"x\",4,IF(H328=\"x\",3,IF(I328=\"x\",2,IF(J328=\"x\",1,IF(K328=\"x\",\"NR\",\"\")))))","v":"NR"},{"$f":"IF(N328=\"x\",4,IF(O328=\"x\",3,IF(P328=\"x\",2,IF(Q328=\"x\",1,IF(R328=\"x\",\"NR\",\"\")))))","v":"NR"},{"$f":"IF(U328=\"x\",4,IF(V328=\"x\",3,IF(W328=\"x\",2,IF(X328=\"x\",1,IF(Y328=\"x\",\"NR\",\"\")))))","v":"NR"}]
[]
[{"$f":"SC!$A$104","v":"SCE"},{"$f":"SC!$B$104","v":"Tier supplier targets and performance is tracked"}]
[{"$f":"SC!$A$105","v":"SCE.1"},{"$f":"SC!$C$105","v":"Tier performance result is tracked"},null,null,"NA",null,{"$f":"IF(E331=SC!$D$109,\"X\",\"\")","v":""},{"$f":"IF(E331=SC!$D$108,\"X\",\"\")","v":""},{"$f":"IF(E331=SC!$D$107,\"X\",\"\")","v":""},{"$f":"IF(E331=SC!$D$106,\"X\",\"\")","v":""},{"$f":"IF(E331=SC!$D$110,\"X\",\"\")","v":"X"},"NA",null,{"$f":"IF(L331=SC!$D$109,\"X\",\"\")","v":""},{"$f":"IF(L331=SC!$D$108,\"X\",\"\")","v":""},{"$f":"IF(L331=SC!$D$107,\"X\",\"\")","v":""},{"$f":"IF(L331=SC!$D$106,\"X\",\"\")","v":""},{"$f":"IF(L331=SC!$D$110,\"X\",\"\")","v":"X"},"NA",null,{"$f":"IF(S331=SC!$D$109,\"X\",\"\")","v":""},{"$f":"IF(S331=SC!$D$108,\"X\",\"\")","v":""},{"$f":"IF(S331=SC!$D$107,\"X\",\"\")","v":""},{"$f":"IF(S331=SC!$D$106,\"X\",\"\")","v":""},{"$f":"IF(S331=SC!$D$110,\"X\",\"\")","v":"X"},{"$f":"IF(G331=\"x\",4,IF(H331=\"x\",3,IF(I331=\"x\",2,IF(J331=\"x\",1,IF(K331=\"x\",\"NR\",\"\")))))","v":"NR"},{"$f":"IF(N331=\"x\",4,IF(O331=\"x\",3,IF(P331=\"x\",2,IF(Q331=\"x\",1,IF(R331=\"x\",\"NR\",\"\")))))","v":"NR"},{"$f":"IF(U331=\"x\",4,IF(V331=\"x\",3,IF(W331=\"x\",2,IF(X331=\"x\",1,IF(Y331=\"x\",\"NR\",\"\")))))","v":"NR"},{"$f":"SUM(Z331)","v":0},{"$f":"SUM(AA331)","v":0},{"$f":"SUM(AB331)","v":0}]
[]
[null,null,null,null,null,null,null,null,null,null,null,null,null,null,null,null,null,null,null,null,null,null,null,null,null,"Total",null,null,{"$f":"(AC307+AC313+AC319+AC325+AC331)","v":0},{"$f":"(AD325+AD319+AD313+AD307+AD331)","v":0},{"$f":"(AE325+AE319+AE313+AE307+AE331)","v":0}]
[null,null,null,null,null,null,null,null,null,null,null," "," "," "," "," "," "," ",null," "," "," "," "," "," ","Potential",null,null,{"$f":"COUNT(Z307:Z331)*4","v":0},{"$f":"COUNT(AA307:AA331)*4","v":0},{"$f":"COUNT(AB307:AB331)*4","v":0}]
[null,null,null,null,null,null,null,null,null,null,null,null,null,null,null,null,null,null,null,null,null,null,null,null,null,"Total Score",null,null,{"$f":"IF(AC334<>0,AC333/AC334,\"NR\")","v":"NR"},{"$f":"IF(AD334<>0,AD333/AD334,\"NR\")","v":"NR"},{"$f":"IF(AE334<>0,AE333/AE334,\"NR\")","v":"NR"}]
[]
[]
[" ",{"$f":"MC!B2","v":"Managing Change"},null,null,"Build up Score Assessment"," ","Build up Scoring",null,null,null,null,"Build up Score Assessment"," ","Build up Scoring",null,null,null,null,"Build up Score Assessment"," ","Build up Scoring",null,null,null,null,null,null,null,"Sub Element Score"]
[{"$f":"MC!$A$4","v":"MC1.0"},{"$f":"MC!$B$4","v":"Changes are controlled"},null,"Sub-Element",null,null,4,3,2,1,"NR",null,null,4,3,2,1,"NR",null,null,4,3,2,1,"NR","Self","Onsite","Current","Self","Onsite","Current","Procedures","Findings","Comments"]
[{"$f":"MC!$A$5","v":"MC1.1"},{"$f":"MC!$C$5","v":"Procedure to manage product/process/source changes"},null,null,"NA",null,{"$f":"IF(E340=MC!$D$9,\"X\",\"\")","v":""},{"$f":"IF(E340=MC!$D$8,\"X\",\"\")","v":""},{"$f":"IF(E340=MC!$D$7,\"X\",\"\")","v":""},{"$f":"IF(E340=MC!$D$6,\"X\",\"\")","v":""},{"$f":"IF(E340=MC!$D$10,\"X\",\"\")","v":"X"},"NA",null,{"$f":"IF(L340=MC!$D$9,\"X\",\"\")","v":""},{"$f":"IF(L340=MC!$D$8,\"X\",\"\")","v":""},{"$f":"IF(L340=MC!$D$7,\"X\",\"\")","v":""},{"$f":"IF(L340=MC!$D$6,\"X\",\"\")","v":""},{"$f":"IF(L340=MC!$D$10,\"X\",\"\")","v":"X"},"NA",null,{"$f":"IF(S340=MC!$D$9,\"X\",\"\")","v":""},{"$f":"IF(S340=MC!$D$8,\"X\",\"\")","v":""},{"$f":"IF(S340=MC!$D$7,\"X\",\"\")","v":""},{"$f":"IF(S340=MC!$D$6,\"X\",\"\")","v":""},{"$f":"IF(S340=MC!$D$10,\"X\",\"\")","v":"X"},{"$f":"IF(G340=\"x\",4,IF(H340=\"x\",3,IF(I340=\"x\",2,IF(J340=\"x\",1,IF(K340=\"x\",\"NR\",\"\")))))","v":"NR"},{"$f":"IF(N340=\"x\",4,IF(O340=\"x\",3,IF(P340=\"x\",2,IF(Q340=\"x\",1,IF(R340=\"x\",\"NR\",\"\")))))","v":"NR"},{"$f":"IF(U340=\"x\",4,IF(V340=\"x\",3,IF(W340=\"x\",2,IF(X340=\"x\",1,IF(Y340=\"x\",\"NR\",\"\")))))","v":"NR"},{"$f":"SUM(Z340:Z343)","v":0},{"$f":"SUM(AA340:AA343)","v":0},{"$f":"SUM(AB340:AB343)","v":0}]
[{"$f":"MC!$A$11","v":"MC1.2"},{"$f":"MC!$C$11","v":"Change form is utilized to document changes"},null,null,"NA",null,{"$f":"IF(E341=MC!$D$15,\"X\",\"\")","v":""},{"$f":"IF(E341=MC!$D$14,\"X\",\"\")","v":""},{"$f":"IF(E341=MC!$D$13,\"X\",\"\")","v":""},{"$f":"IF(E341=MC!$D$12,\"X\",\"\")","v":""},{"$f":"IF(E341=MC!$D$16,\"X\",\"\")","v":"X"},"NA",null,{"$f":"IF(L341=MC!$D$15,\"X\",\"\")","v":""},{"$f":"IF(L341=MC!$D$14,\"X\",\"\")","v":""},{"$f":"IF(L341=MC!$D$13,\"X\",\"\")","v":""},{"$f":"IF(L341=MC!$D$12,\"X\",\"\")","v":""},{"$f":"IF(L341=MC!$D$16,\"X\",\"\")","v":"X"},"NA",null,{"$f":"IF(S341=MC!$D$15,\"X\",\"\")","v":""},{"$f":"IF(S341=MC!$D$14,\"X\",\"\")","v":""},{"$f":"IF(S341=MC!$D$13,\"X\",\"\")","v":""},{"$f":"IF(S341=MC!$D$12,\"X\",\"\")","v":""},{"$f":"IF(S341=MC!$D$16,\"X\",\"\")","v":"X"},{"$f":"IF(G341=\"x\",4,IF(H341=\"x\",3,IF(I341=\"x\",2,IF(J341=\"x\",1,IF(K341=\"x\",\"NR\",\"\")))))","v":"NR"},{"$f":"IF(N341=\"x\",4,IF(O341=\"x\",3,IF(P341=\"x\",2,IF(Q341=\"x\",1,IF(R341=\"x\",\"NR\",\"\")))))","v":"NR"},{"$f":"IF(U341=\"x\",4,IF(V341=\"x\",3,IF(W341=\"x\",2,IF(X341=\"x\",1,IF(Y341=\"x\",\"NR\",\"\")))))","v":"NR"}]
[{"$f":"MC!$A$17","v":"MC1.3"},{"$f":"MC!$C$17","v":"All changes are reviewed and approved by customer"},null,null,"NA",null,{"$f":"IF(E342=MC!$D$21,\"X\",\"\")","v":""},{"$f":"IF(E342=MC!$D$20,\"X\",\"\")","v":""},{"$f":"IF(E342=MC!$D$19,\"X\",\"\")","v":""},{"$f":"IF(E342=MC!$D$18,\"X\",\"\")","v":""},{"$f":"IF(E342=MC!$D$22,\"X\",\"\")","v":"X"},"NA",null,{"$f":"IF(L342=MC!$D$21,\"X\",\"\")","v":""},{"$f":"IF(L342=MC!$D$20,\"X\",\"\")","v":""},{"$f":"IF(L342=MC!$D$19,\"X\",\"\")","v":""},{"$f":"IF(L342=MC!$D$18,\"X\",\"\")","v":""},{"$f":"IF(L342=MC!$D$22,\"X\",\"\")","v":"X"},"NA",null,{"$f":"IF(S342=MC!$D$21,\"X\",\"\")","v":""},{"$f":"IF(S342=MC!$D$20,\"X\",\"\")","v":""},{"$f":"IF(S342=MC!$D$19,\"X\",\"\")","v":""},{"$f":"IF(S342=MC!$D$18,\"X\",\"\")","v":""},{"$f":"IF(S342=MC!$D$22,\"X\",\"\")","v":"X"},{"$f":"IF(G342=\"x\",4,IF(H342=\"x\",3,IF(I342=\"x\",2,IF(J342=\"x\",1,IF(K342=\"x\",\"NR\",\"\")))))","v":"NR"},{"$f":"IF(N342=\"x\",4,IF(O342=\"x\",3,IF(P342=\"x\",2,IF(Q342=\"x\",1,IF(R342=\"x\",\"NR\",\"\")))))","v":"NR"},{"$f":"IF(U342=\"x\",4,IF(V342=\"x\",3,IF(W342=\"x\",2,IF(X342=\"x\",1,IF(Y342=\"x\",\"NR\",\"\")))))","v":"NR"}]
[{"$f":"MC!$A$23","v":"MC1.4"},{"$f":"MC!$C$23","v":"By-pass processes have to be identified as part of approved process"},null,null,"NA",null,{"$f":"IF(E343=MC!$D$27,\"X\",\"\")","v":""},{"$f":"IF(E343=MC!$D$26,\"X\",\"\")","v":""},{"$f":"IF(E343=MC!$D$25,\"X\",\"\")","v":""},{"$f":"IF(E343=MC!$D$24,\"X\",\"\")","v":""},{"$f":"IF(E343=MC!$D$28,\"X\",\"\")","v":"X"},"NA",null,{"$f":"IF(L343=MC!$D$27,\"X\",\"\")","v":""},{"$f":"IF(L343=MC!$D$26,\"X\",\"\")","v":""},{"$f":"IF(L343=MC!$D$25,\"X\",\"\")","v":""},{"$f":"IF(L343=MC!$D$24,\"X\",\"\")","v":""},{"$f":"IF(L343=MC!$D$28,\"X\",\"\")","v":"X"},"NA",null,{"$f":"IF(S343=MC!$D$27,\"X\",\"\")","v":""},{"$f":"IF(S343=MC!$D$26,\"X\",\"\")","v":""},{"$f":"IF(S343=MC!$D$25,\"X\",\"\")","v":""},{"$f":"IF(S343=MC!$D$24,\"X\",\"\")","v":""},{"$f":"IF(S343=MC!$D$28,\"X\",\"\")","v":"X"},{"$f":"IF(G343=\"x\",4,IF(H343=\"x\",3,IF(I343=\"x\",2,IF(J343=\"x\",1,IF(K343=\"x\",\"NR\",\"\")))))","v":"NR"},{"$f":"IF(N343=\"x\",4,IF(O343=\"x\",3,IF(P343=\"x\",2,IF(Q343=\"x\",1,IF(R343=\"x\",\"NR\",\"\")))))","v":"NR"},{"$f":"IF(U343=\"x\",4,IF(V343=\"x\",3,IF(W343=\"x\",2,IF(X343=\"x\",1,IF(Y343=\"x\",\"NR\",\"\")))))","v":"NR"}]
[]
[{"$f":"MC!$A$29","v":"MC2.0"},{"$f":"MC!$B$29","v":"Risk analysis of change"}]
[{"$f":"MC!$A$30","v":"MC2.1"},{"$f":"MC!$C$30","v":"Product/process/source change, an analysis is carried out"},null,null,"NA",null,{"$f":"IF(E346=MC!$D$34,\"X\",\"\")","v":""},{"$f":"IF(E346=MC!$D$33,\"X\",\"\")","v":""},{"$f":"IF(E346=MC!$D$32,\"X\",\"\")","v":""},{"$f":"IF(E346=MC!$D$31,\"X\",\"\")","v":""},{"$f":"IF(E346=MC!$D$35,\"X\",\"\")","v":"X"},"NA",null,{"$f":"IF(L346=MC!$D$34,\"X\",\"\")","v":""},{"$f":"IF(L346=MC!$D$33,\"X\",\"\")","v":""},{"$f":"IF(L346=MC!$D$32,\"X\",\"\")","v":""},{"$f":"IF(L346=MC!$D$31,\"X\",\"\")","v":""},{"$f":"IF(L346=MC!$D$35,\"X\",\"\")","v":"X"},"NA",null,{"$f":"IF(S346=MC!$D$34,\"X\",\"\")","v":""},{"$f":"IF(S346=MC!$D$33,\"X\",\"\")","v":""},{"$f":"IF(S346=MC!$D$32,\"X\",\"\")","v":""},{"$f":"IF(S346=MC!$D$31,\"X\",\"\")","v":""},{"$f":"IF(S346=MC!$D$35,\"X\",\"\")","v":"X"},{"$f":"IF(G346=\"x\",4,IF(H346=\"x\",3,IF(I346=\"x\",2,IF(J346=\"x\",1,IF(K346=\"x\",\"NR\",\"\")))))","v":"NR"},{"$f":"IF(N346=\"x\",4,IF(O346=\"x\",3,IF(P346=\"x\",2,IF(Q346=\"x\",1,IF(R346=\"x\",\"NR\",\"\")))))","v":"NR"},{"$f":"IF(U346=\"x\",4,IF(V346=\"x\",3,IF(W346=\"x\",2,IF(X346=\"x\",1,IF(Y346=\"x\",\"NR\",\"\")))))","v":"NR"},{"$f":"SUM(Z346:Z349)","v":0},{"$f":"SUM(AA346:AA349)","v":0},{"$f":"SUM(AB346:AB349)","v":0}]
[{"$f":"MC!$A$36","v":"MC2.2"},{"$f":"MC!$C$36","v":"Verification and Validation "},null,null,"NA",null,{"$f":"IF(E347=MC!$D$40,\"X\",\"\")","v":""},{"$f":"IF(E347=MC!$D$39,\"X\",\"\")","v":""},{"$f":"IF(E347=MC!$D$38,\"X\",\"\")","v":""},{"$f":"IF(E347=MC!$D$37,\"X\",\"\")","v":""},{"$f":"IF(E347=MC!$D$41,\"X\",\"\")","v":"X"},"NA",null,{"$f":"IF(L347=MC!$D$40,\"X\",\"\")","v":""},{"$f":"IF(L347=MC!$D$39,\"X\",\"\")","v":""},{"$f":"IF(L347=MC!$D$38,\"X\",\"\")","v":""},{"$f":"IF(L347=MC!$D$37,\"X\",\"\")","v":""},{"$f":"IF(L347=MC!$D$41,\"X\",\"\")","v":"X"},"NA",null,{"$f":"IF(S347=MC!$D$40,\"X\",\"\")","v":""},{"$f":"IF(S347=MC!$D$39,\"X\",\"\")","v":""},{"$f":"IF(S347=MC!$D$38,\"X\",\"\")","v":""},{"$f":"IF(S347=MC!$D$37,\"X\",\"\")","v":""},{"$f":"IF(S347=MC!$D$41,\"X\",\"\")","v":"X"},{"$f":"IF(G347=\"x\",4,IF(H347=\"x\",3,IF(I347=\"x\",2,IF(J347=\"x\",1,IF(K347=\"x\",\"NR\",\"\")))))","v":"NR"},{"$f":"IF(N347=\"x\",4,IF(O347=\"x\",3,IF(P347=\"x\",2,IF(Q347=\"x\",1,IF(R347=\"x\",\"NR\",\"\")))))","v":"NR"},{"$f":"IF(U347=\"x\",4,IF(V347=\"x\",3,IF(W347=\"x\",2,IF(X347=\"x\",1,IF(Y347=\"x\",\"NR\",\"\")))))","v":"NR"}]
[{"$f":"MC!$A$42","v":"MC2.3"},{"$f":"MC!$C$42","v":"Engineering specifications"},null,null,"NA",null,{"$f":"IF(E348=MC!$D$46,\"X\",\"\")","v":""},{"$f":"IF(E348=MC!$D$45,\"X\",\"\")","v":""},{"$f":"IF(E348=MC!$D$44,\"X\",\"\")","v":""},{"$f":"IF(E348=MC!$D$43,\"X\",\"\")","v":""},{"$f":"IF(E348=MC!$D$47,\"X\",\"\")","v":"X"},"NA",null,{"$f":"IF(L348=MC!$D$46,\"X\",\"\")","v":""},{"$f":"IF(L348=MC!$D$45,\"X\",\"\")","v":""},{"$f":"IF(L348=MC!$D$44,\"X\",\"\")","v":""},{"$f":"IF(L348=MC!$D$43,\"X\",\"\")","v":""},{"$f":"IF(L348=MC!$D$47,\"X\",\"\")","v":"X"},"NA",null,{"$f":"IF(S348=MC!$D$46,\"X\",\"\")","v":""},{"$f":"IF(S348=MC!$D$45,\"X\",\"\")","v":""},{"$f":"IF(S348=MC!$D$44,\"X\",\"\")","v":""},{"$f":"IF(S348=MC!$D$43,\"X\",\"\")","v":""},{"$f":"IF(S348=MC!$D$47,\"X\",\"\")","v":"X"},{"$f":"IF(G348=\"x\",4,IF(H348=\"x\",3,IF(I348=\"x\",2,IF(J348=\"x\",1,IF(K348=\"x\",\"NR\",\"\")))))","v":"NR"},{"$f":"IF(N348=\"x\",4,IF(O348=\"x\",3,IF(P348=\"x\",2,IF(Q348=\"x\",1,IF(R348=\"x\",\"NR\",\"\")))))","v":"NR"},{"$f":"IF(U348=\"x\",4,IF(V348=\"x\",3,IF(W348=\"x\",2,IF(X348=\"x\",1,IF(Y348=\"x\",\"NR\",\"\")))))","v":"NR"}]
[{"$f":"MC!$A$48","v":"MC2.4"},{"$f":"MC!$C$48","v":"Product Approval process"},null,null,"NA",null,{"$f":"IF(E349=MC!$D$52,\"X\",\"\")","v":""},{"$f":"IF(E349=MC!$D$51,\"X\",\"\")","v":""},{"$f":"IF(E349=MC!$D$50,\"X\",\"\")","v":""},{"$f":"IF(E349=MC!$D$49,\"X\",\"\")","v":""},{"$f":"IF(E349=MC!$D$53,\"X\",\"\")","v":"X"},"NA",null,{"$f":"IF(L349=MC!$D$52,\"X\",\"\")","v":""},{"$f":"IF(L349=MC!$D$51,\"X\",\"\")","v":""},{"$f":"IF(L349=MC!$D$50,\"X\",\"\")","v":""},{"$f":"IF(L349=MC!$D$49,\"X\",\"\")","v":""},{"$f":"IF(L349=MC!$D$53,\"X\",\"\")","v":"X"},"NA",null,{"$f":"IF(S349=MC!$D$52,\"X\",\"\")","v":""},{"$f":"IF(S349=MC!$D$51,\"X\",\"\")","v":""},{"$f":"IF(S349=MC!$D$50,\"X\",\"\")","v":""},{"$f":"IF(S349=MC!$D$49,\"X\",\"\")","v":""},{"$f":"IF(S349=MC!$D$53,\"X\",\"\")","v":"X"},{"$f":"IF(G349=\"x\",4,IF(H349=\"x\",3,IF(I349=\"x\",2,IF(J349=\"x\",1,IF(K349=\"x\",\"NR\",\"\")))))","v":"NR"},{"$f":"IF(N349=\"x\",4,IF(O349=\"x\",3,IF(P349=\"x\",2,IF(Q349=\"x\",1,IF(R349=\"x\",\"NR\",\"\")))))","v":"NR"},{"$f":"IF(U349=\"x\",4,IF(V349=\"x\",3,IF(W349=\"x\",2,IF(X349=\"x\",1,IF(Y349=\"x\",\"NR\",\"\")))))","v":"NR"}]
[]
[{"$f":"MC!$A$54","v":"MC3.0"},{"$f":"MC!$B$54","v":"A Production Trial Run"}]
[{"$f":"MC!$A$55","v":"MC3.1"},{"$f":"MC!$C$55","v":"Procedure to control production trail runs"},null,null,"NA",null,{"$f":"IF(E352=MC!$D$59,\"X\",\"\")","v":""},{"$f":"IF(E352=MC!$D$58,\"X\",\"\")","v":""},{"$f":"IF(E352=MC!$D$57,\"X\",\"\")","v":""},{"$f":"IF(E352=MC!$D$56,\"X\",\"\")","v":""},{"$f":"IF(E352=MC!$D$60,\"X\",\"\")","v":"X"},"NA",null,{"$f":"IF(L352=MC!$D$59,\"X\",\"\")","v":""},{"$f":"IF(L352=MC!$D$58,\"X\",\"\")","v":""},{"$f":"IF(L352=MC!$D$57,\"X\",\"\")","v":""},{"$f":"IF(L352=MC!$D$56,\"X\",\"\")","v":""},{"$f":"IF(L352=MC!$D$60,\"X\",\"\")","v":"X"},"NA",null,{"$f":"IF(S352=MC!$D$59,\"X\",\"\")","v":""},{"$f":"IF(S352=MC!$D$58,\"X\",\"\")","v":""},{"$f":"IF(S352=MC!$D$57,\"X\",\"\")","v":""},{"$f":"IF(S352=MC!$D$56,\"X\",\"\")","v":""},{"$f":"IF(S352=MC!$D$60,\"X\",\"\")","v":"X"},{"$f":"IF(G352=\"x\",4,IF(H352=\"x\",3,IF(I352=\"x\",2,IF(J352=\"x\",1,IF(K352=\"x\",\"NR\",\"\")))))","v":"NR"},{"$f":"IF(N352=\"x\",4,IF(O352=\"x\",3,IF(P352=\"x\",2,IF(Q352=\"x\",1,IF(R352=\"x\",\"NR\",\"\")))))","v":"NR"},{"$f":"IF(U352=\"x\",4,IF(V352=\"x\",3,IF(W352=\"x\",2,IF(X352=\"x\",1,IF(Y352=\"x\",\"NR\",\"\")))))","v":"NR"},{"$f":"SUM(Z352:Z355)","v":0},{"$f":"SUM(AA352:AA355)","v":0},{"$f":"SUM(AB352:AB355)","v":0}]
[{"$f":"MC!$A$61","v":"MC3.2"},{"$f":"MC!$C$61","v":"Trial run batch is ensured"},null,null,"NA",null,{"$f":"IF(E353=MC!$D$65,\"X\",\"\")","v":""},{"$f":"IF(E353=MC!$D$64,\"X\",\"\")","v":""},{"$f":"IF(E353=MC!$D$63,\"X\",\"\")","v":""},{"$f":"IF(E353=MC!$D$62,\"X\",\"\")","v":""},{"$f":"IF(E353=MC!$D$66,\"X\",\"\")","v":"X"},"NA",null,{"$f":"IF(L353=MC!$D$65,\"X\",\"\")","v":""},{"$f":"IF(L353=MC!$D$64,\"X\",\"\")","v":""},{"$f":"IF(L353=MC!$D$63,\"X\",\"\")","v":""},{"$f":"IF(L353=MC!$D$62,\"X\",\"\")","v":""},{"$f":"IF(L353=MC!$D$66,\"X\",\"\")","v":"X"},"NA",null,{"$f":"IF(S353=MC!$D$65,\"X\",\"\")","v":""},{"$f":"IF(S353=MC!$D$64,\"X\",\"\")","v":""},{"$f":"IF(S353=MC!$D$63,\"X\",\"\")","v":""},{"$f":"IF(S353=MC!$D$62,\"X\",\"\")","v":""},{"$f":"IF(S353=MC!$D$66,\"X\",\"\")","v":"X"},{"$f":"IF(G353=\"x\",4,IF(H353=\"x\",3,IF(I353=\"x\",2,IF(J353=\"x\",1,IF(K353=\"x\",\"NR\",\"\")))))","v":"NR"},{"$f":"IF(N353=\"x\",4,IF(O353=\"x\",3,IF(P353=\"x\",2,IF(Q353=\"x\",1,IF(R353=\"x\",\"NR\",\"\")))))","v":"NR"},{"$f":"IF(U353=\"x\",4,IF(V353=\"x\",3,IF(W353=\"x\",2,IF(X353=\"x\",1,IF(Y353=\"x\",\"NR\",\"\")))))","v":"NR"}]
[{"$f":"MC!$A$67","v":"MC3.3"},{"$f":"MC!$C$67","v":"Break point is defined"},null,null,"NA",null,{"$f":"IF(E354=MC!$D$71,\"X\",\"\")","v":""},{"$f":"IF(E354=MC!$D$70,\"X\",\"\")","v":""},{"$f":"IF(E354=MC!$D$69,\"X\",\"\")","v":""},{"$f":"IF(E354=MC!$D$68,\"X\",\"\")","v":""},{"$f":"IF(E354=MC!$D$72,\"X\",\"\")","v":"X"},"NA",null,{"$f":"IF(L354=MC!$D$71,\"X\",\"\")","v":""},{"$f":"IF(L354=MC!$D$70,\"X\",\"\")","v":""},{"$f":"IF(L354=MC!$D$69,\"X\",\"\")","v":""},{"$f":"IF(L354=MC!$D$68,\"X\",\"\")","v":""},{"$f":"IF(L354=MC!$D$72,\"X\",\"\")","v":"X"},"NA",null,{"$f":"IF(S354=MC!$D$71,\"X\",\"\")","v":""},{"$f":"IF(S354=MC!$D$70,\"X\",\"\")","v":""},{"$f":"IF(S354=MC!$D$69,\"X\",\"\")","v":""},{"$f":"IF(S354=MC!$D$68,\"X\",\"\")","v":""},{"$f":"IF(S354=MC!$D$72,\"X\",\"\")","v":"X"},{"$f":"IF(G354=\"x\",4,IF(H354=\"x\",3,IF(I354=\"x\",2,IF(J354=\"x\",1,IF(K354=\"x\",\"NR\",\"\")))))","v":"NR"},{"$f":"IF(N354=\"x\",4,IF(O354=\"x\",3,IF(P354=\"x\",2,IF(Q354=\"x\",1,IF(R354=\"x\",\"NR\",\"\")))))","v":"NR"},{"$f":"IF(U354=\"x\",4,IF(V354=\"x\",3,IF(W354=\"x\",2,IF(X354=\"x\",1,IF(Y354=\"x\",\"NR\",\"\")))))","v":"NR"}]
[{"$f":"MC!$A$73","v":"MC3.4"},{"$f":"MC!$C$73","v":"PTR feedback process"},null,null,"NA",null,{"$f":"IF(E355=MC!$D$77,\"X\",\"\")","v":""},{"$f":"IF(E355=MC!$D$76,\"X\",\"\")","v":""},{"$f":"IF(E355=MC!$D$75,\"X\",\"\")","v":""},{"$f":"IF(E355=MC!$D$74,\"X\",\"\")","v":""},{"$f":"IF(E355=MC!$D$78,\"X\",\"\")","v":"X"},"NA",null,{"$f":"IF(L355=MC!$D$77,\"X\",\"\")","v":""},{"$f":"IF(L355=MC!$D$76,\"X\",\"\")","v":""},{"$f":"IF(L355=MC!$D$75,\"X\",\"\")","v":""},{"$f":"IF(L355=MC!$D$74,\"X\",\"\")","v":""},{"$f":"IF(L355=MC!$D$78,\"X\",\"\")","v":"X"},"NA",null,{"$f":"IF(S355=MC!$D$77,\"X\",\"\")","v":""},{"$f":"IF(S355=MC!$D$76,\"X\",\"\")","v":""},{"$f":"IF(S355=MC!$D$75,\"X\",\"\")","v":""},{"$f":"IF(S355=MC!$D$74,\"X\",\"\")","v":""},{"$f":"IF(S355=MC!$D$78,\"X\",\"\")","v":"X"},{"$f":"IF(G355=\"x\",4,IF(H355=\"x\",3,IF(I355=\"x\",2,IF(J355=\"x\",1,IF(K355=\"x\",\"NR\",\"\")))))","v":"NR"},{"$f":"IF(N355=\"x\",4,IF(O355=\"x\",3,IF(P355=\"x\",2,IF(Q355=\"x\",1,IF(R355=\"x\",\"NR\",\"\")))))","v":"NR"},{"$f":"IF(U355=\"x\",4,IF(V355=\"x\",3,IF(W355=\"x\",2,IF(X355=\"x\",1,IF(Y355=\"x\",\"NR\",\"\")))))","v":"NR"}]
[]
[{"$f":"MC!$A$79","v":"MC4"},{"$f":"MC!$B$79","v":"Banking strategy"}]
[{"$f":"MC!$A$80","v":"MC4.1"},{"$f":"MC!$C$80","v":"Banking strategy takes account process capacity, customer need, lead time and safety margin"},null,null,"NA",null,{"$f":"IF(E358=MC!$D$84,\"X\",\"\")","v":""},{"$f":"IF(E358=MC!$D$83,\"X\",\"\")","v":""},{"$f":"IF(E358=MC!$D$82,\"X\",\"\")","v":""},{"$f":"IF(E358=MC!$D$81,\"X\",\"\")","v":""},{"$f":"IF(E358=MC!$D$85,\"X\",\"\")","v":"X"},"NA",null,{"$f":"IF(L358=MC!$D$84,\"X\",\"\")","v":""},{"$f":"IF(L358=MC!$D$83,\"X\",\"\")","v":""},{"$f":"IF(L358=MC!$D$82,\"X\",\"\")","v":""},{"$f":"IF(L358=MC!$D$81,\"X\",\"\")","v":""},{"$f":"IF(L358=MC!$D$85,\"X\",\"\")","v":"X"},"NA",null,{"$f":"IF(S358=MC!$D$84,\"X\",\"\")","v":""},{"$f":"IF(S358=MC!$D$83,\"X\",\"\")","v":""},{"$f":"IF(S358=MC!$D$82,\"X\",\"\")","v":""},{"$f":"IF(S358=MC!$D$81,\"X\",\"\")","v":""},{"$f":"IF(S358=MC!$D$85,\"X\",\"\")","v":"X"},{"$f":"IF(G358=\"x\",4,IF(H358=\"x\",3,IF(I358=\"x\",2,IF(J358=\"x\",1,IF(K358=\"x\",\"NR\",\"\")))))","v":"NR"},{"$f":"IF(N358=\"x\",4,IF(O358=\"x\",3,IF(P358=\"x\",2,IF(Q358=\"x\",1,IF(R358=\"x\",\"NR\",\"\")))))","v":"NR"},{"$f":"IF(U358=\"x\",4,IF(V358=\"x\",3,IF(W358=\"x\",2,IF(X358=\"x\",1,IF(Y358=\"x\",\"NR\",\"\")))))","v":"NR"},{"$f":"SUM(Z358:Z361)","v":0},{"$f":"SUM(AA358:AA361)","v":0},{"$f":"SUM(AB358:AB361)","v":0}]
[{"$f":"MC!$A$86","v":"MC4.2"},{"$f":"MC!$C$86","v":"Guidelines for execution storage and packing of parts"},null,null,"NA",null,{"$f":"IF(E359=MC!$D$90,\"X\",\"\")","v":""},{"$f":"IF(E359=MC!$D$89,\"X\",\"\")","v":""},{"$f":"IF(E359=MC!$D$88,\"X\",\"\")","v":""},{"$f":"IF(E359=MC!$D$87,\"X\",\"\")","v":""},{"$f":"IF(E359=MC!$D$91,\"X\",\"\")","v":"X"},"NA",null,{"$f":"IF(L359=MC!$D$90,\"X\",\"\")","v":""},{"$f":"IF(L359=MC!$D$89,\"X\",\"\")","v":""},{"$f":"IF(L359=MC!$D$88,\"X\",\"\")","v":""},{"$f":"IF(L359=MC!$D$87,\"X\",\"\")","v":""},{"$f":"IF(L359=MC!$D$91,\"X\",\"\")","v":"X"},"NA",null,{"$f":"IF(S359=MC!$D$90,\"X\",\"\")","v":""},{"$f":"IF(S359=MC!$D$89,\"X\",\"\")","v":""},{"$f":"IF(S359=MC!$D$88,\"X\",\"\")","v":""},{"$f":"IF(S359=MC!$D$87,\"X\",\"\")","v":""},{"$f":"IF(S359=MC!$D$91,\"X\",\"\")","v":"X"},{"$f":"IF(G359=\"x\",4,IF(H359=\"x\",3,IF(I359=\"x\",2,IF(J359=\"x\",1,IF(K359=\"x\",\"NR\",\"\")))))","v":"NR"},{"$f":"IF(N359=\"x\",4,IF(O359=\"x\",3,IF(P359=\"x\",2,IF(Q359=\"x\",1,IF(R359=\"x\",\"NR\",\"\")))))","v":"NR"},{"$f":"IF(U359=\"x\",4,IF(V359=\"x\",3,IF(W359=\"x\",2,IF(X359=\"x\",1,IF(Y359=\"x\",\"NR\",\"\")))))","v":"NR"}]
[{"$f":"MC!$A$92","v":"MC4.3"},{"$f":"MC!$C$92","v":"Plan to exhaust product before delivering new change level"},null,null,"NA",null,{"$f":"IF(E360=MC!$D$96,\"X\",\"\")","v":""},{"$f":"IF(E360=MC!$D$95,\"X\",\"\")","v":""},{"$f":"IF(E360=MC!$D$94,\"X\",\"\")","v":""},{"$f":"IF(E360=MC!$D$93,\"X\",\"\")","v":""},{"$f":"IF(E360=MC!$D$97,\"X\",\"\")","v":"X"},"NA",null,{"$f":"IF(L360=MC!$D$96,\"X\",\"\")","v":""},{"$f":"IF(L360=MC!$D$95,\"X\",\"\")","v":""},{"$f":"IF(L360=MC!$D$94,\"X\",\"\")","v":""},{"$f":"IF(L360=MC!$D$93,\"X\",\"\")","v":""},{"$f":"IF(L360=MC!$D$97,\"X\",\"\")","v":"X"},"NA",null,{"$f":"IF(S360=MC!$D$96,\"X\",\"\")","v":""},{"$f":"IF(S360=MC!$D$95,\"X\",\"\")","v":""},{"$f":"IF(S360=MC!$D$94,\"X\",\"\")","v":""},{"$f":"IF(S360=MC!$D$93,\"X\",\"\")","v":""},{"$f":"IF(S360=MC!$D$97,\"X\",\"\")","v":"X"},{"$f":"IF(G360=\"x\",4,IF(H360=\"x\",3,IF(I360=\"x\",2,IF(J360=\"x\",1,IF(K360=\"x\",\"NR\",\"\")))))","v":"NR"},{"$f":"IF(N360=\"x\",4,IF(O360=\"x\",3,IF(P360=\"x\",2,IF(Q360=\"x\",1,IF(R360=\"x\",\"NR\",\"\")))))","v":"NR"},{"$f":"IF(U360=\"x\",4,IF(V360=\"x\",3,IF(W360=\"x\",2,IF(X360=\"x\",1,IF(Y360=\"x\",\"NR\",\"\")))))","v":"NR"}]
[{"$f":"MC!$A$98","v":"MC4.4"},{"$f":"MC!$C$98","v":"Control of Obsolete product"},null,null,"NA",null,{"$f":"IF(E361=MC!$D$102,\"X\",\"\")","v":""},{"$f":"IF(E361=MC!$D$101,\"X\",\"\")","v":""},{"$f":"IF(E361=MC!$D$100,\"X\",\"\")","v":""},{"$f":"IF(E361=MC!$D$99,\"X\",\"\")","v":""},{"$f":"IF(E361=MC!$D$103,\"X\",\"\")","v":"X"},"NA",null,{"$f":"IF(L361=MC!$D$102,\"X\",\"\")","v":""},{"$f":"IF(L361=MC!$D$101,\"X\",\"\")","v":""},{"$f":"IF(L361=MC!$D$100,\"X\",\"\")","v":""},{"$f":"IF(L361=MC!$D$99,\"X\",\"\")","v":""},{"$f":"IF(L361=MC!$D$103,\"X\",\"\")","v":"X"},"NA",null,{"$f":"IF(S361=MC!$D$102,\"X\",\"\")","v":""},{"$f":"IF(S361=MC!$D$101,\"X\",\"\")","v":""},{"$f":"IF(S361=MC!$D$100,\"X\",\"\")","v":""},{"$f":"IF(S361=MC!$D$99,\"X\",\"\")","v":""},{"$f":"IF(S361=MC!$D$103,\"X\",\"\")","v":"X"},{"$f":"IF(G361=\"x\",4,IF(H361=\"x\",3,IF(I361=\"x\",2,IF(J361=\"x\",1,IF(K361=\"x\",\"NR\",\"\")))))","v":"NR"},{"$f":"IF(N361=\"x\",4,IF(O361=\"x\",3,IF(P361=\"x\",2,IF(Q361=\"x\",1,IF(R361=\"x\",\"NR\",\"\")))))","v":"NR"},{"$f":"IF(U361=\"x\",4,IF(V361=\"x\",3,IF(W361=\"x\",2,IF(X361=\"x\",1,IF(Y361=\"x\",\"NR\",\"\")))))","v":"NR"}]
[]
[{"$f":"MC!$A$104","v":"MCE"},{"$f":"MC!$B$104","v":"Changes are tracked to ensure that changes have no negative impact to customer"}]
[{"$f":"MC!$A$105","v":"MCE.1"},{"$f":"MC!$C$105","v":"Number of issues generated by a change"},null,null,"NA",null,{"$f":"IF(E364=MC!$D$109,\"X\",\"\")","v":""},{"$f":"IF(E364=MC!$D$108,\"X\",\"\")","v":""},{"$f":"IF(E364=MC!$D$107,\"X\",\"\")","v":""},{"$f":"IF(E364=MC!$D$106,\"X\",\"\")","v":""},{"$f":"IF(E364=MC!$D$110,\"X\",\"\")","v":"X"},"NA",null,{"$f":"IF(L364=MC!$D$109,\"X\",\"\")","v":""},{"$f":"IF(L364=MC!$D$108,\"X\",\"\")","v":""},{"$f":"IF(L364=MC!$D$107,\"X\",\"\")","v":""},{"$f":"IF(L364=MC!$D$106,\"X\",\"\")","v":""},{"$f":"IF(L364=MC!$D$110,\"X\",\"\")","v":"X"},"NA",null,{"$f":"IF(S364=MC!$D$109,\"X\",\"\")","v":""},{"$f":"IF(S364=MC!$D$108,\"X\",\"\")","v":""},{"$f":"IF(S364=MC!$D$107,\"X\",\"\")","v":""},{"$f":"IF(S364=MC!$D$106,\"X\",\"\")","v":""},{"$f":"IF(S364=MC!$D$110,\"X\",\"\")","v":"X"},{"$f":"IF(G364=\"x\",4,IF(H364=\"x\",3,IF(I364=\"x\",2,IF(J364=\"x\",1,IF(K364=\"x\",\"NR\",\"\")))))","v":"NR"},{"$f":"IF(N364=\"x\",4,IF(O364=\"x\",3,IF(P364=\"x\",2,IF(Q364=\"x\",1,IF(R364=\"x\",\"NR\",\"\")))))","v":"NR"},{"$f":"IF(U364=\"x\",4,IF(V364=\"x\",3,IF(W364=\"x\",2,IF(X364=\"x\",1,IF(Y364=\"x\",\"NR\",\"\")))))","v":"NR"},{"$f":"SUM(Z364)","v":0},{"$f":"SUM(AA364)","v":0},{"$f":"SUM(AB364)","v":0}]
[]
[null,null,null,null,null,null,null,null,null,null,null,null,null,null,null,null,null,null,null,null,null,null,null,null,null,"Total",null,null,{"$f":"(AC340+AC346+AC352+AC358+AC364)","v":0},{"$f":"(AD358+AD352+AD346+AD340+AD364)","v":0},{"$f":"(AE358+AE352+AE346+AE340+AE364)","v":0}]
[null,null,null,null,null,null,null,null,null,null,null," "," "," "," "," "," "," ",null," "," "," "," "," "," ","Potential",null,null,{"$f":"COUNT(Z340:Z364)*4","v":0},{"$f":"COUNT(AA340:AA364)*4","v":0},{"$f":"COUNT(AB340:AB364)*4","v":0}]
[null,null,null,null,null,null,null,null,null,null,null,null,null,null,null,null,null,null,null,null,null,null,null,null,null,"Total Score",null,null,{"$f":"IF(AC367<>0,AC366/AC367,\"NR\")","v":"NR"},{"$f":"IF(AD367<>0,AD366/AD367,\"NR\")","v":"NR"},{"$f":"IF(AE367<>0,AE366/AE367,\"NR\")","v":"NR"}]
[]
[]
[" ",{"$f":"CC!B2","v":"Contamination Control"},null,null,"Build up Score Assessment"," ","Build up Scoring",null,null,null,null,"Build up Score Assessment"," ","Build up Scoring",null,null,null,null,"Build up Score Assessment"," ","Build up Scoring",null,null,null,null,null,null,null,"Sub Element Score"]
[{"$f":"CC!$A$4","v":"CC1.0"},{"$f":"CC!$B$4","v":"Risk Identified and Controlled"},null,"Sub-Element",null,null,4,3,2,1,"NR",null,null,4,3,2,1,"NR",null,null,4,3,2,1,"NR","Self","Onsite","Current","Self","Onsite","Current","Procedures","Findings","Comments"]
[{"$f":"CC!$A$5","v":"CC1.1"},{"$f":"CC!$C$5","v":"Operations affected by PFMEA"},null,null,"NA",null,{"$f":"IF(E373=CC!$D$9,\"X\",\"\")","v":""},{"$f":"IF(E373=CC!$D$8,\"X\",\"\")","v":""},{"$f":"IF(E373=CC!$D$7,\"X\",\"\")","v":""},{"$f":"IF(E373=CC!$D$6,\"X\",\"\")","v":""},{"$f":"IF(E373=CC!$D$10,\"X\",\"\")","v":"X"},"NA",null,{"$f":"IF(L373=CC!$D$9,\"X\",\"\")","v":""},{"$f":"IF(L373=CC!$D$8,\"X\",\"\")","v":""},{"$f":"IF(L373=CC!$D$7,\"X\",\"\")","v":""},{"$f":"IF(L373=CC!$D$6,\"X\",\"\")","v":""},{"$f":"IF(L373=CC!$D$10,\"X\",\"\")","v":"X"},"NA",null,{"$f":"IF(S373=CC!$D$9,\"X\",\"\")","v":""},{"$f":"IF(S373=CC!$D$8,\"X\",\"\")","v":""},{"$f":"IF(S373=CC!$D$7,\"X\",\"\")","v":""},{"$f":"IF(S373=CC!$D$6,\"X\",\"\")","v":""},{"$f":"IF(S373=CC!$D$10,\"X\",\"\")","v":"X"},{"$f":"IF(G373=\"x\",4,IF(H373=\"x\",3,IF(I373=\"x\",2,IF(J373=\"x\",1,IF(K373=\"x\",\"NR\",\"\")))))","v":"NR"},{"$f":"IF(N373=\"x\",4,IF(O373=\"x\",3,IF(P373=\"x\",2,IF(Q373=\"x\",1,IF(R373=\"x\",\"NR\",\"\")))))","v":"NR"},{"$f":"IF(U373=\"x\",4,IF(V373=\"x\",3,IF(W373=\"x\",2,IF(X373=\"x\",1,IF(Y373=\"x\",\"NR\",\"\")))))","v":"NR"},{"$f":"SUM(Z373:Z376)","v":0},{"$f":"SUM(AA373:AA376)","v":0},{"$f":"SUM(AB373:AB376)","v":0}]
[{"$f":"CC!$A$11","v":"CC1.2"},{"$f":"CC!$C$11","v":"Procedure developed for cleanliness"},null,null,"NA",null,{"$f":"IF(E374=CC!$D$15,\"X\",\"\")","v":""},{"$f":"IF(E374=CC!$D$14,\"X\",\"\")","v":""},{"$f":"IF(E374=CC!$D$13,\"X\",\"\")","v":""},{"$f":"IF(E374=CC!$D$12,\"X\",\"\")","v":""},{"$f":"IF(E374=CC!$D$16,\"X\",\"\")","v":"X"},"NA",null,{"$f":"IF(L374=CC!$D$15,\"X\",\"\")","v":""},{"$f":"IF(L374=CC!$D$14,\"X\",\"\")","v":""},{"$f":"IF(L374=CC!$D$13,\"X\",\"\")","v":""},{"$f":"IF(L374=CC!$D$12,\"X\",\"\")","v":""},{"$f":"IF(L374=CC!$D$16,\"X\",\"\")","v":"X"},"NA",null,{"$f":"IF(S374=CC!$D$15,\"X\",\"\")","v":""},{"$f":"IF(S374=CC!$D$14,\"X\",\"\")","v":""},{"$f":"IF(S374=CC!$D$13,\"X\",\"\")","v":""},{"$f":"IF(S374=CC!$D$12,\"X\",\"\")","v":""},{"$f":"IF(S374=CC!$D$16,\"X\",\"\")","v":"X"},{"$f":"IF(G374=\"x\",4,IF(H374=\"x\",3,IF(I374=\"x\",2,IF(J374=\"x\",1,IF(K374=\"x\",\"NR\",\"\")))))","v":"NR"},{"$f":"IF(N374=\"x\",4,IF(O374=\"x\",3,IF(P374=\"x\",2,IF(Q374=\"x\",1,IF(R374=\"x\",\"NR\",\"\")))))","v":"NR"},{"$f":"IF(U374=\"x\",4,IF(V374=\"x\",3,IF(W374=\"x\",2,IF(X374=\"x\",1,IF(Y374=\"x\",\"NR\",\"\")))))","v":"NR"}]
[{"$f":"CC!$A$17","v":"CC1.3"},{"$f":"CC!$C$17","v":"Control limits "},null,null,"NA",null,{"$f":"IF(E375=CC!$D$21,\"X\",\"\")","v":""},{"$f":"IF(E375=CC!$D$20,\"X\",\"\")","v":""},{"$f":"IF(E375=CC!$D$19,\"X\",\"\")","v":""},{"$f":"IF(E375=CC!$D$18,\"X\",\"\")","v":""},{"$f":"IF(E375=CC!$D$22,\"X\",\"\")","v":"X"},"NA",null,{"$f":"IF(L375=CC!$D$21,\"X\",\"\")","v":""},{"$f":"IF(L375=CC!$D$20,\"X\",\"\")","v":""},{"$f":"IF(L375=CC!$D$19,\"X\",\"\")","v":""},{"$f":"IF(L375=CC!$D$18,\"X\",\"\")","v":""},{"$f":"IF(L375=CC!$D$22,\"X\",\"\")","v":"X"},"NA",null,{"$f":"IF(S375=CC!$D$21,\"X\",\"\")","v":""},{"$f":"IF(S375=CC!$D$20,\"X\",\"\")","v":""},{"$f":"IF(S375=CC!$D$19,\"X\",\"\")","v":""},{"$f":"IF(S375=CC!$D$18,\"X\",\"\")","v":""},{"$f":"IF(S375=CC!$D$22,\"X\",\"\")","v":"X"},{"$f":"IF(G375=\"x\",4,IF(H375=\"x\",3,IF(I375=\"x\",2,IF(J375=\"x\",1,IF(K375=\"x\",\"NR\",\"\")))))","v":"NR"},{"$f":"IF(N375=\"x\",4,IF(O375=\"x\",3,IF(P375=\"x\",2,IF(Q375=\"x\",1,IF(R375=\"x\",\"NR\",\"\")))))","v":"NR"},{"$f":"IF(U375=\"x\",4,IF(V375=\"x\",3,IF(W375=\"x\",2,IF(X375=\"x\",1,IF(Y375=\"x\",\"NR\",\"\")))))","v":"NR"}]
[{"$f":"CC!$A$23","v":"CC1.4"},{"$f":"CC!$C$23","v":"Contamination Improvement plans"},null,null,"NA",null,{"$f":"IF(E376=CC!$D$27,\"X\",\"\")","v":""},{"$f":"IF(E376=CC!$D$26,\"X\",\"\")","v":""},{"$f":"IF(E376=CC!$D$25,\"X\",\"\")","v":""},{"$f":"IF(E376=CC!$D$24,\"X\",\"\")","v":""},{"$f":"IF(E376=CC!$D$28,\"X\",\"\")","v":"X"},"NA",null,{"$f":"IF(L376=CC!$D$27,\"X\",\"\")","v":""},{"$f":"IF(L376=CC!$D$26,\"X\",\"\")","v":""},{"$f":"IF(L376=CC!$D$25,\"X\",\"\")","v":""},{"$f":"IF(L376=CC!$D$24,\"X\",\"\")","v":""},{"$f":"IF(L376=CC!$D$28,\"X\",\"\")","v":"X"},"NA",null,{"$f":"IF(S376=CC!$D$27,\"X\",\"\")","v":""},{"$f":"IF(S376=CC!$D$26,\"X\",\"\")","v":""},{"$f":"IF(S376=CC!$D$25,\"X\",\"\")","v":""},{"$f":"IF(S376=CC!$D$24,\"X\",\"\")","v":""},{"$f":"IF(S376=CC!$D$28,\"X\",\"\")","v":"X"},{"$f":"IF(G376=\"x\",4,IF(H376=\"x\",3,IF(I376=\"x\",2,IF(J376=\"x\",1,IF(K376=\"x\",\"NR\",\"\")))))","v":"NR"},{"$f":"IF(N376=\"x\",4,IF(O376=\"x\",3,IF(P376=\"x\",2,IF(Q376=\"x\",1,IF(R376=\"x\",\"NR\",\"\")))))","v":"NR"},{"$f":"IF(U376=\"x\",4,IF(V376=\"x\",3,IF(W376=\"x\",2,IF(X376=\"x\",1,IF(Y376=\"x\",\"NR\",\"\")))))","v":"NR"}]
[]
[{"$f":"CC!$A$29","v":"CC2.0"},{"$f":"CC!$B$29","v":"Control to ensure proper functionality of equipment and processes"}]
[{"$f":"CC!$A$30","v":"CC2.1"},{"$f":"CC!$C$30","v":"Procedure and checks - metal working fluid system"},null,null,"NA",null,{"$f":"IF(E379=CC!$D$34,\"X\",\"\")","v":""},{"$f":"IF(E379=CC!$D$33,\"X\",\"\")","v":""},{"$f":"IF(E379=CC!$D$32,\"X\",\"\")","v":""},{"$f":"IF(E379=CC!$D$31,\"X\",\"\")","v":""},{"$f":"IF(E379=CC!$D$35,\"X\",\"\")","v":"X"},"NA",null,{"$f":"IF(L379=CC!$D$34,\"X\",\"\")","v":""},{"$f":"IF(L379=CC!$D$33,\"X\",\"\")","v":""},{"$f":"IF(L379=CC!$D$32,\"X\",\"\")","v":""},{"$f":"IF(L379=CC!$D$31,\"X\",\"\")","v":""},{"$f":"IF(L379=CC!$D$35,\"X\",\"\")","v":"X"},"NA",null,{"$f":"IF(S379=CC!$D$34,\"X\",\"\")","v":""},{"$f":"IF(S379=CC!$D$33,\"X\",\"\")","v":""},{"$f":"IF(S379=CC!$D$32,\"X\",\"\")","v":""},{"$f":"IF(S379=CC!$D$31,\"X\",\"\")","v":""},{"$f":"IF(S379=CC!$D$35,\"X\",\"\")","v":"X"},{"$f":"IF(G379=\"x\",4,IF(H379=\"x\",3,IF(I379=\"x\",2,IF(J379=\"x\",1,IF(K379=\"x\",\"NR\",\"\")))))","v":"NR"},{"$f":"IF(N379=\"x\",4,IF(O379=\"x\",3,IF(P379=\"x\",2,IF(Q379=\"x\",1,IF(R379=\"x\",\"NR\",\"\")))))","v":"NR"},{"$f":"IF(U379=\"x\",4,IF(V379=\"x\",3,IF(W379=\"x\",2,IF(X379=\"x\",1,IF(Y379=\"x\",\"NR\",\"\")))))","v":"NR"},{"$f":"SUM(Z379:Z382)","v":0},{"$f":"SUM(AA379:AA382)","v":0},{"$f":"SUM(AB379:AB382)","v":0}]
[{"$f":"CC!$A$36","v":"CC2.2"},{"$f":"CC!$C$36","v":"Procedure and checks - fluid/air probes"},null,null,"NA",null,{"$f":"IF(E380=CC!$D$40,\"X\",\"\")","v":""},{"$f":"IF(E380=CC!$D$39,\"X\",\"\")","v":""},{"$f":"IF(E380=CC!$D$38,\"X\",\"\")","v":""},{"$f":"IF(E380=CC!$D$37,\"X\",\"\")","v":""},{"$f":"IF(E380=CC!$D$41,\"X\",\"\")","v":"X"},"NA",null,{"$f":"IF(L380=CC!$D$40,\"X\",\"\")","v":""},{"$f":"IF(L380=CC!$D$39,\"X\",\"\")","v":""},{"$f":"IF(L380=CC!$D$38,\"X\",\"\")","v":""},{"$f":"IF(L380=CC!$D$37,\"X\",\"\")","v":""},{"$f":"IF(L380=CC!$D$41,\"X\",\"\")","v":"X"},"NA",null,{"$f":"IF(S380=CC!$D$40,\"X\",\"\")","v":""},{"$f":"IF(S380=CC!$D$39,\"X\",\"\")","v":""},{"$f":"IF(S380=CC!$D$38,\"X\",\"\")","v":""},{"$f":"IF(S380=CC!$D$37,\"X\",\"\")","v":""},{"$f":"IF(S380=CC!$D$41,\"X\",\"\")","v":"X"},{"$f":"IF(G380=\"x\",4,IF(H380=\"x\",3,IF(I380=\"x\",2,IF(J380=\"x\",1,IF(K380=\"x\",\"NR\",\"\")))))","v":"NR"},{"$f":"IF(N380=\"x\",4,IF(O380=\"x\",3,IF(P380=\"x\",2,IF(Q380=\"x\",1,IF(R380=\"x\",\"NR\",\"\")))))","v":"NR"},{"$f":"IF(U380=\"x\",4,IF(V380=\"x\",3,IF(W380=\"x\",2,IF(X380=\"x\",1,IF(Y380=\"x\",\"NR\",\"\")))))","v":"NR"}]
[{"$f":"CC!$A$42","v":"CC2.3"},{"$f":"CC!$C$42","v":"Procedure and checks - work station cleanliness"},null,null,"NA",null,{"$f":"IF(E381=CC!$D$46,\"X\",\"\")","v":""},{"$f":"IF(E381=CC!$D$45,\"X\",\"\")","v":""},{"$f":"IF(E381=CC!$D$44,\"X\",\"\")","v":""},{"$f":"IF(E381=CC!$D$43,\"X\",\"\")","v":""},{"$f":"IF(E381=CC!$D$47,\"X\",\"\")","v":"X"},"NA",null,{"$f":"IF(L381=CC!$D$46,\"X\",\"\")","v":""},{"$f":"IF(L381=CC!$D$45,\"X\",\"\")","v":""},{"$f":"IF(L381=CC!$D$44,\"X\",\"\")","v":""},{"$f":"IF(L381=CC!$D$43,\"X\",\"\")","v":""},{"$f":"IF(L381=CC!$D$47,\"X\",\"\")","v":"X"},"NA",null,{"$f":"IF(S381=CC!$D$46,\"X\",\"\")","v":""},{"$f":"IF(S381=CC!$D$45,\"X\",\"\")","v":""},{"$f":"IF(S381=CC!$D$44,\"X\",\"\")","v":""},{"$f":"IF(S381=CC!$D$43,\"X\",\"\")","v":""},{"$f":"IF(S381=CC!$D$47,\"X\",\"\")","v":"X"},{"$f":"IF(G381=\"x\",4,IF(H381=\"x\",3,IF(I381=\"x\",2,IF(J381=\"x\",1,IF(K381=\"x\",\"NR\",\"\")))))","v":"NR"},{"$f":"IF(N381=\"x\",4,IF(O381=\"x\",3,IF(P381=\"x\",2,IF(Q381=\"x\",1,IF(R381=\"x\",\"NR\",\"\")))))","v":"NR"},{"$f":"IF(U381=\"x\",4,IF(V381=\"x\",3,IF(W381=\"x\",2,IF(X381=\"x\",1,IF(Y381=\"x\",\"NR\",\"\")))))","v":"NR"}]
[{"$f":"CC!$A$48","v":"CC2.4"},{"$f":"CC!$C$48","v":"Procedure and checks  - dunnage and part storage"},null,null,"NA",null,{"$f":"IF(E382=CC!$D$52,\"X\",\"\")","v":""},{"$f":"IF(E382=CC!$D$51,\"X\",\"\")","v":""},{"$f":"IF(E382=CC!$D$50,\"X\",\"\")","v":""},{"$f":"IF(E382=CC!$D$49,\"X\",\"\")","v":""},{"$f":"IF(E382=CC!$D$53,\"X\",\"\")","v":"X"},"NA",null,{"$f":"IF(L382=CC!$D$52,\"X\",\"\")","v":""},{"$f":"IF(L382=CC!$D$51,\"X\",\"\")","v":""},{"$f":"IF(L382=CC!$D$50,\"X\",\"\")","v":""},{"$f":"IF(L382=CC!$D$49,\"X\",\"\")","v":""},{"$f":"IF(L382=CC!$D$53,\"X\",\"\")","v":"X"},"NA",null,{"$f":"IF(S382=CC!$D$52,\"X\",\"\")","v":""},{"$f":"IF(S382=CC!$D$51,\"X\",\"\")","v":""},{"$f":"IF(S382=CC!$D$50,\"X\",\"\")","v":""},{"$f":"IF(S382=CC!$D$49,\"X\",\"\")","v":""},{"$f":"IF(S382=CC!$D$53,\"X\",\"\")","v":"X"},{"$f":"IF(G382=\"x\",4,IF(H382=\"x\",3,IF(I382=\"x\",2,IF(J382=\"x\",1,IF(K382=\"x\",\"NR\",\"\")))))","v":"NR"},{"$f":"IF(N382=\"x\",4,IF(O382=\"x\",3,IF(P382=\"x\",2,IF(Q382=\"x\",1,IF(R382=\"x\",\"NR\",\"\")))))","v":"NR"},{"$f":"IF(U382=\"x\",4,IF(V382=\"x\",3,IF(W382=\"x\",2,IF(X382=\"x\",1,IF(Y382=\"x\",\"NR\",\"\")))))","v":"NR"}]
[]
[{"$f":"CC!$A$54","v":"CC3.0"},{"$f":"CC!$B$54","v":"Clean room"}]
[{"$f":"CC!$A$55","v":"CC3.1"},{"$f":"CC!$C$55","v":"Clean room protective clothing defined"},null,null,"NA",null,{"$f":"IF(E385=CC!$D$59,\"X\",\"\")","v":""},{"$f":"IF(E385=CC!$D$58,\"X\",\"\")","v":""},{"$f":"IF(E385=CC!$D$57,\"X\",\"\")","v":""},{"$f":"IF(E385=CC!$D$56,\"X\",\"\")","v":""},{"$f":"IF(E385=CC!$D$60,\"X\",\"\")","v":"X"},"NA",null,{"$f":"IF(L385=CC!$D$59,\"X\",\"\")","v":""},{"$f":"IF(L385=CC!$D$58,\"X\",\"\")","v":""},{"$f":"IF(L385=CC!$D$57,\"X\",\"\")","v":""},{"$f":"IF(L385=CC!$D$56,\"X\",\"\")","v":""},{"$f":"IF(L385=CC!$D$60,\"X\",\"\")","v":"X"},"NA",null,{"$f":"IF(S385=CC!$D$59,\"X\",\"\")","v":""},{"$f":"IF(S385=CC!$D$58,\"X\",\"\")","v":""},{"$f":"IF(S385=CC!$D$57,\"X\",\"\")","v":""},{"$f":"IF(S385=CC!$D$56,\"X\",\"\")","v":""},{"$f":"IF(S385=CC!$D$60,\"X\",\"\")","v":"X"},{"$f":"IF(G385=\"x\",4,IF(H385=\"x\",3,IF(I385=\"x\",2,IF(J385=\"x\",1,IF(K385=\"x\",\"NR\",\"\")))))","v":"NR"},{"$f":"IF(N385=\"x\",4,IF(O385=\"x\",3,IF(P385=\"x\",2,IF(Q385=\"x\",1,IF(R385=\"x\",\"NR\",\"\")))))","v":"NR"},{"$f":"IF(U385=\"x\",4,IF(V385=\"x\",3,IF(W385=\"x\",2,IF(X385=\"x\",1,IF(Y385=\"x\",\"NR\",\"\")))))","v":"NR"},{"$f":"SUM(Z385:Z388)","v":0},{"$f":"SUM(AA385:AA388)","v":0},{"$f":"SUM(AB385:AB388)","v":0}]
[{"$f":"CC!$A$61","v":"CC3.2"},{"$f":"CC!$C$61","v":"Positive pressure to stop outside air/contaminants"},null,null,"NA",null,{"$f":"IF(E386=CC!$D$65,\"X\",\"\")","v":""},{"$f":"IF(E386=CC!$D$64,\"X\",\"\")","v":""},{"$f":"IF(E386=CC!$D$63,\"X\",\"\")","v":""},{"$f":"IF(E386=CC!$D$62,\"X\",\"\")","v":""},{"$f":"IF(E386=CC!$D$66,\"X\",\"\")","v":"X"},"NA",null,{"$f":"IF(L386=CC!$D$65,\"X\",\"\")","v":""},{"$f":"IF(L386=CC!$D$64,\"X\",\"\")","v":""},{"$f":"IF(L386=CC!$D$63,\"X\",\"\")","v":""},{"$f":"IF(L386=CC!$D$62,\"X\",\"\")","v":""},{"$f":"IF(L386=CC!$D$66,\"X\",\"\")","v":"X"},"NA",null,{"$f":"IF(S386=CC!$D$65,\"X\",\"\")","v":""},{"$f":"IF(S386=CC!$D$64,\"X\",\"\")","v":""},{"$f":"IF(S386=CC!$D$63,\"X\",\"\")","v":""},{"$f":"IF(S386=CC!$D$62,\"X\",\"\")","v":""},{"$f":"IF(S386=CC!$D$66,\"X\",\"\")","v":"X"},{"$f":"IF(G386=\"x\",4,IF(H386=\"x\",3,IF(I386=\"x\",2,IF(J386=\"x\",1,IF(K386=\"x\",\"NR\",\"\")))))","v":"NR"},{"$f":"IF(N386=\"x\",4,IF(O386=\"x\",3,IF(P386=\"x\",2,IF(Q386=\"x\",1,IF(R386=\"x\",\"NR\",\"\")))))","v":"NR"},{"$f":"IF(U386=\"x\",4,IF(V386=\"x\",3,IF(W386=\"x\",2,IF(X386=\"x\",1,IF(Y386=\"x\",\"NR\",\"\")))))","v":"NR"}]
[{"$f":"CC!$A$67","v":"CC3.3"},{"$f":"CC!$C$67","v":"Sources of dirt and foreign material is considered in PFMEA"},null,null,"NA",null,{"$f":"IF(E387=CC!$D$71,\"X\",\"\")","v":""},{"$f":"IF(E387=CC!$D$70,\"X\",\"\")","v":""},{"$f":"IF(E387=CC!$D$69,\"X\",\"\")","v":""},{"$f":"IF(E387=CC!$D$68,\"X\",\"\")","v":""},{"$f":"IF(E387=CC!$D$72,\"X\",\"\")","v":"X"},"NA",null,{"$f":"IF(L387=CC!$D$71,\"X\",\"\")","v":""},{"$f":"IF(L387=CC!$D$70,\"X\",\"\")","v":""},{"$f":"IF(L387=CC!$D$69,\"X\",\"\")","v":""},{"$f":"IF(L387=CC!$D$68,\"X\",\"\")","v":""},{"$f":"IF(L387=CC!$D$72,\"X\",\"\")","v":"X"},"NA",null,{"$f":"IF(S387=CC!$D$71,\"X\",\"\")","v":""},{"$f":"IF(S387=CC!$D$70,\"X\",\"\")","v":""},{"$f":"IF(S387=CC!$D$69,\"X\",\"\")","v":""},{"$f":"IF(S387=CC!$D$68,\"X\",\"\")","v":""},{"$f":"IF(S387=CC!$D$72,\"X\",\"\")","v":"X"},{"$f":"IF(G387=\"x\",4,IF(H387=\"x\",3,IF(I387=\"x\",2,IF(J387=\"x\",1,IF(K387=\"x\",\"NR\",\"\")))))","v":"NR"},{"$f":"IF(N387=\"x\",4,IF(O387=\"x\",3,IF(P387=\"x\",2,IF(Q387=\"x\",1,IF(R387=\"x\",\"NR\",\"\")))))","v":"NR"},{"$f":"IF(U387=\"x\",4,IF(V387=\"x\",3,IF(W387=\"x\",2,IF(X387=\"x\",1,IF(Y387=\"x\",\"NR\",\"\")))))","v":"NR"}]
[{"$f":"CC!$A$73","v":"CC3.4"},{"$f":"CC!$C$73","v":"Methods developed to prevent contamination"},null,null,"NA",null,{"$f":"IF(E388=CC!$D$77,\"X\",\"\")","v":""},{"$f":"IF(E388=CC!$D$76,\"X\",\"\")","v":""},{"$f":"IF(E388=CC!$D$75,\"X\",\"\")","v":""},{"$f":"IF(E388=CC!$D$74,\"X\",\"\")","v":""},{"$f":"IF(E388=CC!$D$78,\"X\",\"\")","v":"X"},"NA",null,{"$f":"IF(L388=CC!$D$77,\"X\",\"\")","v":""},{"$f":"IF(L388=CC!$D$76,\"X\",\"\")","v":""},{"$f":"IF(L388=CC!$D$75,\"X\",\"\")","v":""},{"$f":"IF(L388=CC!$D$74,\"X\",\"\")","v":""},{"$f":"IF(L388=CC!$D$78,\"X\",\"\")","v":"X"},"NA",null,{"$f":"IF(S388=CC!$D$77,\"X\",\"\")","v":""},{"$f":"IF(S388=CC!$D$76,\"X\",\"\")","v":""},{"$f":"IF(S388=CC!$D$75,\"X\",\"\")","v":""},{"$f":"IF(S388=CC!$D$74,\"X\",\"\")","v":""},{"$f":"IF(S388=CC!$D$78,\"X\",\"\")","v":"X"},{"$f":"IF(G388=\"x\",4,IF(H388=\"x\",3,IF(I388=\"x\",2,IF(J388=\"x\",1,IF(K388=\"x\",\"NR\",\"\")))))","v":"NR"},{"$f":"IF(N388=\"x\",4,IF(O388=\"x\",3,IF(P388=\"x\",2,IF(Q388=\"x\",1,IF(R388=\"x\",\"NR\",\"\")))))","v":"NR"},{"$f":"IF(U388=\"x\",4,IF(V388=\"x\",3,IF(W388=\"x\",2,IF(X388=\"x\",1,IF(Y388=\"x\",\"NR\",\"\")))))","v":"NR"}]
[]
[{"$f":"CC!$A$79","v":"CCE"},{"$f":"CC!$B$79","v":"Targets are defined for contamination reduction activity"}]
[{"$f":"CC!$A$80","v":"CCE.1"},{"$f":"CC!$C$80","v":"Sediment result monitored, reduction plan defined"},null,null,"NA",null,{"$f":"IF(E391=CC!$D$84,\"X\",\"\")","v":""},{"$f":"IF(E391=CC!$D$83,\"X\",\"\")","v":""},{"$f":"IF(E391=CC!$D$82,\"X\",\"\")","v":""},{"$f":"IF(E391=CC!$D$81,\"X\",\"\")","v":""},{"$f":"IF(E391=CC!$D$85,\"X\",\"\")","v":"X"},"NA",null,{"$f":"IF(L391=CC!$D$84,\"X\",\"\")","v":""},{"$f":"IF(L391=CC!$D$83,\"X\",\"\")","v":""},{"$f":"IF(L391=CC!$D$82,\"X\",\"\")","v":""},{"$f":"IF(L391=CC!$D$81,\"X\",\"\")","v":""},{"$f":"IF(L391=CC!$D$85,\"X\",\"\")","v":"X"},"NA",null,{"$f":"IF(S391=CC!$D$84,\"X\",\"\")","v":""},{"$f":"IF(S391=CC!$D$83,\"X\",\"\")","v":""},{"$f":"IF(S391=CC!$D$82,\"X\",\"\")","v":""},{"$f":"IF(S391=CC!$D$81,\"X\",\"\")","v":""},{"$f":"IF(S391=CC!$D$85,\"X\",\"\")","v":"X"},{"$f":"IF(G391=\"x\",4,IF(H391=\"x\",3,IF(I391=\"x\",2,IF(J391=\"x\",1,IF(K391=\"x\",\"NR\",\"\")))))","v":"NR"},{"$f":"IF(N391=\"x\",4,IF(O391=\"x\",3,IF(P391=\"x\",2,IF(Q391=\"x\",1,IF(R391=\"x\",\"NR\",\"\")))))","v":"NR"},{"$f":"IF(U391=\"x\",4,IF(V391=\"x\",3,IF(W391=\"x\",2,IF(X391=\"x\",1,IF(Y391=\"x\",\"NR\",\"\")))))","v":"NR"},{"$f":"SUM(Z391)","v":0},{"$f":"SUM(AA391)","v":0},{"$f":"SUM(AB391)","v":0}]
[]
[null,null,null,null,null,null,null,null,null,null,null,null,null,null,null,null,null,null,null,null,null,null,null,null,null,"Total",null,null,{"$f":"(AC373+AC379+AC385+AC391)","v":0},{"$f":"(AD385+AD379+AD373+AD391)","v":0},{"$f":"(AE385+AE379+AE373+AE391)","v":0}]
[null,null,null,null,null,null,null,null,null,null,null," "," "," "," "," "," "," ",null," "," "," "," "," "," ","Potential",null,null,{"$f":"COUNT(Z373:Z391)*4","v":0},{"$f":"COUNT(AA373:AA391)*4","v":0},{"$f":"COUNT(AB373:AB391)*4","v":0}]
[null,null,null,null,null,null,null,null,null,null,null,null,null,null,null,null,null,null,null,null,null,null,null,null,null,"Total Score",null,null,{"$f":"IF(AC394<>0,AC393/AC394,\"NR\")","v":"NR"},{"$f":"IF(AD394<>0,AD393/AD394,\"NR\")","v":"NR"},{"$f":"IF(AE394<>0,AE393/AE394,\"NR\")","v":"NR"}]
[]
[]
[" ",{"$f":"MM!B2","v":"Manufacturing & Material Flow "},null,null,"Build up Score Assessment"," ","Build up Scoring",null,null,null,null,"Build up Score Assessment"," ","Build up Scoring",null,null,null,null,"Build up Score Assessment"," ","Build up Scoring",null,null,null,null,null,null,null,"Sub Element Score"]
[{"$f":"MM!$A$4","v":"MM1.0"},{"$f":"MM!$B$4","v":"Manufacturing planning & scheduling"},null,"Sub-Element",null,null,4,3,2,1,"NR",null,null,4,3,2,1,"NR",null,null,4,3,2,1,"NR","Self","Onsite","Current","Self","Onsite","Current","Procedures","Findings","Comments"]
[{"$f":"MM!$A$5","v":"MM1.1"},{"$f":"MM!$C$5","v":"Sales and Operating plan is reviewed regularly"},null,null,"NA",null,{"$f":"IF(E400=MM!$D$9,\"X\",\"\")","v":""},{"$f":"IF(E400=MM!$D$8,\"X\",\"\")","v":""},{"$f":"IF(E400=MM!$D$7,\"X\",\"\")","v":""},{"$f":"IF(E400=MM!$D$6,\"X\",\"\")","v":""},{"$f":"IF(E400=MM!$D$10,\"X\",\"\")","v":"X"},"NA",null,{"$f":"IF(L400=MM!$D$9,\"X\",\"\")","v":""},{"$f":"IF(L400=MM!$D$8,\"X\",\"\")","v":""},{"$f":"IF(L400=MM!$D$7,\"X\",\"\")","v":""},{"$f":"IF(L400=MM!$D$6,\"X\",\"\")","v":""},{"$f":"IF(L400=MM!$D$10,\"X\",\"\")","v":"X"},"NA",null,{"$f":"IF(S400=MM!$D$9,\"X\",\"\")","v":""},{"$f":"IF(S400=MM!$D$8,\"X\",\"\")","v":""},{"$f":"IF(S400=MM!$D$7,\"X\",\"\")","v":""},{"$f":"IF(S400=MM!$D$6,\"X\",\"\")","v":""},{"$f":"IF(S400=MM!$D$10,\"X\",\"\")","v":"X"},{"$f":"IF(G400=\"x\",4,IF(H400=\"x\",3,IF(I400=\"x\",2,IF(J400=\"x\",1,IF(K400=\"x\",\"NR\",\"\")))))","v":"NR"},{"$f":"IF(N400=\"x\",4,IF(O400=\"x\",3,IF(P400=\"x\",2,IF(Q400=\"x\",1,IF(R400=\"x\",\"NR\",\"\")))))","v":"NR"},{"$f":"IF(U400=\"x\",4,IF(V400=\"x\",3,IF(W400=\"x\",2,IF(X400=\"x\",1,IF(Y400=\"x\",\"NR\",\"\")))))","v":"NR"},{"$f":"SUM(Z400:Z403)","v":0},{"$f":"SUM(AA400:AA403)","v":0},{"$f":"SUM(AB400:AB403)","v":0}]
[{"$f":"MM!$A$11","v":"MM1.2"},{"$f":"MM!$C$11","v":"Master production schedule (MPS) provides a forecast of the customer requirement"},null,null,"NA",null,{"$f":"IF(E401=MM!$D$15,\"X\",\"\")","v":""},{"$f":"IF(E401=MM!$D$14,\"X\",\"\")","v":""},{"$f":"IF(E401=MM!$D$13,\"X\",\"\")","v":""},{"$f":"IF(E401=MM!$D$12,\"X\",\"\")","v":""},{"$f":"IF(E401=MM!$D$16,\"X\",\"\")","v":"X"},"NA",null,{"$f":"IF(L401=MM!$D$15,\"X\",\"\")","v":""},{"$f":"IF(L401=MM!$D$14,\"X\",\"\")","v":""},{"$f":"IF(L401=MM!$D$13,\"X\",\"\")","v":""},{"$f":"IF(L401=MM!$D$12,\"X\",\"\")","v":""},{"$f":"IF(L401=MM!$D$16,\"X\",\"\")","v":"X"},"NA",null,{"$f":"IF(S401=MM!$D$15,\"X\",\"\")","v":""},{"$f":"IF(S401=MM!$D$14,\"X\",\"\")","v":""},{"$f":"IF(S401=MM!$D$13,\"X\",\"\")","v":""},{"$f":"IF(S401=MM!$D$12,\"X\",\"\")","v":""},{"$f":"IF(S401=MM!$D$16,\"X\",\"\")","v":"X"},{"$f":"IF(G401=\"x\",4,IF(H401=\"x\",3,IF(I401=\"x\",2,IF(J401=\"x\",1,IF(K401=\"x\",\"NR\",\"\")))))","v":"NR"},{"$f":"IF(N401=\"x\",4,IF(O401=\"x\",3,IF(P401=\"x\",2,IF(Q401=\"x\",1,IF(R401=\"x\",\"NR\",\"\")))))","v":"NR"},{"$f":"IF(U401=\"x\",4,IF(V401=\"x\",3,IF(W401=\"x\",2,IF(X401=\"x\",1,IF(Y401=\"x\",\"NR\",\"\")))))","v":"NR"}]
[{"$f":"MM!$A$17","v":"MM1.3"},{"$f":"MM!$C$17","v":"MPS is reviewed regularly"},null,null,"NA",null,{"$f":"IF(E402=MM!$D$21,\"X\",\"\")","v":""},{"$f":"IF(E402=MM!$D$20,\"X\",\"\")","v":""},{"$f":"IF(E402=MM!$D$19,\"X\",\"\")","v":""},{"$f":"IF(E402=MM!$D$18,\"X\",\"\")","v":""},{"$f":"IF(E402=MM!$D$22,\"X\",\"\")","v":"X"},"NA",null,{"$f":"IF(L402=MM!$D$21,\"X\",\"\")","v":""},{"$f":"IF(L402=MM!$D$20,\"X\",\"\")","v":""},{"$f":"IF(L402=MM!$D$19,\"X\",\"\")","v":""},{"$f":"IF(L402=MM!$D$18,\"X\",\"\")","v":""},{"$f":"IF(L402=MM!$D$22,\"X\",\"\")","v":"X"},"NA",null,{"$f":"IF(S402=MM!$D$21,\"X\",\"\")","v":""},{"$f":"IF(S402=MM!$D$20,\"X\",\"\")","v":""},{"$f":"IF(S402=MM!$D$19,\"X\",\"\")","v":""},{"$f":"IF(S402=MM!$D$18,\"X\",\"\")","v":""},{"$f":"IF(S402=MM!$D$22,\"X\",\"\")","v":"X"},{"$f":"IF(G402=\"x\",4,IF(H402=\"x\",3,IF(I402=\"x\",2,IF(J402=\"x\",1,IF(K402=\"x\",\"NR\",\"\")))))","v":"NR"},{"$f":"IF(N402=\"x\",4,IF(O402=\"x\",3,IF(P402=\"x\",2,IF(Q402=\"x\",1,IF(R402=\"x\",\"NR\",\"\")))))","v":"NR"},{"$f":"IF(U402=\"x\",4,IF(V402=\"x\",3,IF(W402=\"x\",2,IF(X402=\"x\",1,IF(Y402=\"x\",\"NR\",\"\")))))","v":"NR"}]
[{"$f":"MM!$A$23","v":"MM1.4"},{"$f":"MM!$C$23","v":"Deviations are reviewed daily"},null,null,"NA",null,{"$f":"IF(E403=MM!$D$27,\"X\",\"\")","v":""},{"$f":"IF(E403=MM!$D$26,\"X\",\"\")","v":""},{"$f":"IF(E403=MM!$D$25,\"X\",\"\")","v":""},{"$f":"IF(E403=MM!$D$24,\"X\",\"\")","v":""},{"$f":"IF(E403=MM!$D$28,\"X\",\"\")","v":"X"},"NA",null,{"$f":"IF(L403=MM!$D$27,\"X\",\"\")","v":""},{"$f":"IF(L403=MM!$D$26,\"X\",\"\")","v":""},{"$f":"IF(L403=MM!$D$25,\"X\",\"\")","v":""},{"$f":"IF(L403=MM!$D$24,\"X\",\"\")","v":""},{"$f":"IF(L403=MM!$D$28,\"X\",\"\")","v":"X"},"NA",null,{"$f":"IF(S403=MM!$D$27,\"X\",\"\")","v":""},{"$f":"IF(S403=MM!$D$26,\"X\",\"\")","v":""},{"$f":"IF(S403=MM!$D$25,\"X\",\"\")","v":""},{"$f":"IF(S403=MM!$D$24,\"X\",\"\")","v":""},{"$f":"IF(S403=MM!$D$28,\"X\",\"\")","v":"X"},{"$f":"IF(G403=\"x\",4,IF(H403=\"x\",3,IF(I403=\"x\",2,IF(J403=\"x\",1,IF(K403=\"x\",\"NR\",\"\")))))","v":"NR"},{"$f":"IF(N403=\"x\",4,IF(O403=\"x\",3,IF(P403=\"x\",2,IF(Q403=\"x\",1,IF(R403=\"x\",\"NR\",\"\")))))","v":"NR"},{"$f":"IF(U403=\"x\",4,IF(V403=\"x\",3,IF(W403=\"x\",2,IF(X403=\"x\",1,IF(Y403=\"x\",\"NR\",\"\")))))","v":"NR"}]
[]
[{"$f":"MM!$A$29","v":"MM2.0"},{"$f":"MM!$B$29","v":"Storage controls"}]
[{"$f":"MM!$A$30","v":"MM2.1"},{"$f":"MM!$C$30","v":"Controlled storage conditions"},null,null,"NA",null,{"$f":"IF(E406=MM!$D$34,\"X\",\"\")","v":""},{"$f":"IF(E406=MM!$D$33,\"X\",\"\")","v":""},{"$f":"IF(E406=MM!$D$32,\"X\",\"\")","v":""},{"$f":"IF(E406=MM!$D$31,\"X\",\"\")","v":""},{"$f":"IF(E406=MM!$D$35,\"X\",\"\")","v":"X"},"NA",null,{"$f":"IF(L406=MM!$D$34,\"X\",\"\")","v":""},{"$f":"IF(L406=MM!$D$33,\"X\",\"\")","v":""},{"$f":"IF(L406=MM!$D$32,\"X\",\"\")","v":""},{"$f":"IF(L406=MM!$D$31,\"X\",\"\")","v":""},{"$f":"IF(L406=MM!$D$35,\"X\",\"\")","v":"X"},"NA",null,{"$f":"IF(S406=MM!$D$34,\"X\",\"\")","v":""},{"$f":"IF(S406=MM!$D$33,\"X\",\"\")","v":""},{"$f":"IF(S406=MM!$D$32,\"X\",\"\")","v":""},{"$f":"IF(S406=MM!$D$31,\"X\",\"\")","v":""},{"$f":"IF(S406=MM!$D$35,\"X\",\"\")","v":"X"},{"$f":"IF(G406=\"x\",4,IF(H406=\"x\",3,IF(I406=\"x\",2,IF(J406=\"x\",1,IF(K406=\"x\",\"NR\",\"\")))))","v":"NR"},{"$f":"IF(N406=\"x\",4,IF(O406=\"x\",3,IF(P406=\"x\",2,IF(Q406=\"x\",1,IF(R406=\"x\",\"NR\",\"\")))))","v":"NR"},{"$f":"IF(U406=\"x\",4,IF(V406=\"x\",3,IF(W406=\"x\",2,IF(X406=\"x\",1,IF(Y406=\"x\",\"NR\",\"\")))))","v":"NR"},{"$f":"SUM(Z406:Z409)","v":0},{"$f":"SUM(AA406:AA409)","v":0},{"$f":"SUM(AB406:AB409)","v":0}]
[{"$f":"MM!$A$36","v":"MM2.2"},{"$f":"MM!$C$36","v":"Stock management system"},null,null,"NA",null,{"$f":"IF(E407=MM!$D$40,\"X\",\"\")","v":""},{"$f":"IF(E407=MM!$D$39,\"X\",\"\")","v":""},{"$f":"IF(E407=MM!$D$38,\"X\",\"\")","v":""},{"$f":"IF(E407=MM!$D$37,\"X\",\"\")","v":""},{"$f":"IF(E407=MM!$D$41,\"X\",\"\")","v":"X"},"NA",null,{"$f":"IF(L407=MM!$D$40,\"X\",\"\")","v":""},{"$f":"IF(L407=MM!$D$39,\"X\",\"\")","v":""},{"$f":"IF(L407=MM!$D$38,\"X\",\"\")","v":""},{"$f":"IF(L407=MM!$D$37,\"X\",\"\")","v":""},{"$f":"IF(L407=MM!$D$41,\"X\",\"\")","v":"X"},"NA",null,{"$f":"IF(S407=MM!$D$40,\"X\",\"\")","v":""},{"$f":"IF(S407=MM!$D$39,\"X\",\"\")","v":""},{"$f":"IF(S407=MM!$D$38,\"X\",\"\")","v":""},{"$f":"IF(S407=MM!$D$37,\"X\",\"\")","v":""},{"$f":"IF(S407=MM!$D$41,\"X\",\"\")","v":"X"},{"$f":"IF(G407=\"x\",4,IF(H407=\"x\",3,IF(I407=\"x\",2,IF(J407=\"x\",1,IF(K407=\"x\",\"NR\",\"\")))))","v":"NR"},{"$f":"IF(N407=\"x\",4,IF(O407=\"x\",3,IF(P407=\"x\",2,IF(Q407=\"x\",1,IF(R407=\"x\",\"NR\",\"\")))))","v":"NR"},{"$f":"IF(U407=\"x\",4,IF(V407=\"x\",3,IF(W407=\"x\",2,IF(X407=\"x\",1,IF(Y407=\"x\",\"NR\",\"\")))))","v":"NR"}]
[{"$f":"MM!$A$42","v":"MM2.3"},{"$f":"MM!$C$42","v":"FIFO"},null,null,"NA",null,{"$f":"IF(E408=MM!$D$46,\"X\",\"\")","v":""},{"$f":"IF(E408=MM!$D$45,\"X\",\"\")","v":""},{"$f":"IF(E408=MM!$D$44,\"X\",\"\")","v":""},{"$f":"IF(E408=MM!$D$43,\"X\",\"\")","v":""},{"$f":"IF(E408=MM!$D$47,\"X\",\"\")","v":"X"},"NA",null,{"$f":"IF(L408=MM!$D$46,\"X\",\"\")","v":""},{"$f":"IF(L408=MM!$D$45,\"X\",\"\")","v":""},{"$f":"IF(L408=MM!$D$44,\"X\",\"\")","v":""},{"$f":"IF(L408=MM!$D$43,\"X\",\"\")","v":""},{"$f":"IF(L408=MM!$D$47,\"X\",\"\")","v":"X"},"NA",null,{"$f":"IF(S408=MM!$D$46,\"X\",\"\")","v":""},{"$f":"IF(S408=MM!$D$45,\"X\",\"\")","v":""},{"$f":"IF(S408=MM!$D$44,\"X\",\"\")","v":""},{"$f":"IF(S408=MM!$D$43,\"X\",\"\")","v":""},{"$f":"IF(S408=MM!$D$47,\"X\",\"\")","v":"X"},{"$f":"IF(G408=\"x\",4,IF(H408=\"x\",3,IF(I408=\"x\",2,IF(J408=\"x\",1,IF(K408=\"x\",\"NR\",\"\")))))","v":"NR"},{"$f":"IF(N408=\"x\",4,IF(O408=\"x\",3,IF(P408=\"x\",2,IF(Q408=\"x\",1,IF(R408=\"x\",\"NR\",\"\")))))","v":"NR"},{"$f":"IF(U408=\"x\",4,IF(V408=\"x\",3,IF(W408=\"x\",2,IF(X408=\"x\",1,IF(Y408=\"x\",\"NR\",\"\")))))","v":"NR"}]
[{"$f":"MM!$A$48","v":"MM2.4"},{"$f":"MM!$C$48","v":"Inventory control"},null,null,"NA",null,{"$f":"IF(E409=MM!$D$52,\"X\",\"\")","v":""},{"$f":"IF(E409=MM!$D$51,\"X\",\"\")","v":""},{"$f":"IF(E409=MM!$D$50,\"X\",\"\")","v":""},{"$f":"IF(E409=MM!$D$49,\"X\",\"\")","v":""},{"$f":"IF(E409=MM!$D$53,\"X\",\"\")","v":"X"},"NA",null,{"$f":"IF(L409=MM!$D$52,\"X\",\"\")","v":""},{"$f":"IF(L409=MM!$D$51,\"X\",\"\")","v":""},{"$f":"IF(L409=MM!$D$50,\"X\",\"\")","v":""},{"$f":"IF(L409=MM!$D$49,\"X\",\"\")","v":""},{"$f":"IF(L409=MM!$D$53,\"X\",\"\")","v":"X"},"NA",null,{"$f":"IF(S409=MM!$D$52,\"X\",\"\")","v":""},{"$f":"IF(S409=MM!$D$51,\"X\",\"\")","v":""},{"$f":"IF(S409=MM!$D$50,\"X\",\"\")","v":""},{"$f":"IF(S409=MM!$D$49,\"X\",\"\")","v":""},{"$f":"IF(S409=MM!$D$53,\"X\",\"\")","v":"X"},{"$f":"IF(G409=\"x\",4,IF(H409=\"x\",3,IF(I409=\"x\",2,IF(J409=\"x\",1,IF(K409=\"x\",\"NR\",\"\")))))","v":"NR"},{"$f":"IF(N409=\"x\",4,IF(O409=\"x\",3,IF(P409=\"x\",2,IF(Q409=\"x\",1,IF(R409=\"x\",\"NR\",\"\")))))","v":"NR"},{"$f":"IF(U409=\"x\",4,IF(V409=\"x\",3,IF(W409=\"x\",2,IF(X409=\"x\",1,IF(Y409=\"x\",\"NR\",\"\")))))","v":"NR"}]
[]
[{"$f":"MM!$A$54","v":"MM3.0"},{"$f":"MM!$B$54","v":"Product Storage & Packaging"}]
[{"$f":"MM!$A$55","v":"MM3.1"},{"$f":"MM!$C$55","v":"Loops and flow are organized"},null,null,"NA",null,{"$f":"IF(E412=MM!$D$59,\"X\",\"\")","v":""},{"$f":"IF(E412=MM!$D$58,\"X\",\"\")","v":""},{"$f":"IF(E412=MM!$D$57,\"X\",\"\")","v":""},{"$f":"IF(E412=MM!$D$56,\"X\",\"\")","v":""},{"$f":"IF(E412=MM!$D$60,\"X\",\"\")","v":"X"},"NA",null,{"$f":"IF(L412=MM!$D$59,\"X\",\"\")","v":""},{"$f":"IF(L412=MM!$D$58,\"X\",\"\")","v":""},{"$f":"IF(L412=MM!$D$57,\"X\",\"\")","v":""},{"$f":"IF(L412=MM!$D$56,\"X\",\"\")","v":""},{"$f":"IF(L412=MM!$D$60,\"X\",\"\")","v":"X"},"NA",null,{"$f":"IF(S412=MM!$D$59,\"X\",\"\")","v":""},{"$f":"IF(S412=MM!$D$58,\"X\",\"\")","v":""},{"$f":"IF(S412=MM!$D$57,\"X\",\"\")","v":""},{"$f":"IF(S412=MM!$D$56,\"X\",\"\")","v":""},{"$f":"IF(S412=MM!$D$60,\"X\",\"\")","v":"X"},{"$f":"IF(G412=\"x\",4,IF(H412=\"x\",3,IF(I412=\"x\",2,IF(J412=\"x\",1,IF(K412=\"x\",\"NR\",\"\")))))","v":"NR"},{"$f":"IF(N412=\"x\",4,IF(O412=\"x\",3,IF(P412=\"x\",2,IF(Q412=\"x\",1,IF(R412=\"x\",\"NR\",\"\")))))","v":"NR"},{"$f":"IF(U412=\"x\",4,IF(V412=\"x\",3,IF(W412=\"x\",2,IF(X412=\"x\",1,IF(Y412=\"x\",\"NR\",\"\")))))","v":"NR"},{"$f":"SUM(Z412:Z415)","v":0},{"$f":"SUM(AA412:AA415)","v":0},{"$f":"SUM(AB412:AB415)","v":0}]
[{"$f":"MM!$A$61","v":"MM3.2"},{"$f":"MM!$C$61","v":"Package quality"},null,null,"NA",null,{"$f":"IF(E413=MM!$D$65,\"X\",\"\")","v":""},{"$f":"IF(E413=MM!$D$64,\"X\",\"\")","v":""},{"$f":"IF(E413=MM!$D$63,\"X\",\"\")","v":""},{"$f":"IF(E413=MM!$D$62,\"X\",\"\")","v":""},{"$f":"IF(E413=MM!$D$66,\"X\",\"\")","v":"X"},"NA",null,{"$f":"IF(L413=MM!$D$65,\"X\",\"\")","v":""},{"$f":"IF(L413=MM!$D$64,\"X\",\"\")","v":""},{"$f":"IF(L413=MM!$D$63,\"X\",\"\")","v":""},{"$f":"IF(L413=MM!$D$62,\"X\",\"\")","v":""},{"$f":"IF(L413=MM!$D$66,\"X\",\"\")","v":"X"},"NA",null,{"$f":"IF(S413=MM!$D$65,\"X\",\"\")","v":""},{"$f":"IF(S413=MM!$D$64,\"X\",\"\")","v":""},{"$f":"IF(S413=MM!$D$63,\"X\",\"\")","v":""},{"$f":"IF(S413=MM!$D$62,\"X\",\"\")","v":""},{"$f":"IF(S413=MM!$D$66,\"X\",\"\")","v":"X"},{"$f":"IF(G413=\"x\",4,IF(H413=\"x\",3,IF(I413=\"x\",2,IF(J413=\"x\",1,IF(K413=\"x\",\"NR\",\"\")))))","v":"NR"},{"$f":"IF(N413=\"x\",4,IF(O413=\"x\",3,IF(P413=\"x\",2,IF(Q413=\"x\",1,IF(R413=\"x\",\"NR\",\"\")))))","v":"NR"},{"$f":"IF(U413=\"x\",4,IF(V413=\"x\",3,IF(W413=\"x\",2,IF(X413=\"x\",1,IF(Y413=\"x\",\"NR\",\"\")))))","v":"NR"}]
[{"$f":"MM!$A$67","v":"MM3.3"},{"$f":"MM!$C$67","v":"Storage areas are identified and organized"},null,null,"NA",null,{"$f":"IF(E414=MM!$D$71,\"X\",\"\")","v":""},{"$f":"IF(E414=MM!$D$70,\"X\",\"\")","v":""},{"$f":"IF(E414=MM!$D$69,\"X\",\"\")","v":""},{"$f":"IF(E414=MM!$D$68,\"X\",\"\")","v":""},{"$f":"IF(E414=MM!$D$72,\"X\",\"\")","v":"X"},"NA",null,{"$f":"IF(L414=MM!$D$71,\"X\",\"\")","v":""},{"$f":"IF(L414=MM!$D$70,\"X\",\"\")","v":""},{"$f":"IF(L414=MM!$D$69,\"X\",\"\")","v":""},{"$f":"IF(L414=MM!$D$68,\"X\",\"\")","v":""},{"$f":"IF(L414=MM!$D$72,\"X\",\"\")","v":"X"},"NA",null,{"$f":"IF(S414=MM!$D$71,\"X\",\"\")","v":""},{"$f":"IF(S414=MM!$D$70,\"X\",\"\")","v":""},{"$f":"IF(S414=MM!$D$69,\"X\",\"\")","v":""},{"$f":"IF(S414=MM!$D$68,\"X\",\"\")","v":""},{"$f":"IF(S414=MM!$D$72,\"X\",\"\")","v":"X"},{"$f":"IF(G414=\"x\",4,IF(H414=\"x\",3,IF(I414=\"x\",2,IF(J414=\"x\",1,IF(K414=\"x\",\"NR\",\"\")))))","v":"NR"},{"$f":"IF(N414=\"x\",4,IF(O414=\"x\",3,IF(P414=\"x\",2,IF(Q414=\"x\",1,IF(R414=\"x\",\"NR\",\"\")))))","v":"NR"},{"$f":"IF(U414=\"x\",4,IF(V414=\"x\",3,IF(W414=\"x\",2,IF(X414=\"x\",1,IF(Y414=\"x\",\"NR\",\"\")))))","v":"NR"}]
[{"$f":"MM!$A$73","v":"MM3.4"},{"$f":"MM!$C$73","v":"Potential failure modes"},null,null,"NA",null,{"$f":"IF(E415=MM!$D$77,\"X\",\"\")","v":""},{"$f":"IF(E415=MM!$D$76,\"X\",\"\")","v":""},{"$f":"IF(E415=MM!$D$75,\"X\",\"\")","v":""},{"$f":"IF(E415=MM!$D$74,\"X\",\"\")","v":""},{"$f":"IF(E415=MM!$D$78,\"X\",\"\")","v":"X"},"NA",null,{"$f":"IF(L415=MM!$D$77,\"X\",\"\")","v":""},{"$f":"IF(L415=MM!$D$76,\"X\",\"\")","v":""},{"$f":"IF(L415=MM!$D$75,\"X\",\"\")","v":""},{"$f":"IF(L415=MM!$D$74,\"X\",\"\")","v":""},{"$f":"IF(L415=MM!$D$78,\"X\",\"\")","v":"X"},"NA",null,{"$f":"IF(S415=MM!$D$77,\"X\",\"\")","v":""},{"$f":"IF(S415=MM!$D$76,\"X\",\"\")","v":""},{"$f":"IF(S415=MM!$D$75,\"X\",\"\")","v":""},{"$f":"IF(S415=MM!$D$74,\"X\",\"\")","v":""},{"$f":"IF(S415=MM!$D$78,\"X\",\"\")","v":"X"},{"$f":"IF(G415=\"x\",4,IF(H415=\"x\",3,IF(I415=\"x\",2,IF(J415=\"x\",1,IF(K415=\"x\",\"NR\",\"\")))))","v":"NR"},{"$f":"IF(N415=\"x\",4,IF(O415=\"x\",3,IF(P415=\"x\",2,IF(Q415=\"x\",1,IF(R415=\"x\",\"NR\",\"\")))))","v":"NR"},{"$f":"IF(U415=\"x\",4,IF(V415=\"x\",3,IF(W415=\"x\",2,IF(X415=\"x\",1,IF(Y415=\"x\",\"NR\",\"\")))))","v":"NR"}]
[]
[{"$f":"MM!$A$79","v":"MME"},{"$f":"MM!$B$79","v":"Indicators are defined and tracked to ensure effectiveness of material flow management"}]
[{"$f":"MM!$A$80","v":"MME.1"},{"$f":"MM!$C$80","v":"Indicators of delivery compliance"},null,null,"NA",null,{"$f":"IF(E418=MM!$D$84,\"X\",\"\")","v":""},{"$f":"IF(E418=MM!$D$83,\"X\",\"\")","v":""},{"$f":"IF(E418=MM!$D$82,\"X\",\"\")","v":""},{"$f":"IF(E418=MM!$D$81,\"X\",\"\")","v":""},{"$f":"IF(E418=MM!$D$85,\"X\",\"\")","v":"X"},"NA",null,{"$f":"IF(L418=MM!$D$84,\"X\",\"\")","v":""},{"$f":"IF(L418=MM!$D$83,\"X\",\"\")","v":""},{"$f":"IF(L418=MM!$D$82,\"X\",\"\")","v":""},{"$f":"IF(L418=MM!$D$81,\"X\",\"\")","v":""},{"$f":"IF(L418=MM!$D$85,\"X\",\"\")","v":"X"},"NA",null,{"$f":"IF(S418=MM!$D$84,\"X\",\"\")","v":""},{"$f":"IF(S418=MM!$D$83,\"X\",\"\")","v":""},{"$f":"IF(S418=MM!$D$82,\"X\",\"\")","v":""},{"$f":"IF(S418=MM!$D$81,\"X\",\"\")","v":""},{"$f":"IF(S418=MM!$D$85,\"X\",\"\")","v":"X"},{"$f":"IF(G418=\"x\",4,IF(H418=\"x\",3,IF(I418=\"x\",2,IF(J418=\"x\",1,IF(K418=\"x\",\"NR\",\"\")))))","v":"NR"},{"$f":"IF(N418=\"x\",4,IF(O418=\"x\",3,IF(P418=\"x\",2,IF(Q418=\"x\",1,IF(R418=\"x\",\"NR\",\"\")))))","v":"NR"},{"$f":"IF(U418=\"x\",4,IF(V418=\"x\",3,IF(W418=\"x\",2,IF(X418=\"x\",1,IF(Y418=\"x\",\"NR\",\"\")))))","v":"NR"},{"$f":"SUM(Z418)","v":0},{"$f":"SUM(AA418)","v":0},{"$f":"SUM(AB418)","v":0}]
[]
[null,null,null,null,null,null,null,null,null,null,null,null,null,null,null,null,null,null,null,null,null,null,null,null,null,"Total",null,null,{"$f":"(AC400+AC406+AC412+AC418)","v":0},{"$f":"(AD412+AD406+AD400+AD418)","v":0},{"$f":"(AE412+AE406+AE400+AE418)","v":0}]
[null,null,null,null,null,null,null,null,null,null,null," "," "," "," "," "," "," ",null," "," "," "," "," "," ","Potential",null,null,{"$f":"COUNT(Z400:Z418)*4","v":0},{"$f":"COUNT(AA400:AA418)*4","v":0},{"$f":"COUNT(AB400:AB418)*4","v":0}]
[null,null,null,null,null,null,null,null,null,null,null,null,null,null,null,null,null,null,null,null,null,null,null,null,null,"Total Score",null,null,{"$f":"IF(AC421<>0,AC420/AC421,\"NR\")","v":"NR"},{"$f":"IF(AD421<>0,AD420/AD421,\"NR\")","v":"NR"},{"$f":"IF(AE421<>0,AE420/AE421,\"NR\")","v":"NR"}]
[]
[]
[" ",{"$f":"EL!B2","v":"External Logistic"},null,null,"Build up Score Assessment"," ","Build up Scoring",null,null,null,null,"Build up Score Assessment"," ","Build up Scoring",null,null,null,null,"Build up Score Assessment"," ","Build up Scoring",null,null,null,null,null,null,null,"Sub Element Score"]
[{"$f":"EL!$A$4","v":"EL1.0"},{"$f":"EL!$B$4","v":"Supply process is managed"},null,"Sub-Element",null,null,4,3,2,1,"NR",null,null,4,3,2,1,"NR",null,null,4,3,2,1,"NR","Self","Onsite","Current","Self","Onsite","Current","Procedures","Findings","Comments"]
[{"$f":"EL!$A$5","v":"EL1.1"},{"$f":"EL!$C$5","v":"Process to follow deliveries is formalized and applied"},null,null,"NA",null,{"$f":"IF(E427=EL!$D$9,\"X\",\"\")","v":""},{"$f":"IF(E427=EL!$D$8,\"X\",\"\")","v":""},{"$f":"IF(E427=EL!$D$7,\"X\",\"\")","v":""},{"$f":"IF(E427=EL!$D$6,\"X\",\"\")","v":""},{"$f":"IF(E427=EL!$D$10,\"X\",\"\")","v":"X"},"NA",null,{"$f":"IF(L427=EL!$D$9,\"X\",\"\")","v":""},{"$f":"IF(L427=EL!$D$8,\"X\",\"\")","v":""},{"$f":"IF(L427=EL!$D$7,\"X\",\"\")","v":""},{"$f":"IF(L427=EL!$D$6,\"X\",\"\")","v":""},{"$f":"IF(L427=EL!$D$10,\"X\",\"\")","v":"X"},"NA",null,{"$f":"IF(S427=EL!$D$9,\"X\",\"\")","v":""},{"$f":"IF(S427=EL!$D$8,\"X\",\"\")","v":""},{"$f":"IF(S427=EL!$D$7,\"X\",\"\")","v":""},{"$f":"IF(S427=EL!$D$6,\"X\",\"\")","v":""},{"$f":"IF(S427=EL!$D$10,\"X\",\"\")","v":"X"},{"$f":"IF(G427=\"x\",4,IF(H427=\"x\",3,IF(I427=\"x\",2,IF(J427=\"x\",1,IF(K427=\"x\",\"NR\",\"\")))))","v":"NR"},{"$f":"IF(N427=\"x\",4,IF(O427=\"x\",3,IF(P427=\"x\",2,IF(Q427=\"x\",1,IF(R427=\"x\",\"NR\",\"\")))))","v":"NR"},{"$f":"IF(U427=\"x\",4,IF(V427=\"x\",3,IF(W427=\"x\",2,IF(X427=\"x\",1,IF(Y427=\"x\",\"NR\",\"\")))))","v":"NR"},{"$f":"SUM(Z427:Z430)","v":0},{"$f":"SUM(AA427:AA430)","v":0},{"$f":"SUM(AB427:AB430)","v":0}]
[{"$f":"EL!$A$11","v":"EL1.2"},{"$f":"EL!$C$11","v":"Master schedule of deliveries"},null,null,"NA",null,{"$f":"IF(E428=EL!$D$15,\"X\",\"\")","v":""},{"$f":"IF(E428=EL!$D$14,\"X\",\"\")","v":""},{"$f":"IF(E428=EL!$D$13,\"X\",\"\")","v":""},{"$f":"IF(E428=EL!$D$12,\"X\",\"\")","v":""},{"$f":"IF(E428=EL!$D$16,\"X\",\"\")","v":"X"},"NA",null,{"$f":"IF(L428=EL!$D$15,\"X\",\"\")","v":""},{"$f":"IF(L428=EL!$D$14,\"X\",\"\")","v":""},{"$f":"IF(L428=EL!$D$13,\"X\",\"\")","v":""},{"$f":"IF(L428=EL!$D$12,\"X\",\"\")","v":""},{"$f":"IF(L428=EL!$D$16,\"X\",\"\")","v":"X"},"NA",null,{"$f":"IF(S428=EL!$D$15,\"X\",\"\")","v":""},{"$f":"IF(S428=EL!$D$14,\"X\",\"\")","v":""},{"$f":"IF(S428=EL!$D$13,\"X\",\"\")","v":""},{"$f":"IF(S428=EL!$D$12,\"X\",\"\")","v":""},{"$f":"IF(S428=EL!$D$16,\"X\",\"\")","v":"X"},{"$f":"IF(G428=\"x\",4,IF(H428=\"x\",3,IF(I428=\"x\",2,IF(J428=\"x\",1,IF(K428=\"x\",\"NR\",\"\")))))","v":"NR"},{"$f":"IF(N428=\"x\",4,IF(O428=\"x\",3,IF(P428=\"x\",2,IF(Q428=\"x\",1,IF(R428=\"x\",\"NR\",\"\")))))","v":"NR"},{"$f":"IF(U428=\"x\",4,IF(V428=\"x\",3,IF(W428=\"x\",2,IF(X428=\"x\",1,IF(Y428=\"x\",\"NR\",\"\")))))","v":"NR"}]
[{"$f":"EL!$A$17","v":"EL1.3"},{"$f":"EL!$C$17","v":"Service rate of suppliers is followed"},null,null,"NA",null,{"$f":"IF(E429=EL!$D$21,\"X\",\"\")","v":""},{"$f":"IF(E429=EL!$D$20,\"X\",\"\")","v":""},{"$f":"IF(E429=EL!$D$19,\"X\",\"\")","v":""},{"$f":"IF(E429=EL!$D$18,\"X\",\"\")","v":""},{"$f":"IF(E429=EL!$D$22,\"X\",\"\")","v":"X"},"NA",null,{"$f":"IF(L429=EL!$D$21,\"X\",\"\")","v":""},{"$f":"IF(L429=EL!$D$20,\"X\",\"\")","v":""},{"$f":"IF(L429=EL!$D$19,\"X\",\"\")","v":""},{"$f":"IF(L429=EL!$D$18,\"X\",\"\")","v":""},{"$f":"IF(L429=EL!$D$22,\"X\",\"\")","v":"X"},"NA",null,{"$f":"IF(S429=EL!$D$21,\"X\",\"\")","v":""},{"$f":"IF(S429=EL!$D$20,\"X\",\"\")","v":""},{"$f":"IF(S429=EL!$D$19,\"X\",\"\")","v":""},{"$f":"IF(S429=EL!$D$18,\"X\",\"\")","v":""},{"$f":"IF(S429=EL!$D$22,\"X\",\"\")","v":"X"},{"$f":"IF(G429=\"x\",4,IF(H429=\"x\",3,IF(I429=\"x\",2,IF(J429=\"x\",1,IF(K429=\"x\",\"NR\",\"\")))))","v":"NR"},{"$f":"IF(N429=\"x\",4,IF(O429=\"x\",3,IF(P429=\"x\",2,IF(Q429=\"x\",1,IF(R429=\"x\",\"NR\",\"\")))))","v":"NR"},{"$f":"IF(U429=\"x\",4,IF(V429=\"x\",3,IF(W429=\"x\",2,IF(X429=\"x\",1,IF(Y429=\"x\",\"NR\",\"\")))))","v":"NR"}]
[{"$f":"EL!$A$23","v":"EL1.4"},{"$f":"EL!$C$23","v":"Action plans for supplier delivery problems"},null,null,"NA",null,{"$f":"IF(E430=EL!$D$27,\"X\",\"\")","v":""},{"$f":"IF(E430=EL!$D$26,\"X\",\"\")","v":""},{"$f":"IF(E430=EL!$D$25,\"X\",\"\")","v":""},{"$f":"IF(E430=EL!$D$24,\"X\",\"\")","v":""},{"$f":"IF(E430=EL!$D$28,\"X\",\"\")","v":"X"},"NA",null,{"$f":"IF(L430=EL!$D$27,\"X\",\"\")","v":""},{"$f":"IF(L430=EL!$D$26,\"X\",\"\")","v":""},{"$f":"IF(L430=EL!$D$25,\"X\",\"\")","v":""},{"$f":"IF(L430=EL!$D$24,\"X\",\"\")","v":""},{"$f":"IF(L430=EL!$D$28,\"X\",\"\")","v":"X"},"NA",null,{"$f":"IF(S430=EL!$D$27,\"X\",\"\")","v":""},{"$f":"IF(S430=EL!$D$26,\"X\",\"\")","v":""},{"$f":"IF(S430=EL!$D$25,\"X\",\"\")","v":""},{"$f":"IF(S430=EL!$D$24,\"X\",\"\")","v":""},{"$f":"IF(S430=EL!$D$28,\"X\",\"\")","v":"X"},{"$f":"IF(G430=\"x\",4,IF(H430=\"x\",3,IF(I430=\"x\",2,IF(J430=\"x\",1,IF(K430=\"x\",\"NR\",\"\")))))","v":"NR"},{"$f":"IF(N430=\"x\",4,IF(O430=\"x\",3,IF(P430=\"x\",2,IF(Q430=\"x\",1,IF(R430=\"x\",\"NR\",\"\")))))","v":"NR"},{"$f":"IF(U430=\"x\",4,IF(V430=\"x\",3,IF(W430=\"x\",2,IF(X430=\"x\",1,IF(Y430=\"x\",\"NR\",\"\")))))","v":"NR"}]
[]
[{"$f":"EL!$A$29","v":"EL2.0"},{"$f":"EL!$B$29","v":"Secure supplies"}]
[{"$f":"EL!$A$30","v":"EL2.1"},{"$f":"EL!$C$30","v":"Components/materials which are risky to supply are identified"},null,null,"NA",null,{"$f":"IF(E433=EL!$D$34,\"X\",\"\")","v":""},{"$f":"IF(E433=EL!$D$33,\"X\",\"\")","v":""},{"$f":"IF(E433=EL!$D$32,\"X\",\"\")","v":""},{"$f":"IF(E433=EL!$D$31,\"X\",\"\")","v":""},{"$f":"IF(E433=EL!$D$35,\"X\",\"\")","v":"X"},"NA",null,{"$f":"IF(L433=EL!$D$34,\"X\",\"\")","v":""},{"$f":"IF(L433=EL!$D$33,\"X\",\"\")","v":""},{"$f":"IF(L433=EL!$D$32,\"X\",\"\")","v":""},{"$f":"IF(L433=EL!$D$31,\"X\",\"\")","v":""},{"$f":"IF(L433=EL!$D$35,\"X\",\"\")","v":"X"},"NA",null,{"$f":"IF(S433=EL!$D$34,\"X\",\"\")","v":""},{"$f":"IF(S433=EL!$D$33,\"X\",\"\")","v":""},{"$f":"IF(S433=EL!$D$32,\"X\",\"\")","v":""},{"$f":"IF(S433=EL!$D$31,\"X\",\"\")","v":""},{"$f":"IF(S433=EL!$D$35,\"X\",\"\")","v":"X"},{"$f":"IF(G433=\"x\",4,IF(H433=\"x\",3,IF(I433=\"x\",2,IF(J433=\"x\",1,IF(K433=\"x\",\"NR\",\"\")))))","v":"NR"},{"$f":"IF(N433=\"x\",4,IF(O433=\"x\",3,IF(P433=\"x\",2,IF(Q433=\"x\",1,IF(R433=\"x\",\"NR\",\"\")))))","v":"NR"},{"$f":"IF(U433=\"x\",4,IF(V433=\"x\",3,IF(W433=\"x\",2,IF(X433=\"x\",1,IF(Y433=\"x\",\"NR\",\"\")))))","v":"NR"},{"$f":"SUM(Z433:Z436)","v":0},{"$f":"SUM(AA433:AA436)","v":0},{"$f":"SUM(AB433:AB436)","v":0}]
[{"$f":"EL!$A$36","v":"EL2.2"},{"$f":"EL!$C$36","v":"Plans for critical suppliers/parts are reviewed"},null,null,"NA",null,{"$f":"IF(E434=EL!$D$40,\"X\",\"\")","v":""},{"$f":"IF(E434=EL!$D$39,\"X\",\"\")","v":""},{"$f":"IF(E434=EL!$D$38,\"X\",\"\")","v":""},{"$f":"IF(E434=EL!$D$37,\"X\",\"\")","v":""},{"$f":"IF(E434=EL!$D$41,\"X\",\"\")","v":"X"},"NA",null,{"$f":"IF(L434=EL!$D$40,\"X\",\"\")","v":""},{"$f":"IF(L434=EL!$D$39,\"X\",\"\")","v":""},{"$f":"IF(L434=EL!$D$38,\"X\",\"\")","v":""},{"$f":"IF(L434=EL!$D$37,\"X\",\"\")","v":""},{"$f":"IF(L434=EL!$D$41,\"X\",\"\")","v":"X"},"NA",null,{"$f":"IF(S434=EL!$D$40,\"X\",\"\")","v":""},{"$f":"IF(S434=EL!$D$39,\"X\",\"\")","v":""},{"$f":"IF(S434=EL!$D$38,\"X\",\"\")","v":""},{"$f":"IF(S434=EL!$D$37,\"X\",\"\")","v":""},{"$f":"IF(S434=EL!$D$41,\"X\",\"\")","v":"X"},{"$f":"IF(G434=\"x\",4,IF(H434=\"x\",3,IF(I434=\"x\",2,IF(J434=\"x\",1,IF(K434=\"x\",\"NR\",\"\")))))","v":"NR"},{"$f":"IF(N434=\"x\",4,IF(O434=\"x\",3,IF(P434=\"x\",2,IF(Q434=\"x\",1,IF(R434=\"x\",\"NR\",\"\")))))","v":"NR"},{"$f":"IF(U434=\"x\",4,IF(V434=\"x\",3,IF(W434=\"x\",2,IF(X434=\"x\",1,IF(Y434=\"x\",\"NR\",\"\")))))","v":"NR"}]
[{"$f":"EL!$A$42","v":"EL2.3"},{"$f":"EL!$C$42","v":"Alternative supply identified"},null,null,"NA",null,{"$f":"IF(E435=EL!$D$46,\"X\",\"\")","v":""},{"$f":"IF(E435=EL!$D$45,\"X\",\"\")","v":""},{"$f":"IF(E435=EL!$D$44,\"X\",\"\")","v":""},{"$f":"IF(E435=EL!$D$43,\"X\",\"\")","v":""},{"$f":"IF(E435=EL!$D$47,\"X\",\"\")","v":"X"},"NA",null,{"$f":"IF(L435=EL!$D$46,\"X\",\"\")","v":""},{"$f":"IF(L435=EL!$D$45,\"X\",\"\")","v":""},{"$f":"IF(L435=EL!$D$44,\"X\",\"\")","v":""},{"$f":"IF(L435=EL!$D$43,\"X\",\"\")","v":""},{"$f":"IF(L435=EL!$D$47,\"X\",\"\")","v":"X"},"NA",null,{"$f":"IF(S435=EL!$D$46,\"X\",\"\")","v":""},{"$f":"IF(S435=EL!$D$45,\"X\",\"\")","v":""},{"$f":"IF(S435=EL!$D$44,\"X\",\"\")","v":""},{"$f":"IF(S435=EL!$D$43,\"X\",\"\")","v":""},{"$f":"IF(S435=EL!$D$47,\"X\",\"\")","v":"X"},{"$f":"IF(G435=\"x\",4,IF(H435=\"x\",3,IF(I435=\"x\",2,IF(J435=\"x\",1,IF(K435=\"x\",\"NR\",\"\")))))","v":"NR"},{"$f":"IF(N435=\"x\",4,IF(O435=\"x\",3,IF(P435=\"x\",2,IF(Q435=\"x\",1,IF(R435=\"x\",\"NR\",\"\")))))","v":"NR"},{"$f":"IF(U435=\"x\",4,IF(V435=\"x\",3,IF(W435=\"x\",2,IF(X435=\"x\",1,IF(Y435=\"x\",\"NR\",\"\")))))","v":"NR"}]
[{"$f":"EL!$A$48","v":"EL2.4"},{"$f":"EL!$C$48","v":"Safety Stock management"},null,null,"NA",null,{"$f":"IF(E436=EL!$D$52,\"X\",\"\")","v":""},{"$f":"IF(E436=EL!$D$51,\"X\",\"\")","v":""},{"$f":"IF(E436=EL!$D$50,\"X\",\"\")","v":""},{"$f":"IF(E436=EL!$D$49,\"X\",\"\")","v":""},{"$f":"IF(E436=EL!$D$53,\"X\",\"\")","v":"X"},"NA",null,{"$f":"IF(L436=EL!$D$52,\"X\",\"\")","v":""},{"$f":"IF(L436=EL!$D$51,\"X\",\"\")","v":""},{"$f":"IF(L436=EL!$D$50,\"X\",\"\")","v":""},{"$f":"IF(L436=EL!$D$49,\"X\",\"\")","v":""},{"$f":"IF(L436=EL!$D$53,\"X\",\"\")","v":"X"},"NA",null,{"$f":"IF(S436=EL!$D$52,\"X\",\"\")","v":""},{"$f":"IF(S436=EL!$D$51,\"X\",\"\")","v":""},{"$f":"IF(S436=EL!$D$50,\"X\",\"\")","v":""},{"$f":"IF(S436=EL!$D$49,\"X\",\"\")","v":""},{"$f":"IF(S436=EL!$D$53,\"X\",\"\")","v":"X"},{"$f":"IF(G436=\"x\",4,IF(H436=\"x\",3,IF(I436=\"x\",2,IF(J436=\"x\",1,IF(K436=\"x\",\"NR\",\"\")))))","v":"NR"},{"$f":"IF(N436=\"x\",4,IF(O436=\"x\",3,IF(P436=\"x\",2,IF(Q436=\"x\",1,IF(R436=\"x\",\"NR\",\"\")))))","v":"NR"},{"$f":"IF(U436=\"x\",4,IF(V436=\"x\",3,IF(W436=\"x\",2,IF(X436=\"x\",1,IF(Y436=\"x\",\"NR\",\"\")))))","v":"NR"}]
[]
[{"$f":"EL!$A$54","v":"EL3.0"},{"$f":"EL!$B$54","v":"Shipping process is organized and tracked"}]
[{"$f":"EL!$A$55","v":"EL3.1"},{"$f":"EL!$C$55","v":"Shipping process is described"},null,null,"NA",null,{"$f":"IF(E439=EL!$D$59,\"X\",\"\")","v":""},{"$f":"IF(E439=EL!$D$58,\"X\",\"\")","v":""},{"$f":"IF(E439=EL!$D$57,\"X\",\"\")","v":""},{"$f":"IF(E439=EL!$D$56,\"X\",\"\")","v":""},{"$f":"IF(E439=EL!$D$60,\"X\",\"\")","v":"X"},"NA",null,{"$f":"IF(L439=EL!$D$59,\"X\",\"\")","v":""},{"$f":"IF(L439=EL!$D$58,\"X\",\"\")","v":""},{"$f":"IF(L439=EL!$D$57,\"X\",\"\")","v":""},{"$f":"IF(L439=EL!$D$56,\"X\",\"\")","v":""},{"$f":"IF(L439=EL!$D$60,\"X\",\"\")","v":"X"},"NA",null,{"$f":"IF(S439=EL!$D$59,\"X\",\"\")","v":""},{"$f":"IF(S439=EL!$D$58,\"X\",\"\")","v":""},{"$f":"IF(S439=EL!$D$57,\"X\",\"\")","v":""},{"$f":"IF(S439=EL!$D$56,\"X\",\"\")","v":""},{"$f":"IF(S439=EL!$D$60,\"X\",\"\")","v":"X"},{"$f":"IF(G439=\"x\",4,IF(H439=\"x\",3,IF(I439=\"x\",2,IF(J439=\"x\",1,IF(K439=\"x\",\"NR\",\"\")))))","v":"NR"},{"$f":"IF(N439=\"x\",4,IF(O439=\"x\",3,IF(P439=\"x\",2,IF(Q439=\"x\",1,IF(R439=\"x\",\"NR\",\"\")))))","v":"NR"},{"$f":"IF(U439=\"x\",4,IF(V439=\"x\",3,IF(W439=\"x\",2,IF(X439=\"x\",1,IF(Y439=\"x\",\"NR\",\"\")))))","v":"NR"},{"$f":"SUM(Z439:Z442)","v":0},{"$f":"SUM(AA439:AA442)","v":0},{"$f":"SUM(AB439:AB442)","v":0}]
[{"$f":"EL!$A$61","v":"EL3.2"},{"$f":"EL!$C$61","v":"Shipping process integrates milestone operations"},null,null,"NA",null,{"$f":"IF(E440=EL!$D$65,\"X\",\"\")","v":""},{"$f":"IF(E440=EL!$D$64,\"X\",\"\")","v":""},{"$f":"IF(E440=EL!$D$63,\"X\",\"\")","v":""},{"$f":"IF(E440=EL!$D$62,\"X\",\"\")","v":""},{"$f":"IF(E440=EL!$D$66,\"X\",\"\")","v":"X"},"NA",null,{"$f":"IF(L440=EL!$D$65,\"X\",\"\")","v":""},{"$f":"IF(L440=EL!$D$64,\"X\",\"\")","v":""},{"$f":"IF(L440=EL!$D$63,\"X\",\"\")","v":""},{"$f":"IF(L440=EL!$D$62,\"X\",\"\")","v":""},{"$f":"IF(L440=EL!$D$66,\"X\",\"\")","v":"X"},"NA",null,{"$f":"IF(S440=EL!$D$65,\"X\",\"\")","v":""},{"$f":"IF(S440=EL!$D$64,\"X\",\"\")","v":""},{"$f":"IF(S440=EL!$D$63,\"X\",\"\")","v":""},{"$f":"IF(S440=EL!$D$62,\"X\",\"\")","v":""},{"$f":"IF(S440=EL!$D$66,\"X\",\"\")","v":"X"},{"$f":"IF(G440=\"x\",4,IF(H440=\"x\",3,IF(I440=\"x\",2,IF(J440=\"x\",1,IF(K440=\"x\",\"NR\",\"\")))))","v":"NR"},{"$f":"IF(N440=\"x\",4,IF(O440=\"x\",3,IF(P440=\"x\",2,IF(Q440=\"x\",1,IF(R440=\"x\",\"NR\",\"\")))))","v":"NR"},{"$f":"IF(U440=\"x\",4,IF(V440=\"x\",3,IF(W440=\"x\",2,IF(X440=\"x\",1,IF(Y440=\"x\",\"NR\",\"\")))))","v":"NR"}]
[{"$f":"EL!$A$67","v":"EL3.3"},{"$f":"EL!$C$67","v":"Packaging is labelled properly"},null,null,"NA",null,{"$f":"IF(E441=EL!$D$71,\"X\",\"\")","v":""},{"$f":"IF(E441=EL!$D$70,\"X\",\"\")","v":""},{"$f":"IF(E441=EL!$D$69,\"X\",\"\")","v":""},{"$f":"IF(E441=EL!$D$68,\"X\",\"\")","v":""},{"$f":"IF(E441=EL!$D$72,\"X\",\"\")","v":"X"},"NA",null,{"$f":"IF(L441=EL!$D$71,\"X\",\"\")","v":""},{"$f":"IF(L441=EL!$D$70,\"X\",\"\")","v":""},{"$f":"IF(L441=EL!$D$69,\"X\",\"\")","v":""},{"$f":"IF(L441=EL!$D$68,\"X\",\"\")","v":""},{"$f":"IF(L441=EL!$D$72,\"X\",\"\")","v":"X"},"NA",null,{"$f":"IF(S441=EL!$D$71,\"X\",\"\")","v":""},{"$f":"IF(S441=EL!$D$70,\"X\",\"\")","v":""},{"$f":"IF(S441=EL!$D$69,\"X\",\"\")","v":""},{"$f":"IF(S441=EL!$D$68,\"X\",\"\")","v":""},{"$f":"IF(S441=EL!$D$72,\"X\",\"\")","v":"X"},{"$f":"IF(G441=\"x\",4,IF(H441=\"x\",3,IF(I441=\"x\",2,IF(J441=\"x\",1,IF(K441=\"x\",\"NR\",\"\")))))","v":"NR"},{"$f":"IF(N441=\"x\",4,IF(O441=\"x\",3,IF(P441=\"x\",2,IF(Q441=\"x\",1,IF(R441=\"x\",\"NR\",\"\")))))","v":"NR"},{"$f":"IF(U441=\"x\",4,IF(V441=\"x\",3,IF(W441=\"x\",2,IF(X441=\"x\",1,IF(Y441=\"x\",\"NR\",\"\")))))","v":"NR"}]
[{"$f":"EL!$A$73","v":"EL3.4"},{"$f":"EL!$C$73","v":"EDI communication is valid with customer"},null,null,"NA",null,{"$f":"IF(E442=EL!$D$77,\"X\",\"\")","v":""},{"$f":"IF(E442=EL!$D$76,\"X\",\"\")","v":""},{"$f":"IF(E442=EL!$D$75,\"X\",\"\")","v":""},{"$f":"IF(E442=EL!$D$74,\"X\",\"\")","v":""},{"$f":"IF(E442=EL!$D$78,\"X\",\"\")","v":"X"},"NA",null,{"$f":"IF(L442=EL!$D$77,\"X\",\"\")","v":""},{"$f":"IF(L442=EL!$D$76,\"X\",\"\")","v":""},{"$f":"IF(L442=EL!$D$75,\"X\",\"\")","v":""},{"$f":"IF(L442=EL!$D$74,\"X\",\"\")","v":""},{"$f":"IF(L442=EL!$D$78,\"X\",\"\")","v":"X"},"NA",null,{"$f":"IF(S442=EL!$D$77,\"X\",\"\")","v":""},{"$f":"IF(S442=EL!$D$76,\"X\",\"\")","v":""},{"$f":"IF(S442=EL!$D$75,\"X\",\"\")","v":""},{"$f":"IF(S442=EL!$D$74,\"X\",\"\")","v":""},{"$f":"IF(S442=EL!$D$78,\"X\",\"\")","v":"X"},{"$f":"IF(G442=\"x\",4,IF(H442=\"x\",3,IF(I442=\"x\",2,IF(J442=\"x\",1,IF(K442=\"x\",\"NR\",\"\")))))","v":"NR"},{"$f":"IF(N442=\"x\",4,IF(O442=\"x\",3,IF(P442=\"x\",2,IF(Q442=\"x\",1,IF(R442=\"x\",\"NR\",\"\")))))","v":"NR"},{"$f":"IF(U442=\"x\",4,IF(V442=\"x\",3,IF(W442=\"x\",2,IF(X442=\"x\",1,IF(Y442=\"x\",\"NR\",\"\")))))","v":"NR"}]
[]
[{"$f":"EL!$A$79","v":"ELE"},{"$f":"EL!$B$79","v":"Indicators are defined and tracked to ensure effectiveness and efficiency of external logistic management"}]
[{"$f":"EL!$A$80","v":"ELE.1"},{"$f":"EL!$C$80","v":"Indicators concerning the supply process: Fill rate, Service rate, and Logistics."},null,null,"NA",null,{"$f":"IF(E445=EL!$D$84,\"X\",\"\")","v":""},{"$f":"IF(E445=EL!$D$83,\"X\",\"\")","v":""},{"$f":"IF(E445=EL!$D$82,\"X\",\"\")","v":""},{"$f":"IF(E445=EL!$D$81,\"X\",\"\")","v":""},{"$f":"IF(E445=EL!$D$85,\"X\",\"\")","v":"X"},"NA",null,{"$f":"IF(L445=EL!$D$84,\"X\",\"\")","v":""},{"$f":"IF(L445=EL!$D$83,\"X\",\"\")","v":""},{"$f":"IF(L445=EL!$D$82,\"X\",\"\")","v":""},{"$f":"IF(L445=EL!$D$81,\"X\",\"\")","v":""},{"$f":"IF(L445=EL!$D$85,\"X\",\"\")","v":"X"},"NA",null,{"$f":"IF(S445=EL!$D$84,\"X\",\"\")","v":""},{"$f":"IF(S445=EL!$D$83,\"X\",\"\")","v":""},{"$f":"IF(S445=EL!$D$82,\"X\",\"\")","v":""},{"$f":"IF(S445=EL!$D$81,\"X\",\"\")","v":""},{"$f":"IF(S445=EL!$D$85,\"X\",\"\")","v":"X"},{"$f":"IF(G445=\"x\",4,IF(H445=\"x\",3,IF(I445=\"x\",2,IF(J445=\"x\",1,IF(K445=\"x\",\"NR\",\"\")))))","v":"NR"},{"$f":"IF(N445=\"x\",4,IF(O445=\"x\",3,IF(P445=\"x\",2,IF(Q445=\"x\",1,IF(R445=\"x\",\"NR\",\"\")))))","v":"NR"},{"$f":"IF(U445=\"x\",4,IF(V445=\"x\",3,IF(W445=\"x\",2,IF(X445=\"x\",1,IF(Y445=\"x\",\"NR\",\"\")))))","v":"NR"},{"$f":"SUM(Z445)","v":0},{"$f":"SUM(AA445)","v":0},{"$f":"SUM(AB445)","v":0}]
[]
[null,null,null,null,null,null,null,null,null,null,null,null,null,null,null,null,null,null,null,null,null,null,null,null,null,"Total",null,null,{"$f":"(AC427+AC433+AC439+AC445)","v":0},{"$f":"(AD439+AD433+AD427+AD445)","v":0},{"$f":"(AE439+AE433+AE427+AE445)","v":0}]
[null,null,null,null,null,null,null,null,null,null,null," "," "," "," "," "," "," ",null," "," "," "," "," "," ","Potential",null,null,{"$f":"COUNT(Z427:Z445)*4","v":0},{"$f":"COUNT(AA427:AA445)*4","v":0},{"$f":"COUNT(AB427:AB445)*4","v":0}]
[null,null,null,null,null,null,null,null,null,null,null,null,null,null,null,null,null,null,null,null,null,null,null,null,null,"Total Score",null,null,{"$f":"IF(AC448<>0,AC447/AC448,\"NR\")","v":"NR"},{"$f":"IF(AD448<>0,AD447/AD448,\"NR\")","v":"NR"},{"$f":"IF(AE448<>0,AE447/AE448,\"NR\")","v":"NR"}]
[]
[]
[" ",{"$f":"AP!B2","v":"Advance Product Quality Planning "},null,null,"Build up Score Assessment"," ","Build up Scoring",null,null,null,null,"Build up Score Assessment"," ","Build up Scoring",null,null,null,null,"Build up Score Assessment"," ","Build up Scoring",null,null,null,null,null,null,null,"Sub Element Score"]
[{"$f":"AP!$A$4","v":"AP1.0"},{"$f":"AP!$B$4","v":"Advance Planning"},null,"Sub-Element",null,null,4,3,2,1,"NR",null,null,4,3,2,1,"NR",null,null,4,3,2,1,"NR","Self","Onsite","Current","Self","Onsite","Current","Procedures","Findings","Comments"]
[{"$f":"AP!$A$5","v":"AP1.1"},{"$f":"AP!$C$5","v":"Special Characteristics are Defined"},null,null,"NA",null,{"$f":"IF(E454=AP!$D$9,\"X\",\"\")","v":""},{"$f":"IF(E454=AP!$D$8,\"X\",\"\")","v":""},{"$f":"IF(E454=AP!$D$7,\"X\",\"\")","v":""},{"$f":"IF(E454=AP!$D$6,\"X\",\"\")","v":""},{"$f":"IF(E454=AP!$D$10,\"X\",\"\")","v":"X"},"NA",null,{"$f":"IF(L454=AP!$D$9,\"X\",\"\")","v":""},{"$f":"IF(L454=AP!$D$8,\"X\",\"\")","v":""},{"$f":"IF(L454=AP!$D$7,\"X\",\"\")","v":""},{"$f":"IF(L454=AP!$D$6,\"X\",\"\")","v":""},{"$f":"IF(L454=AP!$D$10,\"X\",\"\")","v":"X"},"NA",null,{"$f":"IF(S454=AP!$D$9,\"X\",\"\")","v":""},{"$f":"IF(S454=AP!$D$8,\"X\",\"\")","v":""},{"$f":"IF(S454=AP!$D$7,\"X\",\"\")","v":""},{"$f":"IF(S454=AP!$D$6,\"X\",\"\")","v":""},{"$f":"IF(S454=AP!$D$10,\"X\",\"\")","v":"X"},{"$f":"IF(G454=\"x\",4,IF(H454=\"x\",3,IF(I454=\"x\",2,IF(J454=\"x\",1,IF(K454=\"x\",\"NR\",\"\")))))","v":"NR"},{"$f":"IF(N454=\"x\",4,IF(O454=\"x\",3,IF(P454=\"x\",2,IF(Q454=\"x\",1,IF(R454=\"x\",\"NR\",\"\")))))","v":"NR"},{"$f":"IF(U454=\"x\",4,IF(V454=\"x\",3,IF(W454=\"x\",2,IF(X454=\"x\",1,IF(Y454=\"x\",\"NR\",\"\")))))","v":"NR"},{"$f":"SUM(Z454:Z457)","v":0},{"$f":"SUM(AA454:AA457)","v":0},{"$f":"SUM(AB454:AB457)","v":0}]
[{"$f":"AP!$A$11","v":"AP1.2"},{"$f":"AP!$C$11","v":"Testing and Gage plan"},null,null,"NA",null,{"$f":"IF(E455=AP!$D$15,\"X\",\"\")","v":""},{"$f":"IF(E455=AP!$D$14,\"X\",\"\")","v":""},{"$f":"IF(E455=AP!$D$13,\"X\",\"\")","v":""},{"$f":"IF(E455=AP!$D$12,\"X\",\"\")","v":""},{"$f":"IF(E455=AP!$D$16,\"X\",\"\")","v":"X"},"NA",null,{"$f":"IF(L455=AP!$D$15,\"X\",\"\")","v":""},{"$f":"IF(L455=AP!$D$14,\"X\",\"\")","v":""},{"$f":"IF(L455=AP!$D$13,\"X\",\"\")","v":""},{"$f":"IF(L455=AP!$D$12,\"X\",\"\")","v":""},{"$f":"IF(L455=AP!$D$16,\"X\",\"\")","v":"X"},"NA",null,{"$f":"IF(S455=AP!$D$15,\"X\",\"\")","v":""},{"$f":"IF(S455=AP!$D$14,\"X\",\"\")","v":""},{"$f":"IF(S455=AP!$D$13,\"X\",\"\")","v":""},{"$f":"IF(S455=AP!$D$12,\"X\",\"\")","v":""},{"$f":"IF(S455=AP!$D$16,\"X\",\"\")","v":"X"},{"$f":"IF(G455=\"x\",4,IF(H455=\"x\",3,IF(I455=\"x\",2,IF(J455=\"x\",1,IF(K455=\"x\",\"NR\",\"\")))))","v":"NR"},{"$f":"IF(N455=\"x\",4,IF(O455=\"x\",3,IF(P455=\"x\",2,IF(Q455=\"x\",1,IF(R455=\"x\",\"NR\",\"\")))))","v":"NR"},{"$f":"IF(U455=\"x\",4,IF(V455=\"x\",3,IF(W455=\"x\",2,IF(X455=\"x\",1,IF(Y455=\"x\",\"NR\",\"\")))))","v":"NR"}]
[{"$f":"AP!$A$17","v":"AP1.3"},{"$f":"AP!$C$17","v":"Equipment, tooling and Facility requirements"},null,null,"NA",null,{"$f":"IF(E456=AP!$D$21,\"X\",\"\")","v":""},{"$f":"IF(E456=AP!$D$20,\"X\",\"\")","v":""},{"$f":"IF(E456=AP!$D$19,\"X\",\"\")","v":""},{"$f":"IF(E456=AP!$D$18,\"X\",\"\")","v":""},{"$f":"IF(E456=AP!$D$22,\"X\",\"\")","v":"X"},"NA",null,{"$f":"IF(L456=AP!$D$21,\"X\",\"\")","v":""},{"$f":"IF(L456=AP!$D$20,\"X\",\"\")","v":""},{"$f":"IF(L456=AP!$D$19,\"X\",\"\")","v":""},{"$f":"IF(L456=AP!$D$18,\"X\",\"\")","v":""},{"$f":"IF(L456=AP!$D$22,\"X\",\"\")","v":"X"},"NA",null,{"$f":"IF(S456=AP!$D$21,\"X\",\"\")","v":""},{"$f":"IF(S456=AP!$D$20,\"X\",\"\")","v":""},{"$f":"IF(S456=AP!$D$19,\"X\",\"\")","v":""},{"$f":"IF(S456=AP!$D$18,\"X\",\"\")","v":""},{"$f":"IF(S456=AP!$D$22,\"X\",\"\")","v":"X"},{"$f":"IF(G456=\"x\",4,IF(H456=\"x\",3,IF(I456=\"x\",2,IF(J456=\"x\",1,IF(K456=\"x\",\"NR\",\"\")))))","v":"NR"},{"$f":"IF(N456=\"x\",4,IF(O456=\"x\",3,IF(P456=\"x\",2,IF(Q456=\"x\",1,IF(R456=\"x\",\"NR\",\"\")))))","v":"NR"},{"$f":"IF(U456=\"x\",4,IF(V456=\"x\",3,IF(W456=\"x\",2,IF(X456=\"x\",1,IF(Y456=\"x\",\"NR\",\"\")))))","v":"NR"}]
[{"$f":"AP!$A$23","v":"AP1.4"},{"$f":"AP!$C$23","v":"Team feasibility and Management commitment"},null,null,"NA",null,{"$f":"IF(E457=AP!$D$27,\"X\",\"\")","v":""},{"$f":"IF(E457=AP!$D$26,\"X\",\"\")","v":""},{"$f":"IF(E457=AP!$D$25,\"X\",\"\")","v":""},{"$f":"IF(E457=AP!$D$24,\"X\",\"\")","v":""},{"$f":"IF(E457=AP!$D$28,\"X\",\"\")","v":"X"},"NA",null,{"$f":"IF(L457=AP!$D$27,\"X\",\"\")","v":""},{"$f":"IF(L457=AP!$D$26,\"X\",\"\")","v":""},{"$f":"IF(L457=AP!$D$25,\"X\",\"\")","v":""},{"$f":"IF(L457=AP!$D$24,\"X\",\"\")","v":""},{"$f":"IF(L457=AP!$D$28,\"X\",\"\")","v":"X"},"NA",null,{"$f":"IF(S457=AP!$D$27,\"X\",\"\")","v":""},{"$f":"IF(S457=AP!$D$26,\"X\",\"\")","v":""},{"$f":"IF(S457=AP!$D$25,\"X\",\"\")","v":""},{"$f":"IF(S457=AP!$D$24,\"X\",\"\")","v":""},{"$f":"IF(S457=AP!$D$28,\"X\",\"\")","v":"X"},{"$f":"IF(G457=\"x\",4,IF(H457=\"x\",3,IF(I457=\"x\",2,IF(J457=\"x\",1,IF(K457=\"x\",\"NR\",\"\")))))","v":"NR"},{"$f":"IF(N457=\"x\",4,IF(O457=\"x\",3,IF(P457=\"x\",2,IF(Q457=\"x\",1,IF(R457=\"x\",\"NR\",\"\")))))","v":"NR"},{"$f":"IF(U457=\"x\",4,IF(V457=\"x\",3,IF(W457=\"x\",2,IF(X457=\"x\",1,IF(Y457=\"x\",\"NR\",\"\")))))","v":"NR"}]
[]
[{"$f":"AP!$A$29","v":"AP2.0"},{"$f":"AP!$B$29","v":"Process Design and Development"}]
[{"$f":"AP!$A$30","v":"AP2.1"},{"$f":"AP!$C$30","v":"Process Failure Mode and Effects Analysis (PFMEA)"},null,null,"NA",null,{"$f":"IF(E460=AP!$D$34,\"X\",\"\")","v":""},{"$f":"IF(E460=AP!$D$33,\"X\",\"\")","v":""},{"$f":"IF(E460=AP!$D$32,\"X\",\"\")","v":""},{"$f":"IF(E460=AP!$D$31,\"X\",\"\")","v":""},{"$f":"IF(E460=AP!$D$35,\"X\",\"\")","v":"X"},"NA",null,{"$f":"IF(L460=AP!$D$34,\"X\",\"\")","v":""},{"$f":"IF(L460=AP!$D$33,\"X\",\"\")","v":""},{"$f":"IF(L460=AP!$D$32,\"X\",\"\")","v":""},{"$f":"IF(L460=AP!$D$31,\"X\",\"\")","v":""},{"$f":"IF(L460=AP!$D$35,\"X\",\"\")","v":"X"},"NA",null,{"$f":"IF(S460=AP!$D$34,\"X\",\"\")","v":""},{"$f":"IF(S460=AP!$D$33,\"X\",\"\")","v":""},{"$f":"IF(S460=AP!$D$32,\"X\",\"\")","v":""},{"$f":"IF(S460=AP!$D$31,\"X\",\"\")","v":""},{"$f":"IF(S460=AP!$D$35,\"X\",\"\")","v":"X"},{"$f":"IF(G460=\"x\",4,IF(H460=\"x\",3,IF(I460=\"x\",2,IF(J460=\"x\",1,IF(K460=\"x\",\"NR\",\"\")))))","v":"NR"},{"$f":"IF(N460=\"x\",4,IF(O460=\"x\",3,IF(P460=\"x\",2,IF(Q460=\"x\",1,IF(R460=\"x\",\"NR\",\"\")))))","v":"NR"},{"$f":"IF(U460=\"x\",4,IF(V460=\"x\",3,IF(W460=\"x\",2,IF(X460=\"x\",1,IF(Y460=\"x\",\"NR\",\"\")))))","v":"NR"},{"$f":"SUM(Z460:Z463)","v":0},{"$f":"SUM(AA460:AA463)","v":0},{"$f":"SUM(AB460:AB463)","v":0}]
[{"$f":"AP!$A$36","v":"AP2.2"},{"$f":"AP!$C$36","v":"Control Plan"},null,null,"NA",null,{"$f":"IF(E461=AP!$D$40,\"X\",\"\")","v":""},{"$f":"IF(E461=AP!$D$39,\"X\",\"\")","v":""},{"$f":"IF(E461=AP!$D$38,\"X\",\"\")","v":""},{"$f":"IF(E461=AP!$D$37,\"X\",\"\")","v":""},{"$f":"IF(E461=AP!$D$41,\"X\",\"\")","v":"X"},"NA",null,{"$f":"IF(L461=AP!$D$40,\"X\",\"\")","v":""},{"$f":"IF(L461=AP!$D$39,\"X\",\"\")","v":""},{"$f":"IF(L461=AP!$D$38,\"X\",\"\")","v":""},{"$f":"IF(L461=AP!$D$37,\"X\",\"\")","v":""},{"$f":"IF(L461=AP!$D$41,\"X\",\"\")","v":"X"},"NA",null,{"$f":"IF(S461=AP!$D$40,\"X\",\"\")","v":""},{"$f":"IF(S461=AP!$D$39,\"X\",\"\")","v":""},{"$f":"IF(S461=AP!$D$38,\"X\",\"\")","v":""},{"$f":"IF(S461=AP!$D$37,\"X\",\"\")","v":""},{"$f":"IF(S461=AP!$D$41,\"X\",\"\")","v":"X"},{"$f":"IF(G461=\"x\",4,IF(H461=\"x\",3,IF(I461=\"x\",2,IF(J461=\"x\",1,IF(K461=\"x\",\"NR\",\"\")))))","v":"NR"},{"$f":"IF(N461=\"x\",4,IF(O461=\"x\",3,IF(P461=\"x\",2,IF(Q461=\"x\",1,IF(R461=\"x\",\"NR\",\"\")))))","v":"NR"},{"$f":"IF(U461=\"x\",4,IF(V461=\"x\",3,IF(W461=\"x\",2,IF(X461=\"x\",1,IF(Y461=\"x\",\"NR\",\"\")))))","v":"NR"}]
[{"$f":"AP!$A$42","v":"AP2.3"},{"$f":"AP!$C$42","v":"Product / Process Quality System Review"},null,null,"NA",null,{"$f":"IF(E462=AP!$D$46,\"X\",\"\")","v":""},{"$f":"IF(E462=AP!$D$45,\"X\",\"\")","v":""},{"$f":"IF(E462=AP!$D$44,\"X\",\"\")","v":""},{"$f":"IF(E462=AP!$D$43,\"X\",\"\")","v":""},{"$f":"IF(E462=AP!$D$47,\"X\",\"\")","v":"X"},"NA",null,{"$f":"IF(L462=AP!$D$46,\"X\",\"\")","v":""},{"$f":"IF(L462=AP!$D$45,\"X\",\"\")","v":""},{"$f":"IF(L462=AP!$D$44,\"X\",\"\")","v":""},{"$f":"IF(L462=AP!$D$43,\"X\",\"\")","v":""},{"$f":"IF(L462=AP!$D$47,\"X\",\"\")","v":"X"},"NA",null,{"$f":"IF(S462=AP!$D$46,\"X\",\"\")","v":""},{"$f":"IF(S462=AP!$D$45,\"X\",\"\")","v":""},{"$f":"IF(S462=AP!$D$44,\"X\",\"\")","v":""},{"$f":"IF(S462=AP!$D$43,\"X\",\"\")","v":""},{"$f":"IF(S462=AP!$D$47,\"X\",\"\")","v":"X"},{"$f":"IF(G462=\"x\",4,IF(H462=\"x\",3,IF(I462=\"x\",2,IF(J462=\"x\",1,IF(K462=\"x\",\"NR\",\"\")))))","v":"NR"},{"$f":"IF(N462=\"x\",4,IF(O462=\"x\",3,IF(P462=\"x\",2,IF(Q462=\"x\",1,IF(R462=\"x\",\"NR\",\"\")))))","v":"NR"},{"$f":"IF(U462=\"x\",4,IF(V462=\"x\",3,IF(W462=\"x\",2,IF(X462=\"x\",1,IF(Y462=\"x\",\"NR\",\"\")))))","v":"NR"}]
[{"$f":"AP!$A$48","v":"AP2.4"},{"$f":"AP!$C$48","v":"Packaging Standards and Specifications"},null,null,"NA",null,{"$f":"IF(E463=AP!$D$52,\"X\",\"\")","v":""},{"$f":"IF(E463=AP!$D$51,\"X\",\"\")","v":""},{"$f":"IF(E463=AP!$D$50,\"X\",\"\")","v":""},{"$f":"IF(E463=AP!$D$49,\"X\",\"\")","v":""},{"$f":"IF(E463=AP!$D$53,\"X\",\"\")","v":"X"},"NA",null,{"$f":"IF(L463=AP!$D$52,\"X\",\"\")","v":""},{"$f":"IF(L463=AP!$D$51,\"X\",\"\")","v":""},{"$f":"IF(L463=AP!$D$50,\"X\",\"\")","v":""},{"$f":"IF(L463=AP!$D$49,\"X\",\"\")","v":""},{"$f":"IF(L463=AP!$D$53,\"X\",\"\")","v":"X"},"NA",null,{"$f":"IF(S463=AP!$D$52,\"X\",\"\")","v":""},{"$f":"IF(S463=AP!$D$51,\"X\",\"\")","v":""},{"$f":"IF(S463=AP!$D$50,\"X\",\"\")","v":""},{"$f":"IF(S463=AP!$D$49,\"X\",\"\")","v":""},{"$f":"IF(S463=AP!$D$53,\"X\",\"\")","v":"X"},{"$f":"IF(G463=\"x\",4,IF(H463=\"x\",3,IF(I463=\"x\",2,IF(J463=\"x\",1,IF(K463=\"x\",\"NR\",\"\")))))","v":"NR"},{"$f":"IF(N463=\"x\",4,IF(O463=\"x\",3,IF(P463=\"x\",2,IF(Q463=\"x\",1,IF(R463=\"x\",\"NR\",\"\")))))","v":"NR"},{"$f":"IF(U463=\"x\",4,IF(V463=\"x\",3,IF(W463=\"x\",2,IF(X463=\"x\",1,IF(Y463=\"x\",\"NR\",\"\")))))","v":"NR"}]
[]
[{"$f":"AP!$A$54","v":"AP3.0"},{"$f":"AP!$B$54","v":"Product and Process Validation"}]
[{"$f":"AP!$A$55","v":"AP3.1"},{"$f":"AP!$C$55","v":"Measurement System Analysis"},null,null,"NA",null,{"$f":"IF(E466=AP!$D$59,\"X\",\"\")","v":""},{"$f":"IF(E466=AP!$D$58,\"X\",\"\")","v":""},{"$f":"IF(E466=AP!$D$57,\"X\",\"\")","v":""},{"$f":"IF(E466=AP!$D$56,\"X\",\"\")","v":""},{"$f":"IF(E466=AP!$D$60,\"X\",\"\")","v":"X"},"NA",null,{"$f":"IF(L466=AP!$D$59,\"X\",\"\")","v":""},{"$f":"IF(L466=AP!$D$58,\"X\",\"\")","v":""},{"$f":"IF(L466=AP!$D$57,\"X\",\"\")","v":""},{"$f":"IF(L466=AP!$D$56,\"X\",\"\")","v":""},{"$f":"IF(L466=AP!$D$60,\"X\",\"\")","v":"X"},"NA",null,{"$f":"IF(S466=AP!$D$59,\"X\",\"\")","v":""},{"$f":"IF(S466=AP!$D$58,\"X\",\"\")","v":""},{"$f":"IF(S466=AP!$D$57,\"X\",\"\")","v":""},{"$f":"IF(S466=AP!$D$56,\"X\",\"\")","v":""},{"$f":"IF(S466=AP!$D$60,\"X\",\"\")","v":"X"},{"$f":"IF(G466=\"x\",4,IF(H466=\"x\",3,IF(I466=\"x\",2,IF(J466=\"x\",1,IF(K466=\"x\",\"NR\",\"\")))))","v":"NR"},{"$f":"IF(N466=\"x\",4,IF(O466=\"x\",3,IF(P466=\"x\",2,IF(Q466=\"x\",1,IF(R466=\"x\",\"NR\",\"\")))))","v":"NR"},{"$f":"IF(U466=\"x\",4,IF(V466=\"x\",3,IF(W466=\"x\",2,IF(X466=\"x\",1,IF(Y466=\"x\",\"NR\",\"\")))))","v":"NR"},{"$f":"SUM(Z466:Z469)","v":0},{"$f":"SUM(AA466:AA469)","v":0},{"$f":"SUM(AB466:AB469)","v":0}]
[{"$f":"AP!$A$61","v":"AP3.2"},{"$f":"AP!$C$61","v":"Packaging Validation"},null,null,"NA",null,{"$f":"IF(E467=AP!$D$65,\"X\",\"\")","v":""},{"$f":"IF(E467=AP!$D$64,\"X\",\"\")","v":""},{"$f":"IF(E467=AP!$D$63,\"X\",\"\")","v":""},{"$f":"IF(E467=AP!$D$62,\"X\",\"\")","v":""},{"$f":"IF(E467=AP!$D$66,\"X\",\"\")","v":"X"},"NA",null,{"$f":"IF(L467=AP!$D$65,\"X\",\"\")","v":""},{"$f":"IF(L467=AP!$D$64,\"X\",\"\")","v":""},{"$f":"IF(L467=AP!$D$63,\"X\",\"\")","v":""},{"$f":"IF(L467=AP!$D$62,\"X\",\"\")","v":""},{"$f":"IF(L467=AP!$D$66,\"X\",\"\")","v":"X"},"NA",null,{"$f":"IF(S467=AP!$D$65,\"X\",\"\")","v":""},{"$f":"IF(S467=AP!$D$64,\"X\",\"\")","v":""},{"$f":"IF(S467=AP!$D$63,\"X\",\"\")","v":""},{"$f":"IF(S467=AP!$D$62,\"X\",\"\")","v":""},{"$f":"IF(S467=AP!$D$66,\"X\",\"\")","v":"X"},{"$f":"IF(G467=\"x\",4,IF(H467=\"x\",3,IF(I467=\"x\",2,IF(J467=\"x\",1,IF(K467=\"x\",\"NR\",\"\")))))","v":"NR"},{"$f":"IF(N467=\"x\",4,IF(O467=\"x\",3,IF(P467=\"x\",2,IF(Q467=\"x\",1,IF(R467=\"x\",\"NR\",\"\")))))","v":"NR"},{"$f":"IF(U467=\"x\",4,IF(V467=\"x\",3,IF(W467=\"x\",2,IF(X467=\"x\",1,IF(Y467=\"x\",\"NR\",\"\")))))","v":"NR"}]
[{"$f":"AP!$A$67","v":"AP3.3"},{"$f":"AP!$C$67","v":"PPAP approval"},null,null,"NA",null,{"$f":"IF(E468=AP!$D$71,\"X\",\"\")","v":""},{"$f":"IF(E468=AP!$D$70,\"X\",\"\")","v":""},{"$f":"IF(E468=AP!$D$69,\"X\",\"\")","v":""},{"$f":"IF(E468=AP!$D$68,\"X\",\"\")","v":""},{"$f":"IF(E468=AP!$D$72,\"X\",\"\")","v":"X"},"NA",null,{"$f":"IF(L468=AP!$D$71,\"X\",\"\")","v":""},{"$f":"IF(L468=AP!$D$70,\"X\",\"\")","v":""},{"$f":"IF(L468=AP!$D$69,\"X\",\"\")","v":""},{"$f":"IF(L468=AP!$D$68,\"X\",\"\")","v":""},{"$f":"IF(L468=AP!$D$72,\"X\",\"\")","v":"X"},"NA",null,{"$f":"IF(S468=AP!$D$71,\"X\",\"\")","v":""},{"$f":"IF(S468=AP!$D$70,\"X\",\"\")","v":""},{"$f":"IF(S468=AP!$D$69,\"X\",\"\")","v":""},{"$f":"IF(S468=AP!$D$68,\"X\",\"\")","v":""},{"$f":"IF(S468=AP!$D$72,\"X\",\"\")","v":"X"},{"$f":"IF(G468=\"x\",4,IF(H468=\"x\",3,IF(I468=\"x\",2,IF(J468=\"x\",1,IF(K468=\"x\",\"NR\",\"\")))))","v":"NR"},{"$f":"IF(N468=\"x\",4,IF(O468=\"x\",3,IF(P468=\"x\",2,IF(Q468=\"x\",1,IF(R468=\"x\",\"NR\",\"\")))))","v":"NR"},{"$f":"IF(U468=\"x\",4,IF(V468=\"x\",3,IF(W468=\"x\",2,IF(X468=\"x\",1,IF(Y468=\"x\",\"NR\",\"\")))))","v":"NR"}]
[{"$f":"AP!$A$73","v":"AP3.4"},{"$f":"AP!$C$73","v":"Significant Production Run"},null,null,"NA",null,{"$f":"IF(E469=AP!$D$77,\"X\",\"\")","v":""},{"$f":"IF(E469=AP!$D$76,\"X\",\"\")","v":""},{"$f":"IF(E469=AP!$D$75,\"X\",\"\")","v":""},{"$f":"IF(E469=AP!$D$74,\"X\",\"\")","v":""},{"$f":"IF(E469=AP!$D$78,\"X\",\"\")","v":"X"},"NA",null,{"$f":"IF(L469=AP!$D$77,\"X\",\"\")","v":""},{"$f":"IF(L469=AP!$D$76,\"X\",\"\")","v":""},{"$f":"IF(L469=AP!$D$75,\"X\",\"\")","v":""},{"$f":"IF(L469=AP!$D$74,\"X\",\"\")","v":""},{"$f":"IF(L469=AP!$D$78,\"X\",\"\")","v":"X"},"NA",null,{"$f":"IF(S469=AP!$D$77,\"X\",\"\")","v":""},{"$f":"IF(S469=AP!$D$76,\"X\",\"\")","v":""},{"$f":"IF(S469=AP!$D$75,\"X\",\"\")","v":""},{"$f":"IF(S469=AP!$D$74,\"X\",\"\")","v":""},{"$f":"IF(S469=AP!$D$78,\"X\",\"\")","v":"X"},{"$f":"IF(G469=\"x\",4,IF(H469=\"x\",3,IF(I469=\"x\",2,IF(J469=\"x\",1,IF(K469=\"x\",\"NR\",\"\")))))","v":"NR"},{"$f":"IF(N469=\"x\",4,IF(O469=\"x\",3,IF(P469=\"x\",2,IF(Q469=\"x\",1,IF(R469=\"x\",\"NR\",\"\")))))","v":"NR"},{"$f":"IF(U469=\"x\",4,IF(V469=\"x\",3,IF(W469=\"x\",2,IF(X469=\"x\",1,IF(Y469=\"x\",\"NR\",\"\")))))","v":"NR"}]
[]
[{"$f":"AP!$A$79","v":"APE"},{"$f":"AP!$B$79","v":"Effectiveness"}]
[{"$f":"AP!$A$80","v":"APE.1"},{"$f":"AP!$C$80","v":"Effectiveness measure"},null,null,"NA",null,{"$f":"IF(E472=AP!$D$84,\"X\",\"\")","v":""},{"$f":"IF(E472=AP!$D$83,\"X\",\"\")","v":""},{"$f":"IF(E472=AP!$D$82,\"X\",\"\")","v":""},{"$f":"IF(E472=AP!$D$81,\"X\",\"\")","v":""},{"$f":"IF(E472=AP!$D$85,\"X\",\"\")","v":"X"},"NA",null,{"$f":"IF(L472=AP!$D$84,\"X\",\"\")","v":""},{"$f":"IF(L472=AP!$D$83,\"X\",\"\")","v":""},{"$f":"IF(L472=AP!$D$82,\"X\",\"\")","v":""},{"$f":"IF(L472=AP!$D$81,\"X\",\"\")","v":""},{"$f":"IF(L472=AP!$D$85,\"X\",\"\")","v":"X"},"NA",null,{"$f":"IF(S472=AP!$D$84,\"X\",\"\")","v":""},{"$f":"IF(S472=AP!$D$83,\"X\",\"\")","v":""},{"$f":"IF(S472=AP!$D$82,\"X\",\"\")","v":""},{"$f":"IF(S472=AP!$D$81,\"X\",\"\")","v":""},{"$f":"IF(S472=AP!$D$85,\"X\",\"\")","v":"X"},{"$f":"IF(G472=\"x\",4,IF(H472=\"x\",3,IF(I472=\"x\",2,IF(J472=\"x\",1,IF(K472=\"x\",\"NR\",\"\")))))","v":"NR"},{"$f":"IF(N472=\"x\",4,IF(O472=\"x\",3,IF(P472=\"x\",2,IF(Q472=\"x\",1,IF(R472=\"x\",\"NR\",\"\")))))","v":"NR"},{"$f":"IF(U472=\"x\",4,IF(V472=\"x\",3,IF(W472=\"x\",2,IF(X472=\"x\",1,IF(Y472=\"x\",\"NR\",\"\")))))","v":"NR"},{"$f":"SUM(Z472)","v":0},{"$f":"SUM(AA472)","v":0},{"$f":"SUM(AB472)","v":0}]
[]
[null,null,null,null,null,null,null,null,null,null,null,null,null,null,null,null,null,null,null,null,null,null,null,null,null,"Total",null,null,{"$f":"(AC454+AC460+AC466+AC472)","v":0},{"$f":"(AD466+AD460+AD454+AD472)","v":0},{"$f":"(AE466+AE460+AE454+AE472)","v":0}]
[null,null,null,null,null,null,null,null,null,null,null," "," "," "," "," "," "," ",null," "," "," "," "," "," ","Potential",null,null,{"$f":"COUNT(Z454:Z472)*4","v":0},{"$f":"COUNT(AA454:AA472)*4","v":0},{"$f":"COUNT(AB454:AB472)*4","v":0}]
[null,null,null,null,null,null,null,null,null,null,null,null,null,null,null,null,null,null,null,null,null,null,null,null,null,"Total Score",null,null,{"$f":"IF(AC475<>0,AC474/AC475,\"NR\")","v":"NR"},{"$f":"IF(AD475<>0,AD474/AD475,\"NR\")","v":"NR"},{"$f":"IF(AE475<>0,AE474/AE475,\"NR\")","v":"NR"}]
[]
[]
[" ",{"$f":"AQ!B2","v":"Automotive Quality Standards"},null,null,"Build up Score Assessment"," ","Build up Scoring",null,null,null,null,"Build up Score Assessment"," ","Build up Scoring",null,null,null,null,"Build up Score Assessment"," ","Build up Scoring",null,null,null,null,null,null,null,"Sub Element Score"]
[{"$f":"AQ!$A$4","v":"AQ1.0"},{"$f":"AQ!$B$4","v":"Quality Management system 1-6"},null,"Sub-Element",null,null,4,3,2,1,"NR",null,null,4,3,2,1,"NR",null,null,4,3,2,1,"NR","Self","Onsite","Current","Self","Onsite","Current","Procedures","Findings","Comments"]
[{"$f":"AQ!$A$5","v":"AQ1.1"},{"$f":"AQ!$C$5","v":"General requirements"},null,null,"NA",null,{"$f":"IF(E481=AQ!$D$9,\"X\",\"\")","v":""},{"$f":"IF(E481=AQ!$D$8,\"X\",\"\")","v":""},{"$f":"IF(E481=AQ!$D$7,\"X\",\"\")","v":""},{"$f":"IF(E481=AQ!$D$6,\"X\",\"\")","v":""},{"$f":"IF(E481=AQ!$D$10,\"X\",\"\")","v":"X"},"NA",null,{"$f":"IF(L481=AQ!$D$9,\"X\",\"\")","v":""},{"$f":"IF(L481=AQ!$D$8,\"X\",\"\")","v":""},{"$f":"IF(L481=AQ!$D$7,\"X\",\"\")","v":""},{"$f":"IF(L481=AQ!$D$6,\"X\",\"\")","v":""},{"$f":"IF(L481=AQ!$D$10,\"X\",\"\")","v":"X"},"NA",null,{"$f":"IF(S481=AQ!$D$9,\"X\",\"\")","v":""},{"$f":"IF(S481=AQ!$D$8,\"X\",\"\")","v":""},{"$f":"IF(S481=AQ!$D$7,\"X\",\"\")","v":""},{"$f":"IF(S481=AQ!$D$6,\"X\",\"\")","v":""},{"$f":"IF(S481=AQ!$D$10,\"X\",\"\")","v":"X"},{"$f":"IF(G481=\"x\",4,IF(H481=\"x\",3,IF(I481=\"x\",2,IF(J481=\"x\",1,IF(K481=\"x\",\"NR\",\"\")))))","v":"NR"},{"$f":"IF(N481=\"x\",4,IF(O481=\"x\",3,IF(P481=\"x\",2,IF(Q481=\"x\",1,IF(R481=\"x\",\"NR\",\"\")))))","v":"NR"},{"$f":"IF(U481=\"x\",4,IF(V481=\"x\",3,IF(W481=\"x\",2,IF(X481=\"x\",1,IF(Y481=\"x\",\"NR\",\"\")))))","v":"NR"},{"$f":"SUM(Z481:Z484)","v":0},{"$f":"SUM(AA481:AA484)","v":0},{"$f":"SUM(AB481:AB484)","v":0}]
[{"$f":"AQ!$A$11","v":"AQ1.2"},{"$f":"AQ!$C$11","v":"Context of the Organization Clause 4"},null,null,"NA",null,{"$f":"IF(E482=AQ!$D$15,\"X\",\"\")","v":""},{"$f":"IF(E482=AQ!$D$14,\"X\",\"\")","v":""},{"$f":"IF(E482=AQ!$D$13,\"X\",\"\")","v":""},{"$f":"IF(E482=AQ!$D$12,\"X\",\"\")","v":""},{"$f":"IF(E482=AQ!$D$16,\"X\",\"\")","v":"X"},"NA",null,{"$f":"IF(L482=AQ!$D$15,\"X\",\"\")","v":""},{"$f":"IF(L482=AQ!$D$14,\"X\",\"\")","v":""},{"$f":"IF(L482=AQ!$D$13,\"X\",\"\")","v":""},{"$f":"IF(L482=AQ!$D$12,\"X\",\"\")","v":""},{"$f":"IF(L482=AQ!$D$16,\"X\",\"\")","v":"X"},"NA",null,{"$f":"IF(S482=AQ!$D$15,\"X\",\"\")","v":""},{"$f":"IF(S482=AQ!$D$14,\"X\",\"\")","v":""},{"$f":"IF(S482=AQ!$D$13,\"X\",\"\")","v":""},{"$f":"IF(S482=AQ!$D$12,\"X\",\"\")","v":""},{"$f":"IF(S482=AQ!$D$16,\"X\",\"\")","v":"X"},{"$f":"IF(G482=\"x\",4,IF(H482=\"x\",3,IF(I482=\"x\",2,IF(J482=\"x\",1,IF(K482=\"x\",\"NR\",\"\")))))","v":"NR"},{"$f":"IF(N482=\"x\",4,IF(O482=\"x\",3,IF(P482=\"x\",2,IF(Q482=\"x\",1,IF(R482=\"x\",\"NR\",\"\")))))","v":"NR"},{"$f":"IF(U482=\"x\",4,IF(V482=\"x\",3,IF(W482=\"x\",2,IF(X482=\"x\",1,IF(Y482=\"x\",\"NR\",\"\")))))","v":"NR"}]
[{"$f":"AQ!$A$17","v":"AQ1.3"},{"$f":"AQ!$C$17","v":"Leadership Clause 5"},null,null,"NA",null,{"$f":"IF(E483=AQ!$D$21,\"X\",\"\")","v":""},{"$f":"IF(E483=AQ!$D$20,\"X\",\"\")","v":""},{"$f":"IF(E483=AQ!$D$19,\"X\",\"\")","v":""},{"$f":"IF(E483=AQ!$D$18,\"X\",\"\")","v":""},{"$f":"IF(E483=AQ!$D$22,\"X\",\"\")","v":"X"},"NA",null,{"$f":"IF(L483=AQ!$D$21,\"X\",\"\")","v":""},{"$f":"IF(L483=AQ!$D$20,\"X\",\"\")","v":""},{"$f":"IF(L483=AQ!$D$19,\"X\",\"\")","v":""},{"$f":"IF(L483=AQ!$D$18,\"X\",\"\")","v":""},{"$f":"IF(L483=AQ!$D$22,\"X\",\"\")","v":"X"},"NA",null,{"$f":"IF(S483=AQ!$D$21,\"X\",\"\")","v":""},{"$f":"IF(S483=AQ!$D$20,\"X\",\"\")","v":""},{"$f":"IF(S483=AQ!$D$19,\"X\",\"\")","v":""},{"$f":"IF(S483=AQ!$D$18,\"X\",\"\")","v":""},{"$f":"IF(S483=AQ!$D$22,\"X\",\"\")","v":"X"},{"$f":"IF(G483=\"x\",4,IF(H483=\"x\",3,IF(I483=\"x\",2,IF(J483=\"x\",1,IF(K483=\"x\",\"NR\",\"\")))))","v":"NR"},{"$f":"IF(N483=\"x\",4,IF(O483=\"x\",3,IF(P483=\"x\",2,IF(Q483=\"x\",1,IF(R483=\"x\",\"NR\",\"\")))))","v":"NR"},{"$f":"IF(U483=\"x\",4,IF(V483=\"x\",3,IF(W483=\"x\",2,IF(X483=\"x\",1,IF(Y483=\"x\",\"NR\",\"\")))))","v":"NR"}]
[{"$f":"AQ!$A$23","v":"AQ1.4"},{"$f":"AQ!$C$23","v":"Planning Clause 6"},null,null,"NA",null,{"$f":"IF(E484=AQ!$D$27,\"X\",\"\")","v":""},{"$f":"IF(E484=AQ!$D$26,\"X\",\"\")","v":""},{"$f":"IF(E484=AQ!$D$25,\"X\",\"\")","v":""},{"$f":"IF(E484=AQ!$D$24,\"X\",\"\")","v":""},{"$f":"IF(E484=AQ!$D$28,\"X\",\"\")","v":"X"},"NA",null,{"$f":"IF(L484=AQ!$D$27,\"X\",\"\")","v":""},{"$f":"IF(L484=AQ!$D$26,\"X\",\"\")","v":""},{"$f":"IF(L484=AQ!$D$25,\"X\",\"\")","v":""},{"$f":"IF(L484=AQ!$D$24,\"X\",\"\")","v":""},{"$f":"IF(L484=AQ!$D$28,\"X\",\"\")","v":"X"},"NA",null,{"$f":"IF(S484=AQ!$D$27,\"X\",\"\")","v":""},{"$f":"IF(S484=AQ!$D$26,\"X\",\"\")","v":""},{"$f":"IF(S484=AQ!$D$25,\"X\",\"\")","v":""},{"$f":"IF(S484=AQ!$D$24,\"X\",\"\")","v":""},{"$f":"IF(S484=AQ!$D$28,\"X\",\"\")","v":"X"},{"$f":"IF(G484=\"x\",4,IF(H484=\"x\",3,IF(I484=\"x\",2,IF(J484=\"x\",1,IF(K484=\"x\",\"NR\",\"\")))))","v":"NR"},{"$f":"IF(N484=\"x\",4,IF(O484=\"x\",3,IF(P484=\"x\",2,IF(Q484=\"x\",1,IF(R484=\"x\",\"NR\",\"\")))))","v":"NR"},{"$f":"IF(U484=\"x\",4,IF(V484=\"x\",3,IF(W484=\"x\",2,IF(X484=\"x\",1,IF(Y484=\"x\",\"NR\",\"\")))))","v":"NR"}]
[]
[{"$f":"AQ!$A$29","v":"AQ2.0"},{"$f":"AQ!$B$29","v":"Support and Operation Clauses 7 & 8"}]
[{"$f":"AQ!$A$30","v":"AQ2.1"},{"$f":"AQ!$C$30","v":"Resources 7.1   Competence 7.2"},null,null,"NA",null,{"$f":"IF(E487=AQ!$D$34,\"X\",\"\")","v":""},{"$f":"IF(E487=AQ!$D$33,\"X\",\"\")","v":""},{"$f":"IF(E487=AQ!$D$32,\"X\",\"\")","v":""},{"$f":"IF(E487=AQ!$D$31,\"X\",\"\")","v":""},{"$f":"IF(E487=AQ!$D$35,\"X\",\"\")","v":"X"},"NA",null,{"$f":"IF(L487=AQ!$D$34,\"X\",\"\")","v":""},{"$f":"IF(L487=AQ!$D$33,\"X\",\"\")","v":""},{"$f":"IF(L487=AQ!$D$32,\"X\",\"\")","v":""},{"$f":"IF(L487=AQ!$D$31,\"X\",\"\")","v":""},{"$f":"IF(L487=AQ!$D$35,\"X\",\"\")","v":"X"},"NA",null,{"$f":"IF(S487=AQ!$D$34,\"X\",\"\")","v":""},{"$f":"IF(S487=AQ!$D$33,\"X\",\"\")","v":""},{"$f":"IF(S487=AQ!$D$32,\"X\",\"\")","v":""},{"$f":"IF(S487=AQ!$D$31,\"X\",\"\")","v":""},{"$f":"IF(S487=AQ!$D$35,\"X\",\"\")","v":"X"},{"$f":"IF(G487=\"x\",4,IF(H487=\"x\",3,IF(I487=\"x\",2,IF(J487=\"x\",1,IF(K487=\"x\",\"NR\",\"\")))))","v":"NR"},{"$f":"IF(N487=\"x\",4,IF(O487=\"x\",3,IF(P487=\"x\",2,IF(Q487=\"x\",1,IF(R487=\"x\",\"NR\",\"\")))))","v":"NR"},{"$f":"IF(U487=\"x\",4,IF(V487=\"x\",3,IF(W487=\"x\",2,IF(X487=\"x\",1,IF(Y487=\"x\",\"NR\",\"\")))))","v":"NR"},{"$f":"SUM(Z487:Z490)","v":0},{"$f":"SUM(AA487:AA490)","v":0},{"$f":"SUM(AB487:AB490)","v":0}]
[{"$f":"AQ!$A$36","v":"AQ2.2"},{"$f":"AQ!$C$36","v":"Awareness 7.3  Communication 7.4  Documentation 7.5"},null,null,"NA",null,{"$f":"IF(E488=AQ!$D$40,\"X\",\"\")","v":""},{"$f":"IF(E488=AQ!$D$39,\"X\",\"\")","v":""},{"$f":"IF(E488=AQ!$D$38,\"X\",\"\")","v":""},{"$f":"IF(E488=AQ!$D$37,\"X\",\"\")","v":""},{"$f":"IF(E488=AQ!$D$41,\"X\",\"\")","v":"X"},"NA",null,{"$f":"IF(L488=AQ!$D$40,\"X\",\"\")","v":""},{"$f":"IF(L488=AQ!$D$39,\"X\",\"\")","v":""},{"$f":"IF(L488=AQ!$D$38,\"X\",\"\")","v":""},{"$f":"IF(L488=AQ!$D$37,\"X\",\"\")","v":""},{"$f":"IF(L488=AQ!$D$41,\"X\",\"\")","v":"X"},"NA",null,{"$f":"IF(S488=AQ!$D$40,\"X\",\"\")","v":""},{"$f":"IF(S488=AQ!$D$39,\"X\",\"\")","v":""},{"$f":"IF(S488=AQ!$D$38,\"X\",\"\")","v":""},{"$f":"IF(S488=AQ!$D$37,\"X\",\"\")","v":""},{"$f":"IF(S488=AQ!$D$41,\"X\",\"\")","v":"X"},{"$f":"IF(G488=\"x\",4,IF(H488=\"x\",3,IF(I488=\"x\",2,IF(J488=\"x\",1,IF(K488=\"x\",\"NR\",\"\")))))","v":"NR"},{"$f":"IF(N488=\"x\",4,IF(O488=\"x\",3,IF(P488=\"x\",2,IF(Q488=\"x\",1,IF(R488=\"x\",\"NR\",\"\")))))","v":"NR"},{"$f":"IF(U488=\"x\",4,IF(V488=\"x\",3,IF(W488=\"x\",2,IF(X488=\"x\",1,IF(Y488=\"x\",\"NR\",\"\")))))","v":"NR"}]
[{"$f":"AQ!$A$42","v":"AQ2.3"},{"$f":"AQ!$C$42","v":"Operation Planning 8.1  Requirements 8.2  Design 8.3"},null,null,"NA",null,{"$f":"IF(E489=AQ!$D$46,\"X\",\"\")","v":""},{"$f":"IF(E489=AQ!$D$45,\"X\",\"\")","v":""},{"$f":"IF(E489=AQ!$D$44,\"X\",\"\")","v":""},{"$f":"IF(E489=AQ!$D$43,\"X\",\"\")","v":""},{"$f":"IF(E489=AQ!$D$47,\"X\",\"\")","v":"X"},"NA",null,{"$f":"IF(L489=AQ!$D$46,\"X\",\"\")","v":""},{"$f":"IF(L489=AQ!$D$45,\"X\",\"\")","v":""},{"$f":"IF(L489=AQ!$D$44,\"X\",\"\")","v":""},{"$f":"IF(L489=AQ!$D$43,\"X\",\"\")","v":""},{"$f":"IF(L489=AQ!$D$47,\"X\",\"\")","v":"X"},"NA",null,{"$f":"IF(S489=AQ!$D$46,\"X\",\"\")","v":""},{"$f":"IF(S489=AQ!$D$45,\"X\",\"\")","v":""},{"$f":"IF(S489=AQ!$D$44,\"X\",\"\")","v":""},{"$f":"IF(S489=AQ!$D$43,\"X\",\"\")","v":""},{"$f":"IF(S489=AQ!$D$47,\"X\",\"\")","v":"X"},{"$f":"IF(G489=\"x\",4,IF(H489=\"x\",3,IF(I489=\"x\",2,IF(J489=\"x\",1,IF(K489=\"x\",\"NR\",\"\")))))","v":"NR"},{"$f":"IF(N489=\"x\",4,IF(O489=\"x\",3,IF(P489=\"x\",2,IF(Q489=\"x\",1,IF(R489=\"x\",\"NR\",\"\")))))","v":"NR"},{"$f":"IF(U489=\"x\",4,IF(V489=\"x\",3,IF(W489=\"x\",2,IF(X489=\"x\",1,IF(Y489=\"x\",\"NR\",\"\")))))","v":"NR"}]
[{"$f":"AQ!$A$48","v":"AQ2.4"},{"$f":"AQ!$C$48","v":"External 8.4  Provision 8.5 Release 8.6  Controls 8.7"},null,null,"NA",null,{"$f":"IF(E490=AQ!$D$52,\"X\",\"\")","v":""},{"$f":"IF(E490=AQ!$D$51,\"X\",\"\")","v":""},{"$f":"IF(E490=AQ!$D$50,\"X\",\"\")","v":""},{"$f":"IF(E490=AQ!$D$49,\"X\",\"\")","v":""},{"$f":"IF(E490=AQ!$D$53,\"X\",\"\")","v":"X"},"NA",null,{"$f":"IF(L490=AQ!$D$52,\"X\",\"\")","v":""},{"$f":"IF(L490=AQ!$D$51,\"X\",\"\")","v":""},{"$f":"IF(L490=AQ!$D$50,\"X\",\"\")","v":""},{"$f":"IF(L490=AQ!$D$49,\"X\",\"\")","v":""},{"$f":"IF(L490=AQ!$D$53,\"X\",\"\")","v":"X"},"NA",null,{"$f":"IF(S490=AQ!$D$52,\"X\",\"\")","v":""},{"$f":"IF(S490=AQ!$D$51,\"X\",\"\")","v":""},{"$f":"IF(S490=AQ!$D$50,\"X\",\"\")","v":""},{"$f":"IF(S490=AQ!$D$49,\"X\",\"\")","v":""},{"$f":"IF(S490=AQ!$D$53,\"X\",\"\")","v":"X"},{"$f":"IF(G490=\"x\",4,IF(H490=\"x\",3,IF(I490=\"x\",2,IF(J490=\"x\",1,IF(K490=\"x\",\"NR\",\"\")))))","v":"NR"},{"$f":"IF(N490=\"x\",4,IF(O490=\"x\",3,IF(P490=\"x\",2,IF(Q490=\"x\",1,IF(R490=\"x\",\"NR\",\"\")))))","v":"NR"},{"$f":"IF(U490=\"x\",4,IF(V490=\"x\",3,IF(W490=\"x\",2,IF(X490=\"x\",1,IF(Y490=\"x\",\"NR\",\"\")))))","v":"NR"}]
[]
[{"$f":"AQ!$A$54","v":"AQ3.0"},{"$f":"AQ!$B$54","v":"Performance & Improvement Clauses 9 & 10"}]
[{"$f":"AQ!$A$55","v":"AQ3.1"},{"$f":"AQ!$C$55","v":"Monitoring"},null,null,"NA",null,{"$f":"IF(E493=AQ!$D$59,\"X\",\"\")","v":""},{"$f":"IF(E493=AQ!$D$58,\"X\",\"\")","v":""},{"$f":"IF(E493=AQ!$D$57,\"X\",\"\")","v":""},{"$f":"IF(E493=AQ!$D$56,\"X\",\"\")","v":""},{"$f":"IF(E493=AQ!$D$60,\"X\",\"\")","v":"X"},"NA",null,{"$f":"IF(L493=AQ!$D$59,\"X\",\"\")","v":""},{"$f":"IF(L493=AQ!$D$58,\"X\",\"\")","v":""},{"$f":"IF(L493=AQ!$D$57,\"X\",\"\")","v":""},{"$f":"IF(L493=AQ!$D$56,\"X\",\"\")","v":""},{"$f":"IF(L493=AQ!$D$60,\"X\",\"\")","v":"X"},"NA",null,{"$f":"IF(S493=AQ!$D$59,\"X\",\"\")","v":""},{"$f":"IF(S493=AQ!$D$58,\"X\",\"\")","v":""},{"$f":"IF(S493=AQ!$D$57,\"X\",\"\")","v":""},{"$f":"IF(S493=AQ!$D$56,\"X\",\"\")","v":""},{"$f":"IF(S493=AQ!$D$60,\"X\",\"\")","v":"X"},{"$f":"IF(G493=\"x\",4,IF(H493=\"x\",3,IF(I493=\"x\",2,IF(J493=\"x\",1,IF(K493=\"x\",\"NR\",\"\")))))","v":"NR"},{"$f":"IF(N493=\"x\",4,IF(O493=\"x\",3,IF(P493=\"x\",2,IF(Q493=\"x\",1,IF(R493=\"x\",\"NR\",\"\")))))","v":"NR"},{"$f":"IF(U493=\"x\",4,IF(V493=\"x\",3,IF(W493=\"x\",2,IF(X493=\"x\",1,IF(Y493=\"x\",\"NR\",\"\")))))","v":"NR"},{"$f":"SUM(Z493:Z496)","v":0},{"$f":"SUM(AA493:AA496)","v":0},{"$f":"SUM(AB493:AB496)","v":0}]
[{"$f":"AQ!$A$61","v":"AQ3.2"},{"$f":"AQ!$C$61","v":"Internal Audit 9.2"},null,null,"NA",null,{"$f":"IF(E494=AQ!$D$65,\"X\",\"\")","v":""},{"$f":"IF(E494=AQ!$D$64,\"X\",\"\")","v":""},{"$f":"IF(E494=AQ!$D$63,\"X\",\"\")","v":""},{"$f":"IF(E494=AQ!$D$62,\"X\",\"\")","v":""},{"$f":"IF(E494=AQ!$D$66,\"X\",\"\")","v":"X"},"NA",null,{"$f":"IF(L494=AQ!$D$65,\"X\",\"\")","v":""},{"$f":"IF(L494=AQ!$D$64,\"X\",\"\")","v":""},{"$f":"IF(L494=AQ!$D$63,\"X\",\"\")","v":""},{"$f":"IF(L494=AQ!$D$62,\"X\",\"\")","v":""},{"$f":"IF(L494=AQ!$D$66,\"X\",\"\")","v":"X"},"NA",null,{"$f":"IF(S494=AQ!$D$65,\"X\",\"\")","v":""},{"$f":"IF(S494=AQ!$D$64,\"X\",\"\")","v":""},{"$f":"IF(S494=AQ!$D$63,\"X\",\"\")","v":""},{"$f":"IF(S494=AQ!$D$62,\"X\",\"\")","v":""},{"$f":"IF(S494=AQ!$D$66,\"X\",\"\")","v":"X"},{"$f":"IF(G494=\"x\",4,IF(H494=\"x\",3,IF(I494=\"x\",2,IF(J494=\"x\",1,IF(K494=\"x\",\"NR\",\"\")))))","v":"NR"},{"$f":"IF(N494=\"x\",4,IF(O494=\"x\",3,IF(P494=\"x\",2,IF(Q494=\"x\",1,IF(R494=\"x\",\"NR\",\"\")))))","v":"NR"},{"$f":"IF(U494=\"x\",4,IF(V494=\"x\",3,IF(W494=\"x\",2,IF(X494=\"x\",1,IF(Y494=\"x\",\"NR\",\"\")))))","v":"NR"}]
[{"$f":"AQ!$A$67","v":"AQ3.3"},{"$f":"AQ!$C$67","v":"Management Review 9.3"},null,null,"NA",null,{"$f":"IF(E495=AQ!$D$71,\"X\",\"\")","v":""},{"$f":"IF(E495=AQ!$D$70,\"X\",\"\")","v":""},{"$f":"IF(E495=AQ!$D$69,\"X\",\"\")","v":""},{"$f":"IF(E495=AQ!$D$68,\"X\",\"\")","v":""},{"$f":"IF(E495=AQ!$D$72,\"X\",\"\")","v":"X"},"NA",null,{"$f":"IF(L495=AQ!$D$71,\"X\",\"\")","v":""},{"$f":"IF(L495=AQ!$D$70,\"X\",\"\")","v":""},{"$f":"IF(L495=AQ!$D$69,\"X\",\"\")","v":""},{"$f":"IF(L495=AQ!$D$68,\"X\",\"\")","v":""},{"$f":"IF(L495=AQ!$D$72,\"X\",\"\")","v":"X"},"NA",null,{"$f":"IF(S495=AQ!$D$71,\"X\",\"\")","v":""},{"$f":"IF(S495=AQ!$D$70,\"X\",\"\")","v":""},{"$f":"IF(S495=AQ!$D$69,\"X\",\"\")","v":""},{"$f":"IF(S495=AQ!$D$68,\"X\",\"\")","v":""},{"$f":"IF(S495=AQ!$D$72,\"X\",\"\")","v":"X"},{"$f":"IF(G495=\"x\",4,IF(H495=\"x\",3,IF(I495=\"x\",2,IF(J495=\"x\",1,IF(K495=\"x\",\"NR\",\"\")))))","v":"NR"},{"$f":"IF(N495=\"x\",4,IF(O495=\"x\",3,IF(P495=\"x\",2,IF(Q495=\"x\",1,IF(R495=\"x\",\"NR\",\"\")))))","v":"NR"},{"$f":"IF(U495=\"x\",4,IF(V495=\"x\",3,IF(W495=\"x\",2,IF(X495=\"x\",1,IF(Y495=\"x\",\"NR\",\"\")))))","v":"NR"}]
[{"$f":"AQ!$A$73","v":"AQ3.4"},{"$f":"AQ!$C$73","v":"Improvement Clause 10"},null,null,"NA",null,{"$f":"IF(E496=AQ!$D$77,\"X\",\"\")","v":""},{"$f":"IF(E496=AQ!$D$76,\"X\",\"\")","v":""},{"$f":"IF(E496=AQ!$D$75,\"X\",\"\")","v":""},{"$f":"IF(E496=AQ!$D$74,\"X\",\"\")","v":""},{"$f":"IF(E496=AQ!$D$78,\"X\",\"\")","v":"X"},"NA",null,{"$f":"IF(L496=AQ!$D$77,\"X\",\"\")","v":""},{"$f":"IF(L496=AQ!$D$76,\"X\",\"\")","v":""},{"$f":"IF(L496=AQ!$D$75,\"X\",\"\")","v":""},{"$f":"IF(L496=AQ!$D$74,\"X\",\"\")","v":""},{"$f":"IF(L496=AQ!$D$78,\"X\",\"\")","v":"X"},"NA",null,{"$f":"IF(S496=AQ!$D$77,\"X\",\"\")","v":""},{"$f":"IF(S496=AQ!$D$76,\"X\",\"\")","v":""},{"$f":"IF(S496=AQ!$D$75,\"X\",\"\")","v":""},{"$f":"IF(S496=AQ!$D$74,\"X\",\"\")","v":""},{"$f":"IF(S496=AQ!$D$78,\"X\",\"\")","v":"X"},{"$f":"IF(G496=\"x\",4,IF(H496=\"x\",3,IF(I496=\"x\",2,IF(J496=\"x\",1,IF(K496=\"x\",\"NR\",\"\")))))","v":"NR"},{"$f":"IF(N496=\"x\",4,IF(O496=\"x\",3,IF(P496=\"x\",2,IF(Q496=\"x\",1,IF(R496=\"x\",\"NR\",\"\")))))","v":"NR"},{"$f":"IF(U496=\"x\",4,IF(V496=\"x\",3,IF(W496=\"x\",2,IF(X496=\"x\",1,IF(Y496=\"x\",\"NR\",\"\")))))","v":"NR"}]
[]
[{"$f":"AQ!$A$79","v":"AQE"},{"$f":"AQ!$B$79","v":"Effectiveness"}]
[{"$f":"AQ!$A$80","v":"AQE.1"},{"$f":"AQ!$C$80","v":"IATF 16949 Certification"},null,null,"NA",null,{"$f":"IF(E499=AQ!$D$84,\"X\",\"\")","v":""},{"$f":"IF(E499=AQ!$D$83,\"X\",\"\")","v":""},{"$f":"IF(E499=AQ!$D$82,\"X\",\"\")","v":""},{"$f":"IF(E499=AQ!$D$81,\"X\",\"\")","v":""},{"$f":"IF(E499=AQ!$D$85,\"X\",\"\")","v":"X"},"NA",null,{"$f":"IF(L499=AQ!$D$84,\"X\",\"\")","v":""},{"$f":"IF(L499=AQ!$D$83,\"X\",\"\")","v":""},{"$f":"IF(L499=AQ!$D$82,\"X\",\"\")","v":""},{"$f":"IF(L499=AQ!$D$81,\"X\",\"\")","v":""},{"$f":"IF(L499=AQ!$D$85,\"X\",\"\")","v":"X"},"NA",null,{"$f":"IF(S499=AQ!$D$84,\"X\",\"\")","v":""},{"$f":"IF(S499=AQ!$D$83,\"X\",\"\")","v":""},{"$f":"IF(S499=AQ!$D$82,\"X\",\"\")","v":""},{"$f":"IF(S499=AQ!$D$81,\"X\",\"\")","v":""},{"$f":"IF(S499=AQ!$D$85,\"X\",\"\")","v":"X"},{"$f":"IF(G499=\"x\",4,IF(H499=\"x\",3,IF(I499=\"x\",2,IF(J499=\"x\",1,IF(K499=\"x\",\"NR\",\"\")))))","v":"NR"},{"$f":"IF(N499=\"x\",4,IF(O499=\"x\",3,IF(P499=\"x\",2,IF(Q499=\"x\",1,IF(R499=\"x\",\"NR\",\"\")))))","v":"NR"},{"$f":"IF(U499=\"x\",4,IF(V499=\"x\",3,IF(W499=\"x\",2,IF(X499=\"x\",1,IF(Y499=\"x\",\"NR\",\"\")))))","v":"NR"},{"$f":"SUM(Z499)","v":0},{"$f":"SUM(AA499)","v":0},{"$f":"SUM(AB499)","v":0}]
[]
[null,null,null,null,null,null,null,null,null,null,null,null,null,null,null,null,null,null,null,null,null,null,null,null,null,"Total",null,null,{"$f":"(AC481+AC487+AC493+AC499)","v":0},{"$f":"(AD493+AD487+AD481+AD499)","v":0},{"$f":"(AE493+AE487+AE481+AE499)","v":0}]
[null,null,null,null,null,null,null,null,null,null,null," "," "," "," "," "," "," ",null," "," "," "," "," "," ","Potential",null,null,{"$f":"COUNT(Z481:Z499)*4","v":0},{"$f":"COUNT(AA481:AA499)*4","v":0},{"$f":"COUNT(AB481:AB499)*4","v":0}]
[null,null,null,null,null,null,null,null,null,null,null,null,null,null,null,null,null,null,null,null,null,null,null,null,null,"Total Score",null,null,{"$f":"IF(AC502<>0,AC501/AC502,\"NR\")","v":"NR"},{"$f":"IF(AD502<>0,AD501/AD502,\"NR\")","v":"NR"},{"$f":"IF(AE502<>0,AE501/AE502,\"NR\")","v":"NR"}]

{"sheet":"Action Plan","index":7,"n_rows":60,"n_cols":8,"rows_kept":60,"cut":false,"hidden":true,"merged":[[0,0,6,7],[7,0,8,7],[10,6,11,6],[10,7,11,7],[10,0,11,0],[10,1,11,1],[10,2,11,2],[10,3,11,3],[10,4,11,4],[10,5,11,5]]}
[]
[]
[]
[]
[]
[]
[]
["Action Plan"]
[]
[]
["Item","Non-conformities - Remark description","Action item ","Action leader","Date opened","Target close date","Actual close date","Remarks / Comments"]
[]
["Sustainability"]
[]
[]
[]
[]
["Fast Response"]
[]
[]
["Control of Nonconforming Product"]
[]
[]
["Verification Station & Error Proofing Verification"]
[]
[]
["Standardized Work"]
[]
[]
["Training"]
[]
[]
["Layered Process Audit"]
[]
[]
["Risk Reduction"]
[]
[]
["Contamination Control"]
[]
[]
["Supply Chain Management"]
[]
[]
["Managing Changes"]
[]
[]
["Maintenance"]
[]
[]
["Manufacturing & Material Flow Management"]
[]
[]
["External Logistic"]
[]
[]
["Advance Product Quality Planning "]
[]
[]
["Automotive Quality Standards"]

{"sheet":"MCA Summary","index":8,"n_rows":118,"n_cols":17,"rows_kept":118,"cut":false,"hidden":true,"merged":[[114,2,114,5],[69,2,69,5],[70,2,70,5],[65,2,65,5],[83,2,83,5],[84,2,84,5],[85,2,85,5],[75,2,75,5],[76,2,76,5],[77,2,77,5],[78,2,78,5],[79,2,79,5],[81,2,81,5],[82,2,82,5],[71,2,71,5],[72,2,72,5],[109,2,109,5],[111,2,111,3],[66,2,66,3],[7,0,8,16],[10,10,10,15],[11,10,11,15],[9,2,9,6],[10,2,10,6],[11,2,11,6],[112,2,112,5],[22,2,22,5],[21,2,21,5],[13,2,13,5],[29,2,29,5],[30,2,30,5],[31,2,31,5],[32,2,32,5],[33,2,33,5],[20,2,20,3],[28,2,28,3],[27,2,27,5],[26,2,26,5],[23,2,23,5],[24,2,24,5],[25,2,25,5],[18,6,18,7],[18,8,18,9],[11,0,11,1],[13,6,17,16],[19,2,19,5],[9,0,9,1],[9,10,9,12],[9,13,9,14],[10,0,10,1],[18,10,18,12],[14,2,14,5],[15,2,15,5],[16,2,16,5],[17,2,17,5],[18,2,18,5],[9,15,9,16],[21,6,21,7],[21,8,21,9],[21,10,21,12],[22,6,22,7],[22,8,22,9],[22,10,22,12],[19,6,19,7],[19,8,19,9],[19,10,19,12],[20,6,20,7],[20,8,20,9],[20,10,20,12],[25,6,25,7],[25,8,25,9],[25,10,25,12],[26,6,26,7],[26,8,26,9],[26,10,26,12],[23,6,23,7],[23,8,23,9],[23,10,23,12],[24,6,24,7],[24,8,24,9],[24,10,24,12],[28,6,28,7],[28,8,28,9],[28,10,28,12],[29,6,29,7],[29,8,29,9],[29,10,29,12],[27,6,27,7],[27,8,27,9],[27,10,27,12],[32,6,32,7],[32,8,32,9],[32,10,32,12],[33,6,33,7],[33,8,33,9],[33,10,33,12],[30,6,30,7],[30,8,30,9],[30,10,30,12],[31,6,31,7],[31,8,31,9],[31,10,31,12],[39,2,39,5],[40,2,40,5],[41,2,41,5],[42,2,42,5],[34,6,34,7],[34,8,34,9],[34,10,34,12],[35,6,35,7],[35,8,35,9],[35,10,35,12],[36,6,36,7],[36,8,36,9],[34,2,34,5],[35,2,35,5],[37,2,37,5],[38,2,38,5],[36,2,36,3],[43,8,43,9],[43,10,43,12],[42,6,42,7],[42,8,42,9],[42,10,42,12],[36,10,36,12],[37,6,37,7],[37,8,37,9],[37,10,37,12],[38,10,38,12],[40,6,40,7],[40,8,40,9],[40,10,40,12],[39,6,39,7],[39,8,39,9],[38,6,38,7],[38,8,38,9],[41,6,41,7],[41,8,41,9],[41,10,41,12],[43,6,43,7],[72,6,72,8],[73,6,73,8],[74,6,74,8],[75,6,75,8],[76,6,76,8],[98,2,98,5],[74,2,74,5],[86,2,86,5],[89,2,89,5],[90,2,90,5],[91,2,91,5],[92,2,92,5],[95,2,95,5],[88,2,88,5],[96,2,96,5],[94,2,94,5],[97,2,97,5],[57,2,57,5],[64,2,64,5],[67,2,67,5],[68,2,68,5],[59,2,59,3],[117,2,117,3],[73,2,73,3],[80,2,80,3],[87,2,87,3],[93,2,93,3],[99,2,99,3],[105,2,105,3],[110,2,110,5],[115,2,115,5],[116,2,116,5],[108,2,108,5],[100,2,100,5],[101,2,101,5],[102,2,102,5],[103,2,103,5],[104,2,104,5],[106,2,106,5],[107,2,107,5],[113,2,113,5],[55,2,55,5],[56,2,56,5],[43,2,43,5],[46,2,46,5],[45,2,45,5],[44,6,44,7],[44,8,44,9],[71,12,71,13],[47,2,47,5],[48,2,48,5],[44,2,44,3],[49,2,49,5],[50,2,50,5],[51,2,51,5],[53,2,53,5],[54,2,54,5],[52,13,52,15],[44,10,44,12],[58,2,58,5],[52,2,52,3],[60,2,60,5],[61,2,61,5],[62,2,62,5],[63,2,63,5]]}
[]
[]
[]
[]
[]
[]
[]
["MCA Summary"]
[]
["Supplier:",null,{"$f":"IF(ISBLANK('Supplier Data'!D14),\"\",'Supplier Data'!D14)","v":""},null,null,null,null,null,null,"Duns Code:",{"$f":"IF(ISBLANK('Supplier Data'!D22),\"\",TEXT('Supplier Data'!D22,\"000000000\"))","v":""},null,null,"Date:",null,{"$f":"IF(ISBLANK('Supplier Data'!N30),\"\",'Supplier Data'!N30)","v":""}]
["Location:",null,{"$f":"IF(ISBLANK('Supplier Data'!D18),\"\",'Supplier Data'!D18)","v":""},null,null,null,null,null,null,"SQE/Team Auditors:"]
["Part Desc:",null,null,null,null,null,null,null,null,"Plant / Quality Mgr:"]
[]
["Quest #","FR","Fast Response",null,null,null,"Process Specific Audit Instructions\n\nA Process Specific Audit (PSA) must be performed for each process that is targeted to be used by a buyer for part Sourcing.  A Passing score on each PSA is required in addition to the MCA Scoring"]
[1,{"$f":"IF('NSA Input Form'!AD13=0,\"*\",'NSA Input Form'!AD13)","v":"*"},{"$f":"FR!$B$4","v":"Daily Fast Response Meeting"}]
[2,{"$f":"IF('NSA Input Form'!AD19=0,\"*\",'NSA Input Form'!AD19)","v":"*"},{"$f":"FR!$B$29","v":"Fast Response Tracking Board"}]
[3,{"$f":"IF('NSA Input Form'!AD25=0,\"*\",'NSA Input Form'!AD25)","v":"*"},{"$f":"FR!$B$54","v":"Problem communication"}]
[4,{"$f":"IF('NSA Input Form'!AD31=0,\"*\",'NSA Input Form'!AD31)","v":"*"},{"$f":"FR!$B$79","v":"Problem Solving Process"}]
[5,{"$f":"IF('NSA Input Form'!AD37=0,\"*\",'NSA Input Form'!AD37)","v":"*"},{"$f":"FR!$B$104","v":"Lessons learned."},null,null,null,"REQUIRED",null,"PSA Judgement",null,"Process Specific Audit"]
["E",{"$f":"IF('NSA Input Form'!AD43=0,\"*\",'NSA Input Form'!AD43)","v":"*"},{"$f":"FR!$B$129","v":"Effectiveness"},null,null,null,"NO",null,{"$f":"IF(G20=\"No\",\"\",INDIRECT(\"'\"&K20&\"'!F3\"))","v":""},null,"CQI-9 Heat Treat Audit"]
[null,{"$f":"SUM(B15:B20)","v":0},"Total Potential",null,{"$f":"'NSA Input Form'!AD46","v":0},{"$f":"IF(B21=0,0,FLOOR(B21/E21,0.01))","v":0},"NO",null,"",null,"CQI-11 Plating Audit"]
[null,"NC","Control of Non-conforming Product",null,null,null,"NO",null,"",null,"CQI-12 Coating Audit"]
[1,{"$f":"IF('NSA Input Form'!AD52=0,\"*\",'NSA Input Form'!AD52)","v":"*"},{"$f":"NC!$B$4","v":"Traceability rules "},null,null,null,"NO",null,"",null,"CQI-15 Welding Audit"]
[2,{"$f":"IF('NSA Input Form'!AD58=0,\"*\",'NSA Input Form'!AD58)","v":"*"},{"$f":"NC!$B$29","v":"Material Segregation"},null,null,null,"NO",null,"",null,"CQI-17 Soldering Audit"]
[3,{"$f":"IF('NSA Input Form'!AD64=0,\"*\",'NSA Input Form'!AD64)","v":"*"},{"$f":"NC!$B$54","v":"Reaction and Escalation"},null,null,null,"NO",null,"",null,"Aluminum Casting Audit"]
[4,{"$f":"IF('NSA Input Form'!AD70=0,\"*\",'NSA Input Form'!AD70)","v":"*"},{"$f":"NC!$B$79","v":"Containment"},null,null,null,"NO",null,"",null,"Assembly Audit"]
[5,{"$f":"IF('NSA Input Form'!AD76=0,\"*\",'NSA Input Form'!AD76)","v":"*"},{"$f":"NC!$B$104","v":"Rework or (repair) including sub component reuse"},null,null,null,"NO",null,"",null,"Balancer Audit"]
["E",{"$f":"IF('NSA Input Form'!AD82=0,\"*\",'NSA Input Form'!AD82)","v":"*"},{"$f":"NC!$B$129","v":"Improvement Targets"},null,null,null,"NO",null,"",null,"Blow Molding Audit"]
[null,{"$f":"SUM(B23:B28)","v":0},"Total Potential",null,{"$f":"'NSA Input Form'!AD85","v":0},{"$f":"IF(B29=0,0,FLOOR(B29/E29,0.01))","v":0},"NO",null,"",null,"Ductile Iron Casting Audit"]
[null,"VS","Verification & Error Proof",null,null,null,"NO",null,"",null,"Electrical Product Audit"]
[1,{"$f":"IF('NSA Input Form'!AD91=0,\"*\",'NSA Input Form'!AD91)","v":"*"},{"$f":"VS!$B$4","v":"Quality in Station"},null,null,null,"NO",null,"",null,"ESD Protection Audit"]
[2,{"$f":"IF('NSA Input Form'!AD97=0,\"*\",'NSA Input Form'!AD97)","v":"*"},{"$f":"VS!$B$29","v":"Alarm Limits"},null,null,null,"NO",null,"",null,"Extrusion Audit"]
[3,{"$f":"IF('NSA Input Form'!AD103=0,\"*\",'NSA Input Form'!AD103)","v":"*"},{"$f":"VS!$B$54","v":"Improvement Process"},null,null,null,"NO",null,"",null,"Forgings Audit"]
[4,{"$f":"IF('NSA Input Form'!AD109=0,\"*\",'NSA Input Form'!AD109)","v":"*"},{"$f":"VS!$B$79","v":"Gages & Error Proofing Devices"},null,null,null,"NO",null,"",null,"Grease Application Audit"]
[5,{"$f":"IF('NSA Input Form'!AD115=0,\"*\",'NSA Input Form'!AD115)","v":"*"},{"$f":"VS!$B$104","v":"Reaction Plan"},null,null,null,"NO",null,"",null,"Injection Molding Audit"]
["E",{"$f":"IF('NSA Input Form'!AD121=0,\"*\",'NSA Input Form'!AD121)","v":"*"},{"$f":"VS!$B$129","v":"Effectiveness"},null,null,null,"NO",null,"",null,"Machining Audit"]
[null,{"$f":"SUM(B31:B36)","v":0},"Total Potential",null,{"$f":"'NSA Input Form'!AD124","v":0},{"$f":"IF(B37=0,0,FLOOR(B37/E37,0.01))","v":0},"NO",null,"",null,"Painting Audit"]
[null,"SW","Standardized work",null,null,null,"NO",null,"",null,"Powdered Metal Audit"]
[1,{"$f":"IF('NSA Input Form'!AD130=0,\"*\",'NSA Input Form'!AD130)","v":"*"},{"$f":"SW!$B$4","v":"Workplace Safety"},null,null,null,"NO",null,"",null,"Rubber Bonding Audit"]
[2,{"$f":"IF('NSA Input Form'!AD136=0,\"*\",'NSA Input Form'!AD136)","v":"*"},{"$f":"SW!$B$29","v":"Workplace Organization"},null,null,null,"NO",null,{"$f":"IF(G40=\"No\",\"\",INDIRECT(\"'\"&K40&\"'!F3\"))","v":""},null,"Semiconductor Assembly Audit"]
[3,{"$f":"IF('NSA Input Form'!AD142=0,\"*\",'NSA Input Form'!AD142)","v":"*"},{"$f":"SW!$B$54","v":"Work Instructions"},null,null,null,"NO",null,"",null,"Stamping Audit"]
[4,{"$f":"IF('NSA Input Form'!AD148=0,\"*\",'NSA Input Form'!AD148)","v":"*"},{"$f":"SW!$B$79","v":"Start of Production Validation"},null,null,null,"NO",null,{"$f":"IF(G42=\"No\",\"\",IF(INDIRECT(\"'\"&K42&\"'!H3\")=0,\"R - Incomplete\",INDIRECT(\"'\"&K42&\"'!H3\")))","v":""},null,"Steel Mill Audit"]
[5,{"$f":"IF('NSA Input Form'!AD154=0,\"*\",'NSA Input Form'!AD154)","v":"*"},{"$f":"SW!$B$104","v":"Reference Samples"},null,null,null,"NO",null,{"$f":"IF(G43=\"No\",\"\",INDIRECT(\"'\"&K43&\"'!F3\"))","v":""},null,"Threading Tapping Audit"]
["E",{"$f":"IF('NSA Input Form'!AD160=0,\"*\",'NSA Input Form'!AD160)","v":"*"},{"$f":"SW!$B$129","v":"Targets defined and followed to optimize processes"},null,null,null,"NO",null,"",null,"Torque Control Audit"]
[null,{"$f":"SUM(B39:B44)","v":0},"Total Potential",null,{"$f":"'NSA Input Form'!AD163","v":0},{"$f":"IF(B45=0,0,FLOOR(B45/E45,0.01))","v":0},"NO",null,"",null,"Wafer Fabrication Audit"]
[null,"MA","Maintenance",null,null,null,null,null,null,null,"MCA Questions"]
[1,{"$f":"IF('NSA Input Form'!AD169=0,\"*\",'NSA Input Form'!AD169)","v":"*"},{"$f":"MA!$B$4","v":"Maintenance strategy"},null,null,null,null,"%",null,"Supplier Performance Metrics",null,null,"6 Mo. Ave.",null,"Goal"]
[2,{"$f":"IF('NSA Input Form'!AD175=0,\"*\",'NSA Input Form'!AD175)","v":"*"},{"$f":"MA!$B$29","v":"Activities are planned, performed and tracked"},null,null,null,"SP",{"$f":"'Supplier Data'!Q14","v":0},null,"PPM",null,null,{"$f":"'Supplier Data'!M14","v":0},null,{"$f":"'Supplier Data'!P14","v":0}]
[3,{"$f":"IF('NSA Input Form'!AD181=0,\"*\",'NSA Input Form'!AD181)","v":"*"},{"$f":"MA!$B$54","v":"Level 1 Maintenance"},null,null,null,null,{"$f":"'Supplier Data'!Q18","v":0},null,"CPM","MCA Summary",null,{"$f":"'Supplier Data'!M18","v":0},null,{"$f":"'Supplier Data'!P18","v":0}]
[4,{"$f":"IF('NSA Input Form'!AD187=0,\"*\",'NSA Input Form'!AD187)","v":"*"},{"$f":"MA!$B$79","v":"Maintenance materials"},null,null,null,null,{"$f":"'Supplier Data'!Q22","v":0},null,"% On-Time Delivery",null,null,{"$f":"'Supplier Data'!M22","v":0},null,{"$f":"'Supplier Data'!P22","v":0}]
[5,{"$f":"IF('NSA Input Form'!AD193=0,\"*\",'NSA Input Form'!AD193)","v":"*"},{"$f":"MA!$B$104","v":"Product specific tools"},null,null,null,null,{"$f":"AVERAGE($H$48:$H$50)","v":0},null,"Total"]
["E",{"$f":"IF('NSA Input Form'!AD199=0,\"*\",'NSA Input Form'!AD199)","v":"*"},{"$f":"MA!$B$129","v":"Activities are tracked to ensure effectiveness"}]
[null,{"$f":"SUM(B47:B52)","v":0},"Total Potential",null,{"$f":"'NSA Input Form'!AD202","v":0},{"$f":"IF(B53=0,0,FLOOR(B53/E53,0.01))","v":0},null,null,null,null,null,null,null,"Number of Responses"]
[null,"TR","Training",null,null,null,null,"%","Pts","MCA Elements Summary",null,null,null,"R","Y","G","Over All"]
[1,{"$f":"IF('NSA Input Form'!AD208=0,\"*\",'NSA Input Form'!AD208)","v":"*"},{"$f":"TR!$B$4","v":"Training process is defined"},null,null,null,{"$f":"B14","v":"FR"},{"$f":"F21","v":0},{"$f":"B21","v":0},{"$f":"C14","v":"Fast Response"},null,null,null,{"$f":"COUNTIF('NSA Input Form'!P13:Q43,\"X\")","v":0},{"$f":"COUNTIF('NSA Input Form'!O13:O43,\"X\")","v":0},{"$f":"COUNTIF('NSA Input Form'!N13:N43,\"X\")","v":0},{"$f":"IF(H55>=0.9,\"GREEN\",IF(H55>=0.75,\"YELLOW\",IF(N55+O55+P55>0,\"RED\",\"Not Reviewed\")))","v":"Not Reviewed"}]
[2,{"$f":"IF('NSA Input Form'!AD214=0,\"*\",'NSA Input Form'!AD214)","v":"*"},{"$f":"TR!$B$29","v":"Training Safety & Corporate Responsibility"},null,null,null,{"$f":"B22","v":"NC"},{"$f":"F29","v":0},{"$f":"B29","v":0},{"$f":"C22","v":"Control of Non-conforming Product"},null,null,null,{"$f":"COUNTIF('NSA Input Form'!P52:Q82,\"X\")","v":0},{"$f":"COUNTIF('NSA Input Form'!O52:O82,\"X\")","v":0},{"$f":"COUNTIF('NSA Input Form'!N52:N82,\"X\")","v":0},"Not Reviewed"]
[3,{"$f":"IF('NSA Input Form'!AD220=0,\"*\",'NSA Input Form'!AD220)","v":"*"},{"$f":"TR!$B$54","v":"Employee Training"},null,null,null,{"$f":"B30","v":"VS"},{"$f":"F37","v":0},{"$f":"B37","v":0},{"$f":"C30","v":"Verification & Error Proof"},null,null,null,{"$f":"COUNTIF('NSA Input Form'!P91:Q121,\"X\")","v":0},{"$f":"COUNTIF('NSA Input Form'!O91:O121,\"X\")","v":0},{"$f":"COUNTIF('NSA Input Form'!N91:N121,\"X\")","v":0},"Not Reviewed"]
[4,{"$f":"IF('NSA Input Form'!AD226=0,\"*\",'NSA Input Form'!AD226)","v":"*"},{"$f":"TR!$B$79","v":"Employee Recognition"},null,null,null,{"$f":"B38","v":"SW"},{"$f":"F45","v":0},{"$f":"B45","v":0},{"$f":"C38","v":"Standardized work"},null,null,null,{"$f":"COUNTIF('NSA Input Form'!P130:Q160,\"X\")","v":0},{"$f":"COUNTIF('NSA Input Form'!O130:O160,\"X\")","v":0},{"$f":"COUNTIF('NSA Input Form'!N130:N160,\"X\")","v":0},"Not Reviewed"]
["E",{"$f":"IF('NSA Input Form'!AD232=0,\"*\",'NSA Input Form'!AD232)","v":"*"},{"$f":"TR!$B$104","v":"Metrics & Effectiveness"},null,null,null,{"$f":"B46","v":"MA"},{"$f":"F53","v":0},{"$f":"B53","v":0},{"$f":"C46","v":"Maintenance"},null,null,null,{"$f":"COUNTIF('NSA Input Form'!P169:Q199,\"X\")","v":0},{"$f":"COUNTIF('NSA Input Form'!O169:O199,\"X\")","v":0},{"$f":"COUNTIF('NSA Input Form'!N169:N199,\"X\")","v":0},"Not Reviewed"]
[null,{"$f":"SUM(B55:B59)","v":0},"Total Potential",null,{"$f":"'NSA Input Form'!AD235","v":0},{"$f":"IF(B60=0,0,FLOOR(B60/E60,0.01))","v":0},{"$f":"B54","v":"TR"},{"$f":"F60","v":0},{"$f":"B60","v":0},{"$f":"C54","v":"Training"},null,null,null,{"$f":"COUNTIF('NSA Input Form'!P208:Q232,\"X\")","v":0},{"$f":"COUNTIF('NSA Input Form'!O208:O232,\"X\")","v":0},{"$f":"COUNTIF('NSA Input Form'!N208:N232,\"X\")","v":0},"Not Reviewed"]
[null,"LP","Layered Process Audit",null,null,null,{"$f":"B61","v":"LP"},{"$f":"F67","v":0},{"$f":"B67","v":0},{"$f":"C61","v":"Layered Process Audit"},null,null,null,{"$f":"COUNTIF('NSA Input Form'!P241:Q265,\"X\")","v":0},{"$f":"COUNTIF('NSA Input Form'!O241:O265,\"X\")","v":0},{"$f":"COUNTIF('NSA Input Form'!N241:N265,\"X\")","v":0},"Not Reviewed"]
[1,{"$f":"IF('NSA Input Form'!AD241=0,\"*\",'NSA Input Form'!AD241)","v":"*"},{"$f":"LP!$B$4","v":"A Layered Process Audit (LPA) is established"},null,null,null,{"$f":"B68","v":"RR"},{"$f":"F74","v":0},{"$f":"B74","v":0},{"$f":"C68","v":"Risk Reduction"},null,null,null,{"$f":"COUNTIF('NSA Input Form'!P274:Q298,\"X\")","v":0},{"$f":"COUNTIF('NSA Input Form'!O274:O298,\"X\")","v":0},{"$f":"COUNTIF('NSA Input Form'!N274:N298,\"X\")","v":0},"Not Reviewed"]
[2,{"$f":"IF('NSA Input Form'!AD247=0,\"*\",'NSA Input Form'!AD247)","v":"*"},{"$f":"LP!$B$29","v":"LPA covers all operational activities"},null,null,null,{"$f":"B75","v":"SC"},{"$f":"F81","v":0},{"$f":"B81","v":0},{"$f":"C75","v":"Supply Chain Management"},null,null,null,{"$f":"COUNTIF('NSA Input Form'!P307:Q331,\"X\")","v":0},{"$f":"COUNTIF('NSA Input Form'!O307:O331,\"X\")","v":0},{"$f":"COUNTIF('NSA Input Form'!N307:N331,\"X\")","v":0},"Not Reviewed"]
[3,{"$f":"IF('NSA Input Form'!AD253=0,\"*\",'NSA Input Form'!AD253)","v":"*"},{"$f":"LP!$B$54","v":"LPA action plans are in place"},null,null,null,{"$f":"B82","v":"MC"},{"$f":"F88","v":0},{"$f":"B88","v":0},{"$f":"C82","v":"Managing Change"},null,null,null,{"$f":"COUNTIF('NSA Input Form'!P340:Q364,\"X\")","v":0},{"$f":"COUNTIF('NSA Input Form'!O340:O364,\"X\")","v":0},{"$f":"COUNTIF('NSA Input Form'!N340:N364,\"X\")","v":0},"Not Reviewed"]
[4,{"$f":"IF('NSA Input Form'!AD259=0,\"*\",'NSA Input Form'!AD259)","v":"*"},{"$f":"LP!$B$79","v":"Manufacturing process audit"},null,null,null,{"$f":"B89","v":"CC"},{"$f":"F94","v":0},{"$f":"B94","v":0},{"$f":"C89","v":"Contamination Control"},null,null,null,{"$f":"COUNTIF('NSA Input Form'!P373:Q391,\"X\")","v":0},{"$f":"COUNTIF('NSA Input Form'!O373:O391,\"X\")","v":0},{"$f":"COUNTIF('NSA Input Form'!N373:N391,\"X\")","v":0},"Not Reviewed"]
["E",{"$f":"IF('NSA Input Form'!AD265=0,\"*\",'NSA Input Form'!AD265)","v":"*"},{"$f":"LP!$B$104","v":"LPA effectiveness is continuously monitored"},null,null,null,{"$f":"B95","v":"MM"},{"$f":"F100","v":0},{"$f":"B100","v":0},{"$f":"C95","v":"Manufacturing & Material Flow "},null,null,null,{"$f":"COUNTIF('NSA Input Form'!P400:Q418,\"X\")","v":0},{"$f":"COUNTIF('NSA Input Form'!O400:O418,\"X\")","v":0},{"$f":"COUNTIF('NSA Input Form'!N400:N418,\"X\")","v":0},"Not Reviewed"]
[null,{"$f":"SUM(B62:B66)","v":0},"Total Potential",null,{"$f":"'NSA Input Form'!AD268","v":0},{"$f":"IF(B67=0,0,FLOOR(B67/E67,0.01))","v":0},{"$f":"B101","v":"EL"},{"$f":"F106","v":0},{"$f":"B106","v":0},{"$f":"C101","v":"External Logistic"},null,null,null,{"$f":"COUNTIF('NSA Input Form'!P427:Q445,\"X\")","v":0},{"$f":"COUNTIF('NSA Input Form'!O427:O445,\"X\")","v":0},{"$f":"COUNTIF('NSA Input Form'!N427:N445,\"X\")","v":0},"Not Reviewed"]
[null,"RR","Risk Reduction",null,null,null,{"$f":"B107","v":"AP"},{"$f":"F112","v":0},{"$f":"B112","v":0},{"$f":"C107","v":"Advance Product Quality Planning "},null,null,null,{"$f":"COUNTIF('NSA Input Form'!P454:Q472,\"X\")","v":0},{"$f":"COUNTIF('NSA Input Form'!O454:O472,\"X\")","v":0},{"$f":"COUNTIF('NSA Input Form'!N454:N472,\"X\")","v":0},"Not Reviewed"]
[1,{"$f":"IF('NSA Input Form'!AD274=0,\"*\",'NSA Input Form'!AD274)","v":"*"},{"$f":"RR!$B$4","v":"PFMEA developed and maintained"},null,null,null,{"$f":"B113","v":"AQ"},{"$f":"F118","v":0},{"$f":"B118","v":0},{"$f":"C113","v":"Automotive Quality Standards"},null,null,null,{"$f":"COUNTIF('NSA Input Form'!P481:Q499,\"X\")","v":0},{"$f":"COUNTIF('NSA Input Form'!O481:O499,\"X\")","v":0},{"$f":"COUNTIF('NSA Input Form'!N481:N499,\"X\")","v":0},"Not Reviewed"]
[2,{"$f":"IF('NSA Input Form'!AD280=0,\"*\",'NSA Input Form'!AD280)","v":"*"},{"$f":"RR!$B$29","v":"Proactive approach for high risk items"},null,null,null,null,{"$f":"IF(I70=0,\"0%\",(I70/SUM(E:E)))","v":"0%"},{"$f":"SUM(I55:I69)","v":0},"Total",null,null,null,{"$f":"SUM(N55:N69)","v":0},{"$f":"SUM(O55:O69)","v":0},{"$f":"SUM(P55:P69)","v":0},{"$f":"IF(I70=0,\"\",IF(H70>=0.9,\"GREEN\",IF(H70>=0.75,\"YELLOW\",IF(N70+O70+P70>0,\"RED\",\"Not Reviewed\"))))","v":""}]
[3,{"$f":"IF('NSA Input Form'!AD286=0,\"*\",'NSA Input Form'!AD286)","v":"*"},{"$f":"RR!$B$54","v":"Reverse PFMEA process"}]
[4,{"$f":"IF('NSA Input Form'!AD292=0,\"*\",'NSA Input Form'!AD292)","v":"*"},{"$f":"RR!$B$79","v":"Assess potential risks which could impact the plant"},null,null,null,"Process Audit Results:",null,null,{"$f":"IF(G73=0,\"NONE REQUIRED\",IF(G74/G73=1,\"GREEN\",IF(G77>0,\"INCOMPLETE\",IF(G76>0,\"RED\",\"YELLOW\"))))","v":"NONE REQUIRED"},null,null,"Sustainability:",null,"No"]
["E",{"$f":"IF('NSA Input Form'!AD298=0,\"*\",'NSA Input Form'!AD298)","v":"*"},{"$f":"RR!$B$104","v":"Targets are defined to ensure effectiveness  and efficiency of risk reduction activity"},null,null,null,{"$f":"COUNTIF($G$20:$H$45,\"YES\")","v":0},null,null,"Number of Required Process Specific Audits"]
[null,{"$f":"SUM(B69:B73)","v":0},"Total Potential",null,{"$f":"'NSA Input Form'!AD301","v":0},{"$f":"IF(B74=0,0,FLOOR(B74/E74,0.01))","v":0},{"$f":"IF(I42=\"Pass\",COUNTIF(I20:J45,\"G - OK\")+1,COUNTIF(I20:J45,\"G - OK\"))","v":0},null,null,"Green Score - Required Process Specific Audits"]
[null,"SC","Supply Chain Management",null,null,null,{"$f":"COUNTIF(I20:J45,\"Y - CA Required\")","v":0},null,null,"Yellow Score - Required Process Specific Audits"]
[1,{"$f":"IF('NSA Input Form'!AD307=0,\"*\",'NSA Input Form'!AD307)","v":"*"},{"$f":"SC!$B$4","v":"Procedures to select and evaluate suppliers"},null,null,null,{"$f":"IF(I42=\"Fail\",COUNTIF(I20:J45,\"R - Unacceptable\")+1,COUNTIF(I20:J45,\"R - Unacceptable\"))","v":0},null,null,"Red Score - Required Process Specific Audits"]
[2,{"$f":"IF('NSA Input Form'!AD313=0,\"*\",'NSA Input Form'!AD313)","v":"*"},{"$f":"SC!$B$29","v":"Customer requirements are cascaded"},null,null,null,{"$f":"COUNTIF(I20:J45,\"R - Incomplete\")","v":0},null,null,"Incomplete Process Specific Audits"]
[3,{"$f":"IF('NSA Input Form'!AD319=0,\"*\",'NSA Input Form'!AD319)","v":"*"},{"$f":"SC!$B$54","v":"Escalation process"}]
[4,{"$f":"IF('NSA Input Form'!AD325=0,\"*\",'NSA Input Form'!AD325)","v":"*"},{"$f":"SC!$B$79","v":"Incoming inspection"},null,null,null,null,null,null,null,"% Score","Weight","Pts"]
["E",{"$f":"IF('NSA Input Form'!AD331=0,\"*\",'NSA Input Form'!AD331)","v":"*"},{"$f":"SC!$B$104","v":"Tier supplier targets and performance is tracked"},null,null,null,null,"Supplier Performance Metrics",null,null,{"$f":"H51*100","v":0},0.2,{"$f":"K80*L80","v":0},null,null,null,{"$f":"IF(K80>=90,\"GREEN\",IF(K80>=75,\"YELLOW\",IF(K80>0,\"RED\",\"Not Reviewed\")))","v":"Not Reviewed"}]
[null,{"$f":"SUM(B76:B80)","v":0},"Total Potential",null,{"$f":"'NSA Input Form'!AD334","v":0},{"$f":"IF(B81=0,0,FLOOR(B81/E81,0.01))","v":0},null,"MCA Elements",null,null,{"$f":"H70*100","v":0},{"$f":"IF(G73=0,80%,60%)","v":0.8},{"$f":"K81*L81","v":0},null,null,null,{"$f":"IF(K81>=90,\"GREEN\",IF(K81>=75,\"YELLOW\",IF(K81>0,\"RED\",\"Not Reviewed\")))","v":"Not Reviewed"}]
[null,"MC","Managing Change",null,null,null,null,"Process Specific Audit",null,null,{"$f":"IF(G73=0,0,(G74/G73)*100)","v":0},{"$f":"IF(G73=0,0%,20%)","v":0},{"$f":"K82*L82","v":0},null,null,null,{"$f":"IF(K82>=90,\"GREEN\",IF(K82>=66.5,\"YELLOW\",IF(K82>0,\"RED\",\"Not Reviewed\")))","v":"Not Reviewed"}]
[1,{"$f":"IF('NSA Input Form'!AD340=0,\"*\",'NSA Input Form'!AD340)","v":"*"},{"$f":"MC!$B$4","v":"Changes are controlled"},null,null,null,null,"Overall Assessment Score",null,null,{"$f":"M83","v":0},{"$f":"SUM(L80:L82)","v":1},{"$f":"IF(MCASustain=\"Yes\",SUM(M80:M82),0)","v":0},null,null,null,{"$f":"IF(K83=0,\"\",IF(K83>=90,\"GREEN\",IF(K83>=75,\"YELLOW\",IF(K83>0,\"RED\",\"Not Reviewed\"))))","v":""}]
[2,{"$f":"IF('NSA Input Form'!AD346=0,\"*\",'NSA Input Form'!AD346)","v":"*"},{"$f":"MC!$B$29","v":"Risk analysis of change"}]
[3,{"$f":"IF('NSA Input Form'!AD352=0,\"*\",'NSA Input Form'!AD352)","v":"*"},{"$f":"MC!$B$54","v":"A Production Trial Run"},null,null,null," "]
[4,{"$f":"IF('NSA Input Form'!AD358=0,\"*\",'NSA Input Form'!AD358)","v":"*"},{"$f":"MC!$B$79","v":"Banking strategy"}]
["E",{"$f":"IF('NSA Input Form'!AD364=0,\"*\",'NSA Input Form'!AD364)","v":"*"},{"$f":"MC!$B$104","v":"Changes are tracked to ensure that changes have no negative impact to customer"}]
[null,{"$f":"SUM(B83:B87)","v":0},"Total Potential",null,{"$f":"'NSA Input Form'!AD367","v":0},{"$f":"IF(B88=0,0,FLOOR(B88/E88,0.01))","v":0}]
[null,"CC","Contamination Control"]
[1,{"$f":"IF('NSA Input Form'!AD373=0,\"*\",'NSA Input Form'!AD373)","v":"*"},{"$f":"CC!$B$4","v":"Risk Identified and Controlled"}]
[2,{"$f":"IF('NSA Input Form'!AD379=0,\"*\",'NSA Input Form'!AD379)","v":"*"},{"$f":"CC!$B$29","v":"Control to ensure proper functionality of equipment and processes"}]
[3,{"$f":"IF('NSA Input Form'!AD385=0,\"*\",'NSA Input Form'!AD385)","v":"*"},{"$f":"CC!$B$54","v":"Clean room"}]
["E",{"$f":"IF('NSA Input Form'!AD391=0,\"*\",'NSA Input Form'!AD391)","v":"*"},{"$f":"CC!$B$79","v":"Targets are defined for contamination reduction activity"}]
[null,{"$f":"SUM(B90:B93)","v":0},"Total Potential",null,{"$f":"'NSA Input Form'!AD394","v":0},{"$f":"IF(B94=0,0,FLOOR(B94/E94,0.01))","v":0}]
[null,"MM","Manufacturing & Material Flow "]
[1,{"$f":"IF('NSA Input Form'!AD400=0,\"*\",'NSA Input Form'!AD400)","v":"*"},{"$f":"MM!$B$4","v":"Manufacturing planning & scheduling"}]
[2,{"$f":"IF('NSA Input Form'!AD406=0,\"*\",'NSA Input Form'!AD406)","v":"*"},{"$f":"MM!$B$29","v":"Storage controls"}]
[3,{"$f":"IF('NSA Input Form'!AD412=0,\"*\",'NSA Input Form'!AD412)","v":"*"},{"$f":"MM!$B$54","v":"Product Storage & Packaging"}]
["E",{"$f":"IF('NSA Input Form'!AD418=0,\"*\",'NSA Input Form'!AD418)","v":"*"},{"$f":"MM!$B$79","v":"Indicators are defined and tracked to ensure effectiveness of material flow management"}]
[null,{"$f":"SUM(B96:B99)","v":0},"Total Potential",null,{"$f":"'NSA Input Form'!AD421","v":0},{"$f":"IF(B100=0,0,FLOOR(B100/E100,0.01))","v":0}]
[null,"EL","External Logistic"]
[1,{"$f":"IF('NSA Input Form'!AD427=0,\"*\",'NSA Input Form'!AD427)","v":"*"},{"$f":"EL!$B$4","v":"Supply process is managed"}]
[2,{"$f":"IF('NSA Input Form'!AD433=0,\"*\",'NSA Input Form'!AD433)","v":"*"},{"$f":"EL!$B$29","v":"Secure supplies"}]
[3,{"$f":"IF('NSA Input Form'!AD439=0,\"*\",'NSA Input Form'!AD439)","v":"*"},{"$f":"EL!$B$54","v":"Shipping process is organized and tracked"}]
["E",{"$f":"IF('NSA Input Form'!AD445=0,\"*\",'NSA Input Form'!AD445)","v":"*"},{"$f":"EL!$B$79","v":"Indicators are defined and tracked to ensure effectiveness and efficiency of external logistic management"}]
[null,{"$f":"SUM(B102:B105)","v":0},"Total Potential",null,{"$f":"'NSA Input Form'!AD448","v":0},{"$f":"IF(B106=0,0,FLOOR(B106/E106,0.01))","v":0}]
[null,"AP","Advance Product Quality Planning "]
[1,{"$f":"IF('NSA Input Form'!AD454=0,\"*\",'NSA Input Form'!AD454)","v":"*"},{"$f":"AP!$B$4","v":"Advance Planning"}]
[2,{"$f":"IF('NSA Input Form'!AD460=0,\"*\",'NSA Input Form'!AD460)","v":"*"},{"$f":"AP!$B$29","v":"Process Design and Development"}]
[3,{"$f":"IF('NSA Input Form'!AD466=0,\"*\",'NSA Input Form'!AD466)","v":"*"},{"$f":"AP!$B$54","v":"Product and Process Validation"}]
["E",{"$f":"IF('NSA Input Form'!AD472=0,\"*\",'NSA Input Form'!AD472)","v":"*"},{"$f":"AP!$B$79","v":"Effectiveness"}]
[null,{"$f":"SUM(B108:B111)","v":0},"Total Potential",null,{"$f":"'NSA Input Form'!AD475","v":0},{"$f":"IF(B112=0,0,FLOOR(B112/E112,0.01))","v":0}]
[null,"AQ","Automotive Quality Standards"]
[1,{"$f":"IF('NSA Input Form'!AD481=0,\"*\",'NSA Input Form'!AD481)","v":"*"},{"$f":"AQ!$B$4","v":"Quality Management system 1-6"}]
[2,{"$f":"IF('NSA Input Form'!AD487=0,\"*\",'NSA Input Form'!AD487)","v":"*"},{"$f":"AQ!$B$29","v":"Support and Operation Clauses 7 & 8"}]
[3,{"$f":"IF('NSA Input Form'!AD493=0,\"*\",'NSA Input Form'!AD493)","v":"*"},{"$f":"AQ!$B$54","v":"Performance & Improvement Clauses 9 & 10"}]
["E",{"$f":"IF('NSA Input Form'!AD499=0,\"*\",'NSA Input Form'!AD499)","v":"*"},{"$f":"AQ!$B$79","v":"Effectiveness"}]
[null,{"$f":"SUM(B114:B117)","v":0},"Total Potential",null,{"$f":"'NSA Input Form'!AD502","v":0},{"$f":"IF(B118=0,0,FLOOR(B118/E118,0.01))","v":0}]

{"sheet":"NSA Summary","index":9,"n_rows":37,"n_cols":15,"rows_kept":37,"cut":false,"hidden":true,"merged":[[11,0,11,2],[11,3,11,8],[14,3,14,6],[14,7,14,10],[0,0,6,14],[7,0,8,14],[14,11,14,14],[9,0,9,14],[10,0,10,2],[10,3,10,8],[10,9,10,14],[11,9,11,14],[36,1,36,2],[33,1,33,2],[34,1,34,2],[34,3,34,6],[34,7,34,10],[35,1,35,2],[35,3,35,6],[35,7,35,10],[35,11,35,14],[12,0,12,2],[12,3,12,8],[34,11,34,14],[16,3,16,6],[16,7,16,10],[16,11,16,14],[15,3,15,6],[15,7,15,10],[15,11,15,14],[13,0,13,2],[13,3,13,8],[12,9,12,14],[13,9,13,14]]}
[]
[]
[]
[]
[]
[]
[]
["NSA Summary"]
[]
[]
["Supplier Name",null,null,{"$f":"IF(ISBLANK('Supplier Data'!D14),\"\",'Supplier Data'!D14)","v":""}]
["Supplier Location",null,null,{"$f":"IF(ISBLANK('Supplier Data'!D18),\"\",'Supplier Data'!D18)","v":""}]
["Supplier DUNS / COFOR",null,null,{"$f":"IF(ISBLANK('Supplier Data'!D22),\"\",TEXT('Supplier Data'!D22,\"000000000\"))","v":""}]
["Self Auditor Name"]
[]
[null,null,null,{"$f":"IF(ISBLANK('Supplier Data'!E30),\"\",'Supplier Data'!E30)","v":""},null,null,null,{"$f":"IF(ISBLANK('Supplier Data'!N30),\"\",'Supplier Data'!N30)","v":""}]
[null,null,null,"Self Assessment Scoring",null,null,null,"On Site Assessment Scoring",null,null,null,"Current Assessment Scoring"]
[null,"Key Elements",null,"Potential","Total","%","Status","Potential","Total","%","Status","Potential","Total","%","Status"]
[1,"Fast Response","FR",{"$f":"'NSA Input Form'!AC46","v":0},{"$f":"'NSA Input Form'!AC45","v":0},{"$f":"IF(D19<>0,E19/D19,\"NR\")","v":"NR"},{"$f":"IF(F19=\"NR\",\"NR\",IF(OR((IFERROR(AVERAGE('NSA Input Form'!Z13:Z16),4)/4<0.75),(IFERROR(AVERAGE('NSA Input Form'!Z19:Z22),4)/4<0.75),(IFERROR(AVERAGE('NSA Input Form'!Z25:Z28),4)/4<0.75),(IFERROR(AVERAGE('NSA Input Form'!Z31:Z34),4)/4<0.75),(IFERROR(AVERAGE('NSA Input Form'!Z37:Z40),4)/4<0.75),'NSA Input Form'!Z43<=2),\"R\",IF(F19<0.75,\"R\",IF(F19<0.9,\"Y\",\"G\"))))","v":"NR"},{"$f":"'NSA Input Form'!AD46","v":0},{"$f":"'NSA Input Form'!AD45","v":0},{"$f":"IF(H19<>0,I19/H19,\"NR\")","v":"NR"},{"$f":"IF(J19=\"NR\",\"NR\",IF(OR((IFERROR(AVERAGE('NSA Input Form'!AA13:AA16),4)/4<0.75),(IFERROR(AVERAGE('NSA Input Form'!AA19:AA22),4)/4<0.75),(IFERROR(AVERAGE('NSA Input Form'!AA25:AA28),4)/4<0.75),(IFERROR(AVERAGE('NSA Input Form'!AA31:AA34),4)/4<0.75),(IFERROR(AVERAGE('NSA Input Form'!AA37:AA40),4)/4<0.75),'NSA Input Form'!AA43<=2),\"R\",IF(J19<0.75,\"R\",IF(J19<0.9,\"Y\",\"G\"))))","v":"NR"},{"$f":"'NSA Input Form'!AE46","v":0},{"$f":"'NSA Input Form'!AE45","v":0},{"$f":"IF(L19<>0,M19/L19,\"NR\")","v":"NR"},{"$f":"IF(N19=\"NR\",\"NR\",IF(OR((IFERROR(AVERAGE('NSA Input Form'!AB13:AB16),4)/4<0.75),(IFERROR(AVERAGE('NSA Input Form'!AB19:AB22),4)/4<0.75),(IFERROR(AVERAGE('NSA Input Form'!AB25:AB28),4)/4<0.75),(IFERROR(AVERAGE('NSA Input Form'!AB31:AB34),4)/4<0.75),(IFERROR(AVERAGE('NSA Input Form'!AB37:AB40),4)/4<0.75),'NSA Input Form'!AB43<=2),\"R\",IF(N19<0.75,\"R\",IF(N19<0.9,\"Y\",\"G\"))))","v":"NR"}]
[2,"Control of Non-conforming Product","NC",{"$f":"'NSA Input Form'!AC85","v":0},{"$f":"'NSA Input Form'!AC84","v":0},"NR",{"$f":"IF(F20=\"NR\",\"NR\",IF(OR((IFERROR(AVERAGE('NSA Input Form'!Z52:Z55),4)/4<0.75),(IFERROR(AVERAGE('NSA Input Form'!Z58:Z61),4)/4<0.75),(IFERROR(AVERAGE('NSA Input Form'!Z64:Z67),4)/4<0.75),(IFERROR(AVERAGE('NSA Input Form'!Z70:Z73),4)/4<0.75),(IFERROR(AVERAGE('NSA Input Form'!Z76:Z79),4)/4<0.75),'NSA Input Form'!Z82<=2),\"R\",IF(F20<0.75,\"R\",IF(F20<0.9,\"Y\",\"G\"))))","v":"NR"},{"$f":"'NSA Input Form'!AD85","v":0},{"$f":"'NSA Input Form'!AD84","v":0},"NR",{"$f":"IF(J20=\"NR\",\"NR\",IF(OR((IFERROR(AVERAGE('NSA Input Form'!AA52:AA55),4)/4<0.75),(IFERROR(AVERAGE('NSA Input Form'!AA58:AA61),4)/4<0.75),(IFERROR(AVERAGE('NSA Input Form'!AA64:AA67),4)/4<0.75),(IFERROR(AVERAGE('NSA Input Form'!AA70:AA73),4)/4<0.75),(IFERROR(AVERAGE('NSA Input Form'!AA76:AA79),4)/4<0.75),'NSA Input Form'!AA82<=2),\"R\",IF(J20<0.75,\"R\",IF(J20<0.9,\"Y\",\"G\"))))","v":"NR"},{"$f":"'NSA Input Form'!AE85","v":0},{"$f":"'NSA Input Form'!AE84","v":0},"NR",{"$f":"IF(N20=\"NR\",\"NR\",IF(OR((IFERROR(AVERAGE('NSA Input Form'!AB52:AB55),4)/4<0.75),(IFERROR(AVERAGE('NSA Input Form'!AB58:AB61),4)/4<0.75),(IFERROR(AVERAGE('NSA Input Form'!AB64:AB67),4)/4<0.75),(IFERROR(AVERAGE('NSA Input Form'!AB70:AB73),4)/4<0.75),(IFERROR(AVERAGE('NSA Input Form'!AB76:AB79),4)/4<0.75),'NSA Input Form'!AB82<=2),\"R\",IF(N20<0.75,\"R\",IF(N20<0.9,\"Y\",\"G\"))))","v":"NR"}]
[3,"Verification & Error Proof","VS",{"$f":"'NSA Input Form'!AC124","v":0},{"$f":"'NSA Input Form'!AC123","v":0},"NR",{"$f":"IF(F21=\"NR\",\"NR\",IF(OR((IFERROR(AVERAGE('NSA Input Form'!Z91:Z94),4)/4<0.75),(IFERROR(AVERAGE('NSA Input Form'!Z97:Z100),4)/4<0.75),(IFERROR(AVERAGE('NSA Input Form'!Z103:Z106),4)/4<0.75),(IFERROR(AVERAGE('NSA Input Form'!Z109:Z112),4)/4<0.75),(IFERROR(AVERAGE('NSA Input Form'!Z115:Z118),4)/4<0.75),'NSA Input Form'!Z121<=2),\"R\",IF(F21<0.75,\"R\",IF(F21<0.9,\"Y\",\"G\"))))","v":"NR"},{"$f":"'NSA Input Form'!AD124","v":0},{"$f":"'NSA Input Form'!AD123","v":0},"NR",{"$f":"IF(J21=\"NR\",\"NR\",IF(OR((IFERROR(AVERAGE('NSA Input Form'!AA91:AA94),4)/4<0.75),(IFERROR(AVERAGE('NSA Input Form'!AA97:AA100),4)/4<0.75),(IFERROR(AVERAGE('NSA Input Form'!AA103:AA106),4)/4<0.75),(IFERROR(AVERAGE('NSA Input Form'!AA109:AA112),4)/4<0.75),(IFERROR(AVERAGE('NSA Input Form'!AA115:AA118),4)/4<0.75),'NSA Input Form'!AA121<=2),\"R\",IF(J21<0.75,\"R\",IF(J21<0.9,\"Y\",\"G\"))))","v":"NR"},{"$f":"'NSA Input Form'!AE124","v":0},{"$f":"'NSA Input Form'!AE123","v":0},"NR",{"$f":"IF(N21=\"NR\",\"NR\",IF(OR((IFERROR(AVERAGE('NSA Input Form'!AB91:AB94),4)/4<0.75),(IFERROR(AVERAGE('NSA Input Form'!AB97:AB100),4)/4<0.75),(IFERROR(AVERAGE('NSA Input Form'!AB103:AB106),4)/4<0.75),(IFERROR(AVERAGE('NSA Input Form'!AB109:AB112),4)/4<0.75),(IFERROR(AVERAGE('NSA Input Form'!AB115:AB118),4)/4<0.75),'NSA Input Form'!AB121<=2),\"R\",IF(N21<0.75,\"R\",IF(N21<0.9,\"Y\",\"G\"))))","v":"NR"}]
[4,"Standardized work","SW",{"$f":"'NSA Input Form'!AC163","v":0},{"$f":"'NSA Input Form'!AC162","v":0},"NR",{"$f":"IF(F22=\"NR\",\"NR\",IF(OR((IFERROR(AVERAGE('NSA Input Form'!Z130:Z133),4)/4<0.75),(IFERROR(AVERAGE('NSA Input Form'!Z136:Z139),4)/4<0.75),(IFERROR(AVERAGE('NSA Input Form'!Z142:Z145),4)/4<0.75),(IFERROR(AVERAGE('NSA Input Form'!Z148:Z151),4)/4<0.75),(IFERROR(AVERAGE('NSA Input Form'!Z154:Z157),4)/4<0.75),'NSA Input Form'!Z160<=2),\"R\",IF(F22<0.75,\"R\",IF(F22<0.9,\"Y\",\"G\"))))","v":"NR"},{"$f":"'NSA Input Form'!AD163","v":0},{"$f":"'NSA Input Form'!AD162","v":0},"NR",{"$f":"IF(J22=\"NR\",\"NR\",IF(OR((IFERROR(AVERAGE('NSA Input Form'!AA130:AA133),4)/4<0.75),(IFERROR(AVERAGE('NSA Input Form'!AA136:AA139),4)/4<0.75),(IFERROR(AVERAGE('NSA Input Form'!AA142:AA145),4)/4<0.75),(IFERROR(AVERAGE('NSA Input Form'!AA148:AA151),4)/4<0.75),(IFERROR(AVERAGE('NSA Input Form'!AA154:AA157),4)/4<0.75),'NSA Input Form'!AA160<=2),\"R\",IF(J22<0.75,\"R\",IF(J22<0.9,\"Y\",\"G\"))))","v":"NR"},{"$f":"'NSA Input Form'!AE163","v":0},{"$f":"'NSA Input Form'!AE162","v":0},"NR",{"$f":"IF(N22=\"NR\",\"NR\",IF(OR((IFERROR(AVERAGE('NSA Input Form'!AB130:AB133),4)/4<0.75),(IFERROR(AVERAGE('NSA Input Form'!AB136:AB139),4)/4<0.75),(IFERROR(AVERAGE('NSA Input Form'!AB142:AB145),4)/4<0.75),(IFERROR(AVERAGE('NSA Input Form'!AB148:AB151),4)/4<0.75),(IFERROR(AVERAGE('NSA Input Form'!AB154:AB157),4)/4<0.75),'NSA Input Form'!AB160<=2),\"R\",IF(N22<0.75,\"R\",IF(N22<0.9,\"Y\",\"G\"))))","v":"NR"}]
[5,"Maintenance","MA",{"$f":"'NSA Input Form'!AC202","v":0},{"$f":"'NSA Input Form'!AC201","v":0},"NR",{"$f":"IF(F23=\"NR\",\"NR\",IF(OR((IFERROR(AVERAGE('NSA Input Form'!Z169:Z172),4)/4<0.75),(IFERROR(AVERAGE('NSA Input Form'!Z175:Z178),4)/4<0.75),(IFERROR(AVERAGE('NSA Input Form'!Z181:Z184),4)/4<0.75),(IFERROR(AVERAGE('NSA Input Form'!Z187:Z190),4)/4<0.75),(IFERROR(AVERAGE('NSA Input Form'!Z193:Z196),4)/4<0.75),'NSA Input Form'!Z199<=2),\"R\",IF(F23<0.75,\"R\",IF(F23<0.9,\"Y\",\"G\"))))","v":"NR"},{"$f":"'NSA Input Form'!AD202","v":0},{"$f":"'NSA Input Form'!AD201","v":0},"NR",{"$f":"IF(J23=\"NR\",\"NR\",IF(OR((IFERROR(AVERAGE('NSA Input Form'!AA169:AA172),4)/4<0.75),(IFERROR(AVERAGE('NSA Input Form'!AA175:AA178),4)/4<0.75),(IFERROR(AVERAGE('NSA Input Form'!AA181:AA184),4)/4<0.75),(IFERROR(AVERAGE('NSA Input Form'!AA187:AA190),4)/4<0.75),(IFERROR(AVERAGE('NSA Input Form'!AA193:AA196),4)/4<0.75),'NSA Input Form'!AA199<=2),\"R\",IF(J23<0.75,\"R\",IF(J23<0.9,\"Y\",\"G\"))))","v":"NR"},{"$f":"'NSA Input Form'!AE202","v":0},{"$f":"'NSA Input Form'!AE201","v":0},"NR",{"$f":"IF(N23=\"NR\",\"NR\",IF(OR((IFERROR(AVERAGE('NSA Input Form'!AB169:AB172),4)/4<0.75),(IFERROR(AVERAGE('NSA Input Form'!AB175:AB178),4)/4<0.75),(IFERROR(AVERAGE('NSA Input Form'!AB181:AB184),4)/4<0.75),(IFERROR(AVERAGE('NSA Input Form'!AB187:AB190),4)/4<0.75),(IFERROR(AVERAGE('NSA Input Form'!AB193:AB196),4)/4<0.75),'NSA Input Form'!AB199<=2),\"R\",IF(N23<0.75,\"R\",IF(N23<0.9,\"Y\",\"G\"))))","v":"NR"}]
[6,"Training","TR",{"$f":"'NSA Input Form'!AC235","v":0},{"$f":"'NSA Input Form'!AC234","v":0},"NR",{"$f":"IF(F24=\"NR\",\"NR\",IF(OR((IFERROR(AVERAGE('NSA Input Form'!Z208:Z211),4)/4<0.75),(IFERROR(AVERAGE('NSA Input Form'!Z214:Z217),4)/4<0.75),(IFERROR(AVERAGE('NSA Input Form'!Z220:Z223),4)/4<0.75),(IFERROR(AVERAGE('NSA Input Form'!Z226:Z229),4)/4<0.75),'NSA Input Form'!Z232<=2),\"R\",IF(F24<0.75,\"R\",IF(F24<0.9,\"Y\",\"G\"))))","v":"NR"},{"$f":"'NSA Input Form'!AD235","v":0},{"$f":"'NSA Input Form'!AD234","v":0},"NR",{"$f":"IF(J24=\"NR\",\"NR\",IF(OR((IFERROR(AVERAGE('NSA Input Form'!AA208:AA211),4)/4<0.75),(IFERROR(AVERAGE('NSA Input Form'!AA214:AA217),4)/4<0.75),(IFERROR(AVERAGE('NSA Input Form'!AA220:AA223),4)/4<0.75),(IFERROR(AVERAGE('NSA Input Form'!AA226:AA229),4)/4<0.75),'NSA Input Form'!AA232<=2),\"R\",IF(J24<0.75,\"R\",IF(J24<0.9,\"Y\",\"G\"))))","v":"NR"},{"$f":"'NSA Input Form'!AE235","v":0},{"$f":"'NSA Input Form'!AE234","v":0},"NR",{"$f":"IF(N24=\"NR\",\"NR\",IF(OR((IFERROR(AVERAGE('NSA Input Form'!AB208:AB211),4)/4<0.75),(IFERROR(AVERAGE('NSA Input Form'!AB214:AB217),4)/4<0.75),(IFERROR(AVERAGE('NSA Input Form'!AB220:AB223),4)/4<0.75),(IFERROR(AVERAGE('NSA Input Form'!AB226:AB229),4)/4<0.75),'NSA Input Form'!AB232<=2),\"R\",IF(N24<0.75,\"R\",IF(N24<0.9,\"Y\",\"G\"))))","v":"NR"}]
[7,"Layered Process Audit","LP",{"$f":"'NSA Input Form'!AC268","v":0},{"$f":"'NSA Input Form'!AC267","v":0},"NR",{"$f":"IF(F25=\"NR\",\"NR\",IF(OR((IFERROR(AVERAGE('NSA Input Form'!Z241:Z244),4)/4<0.75),(IFERROR(AVERAGE('NSA Input Form'!Z247:Z250),4)/4<0.75),(IFERROR(AVERAGE('NSA Input Form'!Z253:Z256),4)/4<0.75),(IFERROR(AVERAGE('NSA Input Form'!Z259:Z262),4)/4<0.75),'NSA Input Form'!Z265<=2),\"R\",IF(F25<0.75,\"R\",IF(F25<0.9,\"Y\",\"G\"))))","v":"NR"},{"$f":"'NSA Input Form'!AD268","v":0},{"$f":"'NSA Input Form'!AD267","v":0},"NR",{"$f":"IF(J25=\"NR\",\"NR\",IF(OR((IFERROR(AVERAGE('NSA Input Form'!AA241:AA244),4)/4<0.75),(IFERROR(AVERAGE('NSA Input Form'!AA247:AA250),4)/4<0.75),(IFERROR(AVERAGE('NSA Input Form'!AA253:AA256),4)/4<0.75),(IFERROR(AVERAGE('NSA Input Form'!AA259:AA262),4)/4<0.75),'NSA Input Form'!AA265<=2),\"R\",IF(J25<0.75,\"R\",IF(J25<0.9,\"Y\",\"G\"))))","v":"NR"},{"$f":"'NSA Input Form'!AE268","v":0},{"$f":"'NSA Input Form'!AE267","v":0},"NR",{"$f":"IF(N25=\"NR\",\"NR\",IF(OR((IFERROR(AVERAGE('NSA Input Form'!AB241:AB244),4)/4<0.75),(IFERROR(AVERAGE('NSA Input Form'!AB247:AB250),4)/4<0.75),(IFERROR(AVERAGE('NSA Input Form'!AB253:AB256),4)/4<0.75),(IFERROR(AVERAGE('NSA Input Form'!AB259:AB262),4)/4<0.75),'NSA Input Form'!AB265<=2),\"R\",IF(N25<0.75,\"R\",IF(N25<0.9,\"Y\",\"G\"))))","v":"NR"}]
[8,"Risk Reduction","RR",{"$f":"'NSA Input Form'!AC301","v":0},{"$f":"'NSA Input Form'!AC300","v":0},"NR",{"$f":"IF(F26=\"NR\",\"NR\",IF(OR((IFERROR(AVERAGE('NSA Input Form'!Z274:Z277),4)/4<0.75),(IFERROR(AVERAGE('NSA Input Form'!Z280:Z283),4)/4<0.75),(IFERROR(AVERAGE('NSA Input Form'!Z286:Z289),4)/4<0.75),(IFERROR(AVERAGE('NSA Input Form'!Z292:Z295),4)/4<0.75),'NSA Input Form'!Z298<=2),\"R\",IF(F26<0.75,\"R\",IF(F26<0.9,\"Y\",\"G\"))))","v":"NR"},{"$f":"'NSA Input Form'!AD301","v":0},{"$f":"'NSA Input Form'!AD300","v":0},"NR",{"$f":"IF(J26=\"NR\",\"NR\",IF(OR((IFERROR(AVERAGE('NSA Input Form'!AA274:AA277),4)/4<0.75),(IFERROR(AVERAGE('NSA Input Form'!AA280:AA283),4)/4<0.75),(IFERROR(AVERAGE('NSA Input Form'!AA286:AA289),4)/4<0.75),(IFERROR(AVERAGE('NSA Input Form'!AA292:AA295),4)/4<0.75),'NSA Input Form'!AA298<=2),\"R\",IF(J26<0.75,\"R\",IF(J26<0.9,\"Y\",\"G\"))))","v":"NR"},{"$f":"'NSA Input Form'!AE301","v":0},{"$f":"'NSA Input Form'!AE300","v":0},"NR",{"$f":"IF(N26=\"NR\",\"NR\",IF(OR((IFERROR(AVERAGE('NSA Input Form'!AB274:AB277),4)/4<0.75),(IFERROR(AVERAGE('NSA Input Form'!AB280:AB283),4)/4<0.75),(IFERROR(AVERAGE('NSA Input Form'!AB286:AB289),4)/4<0.75),(IFERROR(AVERAGE('NSA Input Form'!AB292:AB295),4)/4<0.75),'NSA Input Form'!AB298<=2),\"R\",IF(N26<0.75,\"R\",IF(N26<0.9,\"Y\",\"G\"))))","v":"NR"}]
[9,"Supply Chain Management","SC",{"$f":"'NSA Input Form'!AC334","v":0},{"$f":"'NSA Input Form'!AC333","v":0},"NR",{"$f":"IF(F27=\"NR\",\"NR\",IF(OR((IFERROR(AVERAGE('NSA Input Form'!Z307:Z310),4)/4<0.75),(IFERROR(AVERAGE('NSA Input Form'!Z313:Z316),4)/4<0.75),(IFERROR(AVERAGE('NSA Input Form'!Z319:Z322),4)/4<0.75),(IFERROR(AVERAGE('NSA Input Form'!Z325:Z328),4)/4<0.75),'NSA Input Form'!Z331<=2),\"R\",IF(F27<0.75,\"R\",IF(F27<0.9,\"Y\",\"G\"))))","v":"NR"},{"$f":"'NSA Input Form'!AD334","v":0},{"$f":"'NSA Input Form'!AD333","v":0},"NR",{"$f":"IF(J27=\"NR\",\"NR\",IF(OR((IFERROR(AVERAGE('NSA Input Form'!AA307:AA310),4)/4<0.75),(IFERROR(AVERAGE('NSA Input Form'!AA313:AA316),4)/4<0.75),(IFERROR(AVERAGE('NSA Input Form'!AA319:AA322),4)/4<0.75),(IFERROR(AVERAGE('NSA Input Form'!AA325:AA328),4)/4<0.75),'NSA Input Form'!AA331<=2),\"R\",IF(J27<0.75,\"R\",IF(J27<0.9,\"Y\",\"G\"))))","v":"NR"},{"$f":"'NSA Input Form'!AE334","v":0},{"$f":"'NSA Input Form'!AE333","v":0},"NR",{"$f":"IF(N27=\"NR\",\"NR\",IF(OR((IFERROR(AVERAGE('NSA Input Form'!AB307:AB310),4)/4<0.75),(IFERROR(AVERAGE('NSA Input Form'!AB313:AB316),4)/4<0.75),(IFERROR(AVERAGE('NSA Input Form'!AB319:AB322),4)/4<0.75),(IFERROR(AVERAGE('NSA Input Form'!AB325:AB328),4)/4<0.75),'NSA Input Form'!AB331<=2),\"R\",IF(N27<0.75,\"R\",IF(N27<0.9,\"Y\",\"G\"))))","v":"NR"}]
[10,"Managing Change","MC",{"$f":"'NSA Input Form'!AC367","v":0},{"$f":"'NSA Input Form'!AC366","v":0},"NR",{"$f":"IF(F28=\"NR\",\"NR\",IF(OR((IFERROR(AVERAGE('NSA Input Form'!Z340:Z343),4)/4<0.75),(IFERROR(AVERAGE('NSA Input Form'!Z346:Z349),4)/4<0.75),(IFERROR(AVERAGE('NSA Input Form'!Z352:Z355),4)/4<0.75),(IFERROR(AVERAGE('NSA Input Form'!Z358:Z361),4)/4<0.75),'NSA Input Form'!Z364<=2),\"R\",IF(F28<0.75,\"R\",IF(F28<0.9,\"Y\",\"G\"))))","v":"NR"},{"$f":"'NSA Input Form'!AD367","v":0},{"$f":"'NSA Input Form'!AD366","v":0},"NR",{"$f":"IF(J28=\"NR\",\"NR\",IF(OR((IFERROR(AVERAGE('NSA Input Form'!AA340:AA343),4)/4<0.75),(IFERROR(AVERAGE('NSA Input Form'!AA346:AA349),4)/4<0.75),(IFERROR(AVERAGE('NSA Input Form'!AA352:AA355),4)/4<0.75),(IFERROR(AVERAGE('NSA Input Form'!AA358:AA361),4)/4<0.75),'NSA Input Form'!AA364<=2),\"R\",IF(J28<0.75,\"R\",IF(J28<0.9,\"Y\",\"G\"))))","v":"NR"},{"$f":"'NSA Input Form'!AE367","v":0},{"$f":"'NSA Input Form'!AE366","v":0},"NR",{"$f":"IF(N28=\"NR\",\"NR\",IF(OR((IFERROR(AVERAGE('NSA Input Form'!AB340:AB343),4)/4<0.75),(IFERROR(AVERAGE('NSA Input Form'!AB346:AB349),4)/4<0.75),(IFERROR(AVERAGE('NSA Input Form'!AB352:AB355),4)/4<0.75),(IFERROR(AVERAGE('NSA Input Form'!AB358:AB361),4)/4<0.75),'NSA Input Form'!AB364<=2),\"R\",IF(N28<0.75,\"R\",IF(N28<0.9,\"Y\",\"G\"))))","v":"NR"}]
[11,"Contamination Control","CC",{"$f":"'NSA Input Form'!AC394","v":0},{"$f":"'NSA Input Form'!AC393","v":0},"NR",{"$f":"IF(F29=\"NR\",\"NR\",IF(OR((IFERROR(AVERAGE('NSA Input Form'!Z373:Z376),4)/4<0.75),(IFERROR(AVERAGE('NSA Input Form'!Z379:Z382),4)/4<0.75),(IFERROR(AVERAGE('NSA Input Form'!Z385:Z388),4)/4<0.75),'NSA Input Form'!Z391<=2),\"R\",IF(F29<0.75,\"R\",IF(F29<0.9,\"Y\",\"G\"))))","v":"NR"},{"$f":"'NSA Input Form'!AD394","v":0},{"$f":"'NSA Input Form'!AD393","v":0},"NR",{"$f":"IF(J29=\"NR\",\"NR\",IF(OR((IFERROR(AVERAGE('NSA Input Form'!AA373:AA376),4)/4<0.75),(IFERROR(AVERAGE('NSA Input Form'!AA379:AA382),4)/4<0.75),(IFERROR(AVERAGE('NSA Input Form'!AA385:AA388),4)/4<0.75),'NSA Input Form'!AA391<=2),\"R\",IF(J29<0.75,\"R\",IF(J29<0.9,\"Y\",\"G\"))))","v":"NR"},{"$f":"'NSA Input Form'!AE394","v":0},{"$f":"'NSA Input Form'!AE393","v":0},"NR",{"$f":"IF(N29=\"NR\",\"NR\",IF(OR((IFERROR(AVERAGE('NSA Input Form'!AB373:AB376),4)/4<0.75),(IFERROR(AVERAGE('NSA Input Form'!AB379:AB382),4)/4<0.75),(IFERROR(AVERAGE('NSA Input Form'!AB385:AB388),4)/4<0.75),'NSA Input Form'!AB391<=2),\"R\",IF(N29<0.75,\"R\",IF(N29<0.9,\"Y\",\"G\"))))","v":"NR"}]
[12,"Manufacturing & Material Flow ","MM",{"$f":"'NSA Input Form'!AC421","v":0},{"$f":"'NSA Input Form'!AC420","v":0},"NR",{"$f":"IF(F30=\"NR\",\"NR\",IF(OR((IFERROR(AVERAGE('NSA Input Form'!Z400:Z403),4)/4<0.75),(IFERROR(AVERAGE('NSA Input Form'!Z406:Z409),4)/4<0.75),(IFERROR(AVERAGE('NSA Input Form'!Z412:Z415),4)/4<0.75),'NSA Input Form'!Z418<=2),\"R\",IF(F30<0.75,\"R\",IF(F30<0.9,\"Y\",\"G\"))))","v":"NR"},{"$f":"'NSA Input Form'!AD421","v":0},{"$f":"'NSA Input Form'!AD420","v":0},"NR",{"$f":"IF(J30=\"NR\",\"NR\",IF(OR((IFERROR(AVERAGE('NSA Input Form'!AA400:AA403),4)/4<0.75),(IFERROR(AVERAGE('NSA Input Form'!AA406:AA409),4)/4<0.75),(IFERROR(AVERAGE('NSA Input Form'!AA412:AA415),4)/4<0.75),'NSA Input Form'!AA418<=2),\"R\",IF(J30<0.75,\"R\",IF(J30<0.9,\"Y\",\"G\"))))","v":"NR"},{"$f":"'NSA Input Form'!AE421","v":0},{"$f":"'NSA Input Form'!AE420","v":0},"NR",{"$f":"IF(N30=\"NR\",\"NR\",IF(OR((IFERROR(AVERAGE('NSA Input Form'!AB400:AB403),4)/4<0.75),(IFERROR(AVERAGE('NSA Input Form'!AB406:AB409),4)/4<0.75),(IFERROR(AVERAGE('NSA Input Form'!AB412:AB415),4)/4<0.75),'NSA Input Form'!AB418<=2),\"R\",IF(N30<0.75,\"R\",IF(N30<0.9,\"Y\",\"G\"))))","v":"NR"}]
[13,"External Logistic","EL",{"$f":"'NSA Input Form'!AC448","v":0},{"$f":"'NSA Input Form'!AC447","v":0},"NR",{"$f":"IF(F31=\"NR\",\"NR\",IF(OR((IFERROR(AVERAGE('NSA Input Form'!Z427:Z430),4)/4<0.75),(IFERROR(AVERAGE('NSA Input Form'!Z433:Z436),4)/4<0.75),(IFERROR(AVERAGE('NSA Input Form'!Z439:Z442),4)/4<0.75),'NSA Input Form'!Z445<=2),\"R\",IF(F31<0.75,\"R\",IF(F31<0.9,\"Y\",\"G\"))))","v":"NR"},{"$f":"'NSA Input Form'!AD448","v":0},{"$f":"'NSA Input Form'!AD447","v":0},"NR",{"$f":"IF(J31=\"NR\",\"NR\",IF(OR((IFERROR(AVERAGE('NSA Input Form'!AA427:AA430),4)/4<0.75),(IFERROR(AVERAGE('NSA Input Form'!AA433:AA436),4)/4<0.75),(IFERROR(AVERAGE('NSA Input Form'!AA439:AA442),4)/4<0.75),'NSA Input Form'!AA445<=2),\"R\",IF(J31<0.75,\"R\",IF(J31<0.9,\"Y\",\"G\"))))","v":"NR"},{"$f":"'NSA Input Form'!AE448","v":0},{"$f":"'NSA Input Form'!AE447","v":0},"NR",{"$f":"IF(N31=\"NR\",\"NR\",IF(OR((IFERROR(AVERAGE('NSA Input Form'!AB427:AB430),4)/4<0.75),(IFERROR(AVERAGE('NSA Input Form'!AB433:AB436),4)/4<0.75),(IFERROR(AVERAGE('NSA Input Form'!AB439:AB442),4)/4<0.75),'NSA Input Form'!AB445<=2),\"R\",IF(N31<0.75,\"R\",IF(N31<0.9,\"Y\",\"G\"))))","v":"NR"}]
[14,"Advance Product Quality Planning ","AP",{"$f":"'NSA Input Form'!AC475","v":0},{"$f":"'NSA Input Form'!AC474","v":0},"NR",{"$f":"IF(F32=\"NR\",\"NR\",IF(OR((IFERROR(AVERAGE('NSA Input Form'!Z454:Z457),4)/4<0.75),(IFERROR(AVERAGE('NSA Input Form'!Z460:Z463),4)/4<0.75),(IFERROR(AVERAGE('NSA Input Form'!Z466:Z469),4)/4<0.75),'NSA Input Form'!Z472<=2),\"R\",IF(F32<0.75,\"R\",IF(F32<0.9,\"Y\",\"G\"))))","v":"NR"},{"$f":"'NSA Input Form'!AD475","v":0},{"$f":"'NSA Input Form'!AD474","v":0},"NR",{"$f":"IF(J32=\"NR\",\"NR\",IF(OR((IFERROR(AVERAGE('NSA Input Form'!AA454:AA457),4)/4<0.75),(IFERROR(AVERAGE('NSA Input Form'!AA460:AA463),4)/4<0.75),(IFERROR(AVERAGE('NSA Input Form'!AA466:AA469),4)/4<0.75),'NSA Input Form'!AA472<=2),\"R\",IF(J32<0.75,\"R\",IF(J32<0.9,\"Y\",\"G\"))))","v":"NR"},{"$f":"'NSA Input Form'!AE475","v":0},{"$f":"'NSA Input Form'!AE474","v":0},"NR",{"$f":"IF(N32=\"NR\",\"NR\",IF(OR((IFERROR(AVERAGE('NSA Input Form'!AB454:AB457),4)/4<0.75),(IFERROR(AVERAGE('NSA Input Form'!AB460:AB463),4)/4<0.75),(IFERROR(AVERAGE('NSA Input Form'!AB466:AB469),4)/4<0.75),'NSA Input Form'!AB472<=2),\"R\",IF(N32<0.75,\"R\",IF(N32<0.9,\"Y\",\"G\"))))","v":"NR"}]
[15,"Automotive Quality Standards","AQ",{"$f":"'NSA Input Form'!AC502","v":0},{"$f":"'NSA Input Form'!AC501","v":0},"NR",{"$f":"IF(F33=\"NR\",\"NR\",IF(OR((IFERROR(AVERAGE('NSA Input Form'!Z481:Z484),4)/4<0.75),(IFERROR(AVERAGE('NSA Input Form'!Z487:Z490),4)/4<0.75),(IFERROR(AVERAGE('NSA Input Form'!Z493:Z496),4)/4<0.75),'NSA Input Form'!Z499<=2),\"R\",IF(F33<0.75,\"R\",IF(F33<0.9,\"Y\",\"G\"))))","v":"NR"},{"$f":"'NSA Input Form'!AD502","v":0},{"$f":"'NSA Input Form'!AD501","v":0},"NR",{"$f":"IF(J33=\"NR\",\"NR\",IF(OR((IFERROR(AVERAGE('NSA Input Form'!AA481:AA484),4)/4<0.75),(IFERROR(AVERAGE('NSA Input Form'!AA487:AA490),4)/4<0.75),(IFERROR(AVERAGE('NSA Input Form'!AA493:AA496),4)/4<0.75),'NSA Input Form'!AA499<=2),\"R\",IF(J33<0.75,\"R\",IF(J33<0.9,\"Y\",\"G\"))))","v":"NR"},{"$f":"'NSA Input Form'!AE502","v":0},{"$f":"'NSA Input Form'!AE501","v":0},"NR",{"$f":"IF(N33=\"NR\",\"NR\",IF(OR((IFERROR(AVERAGE('NSA Input Form'!AB481:AB484),4)/4<0.75),(IFERROR(AVERAGE('NSA Input Form'!AB487:AB490),4)/4<0.75),(IFERROR(AVERAGE('NSA Input Form'!AB493:AB496),4)/4<0.75),'NSA Input Form'!AB499<=2),\"R\",IF(N33<0.75,\"R\",IF(N33<0.9,\"Y\",\"G\"))))","v":"NR"}]
[{"$f":"IF(K34=\"NR\",IF(G34=\"G\",3,IF(G34=\"Y\",2,IF(G34=\"R\",1,0))),IF(K34=\"G\",3,IF(K34=\"Y\",2,IF(K34=\"R\",1,0))))","v":0},"Audit Summary\nTotal Score",null,{"$f":"SUM(D19:D33)","v":0},{"$f":"SUM(E19:E33)","v":0},{"$f":"IF(D34<>0,E34/D34,\"NR\")","v":"NR"},{"$f":"IF(OR(COUNTIF(G19:G23,\"R\")>0,COUNTIF(G19:G23,\"Y\")>0),\"R\",IF(F34=\"NR\",\"NR\",IF(OR(COUNTIF(G19:G33,\"R\")>0,F34<0.75),\"R\",IF(F34<0.9,\"Y\",\"G\"))))","v":"NR"},{"$f":"SUM(H19:H33)","v":0},{"$f":"SUM(I19:I33)","v":0},{"$f":"IF(H34<>0,I34/H34,\"NR\")","v":"NR"},{"$f":"IF(OR(COUNTIF(K19:K23,\"R\")>0,COUNTIF(K19:K23,\"Y\")>0),\"R\",IF(J34=\"NR\",\"NR\",IF(OR(COUNTIF(K19:K33,\"R\")>0,J34<0.75),\"R\",IF(J34<0.9,\"Y\",\"G\"))))","v":"NR"},{"$f":"SUM(L19:L33)","v":0},{"$f":"SUM(M19:M33)","v":0},{"$f":"IF(L34<>0,M34/L34,\"NR\")","v":"NR"},{"$f":"IF(OR(COUNTIF(O19:O23,\"R\")>0,COUNTIF(O19:O23,\"Y\")>0),\"R\",IF(N34=\"NR\",\"NR\",IF(OR(COUNTIF(O19:O33,\"R\")>0,N34<0.75),\"R\",IF(N34<0.9,\"Y\",\"G\"))))","v":"NR"}]
[1,"Audit Result",null,{"$f":"IF(G34=\"NR\", \"NR\",IF(G34=\"G\",\"Pass\",IF(G34=\"Y\",\"Conditional Pass\",\"Fail\")))","v":"NR"},null,null,null,{"$f":"IF(K34=\"NR\", \"NR\",IF(K34=\"G\",\"Pass\",IF(K34=\"Y\",\"Conditional Pass\",\"Fail\")))","v":"NR"},null,null,null,{"$f":"IF(O34=\"NR\", \"NR\",IF(O34=\"G\",\"Pass\",IF(O34=\"Y\",\"Conditional Pass\",\"Fail\")))","v":"NR"}]
[null,"General Comment"]
[null,"BIF Code:",null,{"$f":"IF(OR(A34=0,A35=0),\"\",A35*100+A34*10)","v":""}]

{"sheet":"CQI-9 Heat Treat Audit","index":10,"n_rows":23,"n_cols":13,"rows_kept":23,"cut":false,"hidden":true,"merged":[[8,0,10,0],[8,3,10,3],[8,5,10,5],[0,0,0,1],[1,0,1,1],[2,0,2,1],[3,0,3,1],[6,1,7,2],[0,2,0,3],[1,2,1,3],[2,2,2,3],[3,2,3,3],[5,0,5,3],[6,0,7,0],[6,3,7,3],[8,1,10,2],[6,4,7,4],[6,5,7,5],[2,5,4,5],[11,11,13,11],[6,6,7,6],[6,7,7,7],[6,8,7,8],[6,9,7,9],[6,10,7,10],[6,11,7,11],[11,10,13,10],[8,7,10,7],[20,5,22,5],[20,3,22,3],[14,0,16,0],[14,3,16,3],[14,5,16,5],[17,0,19,0],[17,3,19,3],[20,0,22,0],[14,1,16,2],[17,1,19,2],[20,1,22,2],[11,0,13,0],[11,3,13,3],[11,5,13,5],[17,8,19,8],[17,9,19,9],[17,5,19,5],[11,1,13,2],[11,7,13,7],[14,7,16,7],[17,7,19,7],[11,9,13,9],[20,6,22,6],[8,6,10,6],[11,6,13,6],[14,6,16,6],[17,6,19,6],[20,7,22,7],[8,8,10,8],[8,9,10,9],[8,10,10,10],[8,11,10,11],[11,8,13,8],[14,8,16,8],[14,9,16,9],[14,10,16,10],[14,11,16,11],[20,8,22,8],[20,9,22,9],[20,10,22,10],[20,11,22,11],[17,11,19,11],[17,10,19,10],[20,12,22,12],[5,11,5,12],[6,12,7,12],[8,12,10,12],[11,12,13,12],[14,12,16,12],[17,12,19,12]]}
["Date: ",null,{"$f":"IF(ISBLANK('Supplier Data'!N30),\"\",'Supplier Data'!N30)","v":""}]
["Supplier Name:                                                                                                               ",null,{"$f":"IF(ISBLANK('Supplier Data'!D14),\"\",'Supplier Data'!D14)","v":""},null,null,"Overall Judgement"]
["Parts Evaluated:                                                                                                              ",null,null,null,null,{"$f":"IF(COUNTA(F9:F56)<>COUNT(A9:A56),\"R - Incomplete\",IF(OR(COUNTIF(F9:F56,\"Fail\")>0,COUNTIF(F9:F56,\"R - Unacceptable\")>0),\"R - Unacceptable\",IF(COUNTIF(F9:F56,\"Y - CA Required\")>0,\"Y - CA Required\",\"G - OK\")))","v":"R - Incomplete"}]
["Program:"]
[]
["CQI-9 Heat Treat Process Specific Audit"]
[null,"Question",null,"Verify ","Objective Judgement Criteria","(G/Y/R or \nPass/Fail)","SUPPLIER EVIDENCE","NEXTEER OBSERVATIONS","Corrective Action Plan\nRequired for Red or Yellow Score Items","Person Responsible","Target Completion Date","Actual Completion Date","Nexteer Corrective Action Plan Observations"]
[]
[1,"Has the supplier completed the CQI-9 self assessment?",null,"Review a copy of the latest CQI-9 Self Assessment","Pass: Supplier has evidence of a CQI-9 Heat treat Assessment"]
[]
[null,null,null,null,"Fail: No CQI-9 Heat Treat Assessment"]
[2,"Is there evidence that the supplier completes an annual self-assessment?",null,"Look for multiple years of CQI-9 Assessments.  Review Audit/Assessment schedule","Pass: Supplier has multiple CQI-9 Self Assessments available, or a Schedule for future assessments"]
[]
[null,null,null,null,"Fail: Supplier has no CQI-9 Self Assessment or has only one with no Audit Schdule"]
[3,"Has the supplier completed a Corrective Action Plan (CAP) for all \"Not Satisfactory\" findings?\nDoes the CAP identify the responsible person and the date for completion?\nIs there evidence that the CAP is a living document?",null,"Review the Corrective Active Plan Section of the CQI-9 Assessment","Green: CAP available for all Not Satifactory ratings with responsible persons, due dates and updates evident"]
[null,null,null,null,"Yellow: CAP available without responsible persons, due dates or updates"]
[null,null,null,null,"Red: No CAP available"]
[4,"Have all \"Needs Immediate Action\" findings been corrected?",null,"Verify All \"Needs Immediate Action\" items have been addressed","Pass: \"Needs Immediate Action\" findings all addressed with evidence"]
[]
[null,null,null,null,"Fail: Any \"Needs Immediate Action\" findings remain unaddressed"]
[5,"The supplier must complete the Job Audit section of CQI-9 for the process being audited.",null,null,"Pass: Job Audit Section Complete"]
[]
[null,null,null,null,"Fail: Job Audit Section Not Complete"]

{"sheet":"CQI-11 Plating Audit","index":11,"n_rows":23,"n_cols":13,"rows_kept":23,"cut":false,"hidden":true,"merged":[[0,0,0,1],[1,0,1,1],[2,0,2,1],[3,0,3,1],[0,2,0,3],[1,2,1,3],[2,2,2,3],[3,2,3,3],[20,7,22,7],[20,8,22,8],[20,9,22,9],[20,10,22,10],[20,11,22,11],[17,7,19,7],[17,8,19,8],[17,9,19,9],[17,10,19,10],[17,11,19,11],[14,7,16,7],[14,8,16,8],[14,9,16,9],[14,10,16,10],[14,11,16,11],[11,7,13,7],[11,8,13,8],[11,9,13,9],[11,10,13,10],[11,11,13,11],[8,7,10,7],[8,8,10,8],[8,9,10,9],[8,10,10,10],[8,11,10,11],[6,7,7,7],[6,8,7,8],[6,9,7,9],[6,10,7,10],[6,11,7,11],[20,6,22,6],[6,6,7,6],[8,6,10,6],[11,6,13,6],[14,6,16,6],[17,6,19,6],[20,0,22,0],[20,3,22,3],[20,5,22,5],[14,0,16,0],[14,3,16,3],[14,5,16,5],[17,0,19,0],[17,3,19,3],[17,5,19,5],[14,1,16,2],[17,1,19,2],[20,1,22,2],[8,0,10,0],[8,3,10,3],[8,5,10,5],[11,0,13,0],[11,3,13,3],[11,5,13,5],[8,1,10,2],[11,1,13,2],[2,5,4,5],[6,0,7,0],[6,3,7,3],[6,4,7,4],[6,5,7,5],[6,1,7,2],[5,0,5,3],[20,12,22,12],[5,11,5,12],[6,12,7,12],[8,12,10,12],[11,12,13,12],[14,12,16,12],[17,12,19,12]]}
["Date: ",null,{"$f":"IF(ISBLANK('Supplier Data'!N30),\"\",'Supplier Data'!N30)","v":""}]
["Supplier Name:                                                                                                               ",null,{"$f":"IF(ISBLANK('Supplier Data'!D14),\"\",'Supplier Data'!D14)","v":""},null,null,"Overall Judgement"]
["Parts Evaluated:                                                                                                              ",null,null,null,null,{"$f":"IF(COUNTA(F9:F56)<>COUNT(A9:A56),\"R - Incomplete\",IF(OR(COUNTIF(F9:F56,\"Fail\")>0,COUNTIF(F9:F56,\"R - Unacceptable\")>0),\"R - Unacceptable\",IF(COUNTIF(F9:F56,\"Y - CA Required\")>0,\"Y - CA Required\",\"G - OK\")))","v":"R - Incomplete"}]
["Program:"]
[]
["CQI-11 Plating Process Specific Audit"]
[null,"Question",null,"Verify ","Objective Judgement Criteria","(G/Y/R or \nPass/Fail)","SUPPLIER EVIDENCE","NEXTEER OBSERVATIONS","Corrective Action Plan\nRequired for Red or Yellow Score Items","Person Responsible","Target Completion Date","Actual Completion Date","Nexteer Corrective ActionPlan Observations "]
[]
[1,"Has the supplier completed the CQI-11 self assessment?",null,"Review a copy of the latest CQI-11 Self Assessment","Pass: Supplier has evidence of a CQI-11 Plating Assessment"]
[]
[null,null,null,null,"Fail: No CQI-11 Plating Assessment"]
[2,"Is there evidence that the supplier completes an annual self-assessment?",null,"Look for multiple years of CQI-11 Assessments.  Review Audit/Assessment schedule","Pass: Supplier has multiple CQI-11 Self Assessments available, or a Schedule for future assessments"]
[]
[null,null,null,null,"Fail: Supplier has no CQI-11 Self Assessment or has only one with no Audit Schdule"]
[3,"Has the supplier completed a Corrective Action Plan (CAP) for all \"Not Satisfactory\" findings?\nDoes the CAP identify the responsible person and the date for completion?\nIs there evidence that the CAP is a living document?",null,"Review the Corrective Active Plan Section of the CQI-11 Assessment","Green: CAP available for all Not Satifactory ratings with responsible persons, due dates and updates evident"]
[null,null,null,null,"Yellow: CAP available without responsible persons, due dates or updates"]
[null,null,null,null,"Red: No CAP available"]
[4,"Have all \"Needs Immediate Action\" findings been corrected?",null,"Verify All \"Needs Immediate Action\" items have been addressed","Pass: \"Needs Immediate Action\" findings all addressed with evidence"]
[]
[null,null,null,null,"Fail: Any \"Needs Immediate Action\" findings remain unaddressed"]
[5,"The supplier must complete the Job Audit section of CQI-11 for the process being audited. ",null,null,"Pass: Job Audit Section Complete"]
[]
[null,null,null,null,"Fail: Job Audit Section Not Complete"]

{"sheet":"CQI-12 Coating Audit","index":12,"n_rows":23,"n_cols":13,"rows_kept":23,"cut":false,"hidden":true,"merged":[[0,0,0,1],[0,2,0,3],[1,0,1,1],[1,2,1,3],[2,0,2,1],[2,2,2,3],[20,7,22,7],[20,8,22,8],[20,9,22,9],[20,10,22,10],[20,11,22,11],[17,7,19,7],[17,8,19,8],[17,9,19,9],[17,10,19,10],[17,11,19,11],[14,7,16,7],[14,8,16,8],[14,9,16,9],[14,10,16,10],[14,11,16,11],[11,7,13,7],[11,8,13,8],[11,9,13,9],[11,10,13,10],[11,11,13,11],[8,7,10,7],[8,8,10,8],[8,9,10,9],[8,10,10,10],[8,11,10,11],[6,7,7,7],[6,8,7,8],[6,9,7,9],[6,10,7,10],[6,11,7,11],[20,6,22,6],[6,6,7,6],[8,6,10,6],[11,6,13,6],[14,6,16,6],[17,6,19,6],[20,0,22,0],[20,3,22,3],[20,5,22,5],[14,0,16,0],[14,3,16,3],[14,5,16,5],[17,0,19,0],[17,3,19,3],[17,5,19,5],[14,1,16,2],[17,1,19,2],[20,1,22,2],[8,0,10,0],[8,3,10,3],[8,5,10,5],[11,0,13,0],[11,3,13,3],[11,5,13,5],[8,1,10,2],[11,1,13,2],[2,5,4,5],[6,0,7,0],[6,3,7,3],[6,4,7,4],[6,5,7,5],[3,0,3,1],[3,2,3,3],[6,1,7,2],[5,0,5,3],[20,12,22,12],[5,11,5,12],[6,12,7,12],[8,12,10,12],[11,12,13,12],[14,12,16,12],[17,12,19,12]]}
["Date: ",null,{"$f":"IF(ISBLANK('Supplier Data'!N30),\"\",'Supplier Data'!N30)","v":""}]
["Supplier Name:                                                                                                               ",null,{"$f":"IF(ISBLANK('Supplier Data'!D14),\"\",'Supplier Data'!D14)","v":""},null,null,"Overall Judgement"]
["Parts Evaluated:                                                                                                              ",null,null,null,null,{"$f":"IF(COUNTA(F9:F56)<>COUNT(A9:A56),\"R - Incomplete\",IF(OR(COUNTIF(F9:F56,\"Fail\")>0,COUNTIF(F9:F56,\"R - Unacceptable\")>0),\"R - Unacceptable\",IF(COUNTIF(F9:F56,\"Y - CA Required\")>0,\"Y - CA Required\",\"G - OK\")))","v":"R - Incomplete"}]
["Program:"]
[]
["CQI-12 Coating Process Specific Audit"]
[null,"Question",null,"Verify ","Objective Judgement Criteria","(G/Y/R or \nPass/Fail)","SUPPLIER EVIDENCE","NEXTEER OBSERVATIONS","Corrective Action Plan\nRequired for Red or Yellow Score Items","Person Responsible","Target Completion Date","Actual Completion Date","Nexteer Corrective ActionPlan Observations "]
[]
[1,"Has the supplier completed the CQI-12 self assessment?",null,"Review a copy of the latest CQI-12 Self Assessment","Pass: Supplier has evidence of a CQI-12 Coating Assessment"]
[]
[null,null,null,null,"Fail: No CQI-12 Coating Assessment"]
[2,"Is there evidence that the supplier completes an annual self-assessment?",null,"Look for multiple years of CQI-12 Assessments.  Review Audit/Assessment schedule","Pass: Supplier has multiple CQI-12 Self Assessments available, or a Schedule for future assessments"]
[]
[null,null,null,null,"Fail: Supplier has no CQI-12 Self Assessment or has only one with no Audit Schdule"]
[3,"Has the supplier completed a Corrective Action Plan (CAP) for all \"Not Satisfactory\" findings?\nDoes the CAP identify the responsible person and the date for completion?\nIs there evidence that the CAP is a living document?",null,"Review the Corrective Active Plan Section of the CQI-12 Assessment","Green: CAP available for all Not Satifactory ratings with responsible persons, due dates and updates evident"]
[null,null,null,null,"Yellow: CAP available without responsible persons, due dates or updates"]
[null,null,null,null,"Red: No CAP available"]
[4,"Have all \"Needs Immediate Action\" findings been corrected?",null,"Verify All \"Needs Immediate Action\" items have been addressed","Pass: \"Needs Immediate Action\" findings all addressed with evidence"]
[]
[null,null,null,null,"Fail: Any \"Needs Immediate Action\" findings remain unaddressed"]
[5,"The supplier must complete the Job Audit section of CQI-12 for the process being audited. ",null,null,"Pass: Job Audit Section Complete"]
[]
[null,null,null,null,"Fail: Job Audit Section Not Complete"]

{"sheet":"CQI-15 Welding Audit","index":13,"n_rows":23,"n_cols":13,"rows_kept":23,"cut":false,"hidden":true,"merged":[[0,0,0,1],[0,2,0,3],[1,0,1,1],[1,2,1,3],[2,0,2,1],[2,2,2,3],[20,7,22,7],[20,8,22,8],[20,9,22,9],[20,10,22,10],[20,11,22,11],[17,7,19,7],[17,8,19,8],[17,9,19,9],[17,10,19,10],[17,11,19,11],[14,7,16,7],[14,8,16,8],[14,9,16,9],[14,10,16,10],[14,11,16,11],[11,7,13,7],[11,8,13,8],[11,9,13,9],[11,10,13,10],[11,11,13,11],[8,7,10,7],[8,8,10,8],[8,9,10,9],[8,10,10,10],[8,11,10,11],[6,7,7,7],[6,8,7,8],[6,9,7,9],[6,10,7,10],[6,11,7,11],[20,6,22,6],[6,6,7,6],[8,6,10,6],[11,6,13,6],[14,6,16,6],[17,6,19,6],[20,0,22,0],[20,3,22,3],[20,5,22,5],[14,0,16,0],[14,3,16,3],[14,5,16,5],[17,0,19,0],[17,3,19,3],[17,5,19,5],[14,1,16,2],[17,1,19,2],[20,1,22,2],[8,0,10,0],[8,3,10,3],[8,5,10,5],[11,0,13,0],[11,3,13,3],[11,5,13,5],[8,1,10,2],[11,1,13,2],[2,5,4,5],[6,0,7,0],[6,3,7,3],[6,4,7,4],[6,5,7,5],[3,0,3,1],[3,2,3,3],[6,1,7,2],[5,0,5,3],[20,12,22,12],[5,11,5,12],[6,12,7,12],[8,12,10,12],[11,12,13,12],[14,12,16,12],[17,12,19,12]]}
["Date: ",null,{"$f":"IF(ISBLANK('Supplier Data'!N30),\"\",'Supplier Data'!N30)","v":""}]
["Supplier Name:                                                                                                               ",null,{"$f":"IF(ISBLANK('Supplier Data'!D14),\"\",'Supplier Data'!D14)","v":""},null,null,"Overall Judgement"]
["Parts Evaluated:                                                                                                              ",null,null,null,null,{"$f":"IF(COUNTA(F9:F56)<>COUNT(A9:A56),\"R - Incomplete\",IF(OR(COUNTIF(F9:F56,\"Fail\")>0,COUNTIF(F9:F56,\"R - Unacceptable\")>0),\"R - Unacceptable\",IF(COUNTIF(F9:F56,\"Y - CA Required\")>0,\"Y - CA Required\",\"G - OK\")))","v":"R - Incomplete"}]
["Program:"]
[]
["CQI-15 Welding Process Specific Audit"]
[null,"Question",null,"Verify ","Objective Judgement Criteria","(G/Y/R or \nPass/Fail)","SUPPLIER EVIDENCE","NEXTEER OBSERVATIONS","Corrective Action Plan\nRequired for Red or Yellow Score Items","Person Responsible","Target Completion Date","Actual Completion Date","Nexteer Corrective ActionPlan Observations "]
[]
[1,"Has the supplier completed the CQI-15 self assessment?",null,"Review a copy of the latest CQI-15 Self Assessment","Pass: Supplier has evidence of a CQI-15 Welding Assessment"]
[]
[null,null,null,null,"Fail: No CQI-15 Welding Assessment"]
[2,"Is there evidence that the supplier completes an annual self-assessment?",null,"Look for multiple years of CQI-15 Assessments.  Review Audit/Assessment schedule","Pass: Supplier has multiple CQI-15 Self Assessments available, or a Schedule for future assessments"]
[]
[null,null,null,null,"Fail: Supplier has no CQI-15 Self Assessment or has only one with no Audit Schdule"]
[3,"Has the supplier completed a Corrective Action Plan (CAP) for all \"Not Satisfactory\" findings?\nDoes the CAP identify the responsible person and the date for completion?\nIs there evidence that the CAP is a living document?",null,"Review the Corrective Active Plan Section of the CQI-15 Assessment","Green: CAP available for all Not Satifactory ratings with responsible persons, due dates and updates evident"]
[null,null,null,null,"Yellow: CAP available without responsible persons, due dates or updates"]
[null,null,null,null,"Red: No CAP available"]
[4,"Have all \"Needs Immediate Action\" findings been corrected?",null,"Verify All \"Needs Immediate Action\" items have been addressed","Pass: \"Needs Immediate Action\" findings all addressed with evidence"]
[]
[null,null,null,null,"Fail: Any \"Needs Immediate Action\" findings remain unaddressed"]
[5,"The supplier must complete the Job Audit section of CQI-15 for the process being audited. ",null,null,"Pass: Job Audit Section Complete"]
[]
[null,null,null,null,"Fail: Job Audit Section Not Complete"]

{"sheet":"CQI-17 Soldering Audit","index":14,"n_rows":23,"n_cols":13,"rows_kept":23,"cut":false,"hidden":true,"merged":[[0,0,0,1],[0,2,0,3],[1,0,1,1],[1,2,1,3],[2,0,2,1],[2,2,2,3],[20,7,22,7],[20,8,22,8],[20,9,22,9],[20,10,22,10],[20,11,22,11],[17,7,19,7],[17,8,19,8],[17,9,19,9],[17,10,19,10],[17,11,19,11],[14,7,16,7],[14,8,16,8],[14,9,16,9],[14,10,16,10],[14,11,16,11],[11,7,13,7],[11,8,13,8],[11,9,13,9],[11,10,13,10],[11,11,13,11],[8,7,10,7],[8,8,10,8],[8,9,10,9],[8,10,10,10],[8,11,10,11],[6,7,7,7],[6,8,7,8],[6,9,7,9],[6,10,7,10],[6,11,7,11],[20,6,22,6],[6,6,7,6],[8,6,10,6],[11,6,13,6],[14,6,16,6],[17,6,19,6],[20,0,22,0],[20,3,22,3],[20,5,22,5],[14,0,16,0],[14,3,16,3],[14,5,16,5],[17,0,19,0],[17,3,19,3],[17,5,19,5],[14,1,16,2],[17,1,19,2],[20,1,22,2],[8,0,10,0],[8,3,10,3],[8,5,10,5],[11,0,13,0],[11,3,13,3],[11,5,13,5],[8,1,10,2],[11,1,13,2],[2,5,4,5],[6,0,7,0],[6,3,7,3],[6,4,7,4],[6,5,7,5],[3,0,3,1],[3,2,3,3],[6,1,7,2],[5,0,5,3],[20,12,22,12],[5,11,5,12],[6,12,7,12],[8,12,10,12],[11,12,13,12],[14,12,16,12],[17,12,19,12]]}
["Date: ",null,{"$f":"IF(ISBLANK('Supplier Data'!N30),\"\",'Supplier Data'!N30)","v":""}]
["Supplier Name:                                                                                                               ",null,{"$f":"IF(ISBLANK('Supplier Data'!D14),\"\",'Supplier Data'!D14)","v":""},null,null,"Overall Judgement"]
["Parts Evaluated:                                                                                                              ",null,null,null,null,{"$f":"IF(COUNTA(F9:F56)<>COUNT(A9:A56),\"R - Incomplete\",IF(OR(COUNTIF(F9:F56,\"Fail\")>0,COUNTIF(F9:F56,\"R - Unacceptable\")>0),\"R - Unacceptable\",IF(COUNTIF(F9:F56,\"Y - CA Required\")>0,\"Y - CA Required\",\"G - OK\")))","v":"R - Incomplete"}]
["Program:"]
[]
["CQI-17 Soldering Process Specific Audit"]
[null,"Question",null,"Verify ","Objective Judgement Criteria","(G/Y/R or \nPass/Fail)","SUPPLIER EVIDENCE","NEXTEER OBSERVATIONS","Corrective Action Plan\nRequired for Red or Yellow Score Items","Person Responsible","Target Completion Date","Actual Completion Date","Nexteer Corrective ActionPlan Observations "]
[]
[1,"Has the supplier completed the CQI-17 self assessment?",null,"Review a copy of the latest CQI-17 Self Assessment","Pass: Supplier has evidence of a CQI-17 Soldering Assessment"]
[]
[null,null,null,null,"Fail: No CQI-17 Soldering Assessment"]
[2,"Is there evidence that the supplier completes an annual self-assessment?",null,"Look for multiple years of CQI-17 Assessments.  Review Audit/Assessment schedule","Pass: Supplier has multiple CQI-17 Self Assessments available, or a Schedule for future assessments"]
[]
[null,null,null,null,"Fail: Supplier has no CQI-17 Self Assessment or has only one with no Audit Schdule"]
[3,"Has the supplier completed a Corrective Action Plan (CAP) for all \"Not Satisfactory\" findings?\nDoes the CAP identify the responsible person and the date for completion?\nIs there evidence that the CAP is a living document?",null,"Review the Corrective Active Plan Section of the CQI-17 Assessment","Green: CAP available for all Not Satifactory ratings with responsible persons, due dates and updates evident"]
[null,null,null,null,"Yellow: CAP available without responsible persons, due dates or updates"]
[null,null,null,null,"Red: No CAP available"]
[4,"Have all \"Needs Immediate Action\" findings been corrected?",null,"Verify All \"Needs Immediate Action\" items have been addressed","Pass: \"Needs Immediate Action\" findings all addressed with evidence"]
[]
[null,null,null,null,"Fail: Any \"Needs Immediate Action\" findings remain unaddressed"]
[5,"The supplier must complete the Job Audit section of CQI-17 for the process being audited. ",null,null,"Pass: Job Audit Section Complete"]
[]
[null,null,null,null,"Fail: Job Audit Section Not Complete"]

{"sheet":"Aluminum Casting Audit","index":15,"n_rows":98,"n_cols":13,"rows_kept":98,"cut":false,"hidden":true,"merged":[[38,11,40,11],[6,5,7,5],[38,6,40,6],[38,7,40,7],[38,8,40,8],[38,9,40,9],[38,10,40,10],[32,11,34,11],[35,6,37,6],[35,7,37,7],[35,8,37,8],[35,9,37,9],[35,10,37,10],[35,11,37,11],[32,6,34,6],[32,7,34,7],[32,8,34,8],[32,9,34,9],[32,10,34,10],[26,11,28,11],[29,6,31,6],[29,7,31,7],[29,8,31,8],[29,9,31,9],[17,6,19,6],[17,7,19,7],[17,8,19,8],[17,9,19,9],[29,10,31,10],[29,11,31,11],[26,6,28,6],[26,7,28,7],[26,8,28,8],[26,9,28,9],[26,10,28,10],[20,11,22,11],[23,6,25,6],[23,7,25,7],[23,8,25,8],[23,9,25,9],[23,10,25,10],[23,11,25,11],[20,6,22,6],[20,7,22,7],[20,8,22,8],[20,9,22,9],[20,10,22,10],[17,11,19,11],[14,6,16,6],[14,7,16,7],[14,8,16,8],[14,9,16,9],[14,10,16,10],[14,11,16,11],[11,6,13,6],[11,7,13,7],[11,8,13,8],[11,9,13,9],[11,10,13,10],[38,0,40,0],[38,3,40,3],[38,5,40,5],[32,0,34,0],[32,3,34,3],[32,5,34,5],[35,0,37,0],[35,3,37,3],[35,5,37,5],[32,1,34,2],[35,1,37,2],[38,1,40,2],[29,0,31,0],[29,3,31,3],[29,5,31,5],[26,1,28,2],[29,1,31,2],[20,0,22,0],[20,3,22,3],[20,5,22,5],[23,0,25,0],[23,3,25,3],[23,5,25,5],[20,1,22,2],[23,1,25,2],[11,0,13,0],[11,3,13,3],[11,5,13,5],[17,5,19,5],[8,1,10,2],[11,1,13,2],[14,1,16,2],[17,1,19,2],[26,0,28,0],[26,3,28,3],[26,5,28,5],[17,10,19,10],[11,11,13,11],[6,0,7,0],[6,3,7,3],[6,4,7,4],[0,0,0,1],[0,2,0,3],[1,0,1,1],[1,2,1,3],[2,0,2,1],[2,2,2,3],[3,0,3,1],[3,2,3,3],[5,0,5,3],[6,1,7,2],[14,0,16,0],[14,3,16,3],[14,5,16,5],[17,0,19,0],[17,3,19,3],[8,0,10,0],[8,3,10,3],[8,5,10,5],[5,11,5,12],[2,5,4,5],[6,11,7,11],[8,6,10,6],[8,7,10,7],[8,8,10,8],[8,9,10,9],[8,10,10,10],[8,11,10,11],[6,6,7,6],[6,7,7,7],[6,8,7,8],[6,9,7,9],[6,10,7,10],[38,12,40,12],[35,12,37,12],[32,12,34,12],[29,12,31,12],[26,12,28,12],[23,12,25,12],[6,12,7,12],[8,12,10,12],[11,12,13,12],[14,12,16,12],[17,12,19,12],[20,12,22,12],[41,11,43,11],[41,12,43,12],[44,0,46,0],[44,1,46,2],[44,3,46,3],[44,5,46,5],[44,6,46,6],[44,7,46,7],[44,8,46,8],[44,9,46,9],[44,10,46,10],[44,11,46,11],[44,12,46,12],[41,0,43,0],[41,1,43,2],[41,3,43,3],[41,5,43,5],[41,6,43,6],[41,7,43,7],[41,8,43,8],[41,9,43,9],[41,10,43,10],[47,11,49,11],[47,12,49,12],[50,0,52,0],[50,1,52,2],[50,3,52,3],[50,5,52,5],[50,6,52,6],[50,7,52,7],[50,8,52,8],[50,9,52,9],[50,10,52,10],[50,11,52,11],[50,12,52,12],[47,0,49,0],[47,1,49,2],[47,3,49,3],[47,5,49,5],[47,6,49,6],[47,7,49,7],[47,8,49,8],[47,9,49,9],[47,10,49,10],[53,11,55,11],[53,12,55,12],[56,0,58,0],[56,1,58,2],[56,3,58,3],[56,5,58,5],[56,6,58,6],[56,7,58,7],[56,8,58,8],[56,9,58,9],[56,10,58,10],[56,11,58,11],[56,12,58,12],[53,0,55,0],[53,1,55,2],[53,3,55,3],[53,5,55,5],[53,6,55,6],[53,7,55,7],[53,8,55,8],[53,9,55,9],[53,10,55,10],[59,11,61,11],[59,12,61,12],[62,0,64,0],[62,1,64,2],[62,3,64,3],[62,5,64,5],[62,6,64,6],[62,7,64,7],[62,8,64,8],[62,9,64,9],[62,10,64,10],[62,11,64,11],[62,12,64,12],[59,0,61,0],[59,1,61,2],[59,3,61,3],[59,5,61,5],[59,6,61,6],[59,7,61,7],[59,8,61,8],[59,9,61,9],[59,10,61,10],[65,11,67,11],[65,12,67,12],[68,0,70,0],[68,1,70,2],[68,3,70,3],[68,5,70,5],[68,6,70,6],[68,7,70,7],[68,8,70,8],[68,9,70,9],[68,10,70,10],[68,11,70,11],[68,12,70,12],[65,0,67,0],[65,1,67,2],[65,3,67,3],[65,5,67,5],[65,6,67,6],[65,7,67,7],[65,8,67,8],[65,9,67,9],[65,10,67,10],[71,11,73,11],[71,12,73,12],[74,0,76,0],[74,1,76,2],[74,3,76,3],[74,5,76,5],[74,6,76,6],[74,7,76,7],[74,8,76,8],[74,9,76,9],[74,10,76,10],[74,11,76,11],[74,12,76,12],[71,0,73,0],[71,1,73,2],[71,3,73,3],[71,5,73,5],[71,6,73,6],[71,7,73,7],[71,8,73,8],[71,9,73,9],[71,10,73,10],[77,11,79,11],[77,12,79,12],[80,0,82,0],[80,1,82,2],[80,3,82,3],[80,5,82,5],[80,6,82,6],[80,7,82,7],[80,8,82,8],[80,9,82,9],[80,10,82,10],[80,11,82,11],[80,12,82,12],[77,0,79,0],[77,1,79,2],[77,3,79,3],[77,5,79,5],[77,6,79,6],[77,7,79,7],[77,8,79,8],[77,9,79,9],[77,10,79,10],[83,11,85,11],[83,12,85,12],[86,0,88,0],[86,1,88,2],[86,3,88,3],[86,5,88,5],[86,6,88,6],[86,7,88,7],[86,8,88,8],[86,9,88,9],[86,10,88,10],[86,11,88,11],[86,12,88,12],[83,0,85,0],[83,1,85,2],[83,3,85,3],[83,5,85,5],[83,6,85,6],[83,7,85,7],[83,8,85,8],[83,9,85,9],[83,10,85,10],[89,11,91,11],[89,12,91,12],[92,0,94,0],[92,1,94,2],[92,3,94,3],[92,5,94,5],[92,6,94,6],[92,7,94,7],[92,8,94,8],[92,9,94,9],[92,10,94,10],[92,11,94,11],[92,12,94,12],[89,0,91,0],[89,1,91,2],[89,3,91,3],[89,5,91,5],[89,6,91,6],[89,7,91,7],[89,8,91,8],[89,9,91,9],[89,10,91,10],[95,11,97,11],[95,12,97,12],[95,0,97,0],[95,1,97,2],[95,3,97,3],[95,5,97,5],[95,6,97,6],[95,7,97,7],[95,8,97,8],[95,9,97,9],[95,10,97,10]]}
["Date: ",null,{"$f":"IF(ISBLANK('Supplier Data'!N30),\"\",'Supplier Data'!N30)","v":""}]
["Supplier Name:                                                                                                               ",null,{"$f":"IF(ISBLANK('Supplier Data'!D14),\"\",'Supplier Data'!D14)","v":""},null,null,"Overall Judgement"]
["Parts Evaluated:                                                                                                              ",null,null,null,null,{"$f":"IF(COUNTA(F9:F53)<>COUNT(A9:A53),\"R - Incomplete\",IF(OR(COUNTIF(F9:F53,\"Fail\")>0,COUNTIF(F9:F53,\"R - Unacceptable\")>0),\"R - Unacceptable\",IF(COUNTIF(F9:F53,\"Y - CA Required\")>0,\"Y - CA Required\",\"G - OK\")))","v":"R - Incomplete"}]
["Program:"]
[]
["Aluminum Casting Process Specific Audit"]
[null,"Question",null,"Verify ","Objective Judgement Criteria","(G/Y/R or \nPass/Fail)","SUPPLIER EVIDENCE","NEXTEER OBSERVATIONS","Corrective Action Plan\nRequired for Red or Yellow Score Items","Person Responsible","Target Completion Date","Actual Completion Date","Nexteer Corrective ActionPlan Observations "]
[]
[1,"Is the metal chemistry checked on an audit basis at the central furnace/cell furnace?",null,"Spectrograph Documentation","Pass: Metal Chemistry checked at central furnace"]
[]
[null,null,null,null,"Fail: Metal Chemistry not checked at central furnace"]
[2,"Is molten metal cleaned and degassed before transfer to holder?",null,"Flow Chart/Control Plan/documentation","Pass: Metal cleaned and degassed prior to transfer to holder"]
[]
[null,null,null,null,"Fail: Metal not cleaned and degassed prior to transfer to holder"]
[3,"Are vacuum gas samples taken and density determined by using weight in air vs. weight in water?",null,"Density should be a minimum of 2.65 g/cc. / Audit sheet documentation","Pass: Samples taken and density checked using air vs. water method"]
[]
[null,null,null,null,"Fail: Samples not taken and density not checked using air vs. water method"]
[4,"Is metal holding furnace at the cell capable of holding +/- 5 C degrees(+/-9 degrees F)? ",null,"Control Plan / Electronic or circular chart recorders","Pass: Temperature controlled at +/- 5 degrees C"]
[]
[null,null,null,null,"Fail: Temperature control range greater than +/- 5 degrees C"]
[5,"Will alarms sound if temp. is out of specification and will casting be scrap?",null,"Review PFMEA","Green: Temperature fault sounds alarm and part automatically scrapped"]
[null,null,null,null,"Yellow: Temperature fault sounds alarm and part is manually dispositioned"]
[null,null,null,null,"Red: No alarm sounds or part is not scrapped"]
[6,"Does the actual metal temperature set point match the set up sheet / process control plan?",null,"Visual observation on floor","Pass: Melt temperature set point matches set up sheet target"]
[]
[null,null,null,null,"Fail: Melt temperature set point does not match set up sheet target"]
[7,"Is scrap material not allowed to be charged directly into the machine holding furnace?",null,"Visual observation on floor","Pass: Scrap material only charged in central melt furnace"]
[]
[null,null,null,null,"Fail: Scrap material charged into holding furnace"]
[8,"Is the molten metal surface of the dip well and build up around the well kept clean?",null,"Visual observation on floor","Pass: Dip well cleanliness maintained"]
[]
[null,null,null,null,"Fail: Dip well cleanliness not well maintained"]
[9,"Is biscuit length(cold chamber only) monitored for each casting produced?",null,"Program monitoring","Pass: Cold chamber biscuit length monitored continously"]
[]
[null,null,null,null,"Fail: Cold chamber biscuit length not monitored for each castin product"]
[10,"Are cast-in-place inserts cleaned & heated before installing in the die?",null,"Flow Chart/Control Plan/documentation","Pass: Cast-in-place inserts cleaned & heated before installing in the die"]
[]
[null,null,null,null,"Fail: Cast-in-place inserts not cleaned & heated before installing in the die"]
[11,"Are shot end parameters audited to verify the machine is set up and performing to the process designed for the part?",null,"Control Plan/Documentation","Pass: Shot end parameters audited to verify the machine is set up and performing to the process"]
[]
[null,null,null,null,"Fail: Shot end parameters are not audited to verify the machine is set up and performing to the process"]
[12,"Is there evidence of metal spitting back out of the sleeve during the shot or being dragged back out of the sleeve during shot retract?",null,"Visual observation on floor","Pass: No metal evident near shot sleeve"]
[]
[null,null,null,null,"Fail: There is evidence of metal splitting back out of the sleeve during the shot or being dragged back out of the sleeve during shot retract"]
[13,"Is there water leaking out of the shot rod coupling or running out of the back of the sleeve?",null,"Visual observation on floor","Pass: No water leakage present"]
[]
[null,null,null,null,"Fail: There is water leaking out of the shot rod coupling or running out of the back of the sleeve"]
[14,"Is the die cast machine real time closed loop monitoring / alarm and/or automatic scrap features operating properly?",null,"Control Plan/PFMEA review","Pass: All error proofing verification is complete and error proofing running properly"]
[]
[null,null,null,null,"Fail: Closed loop monitoring, alarms or automatic scrap features are not operating properly"]
[15,"Is there a specific procedure for set up of die lube?",null,"Control Plan/PFMEA review","Green: Die lube procedure present and followed"]
[null,null,null,null,"Yellow: Die lube procedure present; no evidence of following"]
[null,null,null,null,"Red: No Die lube procedure present"]
[16,"Does the die appear to be reasonably free of excess external cooling water and die lube when it closes?",null,"Visual observation on floor","Pass: Die appears to be reasonably free of excess external cooling water and cie lube when it closes"]
[]
[null,null,null,null,"Fail: Die has excess external cooling wanter and/or die lube when it closes"]
[17,"Is there evidence of water, lube, or hydraulic fluid dripping into the die from above?",null,"Visual observation on floor","Pass: Clean environment above press - no contaminants dripping down"]
[]
[null,null,null,null,"Fail: Evidence of contamination dripping down onto die"]
[18,"Is there evidence of metal spitting out of the die during the shot?",null,"Visual observation on floor","Pass: No metal spitting out of die parting line"]
[]
[null,null,null,null,"Fail: Metal spitting out of die parting line"]
[19,"Are there set-up procedures for water, oil, air, electric, hydraulic lines for the dies?",null,"Visual observation for set-up records","Pass: Set up procedures present and followed"]
[]
[null,null,null,null,"Fail: Set up procedures not present or not followed"]
[20,"Are internal water lines inspected for blockage every time a die is taken out of service?",null,"Control Plan/PFMEA review and tooling procedures","Green: Water lines inspected each time die is serviced"]
[null,null,null,null,"Yellow: Water lines inspected on a regular basis but not at each service"]
[null,null,null,null,"Red: Water lines not physically inspected"]
[21,"Do all die water exit lines have flow meters?",null,"Visual observation on floor","Pass: All water lines have exit flow meters"]
[]
[null,null,null,null,"Fail: No flow meters or partial application of flow meters"]
[22,"Are water lines error proofed to eliminate the possibility to cross connect the lines? ",null,"Ask question / visually observe","Green: Water lines physically error proofed"]
[null,null,null,null,"Yellow: Water lines error proofed with visual controls"]
[null,null,null,null,"Red: No error proofing of water lines"]
[23,"Are die temperatures base lined and audited?",null,"Control Plan/PFMEA review","Pass: Die temperatures base lined and audited"]
[]
[null,null,null,null,"Fail: Die temperatures NOT base lined and/or audited"]
[24,"Are computer programs or mechanical limits protected from non-authorized changes?",null,"Look for enclosed and locked cabinets for computer programs","Pass: Lock out or password protection present"]
[]
[null,null,null,null,"Fail: No lock out and/or password protection present"]
[25,"Are castings totally dry before going into air decay leak testing?",null,"Flow Chart/Control Plan/ visual observation","Pass: Castings are dry before leak test"]
[]
[null,null,null,null,"Fail: Castings are not dry before leak test"]
[26,"Are castings 100% air decay leak tested",null,"Flow Chart/Control Plan/documentation","Pass: 100% air pressure decay leak test is used"]
[]
[null,null,null,null,"Fail: No air leak test or audit leak test"]
[27,"Does air decay equipment have temperature control and adjustment?",null,"Ask question","Pass: Pressure decay leak testers have temperature compensation control systems"]
[]
[null,null,null,null,"Fail: Pressure decay leak testers do not have temperature compensation control systems"]
[28,"Is there a certified leak test master?",null,"Visual observation of Masters","Pass: Certified leak test master available"]
[]
[null,null,null,null,"Fail: No Master available or master un-certified"]
[29,"Is there a water dunk test available for determining the location of air decay leakers on pre-machined and finished machined (customer return) castings?",null,"Visual Inspection","Pass: Leak location and analysis tools available"]
[]
[null,null,null,null,"Fail: No leak location and/or analysis tools available"]
[30,"Does the leak test stamp an accepted part?",null,"Visual Inspection","Pass: Leak test marks/identifies passing part"]
[]
[null,null,null,null,"Fail: No identification mark added to passing part"]

{"sheet":"Assembly Audit","index":16,"n_rows":26,"n_cols":13,"rows_kept":26,"cut":false,"hidden":true,"merged":[[20,6,22,6],[17,7,19,7],[17,8,19,8],[17,9,19,9],[17,10,19,10],[20,7,22,7],[20,8,22,8],[20,9,22,9],[20,10,22,10],[23,6,25,6],[23,7,25,7],[23,8,25,8],[23,9,25,9],[23,10,25,10],[0,0,0,1],[0,2,0,3],[1,0,1,1],[1,2,1,3],[2,0,2,1],[2,2,2,3],[14,7,16,7],[14,8,16,8],[14,9,16,9],[14,10,16,10],[14,11,16,11],[11,7,13,7],[11,8,13,8],[11,9,13,9],[11,10,13,10],[11,11,13,11],[8,7,10,7],[8,8,10,8],[8,9,10,9],[8,10,10,10],[8,11,10,11],[6,7,7,7],[6,8,7,8],[6,9,7,9],[6,10,7,10],[6,11,7,11],[6,6,7,6],[8,6,10,6],[11,6,13,6],[14,6,16,6],[17,6,19,6],[23,0,25,0],[23,3,25,3],[23,5,25,5],[17,5,19,5],[20,0,22,0],[20,3,22,3],[20,5,22,5],[17,1,19,2],[20,1,22,2],[23,1,25,2],[14,0,16,0],[14,3,16,3],[14,5,16,5],[17,0,19,0],[17,3,19,3],[14,1,16,2],[8,0,10,0],[8,3,10,3],[8,5,10,5],[11,0,13,0],[11,3,13,3],[11,5,13,5],[8,1,10,2],[11,1,13,2],[2,5,4,5],[6,0,7,0],[6,3,7,3],[6,4,7,4],[6,5,7,5],[3,0,3,1],[3,2,3,3],[6,1,7,2],[5,0,5,3],[23,12,25,12],[20,12,22,12],[5,11,5,12],[6,12,7,12],[8,12,10,12],[11,12,13,12],[14,12,16,12],[17,12,19,12],[17,11,19,11],[23,11,25,11],[20,11,22,11]]}
["Date: ",null,{"$f":"IF(ISBLANK('Supplier Data'!N30),\"\",'Supplier Data'!N30)","v":""}]
["Supplier Name:                                                                                                               ",null,{"$f":"IF(ISBLANK('Supplier Data'!D14),\"\",'Supplier Data'!D14)","v":""},null,null,"Overall Judgement"]
["Parts Evaluated:                                                                                                              ",null,null,null,null,{"$f":"IF(COUNTA(F9:F56)<>COUNT(A9:A56),\"R - Incomplete\",IF(OR(COUNTIF(F9:F56,\"Fail\")>0,COUNTIF(F9:F56,\"R - Unacceptable\")>0),\"R - Unacceptable\",IF(COUNTIF(F9:F56,\"Y - CA Required\")>0,\"Y - CA Required\",\"G - OK\")))","v":"R - Incomplete"}]
["Program:"]
[]
["Assembly Process Specific Audit"]
[null,"Question",null,"Verify ","Objective Judgement Criteria","(G/Y/R or \nPass/Fail)","SUPPLIER EVIDENCE","NEXTEER OBSERVATIONS","Corrective Action Plan\nRequired for Red or Yellow Score Items","Person Responsible","Target Completion Date","Actual Completion Date","Nexteer Corrective ActionPlan Observations "]
[]
[1,"Does Nexteer own the assembly equipment?",null,"For action items and financial reasons this must be known.","Pass: Ownership of equipment is well defined"]
[]
[null,null,null,null,"Fail: Ownership is not definedNothing available"]
[2,"For all parts of the assembly/sub-assembly is error proofing in place for any missing parts?",null,"Look for the verification list of error proofing.","Green:  Part Presence is error proofed for all parts"]
[null,null,null,null,"Yellow: Part presence is verified for some parts but not others"]
[null,null,null,null,"Red: Part Presence not Error Proofed"]
[3,"Does the operator have the authority to shut the line down for quality issues?",null,"Check the company policy.","Pass: Operator has authority to Stop  the line"]
[]
[null,null,null,null,"Fail: Operator has no Authority to Stop the line"]
[4,"If the error proofing check on the line is not working properly at a particular time, what is the reaction plan?",null,"Look in the PCP.","Green: Clearly defined reaction plan for improperly workng Error Proofing"]
[null,null,null,null,"Yellow: General reaction plan for improperly workng error proofing"]
[null,null,null,null,"Red: No reaction plan for improperly working error proofing"]
[5,"Is the assembly/subassembly function tested at the end of the line?",null,"Look for the test on the line and pass/fail samples to check the equipment for function.","Green: Function test available with all G / NG samples available"]
[null,null,null,null,"Yellow: Function test available - some G / NG samples missing"]
[null,null,null,null,"Red: No Function Testing performed"]
[6,"Do the end of line check parameters match the product specifications?",null,"Check the parameter settings against the product spec.","Pass: Parameters match product spec"]
[]
[null,null,null,null,"Fail: Parameters do not match product spec."]

{"sheet":"Balancer Audit","index":17,"n_rows":38,"n_cols":13,"rows_kept":38,"cut":false,"hidden":true,"merged":[[23,11,25,11],[20,10,22,10],[20,11,22,11],[17,10,19,10],[17,11,19,11],[35,7,37,7],[35,8,37,8],[35,9,37,9],[35,10,37,10],[35,11,37,11],[32,7,34,7],[32,8,34,8],[32,9,34,9],[32,10,34,10],[32,11,34,11],[0,0,0,1],[0,2,0,3],[1,0,1,1],[1,2,1,3],[2,0,2,1],[2,2,2,3],[20,7,22,7],[20,8,22,8],[20,9,22,9],[17,7,19,7],[17,8,19,8],[17,9,19,9],[14,7,16,7],[14,8,16,8],[2,5,4,5],[6,0,7,0],[6,3,7,3],[6,4,7,4],[3,0,3,1],[3,2,3,3],[6,1,7,2],[5,0,5,3],[6,5,7,5],[6,7,7,7],[26,6,28,6],[29,6,31,6],[14,10,16,10],[14,11,16,11],[11,7,13,7],[11,8,13,8],[11,9,13,9],[11,10,13,10],[11,11,13,11],[14,9,16,9],[29,7,31,7],[29,8,31,8],[29,9,31,9],[29,10,31,10],[29,11,31,11],[26,7,28,7],[26,8,28,8],[26,9,28,9],[26,10,28,10],[26,11,28,11],[23,7,25,7],[23,8,25,8],[23,9,25,9],[23,10,25,10],[32,6,34,6],[35,6,37,6],[6,6,7,6],[8,6,10,6],[11,6,13,6],[14,6,16,6],[17,6,19,6],[32,0,34,0],[32,3,34,3],[32,5,34,5],[35,0,37,0],[35,3,37,3],[35,5,37,5],[32,1,34,2],[35,1,37,2],[26,0,28,0],[26,3,28,3],[26,5,28,5],[29,0,31,0],[29,3,31,3],[29,5,31,5],[26,1,28,2],[29,1,31,2],[20,0,22,0],[20,6,22,6],[8,7,10,7],[8,8,10,8],[8,9,10,9],[8,10,10,10],[6,8,7,8],[6,9,7,9],[8,11,10,11],[23,0,25,0],[23,3,25,3],[23,5,25,5],[20,1,22,2],[23,1,25,2],[14,0,16,0],[14,3,16,3],[14,5,16,5],[17,0,19,0],[17,3,19,3],[17,5,19,5],[14,1,16,2],[17,1,19,2],[20,3,22,3],[20,5,22,5],[23,6,25,6],[5,11,5,12],[8,0,10,0],[8,3,10,3],[8,5,10,5],[11,0,13,0],[11,3,13,3],[11,5,13,5],[8,1,10,2],[11,1,13,2],[6,10,7,10],[6,11,7,11],[32,12,34,12],[29,12,31,12],[26,12,28,12],[23,12,25,12],[35,12,37,12],[6,12,7,12],[8,12,10,12],[11,12,13,12],[14,12,16,12],[17,12,19,12],[20,12,22,12]]}
["Date: ",null,{"$f":"IF(ISBLANK('Supplier Data'!N30),\"\",'Supplier Data'!N30)","v":""}]
["Supplier Name:                                                                                                               ",null,{"$f":"IF(ISBLANK('Supplier Data'!D14),\"\",'Supplier Data'!D14)","v":""},null,null,"Overall Judgement"]
["Parts Evaluated:                                                                                                              ",null,null,null,null,{"$f":"IF(COUNTA(F9:F56)<>COUNT(A9:A56),\"R - Incomplete\",IF(OR(COUNTIF(F9:F56,\"Fail\")>0,COUNTIF(F9:F56,\"R - Unacceptable\")>0),\"R - Unacceptable\",IF(COUNTIF(F9:F56,\"Y - CA Required\")>0,\"Y - CA Required\",\"G - OK\")))","v":"R - Incomplete"}]
["Program:"]
[]
["Balancer Process Specific Audit"]
[null,"Question",null,"Verify ","Objective Judgement Criteria","(G/Y/R or \nPass/Fail)","SUPPLIER EVIDENCE","NEXTEER OBSERVATIONS","Corrective Action Plan\nRequired for Red or Yellow Score Items","Person Responsible","Target Completion Date","Actual Completion Date","Nexteer Corrective ActionPlan Observations "]
[]
[1,"Are balancer calibration masters available and in good condition?",null,"Masters are available and show no signs of wear or damage.  Where are the calibration master parts stored? Are they clearly identified? Are the masters certified on a pre-defined frequency? What is the date of the last certification? communicated to the supplier and certifier?","Pass: Balance Masters available in good condition"]
[]
[null,null,null,null,"Fail: Balance masters unavailable or in poor condition"]
[2,"Are the balancer calibration masters of the current revision?",null,"Masters are of the current revision. Communications link for changes documented.  Balancer calibration parts are of the current design intent? How are new revisions communicated to the supplier and certifier?","Pass:  Masters match current revision"]
[]
[null,null,null,null,"Fail: Masters do not match current revision"]
[3,"Are high and low imbalance masters used to verify the functionality of the balancer?",null,"High and low imbalance test parts or movable weight are available.  A high and low imbalance test part is used during the recalibration process. Are all the master parts run at a minimum of 1/shift?  Are masters  periodically certified?  Proof of weight certification?","Green: Boundary samples of High and Low Limit are available and used once per shift minimum"]
[null,null,null,null,"Yellow: Boundary samples of High and Low Limit are available frequencey is less than once per shift"]
[null,null,null,null,"Red: High and Low Limit samples not available"]
[4,"Are the master parts verified at all RPM requirements and where is it recorded?",null,"Work instruction detailing masters are run at the different RPM levels.","Pass: Mastering Procedure includes all RPM ranges specified"]
[]
[null,null,null,null,"Fail: All RPM ranges are not"]
[5,"If the part is balanced by adding weights, how is weld weight retention verified? ",null,"A work instruction to test the retention of the weld weights and the required tools are available.  An operator instruction that requires a weld weight retention test? ","Green: Weld weight retention test with operator instructions available"]
[null,null,null,null,"Yellow: Retention test available - interval or instructions need improvement"]
[null,null,null,null,"Red: Weight retention testing not performed"]
[6,"If the part is balanced by removing material, how is this process verified?",null,"A work instruction to verify the amount of material removal.  An operator instruction that requires a material removal verification test? What interval is the test performed? Is the interval acceptable ? Are there touch points on all drills?  Verify presence of touch points at gage checks?","Green: Material removal verification available with operator instructions available"]
[null,null,null,null,"Yellow: Material removal test available - interval or instructions need improvement"]
[null,null,null,null,"Red: Material removal test not performed"]
[7,"Is there traceability from the part serial number (or other part identification) to the actual balance data?",null,"Final imbalance can be determined for any customer return part.  Imbalance data should be saved for each part balanced with traceability to the part identification method.  Is there a layered audit or operator check to ensure part identification method is working properly?","Pass: Balance data stored at manufacturing location linked to serial number or stored on part"]
[]
[null,null,null,null,"Fail: Balance data is not stored"]
[8,"Is initial imbalance, final and as shipped imbalance data available, being stored and reviewed to look for trends and anomalies.",null,"Evidence that initial and final imbalance is being reviewed.  Verify that initial and final imbalance data is available and is being reviewed. Verify that the data is reviewed at short and long term snapshots? Are there control limits for shifts and trends?","Pass: Evidence of Balance data review"]
[]
[null,null,null,null,"Fail: Balance data not stored or reviewed"]
[9,"What procedure is used to measure balance error?",null,"Evidence that tests are conducted to evaluate part and equipment error.  Verify test documentation (GRR study, Isoplot, Polygon plots, etc.)  Is the error value acceptable (weight and vector angle)?","Pass: Acceptable Measurement System Studies available"]
[]
[null,null,null,null,"Fail: No Acceptable Measurement System Studies Available"]
[10,"What is the rework procedure for parts rejected at the balancer?",null,"Work instruction detailing rework procedure.  Is there evidence that rejected parts are being processed per the work instructions?","Green: Rework Procedure detailed and evidence that it is being followed is available or no rework is allowed"]
[null,null,null,null,"Yellow: Rework procedure available - evidenceit is being followed is lacking"]
[null,null,null,null,"Red: No rework procedure available and rework is being performed"]

{"sheet":"Blow Molding Audit","index":18,"n_rows":41,"n_cols":13,"rows_kept":41,"cut":false,"hidden":true,"merged":[[38,7,40,7],[38,8,40,8],[38,9,40,9],[38,10,40,10],[38,11,40,11],[35,7,37,7],[35,8,37,8],[35,9,37,9],[35,10,37,10],[35,11,37,11],[32,7,34,7],[32,8,34,8],[32,9,34,9],[32,10,34,10],[32,11,34,11],[29,7,31,7],[29,8,31,8],[29,9,31,9],[29,10,31,10],[29,11,31,11],[26,7,28,7],[26,8,28,8],[26,9,28,9],[26,10,28,10],[26,11,28,11],[23,7,25,7],[23,8,25,8],[23,9,25,9],[23,10,25,10],[23,11,25,11],[0,0,0,1],[0,2,0,3],[1,0,1,1],[1,2,1,3],[2,0,2,1],[2,2,2,3],[20,7,22,7],[20,8,22,8],[20,9,22,9],[11,7,13,7],[11,8,13,8],[11,9,13,9],[20,6,22,6],[14,0,16,0],[14,3,16,3],[14,5,16,5],[17,0,19,0],[17,3,19,3],[17,5,19,5],[14,1,16,2],[17,1,19,2],[8,0,10,0],[8,3,10,3],[8,5,10,5],[20,10,22,10],[20,11,22,11],[17,7,19,7],[17,8,19,8],[17,9,19,9],[17,10,19,10],[17,11,19,11],[14,7,16,7],[14,8,16,8],[14,9,16,9],[14,10,16,10],[14,11,16,11],[23,6,25,6],[26,6,28,6],[29,6,31,6],[32,6,34,6],[35,6,37,6],[38,6,40,6],[6,6,7,6],[8,6,10,6],[11,6,13,6],[14,6,16,6],[17,6,19,6],[38,0,40,0],[38,3,40,3],[38,5,40,5],[32,0,34,0],[32,3,34,3],[32,5,34,5],[35,0,37,0],[35,3,37,3],[35,5,37,5],[32,1,34,2],[35,1,37,2],[38,1,40,2],[26,0,28,0],[26,3,28,3],[26,5,28,5],[29,0,31,0],[29,3,31,3],[29,5,31,5],[26,1,28,2],[29,1,31,2],[20,0,22,0],[20,3,22,3],[20,5,22,5],[23,0,25,0],[23,3,25,3],[23,5,25,5],[20,1,22,2],[23,1,25,2],[2,5,4,5],[6,0,7,0],[6,3,7,3],[6,4,7,4],[6,5,7,5],[3,0,3,1],[3,2,3,3],[6,1,7,2],[5,0,5,3],[5,11,5,12],[11,0,13,0],[11,3,13,3],[11,5,13,5],[8,1,10,2],[11,1,13,2],[11,10,13,10],[11,11,13,11],[8,7,10,7],[8,8,10,8],[8,9,10,9],[8,10,10,10],[8,11,10,11],[6,7,7,7],[6,8,7,8],[6,9,7,9],[6,10,7,10],[6,11,7,11],[23,12,25,12],[32,12,34,12],[29,12,31,12],[26,12,28,12],[38,12,40,12],[35,12,37,12],[6,12,7,12],[8,12,10,12],[11,12,13,12],[14,12,16,12],[17,12,19,12],[20,12,22,12]]}
["Date: ",null,{"$f":"IF(ISBLANK('Supplier Data'!N30),\"\",'Supplier Data'!N30)","v":""}]
["Supplier Name:                                                                                                               ",null,{"$f":"IF(ISBLANK('Supplier Data'!D14),\"\",'Supplier Data'!D14)","v":""},null,null,"Overall Judgement"]
["Parts Evaluated:                                                                                                              ",null,null,null,null,{"$f":"IF(COUNTA(F9:F56)<>COUNT(A9:A56),\"R - Incomplete\",IF(OR(COUNTIF(F9:F56,\"Fail\")>0,COUNTIF(F9:F56,\"R - Unacceptable\")>0),\"R - Unacceptable\",IF(COUNTIF(F9:F56,\"Y - CA Required\")>0,\"Y - CA Required\",\"G - OK\")))","v":"R - Incomplete"}]
["Program:"]
[]
["Blow Molding Process Specific Audit"]
[null,"Question",null,"Verify ","Objective Judgement Criteria","(G/Y/R or \nPass/Fail)","SUPPLIER EVIDENCE","NEXTEER OBSERVATIONS","Corrective Action Plan\nRequired for Red or Yellow Score Items","Person Responsible","Target Completion Date","Actual Completion Date","Nexteer Corrective ActionPlan Observations "]
[]
[1,"Did the supplier conduct parison programming analysis ? ",null,"Review parison programming result. Parison dies size","Green: Parison programming approval is done in the form of First Off Approval process and ongoing in process inspections. "]
[null,null,null,null,"Yellow: Parison programming approval is done at First Off Approval only"]
[null,null,null,null,"Red: No Parison approval process"]
[2,"Does the supplier have the specification of scrap ratio of materials used in the mixture?  ",null,"Ratio of materials to complete proper mixture relative to the mixture that was validated. ","Green: Virgin and regrind ratio controlled by the PLC at the blender "]
[null,null,null,null,"Yellow: Manual Regrind Mixing with log sheets"]
[null,null,null,null,"Red: No control of regrind content"]
[3,"Does the supplier monitor key machine operating parameters?  ",null,"Look for logs for : \nBlow Time\nCooling Time\nAir Pressure","Green: All machine settings monitored by PLC, exceeding the set up parameters will shut down the press"]
[null,null,null,null,"Yellow: Machine settings with manual setup sheet and settings log"]
[null,null,null,null,"Red: No evidence of key process parameter monitoring"]
[4,"How is mold temperature controlled ?",null,"Check mold temperature data. Uniform mold temperature is needed throughout all surfaces.","Green: Mold Temperature controlsystem monitored in PLC; temperature change should result in an alarm at the molding machine."]
[null,null,null,null,"Yellow: Mold temperature control system alarms independent of molding machine control"]
[null,null,null,null,"Red: Manual temperature control with no alarm of excursions from temperature set points"]
[5,"Does the supplier control the weight of the product?  ",null,"Weight must be checked 100% in workplace.","Pass: Weight is controlled based on quoted parameters and or wall thickness values such as peaks and roots and skirt height...etc. These are on the Nexteer print and done during first off and in process inspections. The weight scale is set up based on first off approved package with min and max limits."]
[]
[null,null,null,null,"Fail: Weight Checks on a sampling plan"]
[6,"If applicable, does the supplier have leak test machine?",null,"An alarm is necessary for all leak test machines.","Pass: All machines running Nexteer part numbers should have some type of in line leak tester. This is set up based on limit parts and internal program settings to reject boots with various defects such as pin holes and cracks."]
[]
[null,null,null,null,"Fail: In line leak checking not available"]
[7,"Are leak test machines calibrated? ",null,"Review calibration result.","Pass: Leak testers verified daily :Settings are being validated by operators, zone coordinators per shift and managers involved in LPA's. Look for daily team meetings reviews, QC reviews, LPA reports."]
[]
[null,null,null,null,"Fail: Leak testers validated on a less frequent basis"]
[8,"Are all accepted parts marked with a permanent symbol after leak test indicating the result of the test?",null,"Review leak procedures and review parts post leak test.","Pass:  Part marked after successful completion of leak test.  Review tracability per shift and if it did indeed go through the tester how is the boot marked. How is it PM'd."]
[]
[null,null,null,null,"Fail: Parts not marked at leak test machine or marked at different point in process"]
[9,"Does a supplier have a cutting jig?",null,"Check part condition after cutting","Green: Automated trim fixture"]
[null,null,null,null,"Yellow: Manual trim fixture with training records of operators verified"]
[null,null,null,null,"Red: Manual trim with no standard work or training records"]
[10,"Is there a standard cutting knife change frequency?",null,"Check cutting knife change frequency","Green:  PM schedule in place and current for all manual trims and automatic"]
[null,null,null,null,"Yellow: PM schedule in place but not up to date"]
[null,null,null,null,"Red: No demonstrated blade change frequency "]
[11,"Are all parts visually inspected for air pockets in critical areas?  Especially, after and near additional die cuts, punched, or augered holes on otherwise solid plastic design features (i.e., tabs, supports, ribs)?  ",null,"The supplier needs to be aware of process changes causing air pockets (i.e., tool wear).","Pass: All parts 100% visually inspected with WI up to date. Training records of operators also available and up to date and Scrap documented and put in red bin or locked box."]
[]
[null,null,null,null,"Fail: parts NOT 100% visually inspected with WI up to date. NO Training records of operators available and up to date and Scrap NOT documented and put in red bin or locked box."]

{"sheet":"Ductile Iron Casting Audit","index":19,"n_rows":53,"n_cols":13,"rows_kept":53,"cut":false,"hidden":true,"merged":[[50,11,52,11],[50,6,52,6],[50,7,52,7],[50,8,52,8],[50,9,52,9],[50,10,52,10],[44,11,46,11],[47,6,49,6],[47,7,49,7],[47,8,49,8],[47,9,49,9],[47,10,49,10],[47,11,49,11],[44,6,46,6],[44,7,46,7],[44,8,46,8],[44,9,46,9],[44,10,46,10],[35,11,37,11],[35,6,37,6],[35,7,37,7],[35,8,37,8],[35,9,37,9],[35,10,37,10],[38,11,40,11],[41,6,43,6],[41,7,43,7],[41,8,43,8],[41,9,43,9],[41,10,43,10],[41,11,43,11],[38,6,40,6],[38,7,40,7],[38,8,40,8],[38,9,40,9],[38,10,40,10],[29,11,31,11],[32,6,34,6],[32,7,34,7],[32,8,34,8],[32,9,34,9],[32,10,34,10],[32,11,34,11],[29,6,31,6],[29,7,31,7],[29,8,31,8],[29,9,31,9],[29,10,31,10],[23,11,25,11],[26,6,28,6],[26,7,28,7],[26,8,28,8],[26,9,28,9],[26,10,28,10],[26,11,28,11],[23,6,25,6],[23,7,25,7],[23,8,25,8],[23,9,25,9],[23,10,25,10],[0,0,0,1],[0,2,0,3],[1,0,1,1],[1,2,1,3],[2,0,2,1],[2,2,2,3],[20,7,22,7],[20,8,22,8],[20,9,22,9],[11,7,13,7],[11,8,13,8],[11,9,13,9],[20,6,22,6],[6,6,7,6],[8,6,10,6],[11,6,13,6],[14,6,16,6],[17,6,19,6],[14,0,16,0],[14,3,16,3],[14,5,16,5],[17,0,19,0],[17,3,19,3],[17,5,19,5],[20,10,22,10],[20,11,22,11],[17,7,19,7],[17,8,19,8],[17,9,19,9],[17,10,19,10],[17,11,19,11],[14,7,16,7],[14,8,16,8],[14,9,16,9],[14,10,16,10],[14,11,16,11],[11,10,13,10],[11,11,13,11],[8,7,10,7],[8,8,10,8],[8,9,10,9],[8,10,10,10],[8,11,10,11],[6,7,7,7],[6,8,7,8],[6,9,7,9],[6,10,7,10],[6,11,7,11],[47,0,49,0],[47,3,49,3],[47,5,49,5],[50,0,52,0],[50,3,52,3],[50,5,52,5],[47,1,49,2],[50,1,52,2],[41,0,43,0],[41,3,43,3],[41,5,43,5],[44,0,46,0],[44,3,46,3],[44,5,46,5],[41,1,43,2],[44,1,46,2],[38,0,40,0],[38,3,40,3],[38,5,40,5],[38,1,40,2],[32,0,34,0],[32,3,34,3],[32,5,34,5],[35,0,37,0],[35,3,37,3],[35,5,37,5],[32,1,34,2],[35,1,37,2],[26,0,28,0],[26,3,28,3],[26,5,28,5],[29,0,31,0],[29,3,31,3],[29,5,31,5],[26,1,28,2],[29,1,31,2],[20,0,22,0],[20,3,22,3],[20,5,22,5],[23,0,25,0],[23,3,25,3],[23,5,25,5],[20,1,22,2],[23,1,25,2],[5,11,5,12],[23,12,25,12],[32,12,34,12],[29,12,31,12],[26,12,28,12],[2,5,4,5],[6,0,7,0],[6,3,7,3],[6,4,7,4],[6,5,7,5],[3,0,3,1],[3,2,3,3],[6,1,7,2],[5,0,5,3],[14,1,16,2],[17,1,19,2],[8,0,10,0],[8,3,10,3],[8,5,10,5],[11,0,13,0],[11,3,13,3],[11,5,13,5],[8,1,10,2],[11,1,13,2],[38,12,40,12],[35,12,37,12],[50,12,52,12],[47,12,49,12],[44,12,46,12],[41,12,43,12],[6,12,7,12],[8,12,10,12],[11,12,13,12],[14,12,16,12],[17,12,19,12],[20,12,22,12]]}
["Date: ",null,{"$f":"IF(ISBLANK('Supplier Data'!N30),\"\",'Supplier Data'!N30)","v":""}]
["Supplier Name:                                                                                                               ",null,{"$f":"IF(ISBLANK('Supplier Data'!D14),\"\",'Supplier Data'!D14)","v":""},null,null,"Overall Judgement"]
["Parts Evaluated:                                                                                                              ",null,null,null,null,{"$f":"IF(COUNTA(F9:F53)<>COUNT(A9:A53),\"R - Incomplete\",IF(OR(COUNTIF(F9:F53,\"Fail\")>0,COUNTIF(F9:F53,\"R - Unacceptable\")>0),\"R - Unacceptable\",IF(COUNTIF(F9:F53,\"Y - CA Required\")>0,\"Y - CA Required\",\"G - OK\")))","v":"R - Incomplete"}]
["Program:"]
[]
["Ductile Iron Casting Process Specific Audit",null,null,null,null,"JUDGEMENT"]
[null,"Question",null,"Verify ","Objective Judgement Criteria","(G/Y/R or \nPass/Fail)","SUPPLIER EVIDENCE","NEXTEER OBSERVATIONS","Corrective Action Plan\nRequired for Red or Yellow Score Items","Person Responsible","Target Completion Date","Actual Completion Date","Nexteer Corrective ActionPlan Observations "]
[]
[1,"Is the metal chemistry checked on a continual basis at the central / holding furnace/ and are SPC charts used?",null,"The % of carbon / CE (carbon equivalent) should be monitored & look for SPC charts on silicon ","Pass: CE and Silicon SPC charts available"]
[]
[null,null,null,null,"Fail: CE and Silicon is not monitored and charted on SPC control chart"]
[2,"Is the temperature and chemistry via the spectrograph in the pour station monitored.",null,"Look for an SPC chart on the temperature. Also look for the final chemistry check. ","Pass: SPC Chart for material temperature at the pour station is present"]
[]
[null,null,null,null,"Fail: SPC Chart for material temperature is not present at pour station"]
[3,"Is there a time limit set after Mg inoculation to prevent nodularity fade? Is there an alarm system?",null,"Look for the maximum time and for the presence of a time alarm.","Pass: Timer and alarm set after magnesium innoculation"]
[]
[null,null,null,null,"Fail: No Timer or Alarm set after magnesium innoculation"]
[4,"Is FeSi or other post inoculation during mold fill checked?",null,"Ask question / visually observe","Pass: FeSi checked during mold fill post innoculation"]
[]
[null,null,null,null,"Fail: No post innoculation check of FeSi"]
[5,"Is magnesium residual checked and recorded?",null,"Ask question and check records.","Pass: Magnesium residual checked and recorded"]
[]
[null,null,null,null,"Fail: Magnesium residual not checked or not recorded"]
[6,"Does the actual metal temperature set point match the set up sheet / process control plan?",null,"Visual observation on floor at appropriate points in process","Pass: Melt Temperature set point matches set up sheet"]
[]
[null,null,null,null,"Fail: Melt Temperature set point does not match set up sheet"]
[7,"Is pour basin full at end of mold pour?",null,"Visual observation. If not full investigate rational / review procedure for scrapping mold.","Pass: Pour basin is full at end of pour"]
[]
[null,null,null,null,"Fail: Pour basin is not full at end of pour"]
[8,"Is there any mold / metal runout?",null,"Visual observation / review procedure for defective molds.","Pass: No mold / metal runout"]
[]
[null,null,null,null,"Fail: Visible mold / metal runout"]
[9,"How are defective molds (short pour, runout, broken) identified and controlled?",null,"Ask question / visual observation","Pass: Defective molds identified and well controlled"]
[]
[null,null,null,null,"Fail: Defective molds not identified or identifed but not well controlled"]
[10,"Is nodularity / microstructure checked on \"last mold\" poured for each Mg inoculation treatment?",null,"Nodularity sample from \"last mold\", is the last mold identified and marked?  Is 100% NDT testing being used (required for safety parts).","Pass: Last mold nodularity and microstructure is checked (100% NDT for safety parts required)"]
[]
[null,null,null,null,"Fail: Last mold nodularity not checked"]
[11,"Is x-ray equipment certified? Are operators trained and certified?",null,"Visual observation and training records","Pass: X-ray equipment is certified and operators trained / certified"]
[]
[null,null,null,null,"Fail: X-ray equipment is not certified or operators not trained and certified"]
[12,"Are there visual aids for post casting processing such as gate / fin removal and gaging?",null,"Visual observation","Pass: Visual Aids for post casting processes available"]
[]
[null,null,null,null,"Fail: No Visual aids or inadequate visual aids available"]
[13,"Are computer programs or mechanical limits protected from non-authorized changes?",null,"Look for enclosed and locked cabinets for computer programs","Pass: Programs and Limits are protected from un-authorized changes"]
[]
[null,null,null,null,"Fail: Programs and Limits are not protected from changes"]
[14,"Are there audits developed for wall thickness checks?",null,"Control Plan/documentation","Pass: Wall thichness audits developed and available"]
[]
[null,null,null,null,"Fail: Wall Thickness Audits not developed or data not available for review"]
[15,"Are there inspection audits developed with hit points on key casting features subject to wear, such as CMM, optical smart scopes or laser inspection? ",null,"Review inspection programs and visual casting features","Pass: CMM or guaging of wear features are developed and checked regularly"]
[]
[null,null,null,null,"Fail: No CMM or guaging of wear features have been developed"]

{"sheet":"Electrical Product Audit","index":20,"n_rows":56,"n_cols":13,"rows_kept":56,"cut":false,"hidden":true,"merged":[[53,11,55,11],[53,12,55,12],[53,0,55,0],[53,1,55,2],[53,3,55,3],[53,5,55,5],[53,6,55,6],[53,7,55,7],[53,8,55,8],[53,9,55,9],[53,10,55,10],[50,12,52,12],[47,0,49,0],[47,1,49,2],[47,3,49,3],[47,5,49,5],[47,6,49,6],[47,7,49,7],[47,8,49,8],[47,9,49,9],[47,10,49,10],[47,11,49,11],[47,12,49,12],[50,0,52,0],[50,1,52,2],[50,3,52,3],[50,5,52,5],[50,6,52,6],[50,7,52,7],[50,8,52,8],[50,9,52,9],[50,10,52,10],[50,11,52,11],[38,12,40,12],[41,1,43,2],[41,3,43,3],[41,12,43,12],[44,0,46,0],[44,1,46,2],[44,3,46,3],[44,5,46,5],[44,6,46,6],[44,7,46,7],[44,8,46,8],[44,9,46,9],[44,10,46,10],[44,11,46,11],[44,12,46,12],[41,11,43,11],[38,10,40,10],[41,10,43,10],[41,9,43,9],[41,8,43,8],[38,6,40,6],[41,0,43,0],[41,7,43,7],[38,7,40,7],[26,12,28,12],[29,1,31,2],[29,3,31,3],[29,12,31,12],[32,1,34,2],[32,3,34,3],[32,12,34,12],[35,1,37,2],[35,3,37,3],[35,12,37,12],[26,5,28,5],[32,9,34,9],[32,8,34,8],[35,5,37,5],[35,6,37,6],[35,7,37,7],[35,8,37,8],[35,9,37,9],[26,3,28,3],[29,8,31,8],[29,9,31,9],[29,10,31,10],[32,7,34,7],[32,6,34,6],[20,9,22,9],[20,10,22,10],[20,11,22,11],[20,12,22,12],[23,1,25,2],[23,3,25,3],[23,12,25,12],[23,10,25,10],[23,9,25,9],[20,7,22,7],[11,12,13,12],[14,1,16,2],[14,3,16,3],[14,12,16,12],[17,0,19,0],[17,1,19,2],[17,3,19,3],[17,5,19,5],[17,6,19,6],[17,7,19,7],[17,8,19,8],[17,9,19,9],[17,10,19,10],[17,11,19,11],[17,12,19,12],[11,10,13,10],[14,5,16,5],[14,6,16,6],[14,7,16,7],[14,8,16,8],[14,9,16,9],[14,10,16,10],[11,5,13,5],[11,6,13,6],[2,5,4,5],[3,0,3,1],[3,2,3,3],[5,11,5,12],[6,1,7,2],[6,4,7,4],[6,12,7,12],[8,1,10,2],[8,3,10,3],[8,12,10,12],[8,9,10,9],[8,10,10,10],[6,6,7,6],[6,7,7,7],[6,8,7,8],[6,9,7,9],[6,0,7,0],[6,3,7,3],[8,0,10,0],[6,10,7,10],[8,5,10,5],[8,6,10,6],[8,7,10,7],[6,5,7,5],[35,11,37,11],[38,11,40,11],[23,11,25,11],[26,11,28,11],[29,11,31,11],[32,11,34,11],[6,11,7,11],[8,11,10,11],[11,11,13,11],[14,11,16,11],[0,0,0,1],[0,2,0,3],[0,4,3,4],[1,0,1,1],[1,2,1,3],[2,0,2,1],[2,2,2,3],[11,0,13,0],[14,0,16,0],[11,1,13,2],[11,3,13,3],[41,6,43,6],[41,5,43,5],[38,5,40,5],[38,8,40,8],[38,9,40,9],[32,5,34,5],[29,5,31,5],[26,0,28,0],[29,0,31,0],[26,1,28,2],[29,6,31,6],[29,7,31,7],[35,0,37,0],[38,0,40,0],[38,1,40,2],[38,3,40,3],[35,10,37,10],[32,10,34,10],[5,0,5,3],[8,8,10,8],[11,7,13,7],[11,8,13,8],[11,9,13,9],[32,0,34,0],[26,6,28,6],[26,7,28,7],[26,8,28,8],[26,9,28,9],[26,10,28,10],[23,5,25,5],[23,8,25,8],[23,7,25,7],[23,6,25,6],[20,5,22,5],[20,6,22,6],[20,0,22,0],[20,1,22,2],[20,3,22,3],[23,0,25,0],[20,8,22,8]]}
["Date: ",null,{"$f":"IF(ISBLANK('Supplier Data'!N30),\"\",'Supplier Data'!N30)","v":""}]
["Supplier Name:                                                                                                               ",null,{"$f":"IF(ISBLANK('Supplier Data'!D14),\"\",'Supplier Data'!D14)","v":""},null,null,"Overall Judgement"]
["Parts Evaluated:                                                                                                              ",null,null,null,null,{"$f":"IF(COUNTA(F9:F56)<>COUNT(A9:A56),\"R - Incomplete\",IF(OR(COUNTIF(F9:F56,\"Fail\")>0,COUNTIF(F9:F56,\"R - Unacceptable\")>0),\"R - Unacceptable\",IF(COUNTIF(F9:F56,\"Y - CA Required\")>0,\"Y - CA Required\",\"G - OK\")))","v":"R - Incomplete"}]
["Program:"]
[]
["Electrical Process Specific Audit",null,null,null,null,"JUDGEMENT"]
[null,"Question",null,"Verify ","Objective Judgement Criteria","(G/Y/R or \nPass/Fail)","SUPPLIER EVIDENCE","NEXTEER OBSERVATIONS","Corrective Action Plan\nRequired for Red or Yellow Score Items","Person Responsible","Target Completion Date","Actual Completion Date","Nexteer Corrective ActionPlan Observations "]
[]
[1,"Does the supplier have an internal team or work group identified on reducing warranty?",null,"The supplier shall have a procedure which clearly identifies a focus group(s) to address warranty concerns.  Supplier should be utilizing a warranty tracking system. ","Pass: Internal Warranty analysis group in place"]
[]
[null,null,null,null,"Fail: No internal warranty analysis group in place"]
[2,"Does the supplier have a general flow diagram on processing warranty field returns?",null,"A flow diagram should include tracking incoming warranty field returns, initial visual evaluation, testing, final analysis, and a feed back to top management,  manufacturing site, and customer. ","Pass: Flow chart established and followed for processing field returns"]
[]
[null,null,null,null,"Fail: No flow chart established for processing field returns"]
[3,"Does supplier have an internal tracking method or recording system of warranty field returns?",null,"The Supplier at a minimum should be logging in part number, build date and or serial number, description of reported failure, and date of returned part.","Pass: Part tracking / logging system available and used"]
[]
[null,null,null,null,"Fail: No part tracking / logging system or system not used"]
[4,"Does the supplier have people trained to use the 5 Why/8-D forms.",null,"Look for training material and forms","Pass: Eveidence of analysis documents"]
[]
[null,null,null,null,"Fail: No analysis documents or"]
[5,"Does supplier procedure for initial warranty evaluation have less than a one week turn around time?",null,"Supplier has one week upon receipt of field return to evaluate and respond with root cause back to customer.","Pass: Initial response time tracked with target of one week response"]
[]
[null,null,null,null,"Fail: Initial response target greater than one week, not tracked or no target"]
[6,"Does the supplier have a procedure for a fast response when there is a warranty concern identified?",null,"The supplier should have a reaction plan which includes containment at customer assembly plants, sequencers, SPO and their warehouse.  Also, supplier must immediately notify customer when a failure mode is identified.","Pass: Response plan available covering all elements"]
[]
[null,null,null,null,"Fail: No fast response plan or missing elements in response plan"]
[7,"Is the supplier tracking \"all\" warranty returns for a minimum of one year when there is a new platform launch?",null,"Supplier shall be targeting customer IPTV/PPM target identified.","Pass:  All warranty parts analized"]
[]
[null,null,null,null,"Fail: Sample of 'like' cases analized only"]
[8,"Is there a dedicated work area to analyze field returns?",null,"A designated area shall be appropriated to analyze and tear down returned units so there is no cross contamination from other units.","Pass: A designated area in place to analyze and tear down returned units "]
[]
[null,null,null,null,"Fail: Shared tear down area or no desidnated tear down area"]
[9,"Is there a system in place where upper management is reviewing field return data?",null,"The supplier shall have a procedure where management regularly reviews the data.  ","Pass: Evidence of report out of warranty findings to upper management on a regular basis"]
[]
[null,null,null,null,"Fail: No evidence of report out to upper management"]
[10,"Is the supplier's warranty return tracking matrix shared with the manufacturing site & PDT?",null,"The supplier should provide evidence of a bi-weekly/monthly warranty return report. The manufacturing site should provide feedback of corrective action (5 phase) for each new warranty item. The supplier warranty matrix is generated from the problem cases coded as warranty return.","Pass: evidend of feedback from warranty analysis to Manufactuing and PDT"]
[]
[null,null,null,null,"Fail: No feedback evidence available"]
[11,"Does supplier have a database for 5phases which can be globally accessible?",null,"Supplier is required to have a common global lessons learned data base for look across.","Pass: Global lessons learned database in place"]
[]
[null,null,null,null,"Fail: Local lessons learned or no lessons learned database"]
[12,"Does the supplier have test documentation for warranty field returns: Tri-Temperature, Tri Voltage functional/Parametric, and Vibration data?",null,"The supplier shall have documentation on file where tests were preformed on field returned parts including parts where the customer complaint could not be verified (CCNV). ","Pass: All testing results added to the analysis document (8D, 5-why etc.)"]
[]
[null,null,null,null,"Fail:  Missing documentation of test results"]
[13,"Is the supplier using a certified/credited approved lab .  Are the testing equipment calibrations and/or verification certified, posted, and current?",null,"Supplier should use a certified  approved lab.  The test chamber system shall have a tracking system on calibration dates of equipment. This system will typically be a computerized tracking system or other notification system.  Test equipment shall be verified/calibrated per applicable customer specific standard or consensus standard, e.g., ASTM, SAE, ISO, NIST, etc.  Verification/calibration results shall be internally reviewed, approved and documented.  ","Pass: All lab equipment certifed and calibrated.  Outside test labs accredited"]
[]
[null,null,null,null,"Fail: Any analysis equipment non certifed and calibrated or no evidence that outside lab is accredited"]
[14,"Is there proper protection against contamination in the test chamber(s)?",null,"All areas of test chamber(s) verified to be free of contaminants that may cause test defects or failures.  A record of cleaning shall be tracked to ensure prior testing has not contaminated test chamber. ","Pass: Contamintion control in place for test chambers"]
[]
[null,null,null,null,"Fail: No contamination control plan for test chambers or insufficient control"]
[15,"Are ESD equipment standards established?",null,"All equipment and operators shall be properly grounded and adhere to ANSI or I.E.C. standards.  The measurements/verification of the benches, floor etc. should be done periodically and the revision of the results should be part of the layered audit.","Pass:  ESD control plan in place in Lab with evidence of passing ESD audit result"]
[]
[null,null,null,null,"Fail: No ESD control plan in place or no Passing ESD audit"]
[16,"Does the supplier have documentation and evidence where field returns are retained in a friendly environment?",null,"Suppliers are required per SOR to maintain & store warranty field returns for 30 days.  The supplier must provide storage where parts will not degrade over time.","Pass: Climate controlled storage area for returned parts"]
[]
[null,null,null,null,"Fail: No area dedicated for returned parts in climate controled area"]

{"sheet":"ESD Protection Audit","index":21,"n_rows":119,"n_cols":13,"rows_kept":119,"cut":false,"hidden":true,"merged":[[11,9,13,9],[11,10,13,10],[0,0,0,1],[0,2,0,3],[1,0,1,1],[1,2,1,3],[2,0,2,1],[2,2,2,3],[3,0,3,1],[3,2,3,3],[6,1,7,2],[8,6,10,6],[8,7,10,7],[8,8,10,8],[8,9,10,9],[8,10,10,10],[0,4,3,4],[2,5,4,5],[6,6,7,6],[6,7,7,7],[6,8,7,8],[6,9,7,9],[5,0,5,3],[6,5,7,5],[23,0,25,0],[23,3,25,3],[23,5,25,5],[23,1,25,2],[20,0,22,0],[20,3,22,3],[20,5,22,5],[6,0,7,0],[6,3,7,3],[6,4,7,4],[8,0,10,0],[8,3,10,3],[8,5,10,5],[8,1,10,2],[11,0,13,0],[11,3,13,3],[11,5,13,5],[14,0,16,0],[14,3,16,3],[14,5,16,5],[17,0,19,0],[17,3,19,3],[11,1,13,2],[14,1,16,2],[26,0,28,0],[26,3,28,3],[26,5,28,5],[32,0,34,0],[32,3,34,3],[32,5,34,5],[29,0,31,0],[29,3,31,3],[29,5,31,5],[26,1,28,2],[32,1,34,2],[29,1,31,2],[17,1,19,2],[17,5,19,5],[23,11,25,11],[26,11,28,11],[26,8,28,8],[26,7,28,7],[20,6,22,6],[20,7,22,7],[20,8,22,8],[20,9,22,9],[20,1,22,2],[17,9,19,9],[17,8,19,8],[17,7,19,7],[17,6,19,6],[14,6,16,6],[14,7,16,7],[14,8,16,8],[14,9,16,9],[14,10,16,10],[11,7,13,7],[11,6,13,6],[29,12,31,12],[32,12,34,12],[29,6,31,6],[32,6,34,6],[32,9,34,9],[23,6,25,6],[26,6,28,6],[23,9,25,9],[26,9,28,9],[32,7,34,7],[29,9,31,9],[29,8,31,8],[32,8,34,8],[23,8,25,8],[23,7,25,7],[29,7,31,7],[11,8,13,8],[5,11,5,12],[17,10,19,10],[17,11,19,11],[20,10,22,10],[20,11,22,11],[32,11,34,11],[23,12,25,12],[20,12,22,12],[26,12,28,12],[6,12,7,12],[8,12,10,12],[11,12,13,12],[29,11,31,11],[29,10,31,10],[6,11,7,11],[11,11,13,11],[14,12,16,12],[17,12,19,12],[14,11,16,11],[8,11,10,11],[6,10,7,10],[23,10,25,10],[26,10,28,10],[32,10,34,10],[35,11,37,11],[35,12,37,12],[35,0,37,0],[35,1,37,2],[35,3,37,3],[35,5,37,5],[35,6,37,6],[35,7,37,7],[35,8,37,8],[35,9,37,9],[35,10,37,10],[44,11,46,11],[44,12,46,12],[38,11,40,11],[38,12,40,12],[41,0,43,0],[41,1,43,2],[41,3,43,3],[41,5,43,5],[41,6,43,6],[41,7,43,7],[41,8,43,8],[41,9,43,9],[41,10,43,10],[41,11,43,11],[41,12,43,12],[38,0,40,0],[38,1,40,2],[38,3,40,3],[38,5,40,5],[38,6,40,6],[38,7,40,7],[38,8,40,8],[38,9,40,9],[38,10,40,10],[44,0,46,0],[44,1,46,2],[44,3,46,3],[44,5,46,5],[44,6,46,6],[44,7,46,7],[44,8,46,8],[44,9,46,9],[44,10,46,10],[47,11,49,11],[47,12,49,12],[47,0,49,0],[47,1,49,2],[47,3,49,3],[47,5,49,5],[47,6,49,6],[47,7,49,7],[47,8,49,8],[47,9,49,9],[47,10,49,10],[50,11,52,11],[50,12,52,12],[50,0,52,0],[50,1,52,2],[50,3,52,3],[50,5,52,5],[50,6,52,6],[50,7,52,7],[50,8,52,8],[50,9,52,9],[50,10,52,10],[53,11,55,11],[53,12,55,12],[56,0,58,0],[56,1,58,2],[56,3,58,3],[56,5,58,5],[56,6,58,6],[56,7,58,7],[56,8,58,8],[56,9,58,9],[56,10,58,10],[56,11,58,11],[56,12,58,12],[53,0,55,0],[53,1,55,2],[53,3,55,3],[53,5,55,5],[53,6,55,6],[53,7,55,7],[53,8,55,8],[53,9,55,9],[53,10,55,10],[59,11,61,11],[59,12,61,12],[62,0,64,0],[62,1,64,2],[62,3,64,3],[62,5,64,5],[62,6,64,6],[62,7,64,7],[62,8,64,8],[62,9,64,9],[62,10,64,10],[62,11,64,11],[62,12,64,12],[59,0,61,0],[59,1,61,2],[59,3,61,3],[59,5,61,5],[59,6,61,6],[59,7,61,7],[59,8,61,8],[59,9,61,9],[59,10,61,10],[65,11,67,11],[65,12,67,12],[68,0,70,0],[68,1,70,2],[68,3,70,3],[68,5,70,5],[68,6,70,6],[68,7,70,7],[68,8,70,8],[68,9,70,9],[68,10,70,10],[68,11,70,11],[68,12,70,12],[65,0,67,0],[65,1,67,2],[65,3,67,3],[65,5,67,5],[65,6,67,6],[65,7,67,7],[65,8,67,8],[65,9,67,9],[65,10,67,10],[71,11,73,11],[71,12,73,12],[74,0,76,0],[74,1,76,2],[74,3,76,3],[74,5,76,5],[74,6,76,6],[74,7,76,7],[74,8,76,8],[74,9,76,9],[74,10,76,10],[74,11,76,11],[74,12,76,12],[71,0,73,0],[71,1,73,2],[71,3,73,3],[71,5,73,5],[71,6,73,6],[71,7,73,7],[71,8,73,8],[71,9,73,9],[71,10,73,10],[77,11,79,11],[77,12,79,12],[77,0,79,0],[77,1,79,2],[77,3,79,3],[77,5,79,5],[77,6,79,6],[77,7,79,7],[77,8,79,8],[77,9,79,9],[77,10,79,10],[80,11,82,11],[80,12,82,12],[83,0,85,0],[83,1,85,2],[83,3,85,3],[83,5,85,5],[83,6,85,6],[83,7,85,7],[83,8,85,8],[83,9,85,9],[83,10,85,10],[83,11,85,11],[83,12,85,12],[80,0,82,0],[80,1,82,2],[80,3,82,3],[80,5,82,5],[80,6,82,6],[80,7,82,7],[80,8,82,8],[80,9,82,9],[80,10,82,10],[86,11,88,11],[86,12,88,12],[89,0,91,0],[89,1,91,2],[89,3,91,3],[89,5,91,5],[89,6,91,6],[89,7,91,7],[89,8,91,8],[89,9,91,9],[89,10,91,10],[89,11,91,11],[89,12,91,12],[86,0,88,0],[86,1,88,2],[86,3,88,3],[86,5,88,5],[86,6,88,6],[86,7,88,7],[86,8,88,8],[86,9,88,9],[86,10,88,10],[98,11,100,11],[98,12,100,12],[92,11,94,11],[92,12,94,12],[95,0,97,0],[95,1,97,2],[95,3,97,3],[95,5,97,5],[95,6,97,6],[95,7,97,7],[95,8,97,8],[95,9,97,9],[95,10,97,10],[95,11,97,11],[95,12,97,12],[92,0,94,0],[92,1,94,2],[92,3,94,3],[92,5,94,5],[92,6,94,6],[92,7,94,7],[92,8,94,8],[92,9,94,9],[92,10,94,10],[98,0,100,0],[98,1,100,2],[98,3,100,3],[98,5,100,5],[98,6,100,6],[98,7,100,7],[98,8,100,8],[98,9,100,9],[98,10,100,10],[101,11,103,11],[101,12,103,12],[104,0,106,0],[104,1,106,2],[104,3,106,3],[104,5,106,5],[104,6,106,6],[104,7,106,7],[104,8,106,8],[104,9,106,9],[104,10,106,10],[104,11,106,11],[104,12,106,12],[101,0,103,0],[101,1,103,2],[101,3,103,3],[101,5,103,5],[101,6,103,6],[101,7,103,7],[101,8,103,8],[101,9,103,9],[101,10,103,10],[107,12,109,12],[110,0,112,0],[110,1,112,2],[110,3,112,3],[110,5,112,5],[110,6,112,6],[110,7,112,7],[110,8,112,8],[110,9,112,9],[110,10,112,10],[110,11,112,11],[110,12,112,12],[107,0,109,0],[107,1,109,2],[107,3,109,3],[107,5,109,5],[107,6,109,6],[107,7,109,7],[107,8,109,8],[107,9,109,9],[107,10,109,10],[107,11,109,11],[113,11,115,11],[113,12,115,12],[116,0,118,0],[116,1,118,2],[116,3,118,3],[116,5,118,5],[116,6,118,6],[116,7,118,7],[116,8,118,8],[116,9,118,9],[116,10,118,10],[116,11,118,11],[116,12,118,12],[113,0,115,0],[113,1,115,2],[113,3,115,3],[113,5,115,5],[113,6,115,6],[113,7,115,7],[113,8,115,8],[113,9,115,9],[113,10,115,10]]}
["Date: ",null,{"$f":"IF(ISBLANK('Supplier Data'!N30),\"\",'Supplier Data'!N30)","v":""}]
["Supplier Name:                                                                                                               ",null,{"$f":"IF(ISBLANK('Supplier Data'!D14),\"\",'Supplier Data'!D14)","v":""},null,null,"Overall Judgement"]
["Parts Evaluated:                                                                                                              ",null,null,null,null,{"$f":"IF(COUNTA(F9:F119)<>COUNT(A9:A119),\"R - Incomplete\",IF(OR(COUNTIF(F9:F119,\"Fail\")>0,COUNTIF(F9:F119,\"R - Unacceptable\")>0),\"R - Unacceptable\",IF(COUNTIF(F9:F1119,\"Y - CA Required\")>0,\"Y - CA Required\",\"G - OK\")))","v":"R - Incomplete"}]
["Program:"]
[]
["ESD Protection Process Specific Audit",null,null,null,null,"JUDGEMENT"]
[null,"Question",null,"Verify ","Objective Judgement Criteria","(G/Y/R or \nPass/Fail)","SUPPLIER EVIDENCE","NEXTEER OBSERVATIONS","Corrective Action Plan\nRequired for Red or Yellow Score Items","Person Responsible","Target Completion Date","Actual Completion Date","Nexteer Corrective ActionPlan Observations "]
[]
[1,"Is there a statement of management commitment regarding ESD control that has been distributed to all employees at the location within the past 12 months?",null,"Management commitment on ESD management should be known by all employees","Pass: Statement of Management"]
[]
[null,null,null,null,"Fail: No Statement of Management"]
[2,"Is there a documented ESD control plan according to ESD S20.20 2007?",null,"The supplier shall establish and maintain a formal documented ESD program.","Green: ANSI 20.20 being used as the standard and followed"]
[null,null,null,null,"Yellow: Internal specification created, being used, and can show evidence of compliance"]
[null,null,null,null,"Red: Specification not being followed or no specficiation in place"]
[3,"Is there a documented list with ESD sensitivity level for all ESD items used in the location?",null,"ESD sensitive components and products should be documented.","Green: List is available and complete"]
[null,null,null,null,"Yellow: List is available but incomplete,"]
[null,null,null,null,"Red: No List is available"]
[4,"Is there an ESD Process Owner/Coordinator assigned the overall responsibility for the ESD program at this location?",null,"Ownership of the ESD process is essential and reflects on the level of management commitment.","Green: Owner is identified and trained"]
[null,null,null,null,"Yellow: owner is identified (not trained or in training)"]
[null,null,null,null,"Red: There is no owner"]
[5,"Is the ESD Process Owner/Coordinator staying abreast of current ESD technology by attending related ESD training?",null,"The ESD coordinator should take part in updated ESD technology training, such as ESD S20.20-2007 or IEC-61340-5-1:2007","Pass: Yes and have training log available"]
[]
[null,null,null,null,"Fail: No or do not have training log available"]
[6,"Is there an ESD Team/Committee that is active at the location?",null,"ESD team should be from all related department, and all these team members should attend ESD training and been qualified","Green: Team assisgned and has all respective departments represented and attending"]
[null,null,null,null,"Yellow: Team assigned, but the team does not cover all the respective departments. Or lack of attendance from respective departments."]
[null,null,null,null,"Red: No team assigned"]
[7,"Are the electronic protected areas(EPA) identified with boundary and caution signs?",null,"An EPA can consist of a single workstation, entire room or building, Caution signs indicating the existence of the EPA shall be posted and clearly visible to personnel prior to entry to the EPA","Green: Area designeated and all markings are maintained."]
[null,null,null,null,"Yellow: Area designated, but the markings are not maintained"]
[null,null,null,null,"Red: No designated area defined by floor markings and/or visible cues"]
[8,"Are calibration and maintenance procedures followed and records maintained for the instruments used in the location’s ESD Control Program such as: wrist strap testers and ionizers?",null,"Wrist strap system tester, footwear system tester and ionizer should be calibrated periodically.","Pass: The calibration procedure has been defined on for each department to include frequency of checks and records to show the procedure is being followed."]
[]
[null,null,null,null,"Fail: No procedure in place for each department, no frequency noted or no records showing completion"]
[9,"Is there a documented corrective and preventive action process in place for ESD issues?",null,"Any ESD related issues should be resolved according to CA&PA procedure.","Pass: Fault tree/lessons learned in place with CA and PA noted and followed"]
[]
[null,null,null,null,"Fail: No documented process in place"]
[10,"Are all personnel including visitors who enter EPA trained on the local ESD control policies, procedures, and requirements or escorted by trained people?",null,"It is imperative that all people who enter EPA undergo formal ESD training and re-training in order to raise ESD awareness. Customer and supplier also need to accept such kind of training before enter EPA","Pass: Records to show visitors, contrators, cleaning crews to be either trained in ESD protection or escorted while in the ESD protected area."]
[]
[null,null,null,null,"Fail: No records to show the passing criteria"]
[11,"Do employees receive update training and testing at intervals less than or equal to 12 months?",null,"Initial and recurrent ESD awareness and prevention training shall be provided to all personnel who handle or otherwise come into contact with any ESDS items","Pass: Regular training records are kept and maintined at the proper frequency, and to show ability to not allow untrained or lapsed trained personnel on the equipment."]
[]
[null,null,null,null,"Fail: No records are kept to show training"]
[12,"Is there a list of qualified ESD protective equipment, materials and supplies, such as: wrist straps, packaging, footwear, tote boxes, and adhesive tape, that has been approved by the ESD Process Owner/Coordinator?",null,"All tools and personal items used in EPA should be qualified, Wrist straps should according to ESD S1.1, packaging, tote box and adhesive tape should according to ESD S541, footwear should according to ESD S9.1. All non essential personal items must be kept out of the EPA.","Pass: All work area should have standardized work labels showing how to be dressed, don grounding devices, and check for insulators. Self monitoring and visual inspections to not allow any deviations"]
[]
[null,null,null,null,"Fail: No standardized work labels or inspection points."]
[13,"\nIs a common point grounding system used for each work position ?",null,"Per ANSI/ESD S6.1 - for Protection of Electrostatic Discharge Susceptible Items - Grounding-Recommended Practice","Pass: Common point used"]
[]
[null,null,null,null,"Fail: Common point not used or the common ground point not maintained"]
[14,"Is there a process followed to qualify machinery and test equipment that is used with ESD sensitive components or assemblies prior to production?",null,"ESD SP10.1 should be used to qualify automotive equipment used with ESD sensitive components and assemblies.","Pass: Procedure is created and followed with documentation to show adherence."]
[]
[null,null,null,null,"Fail: No procuedure or the work is not logged to show completion"]
[15,"Is ESD compliance audit conducted according to planned frequency?",null,"ESD audits at a pre-determined frequency should be performed to ensure compliance to the program. External ESD audits must be performed where necessary to ensure supplier compliance.","Pass: ESD audits are conducted at a predetermined frequency and logged to show evidence"]
[]
[null,null,null,null,"Fail: No procedure, no frequency noted or no documentation to show work completed"]
[16,"Is ESD protective packaging used on incoming components?",null,"Look for evidence.","Pass: Procedure in place and evidence showing ESD material is protected at all times from incoming material and inspection through the outgoing shipping department"]
[]
[null,null,null,null,"Fail: No procedure in place or non-compliance to ESD standard seen during the audit"]
[17,"Are incoming components warehoused?",null,"Separate contained space that is access controlled, climate controlled and ESD protected","Pass: Material will need to be located in a properly maintained ESD protected area and/or in ESD protected containers"]
[]
[null,null,null,null,"Fail: No ESD protected area, or containers, or evidence of improper ESD handleing proceudres"]
[18,"Wrist straps",null,"Operators should wear a wrist strap connected to ground, when seated. Wireless wrist straps can not be used in EPA. Wrist straps should be checked according to ESD S1.1-1998. The wrist strap cord resistance should between 0.8-1.2 Mohms, and the system resistance with personnel to ground should be less than 35Mohms.","Pass: All work area should have standardized work labels showing how to be dressed, don grounding devices, and check for insulators. Self monitoring and visual inspections to not allow any deviations"]
[]
[null,null,null,null,"Fail: No standardized work labels or inspection points."]
[19,"Flooring-footwear",null,"Employees should wear ESD footwear, or heel/toe grounders, on both feet, when handling ESD sensitive components or assemblies on ESD flooring. Flooring should be checked according to ESD S7.1-2005, point to point resistance and resistance to ground should be less than 1x10e9 ohms. Footwear should be checked according to ESD S9.1-2005 and the resistance should be less than 1x 10e9ohms. The flooring-footwear system should be checked according to ESD S97.1. The resistance should be less than 35Mohms or according to ESD S97.1 & ESD S97.2 the resistance is less than 1x10e9ohms and voltage is less than 100V.","Pass: All work area should have standardized work labels showing how to be dressed, don grounding devices, and check for insulators. Self monitoring and visual inspections to not allow any deviations"]
[]
[null,null,null,null,"Fail: No standardized work labels or inspection points."]
[20,"Worksurface/shelf",null,"Checked according to ESD S4.1-1997. The point to point resistance and resistance to ground should be less than 1x10e9ohms.","Pass: All work area should have standardized work labels showing how to be dressed, don grounding devices, and check for insulators. Self monitoring and visual inspections to not allow any deviations"]
[]
[null,null,null,null,"Fail: No standardized work labels or inspection points."]
[21,"Seating/cart",null,"checked according to ESD S12.1-1997, the point to point resistance and resistance to ground should be less than 1x10e9ohms","Pass: All work area should have standardized work labels showing how to be dressed, don grounding devices, and check for insulators. Self monitoring and visual inspections to not allow any deviations"]
[]
[null,null,null,null,"Fail: No standardized work labels or inspection points."]
[22,"ionizer",null,"calibrated according to ESD S3.1-2000 and periodical verification according to ESD S3.3-2000. the offset voltage should between -50V and 50V, the decay time should be less than 20s","Pass: All work area should have standardized work labels showing how to be dressed, don grounding devices, and check for insulators. Self monitoring and visual inspections to not allow any deviations"]
[]
[null,null,null,null,"Fail: No standardized work labels or inspection points."]
[23,"Garment",null,"checked according to ESD S2.1-1997, the point to point resistance and sleeve to sleeve resistance should be less than 1x10e11 ohms","Pass: All work area should have standardized work labels showing how to be dressed, don grounding devices, and check for insulators. Self monitoring and visual inspections to not allow any deviations"]
[]
[null,null,null,null,"Fail: No standardized work labels or inspection points."]
[24,"Are finger cots & gloves made of ESD protected material.",null,"Look for the procedure.","Pass: All work area should have standardized work labels showing how to be dressed, don grounding devices, and check for insulators. Self monitoring and visual inspections to not allow any deviations"]
[]
[null,null,null,null,"Fail: No standardized work labels or inspection points."]
[25,"Soldering iron and equipment tools",null,"Checked according to ESD STM13.1-2000, the resistance to ground should be less than 2ohms, and the iron voltage should be less than 20mV, and iron current should be less than 10mA.","Pass: All work area should have standardized work labels showing how to be dressed, don grounding devices, and check for insulators. Self monitoring and visual inspections to not allow any deviations"]
[]
[null,null,null,null,"Fail: No standardized work labels or inspection points."]
[26,"Is there a procedure incase Emergency Medical Equipment is used in the EPA?",null,"Look for the procedure.","Pass: All work area should have standardized work labels showing how to be dressed, don grounding devices, and check for insulators. Self monitoring and visual inspections to not allow any deviations"]
[]
[null,null,null,null,"Fail: No standardized work labels or inspection points."]
[27,"Does one designated inspector, for each work shift, perform the internal ESD audit for the entire location? Here location means the area where components/products are handled, manufactured, transported and/or shipped. (May be part-time and may be the same inspector for all shifts.)",null,"The inspector should take part in ESD training, especially for ESD control items test training.","Pass: Designated inspector identified and trained with up to date training logs."]
[]
[null,null,null,null,"Fail: No person identified or training logs not complete or available."]
[28,"Is the ESD Training Program tailored to address current ESD audit findings?",null,"Typical ESD audit findings should be added into ESD training material as lessons learned.","Green: ESD training in place and updates to show any lessons learned activities"]
[null,null,null,null,"Yellow: ESD training in place with no changes due to any lessons learned activities"]
[null,null,null,null,"Red: No training program"]
[29,"Do you maintain ESD Work Area Audit results that illustrate long term trends? Please attach a copy of the latest long-term trend analysis for your location.\n",null,"Long term trend analysis should be used to certify the effectiveness of ESD management, such as PPM, FPY trend.","Pass: Records kept and mainted showing any negative trends and CA to eliminate any issues"]
[]
[null,null,null,null,"Fail: No records kept or CA in place"]
[30,"Is component ESD sensitivity based on valid Human Body Model (HBM) and Charge Device Model (CDM) test methods, such as ESDA S5.1 or ESD S5.3.1? Estimates are not considered valid test results.",null,"Component ESD sensitivity should be based on ESD S5.1 for HBM. ESD 5.2 for MM, ESD 5.3.1 for CDM","Green: All ESD models used and verified on a normal frequency with results available and any CA put in place."]
[null,null,null,null,"Yellow: Specification in place but lacking specifc ESD model or test results with CA put in place"]
[null,null,null,null,"Red: No specification in place"]
[31,"Do surfaces (other than Work Surfaces) that contact ESD sensitive product have a surface resistivity between 1.0 X 10e5 and 1.0 X 10e9 ohms per square? Examples of such surfaces are tote boxes and storage bins that are used to store and/or transport ESD sensitive products.",null,"See ESDA S 11.11, test the surface resistance of ESD control items, the surface resistance should meet required limits","Pass: Compliance to work procedures as noted in 4.8.2 to verify that no evidence is present of a non-compliance."]
[]
[null,null,null,null,"Fail: Observed non-compliance to ESD specification for any areas outside of the EPA."]
[32,"When ESD protection is required, are all non-essential static generating materials, such as plastics and Styrofoam, removed from the work surface?",null,"all non-essential static generating materials should be removed from EPA","Pass: No static generating material present and inspected on a normal frequency. Any non-conformance documented and CA put in place. Must have a 5S type environment to make inpsection less time consuming and efficient."]
[]
[null,null,null,null,"Fail: Static generating material on work space areas."]
[33,"For necessary insulators, how to control its static field?",null,"Keep it at least 30 cm away if field bigger than 2000v/inch; or else, use ionizer to neutralize it.","Pass: Item is covered in the ESD protection procedure and compliance is documented"]
[]
[null,null,null,null,"Fail: Item is not covered or a non-compliance is observed"]
[34,"Before enter EPA, has the static on the component package been removed?",null,"If the static on the package is higher than the EPA control level, the package should be replaced by ESD protective material or neutralized","Pass: Proper handleing procdures to include grounding straps are in place to neutralize any static that my linger on the package."]
[]
[null,null,null,null,"Fail: Non-conformance to procedures for grounding of equipment or personnel."]
[35,"Are all ESD sensitive products and WIPs identified with ESD sensitive warning labels and protected with ESD protective packages?",null,"The ESD symbol should meet ESD S8.1 requirement.","Pass: Proper labeling on boxes, bags or any storage containers to show ESD sensitive material is inside"]
[]
[null,null,null,null,"Fail: Proper labeling is not present on any of the above places."]
[36,"Have the ESD requirements been added into the PFMEA and PCP?",null,"Potential ESD risk and passed ESD failure should be identified in PFMEA and PCP.","Pass: Verify that the ESD safe handling procedures are noted in PFMEA"]
[]
[null,null,null,null,"Fail: Not noted in PFMEA"]
[37,"Does the facility have the plan to get ESD S20.20 cert.?",null,"Supplier should have plan to get ESD 20.20 Cert. to improve its ESD management","Green: ANSI 20.20 being used as the standard and followed"]
[null,null,null,null,"Yellow: Internal specification created, being used, and can show comparison to ANSI 20.20"]
[null,null,null,null,"Red: Specification not being followed or no specficiation in place"]

{"sheet":"Extrusion Audit","index":22,"n_rows":25,"n_cols":13,"rows_kept":25,"cut":false,"hidden":true,"merged":[[19,9,21,9],[19,10,21,10],[22,1,24,2],[22,6,24,6],[22,7,24,7],[22,8,24,8],[22,9,24,9],[19,5,21,5],[22,5,24,5],[19,1,21,2],[19,6,21,6],[19,7,21,7],[15,3,17,3],[9,1,11,2],[9,3,11,3],[9,5,11,5],[19,8,21,8],[0,0,0,1],[0,2,0,3],[1,0,1,1],[1,2,1,3],[2,0,2,1],[2,2,2,3],[19,0,21,0],[22,0,24,0],[22,3,24,3],[19,3,21,3],[12,9,14,9],[15,9,17,9],[15,5,17,5],[12,7,14,7],[12,8,14,8],[15,8,17,8],[12,0,14,0],[12,3,14,3],[12,5,14,5],[15,6,17,6],[15,7,17,7],[15,0,17,0],[19,11,21,11],[22,10,24,10],[22,11,24,11],[15,11,17,11],[15,10,17,10],[9,11,11,11],[9,6,11,6],[6,7,7,7],[6,8,7,8],[12,10,14,10],[12,11,14,11],[19,12,21,12],[22,12,24,12],[6,12,7,12],[2,5,4,5],[6,0,7,0],[6,3,7,3],[6,4,7,4],[6,5,7,5],[3,0,3,1],[3,2,3,3],[6,1,7,2],[5,0,5,4],[12,1,14,2],[12,6,14,6],[15,1,17,2],[9,0,11,0],[8,0,8,3],[18,0,18,3],[5,11,5,12],[8,11,8,12],[18,11,18,12],[9,12,11,12],[15,12,17,12],[12,12,14,12],[6,9,7,9],[6,10,7,10],[6,11,7,11],[6,6,7,6],[9,7,11,7],[9,8,11,8],[9,9,11,9],[9,10,11,10]]}
["Date: ",null,{"$f":"IF(ISBLANK('Supplier Data'!N30),\"\",'Supplier Data'!N30)","v":""}]
["Supplier Name:                                                                                                               ",null,{"$f":"IF(ISBLANK('Supplier Data'!D14),\"\",'Supplier Data'!D14)","v":""},null,null,"Overall Judgement"]
["Parts Evaluated:                                                                                                              ",null,null,null,null,{"$f":"IF(COUNTA(F9:F56)<>COUNT(A9:A56),\"R - Incomplete\",IF(OR(COUNTIF(F9:F56,\"Fail\")>0,COUNTIF(F9:F56,\"R - Unacceptable\")>0),\"R - Unacceptable\",IF(COUNTIF(F9:F56,\"Y - CA Required\")>0,\"Y - CA Required\",\"G - OK\")))","v":"R - Incomplete"}]
["Program:"]
[]
["Extrusion Process Specific Audit",null,null,null,null,"JUDGEMENT"]
[null,"Question",null,"Verify ","Objective Judgement Criteria","(G/Y/R or \nPass/Fail)","SUPPLIER EVIDENCE","NEXTEER OBSERVATIONS","Corrective Action Plan\nRequired for Red or Yellow Score Items","Person Responsible","Target Completion Date","Actual Completion Date","Nexteer Corrective ActionPlan Observations "]
[]
["Section 1: Single Piece Extrusion"]
[1,"If phosphate coating is used how is the two week shelf life controlled?",null,"Look for fifo and how schedules are controlled.","Pass: Evidence that shelf life of phosphate coating is well controlled"]
[]
[null,null,null,null,"Fail: No evidence that phosphate coating shelf life is well controlled"]
[2,"Are there in process set up sheets with part drawings for each station?",null,"Look for set up sheets and drawings and inspection records for each station.","Pass: Review set up sheets and drawings for each station"]
[]
[null,null,null,null,"Fail: Partial setup sheets or no set up sheets developed for each station"]
[3,"How are tooling coatings controlled in the process?",null,"Look for tooling certification.","Pass: review tooling certification records that demonstrate control"]
[]
[null,null,null,null,"Fail: No tooling certifications available"]
["Section 2: Continuous Extrusion Process"]
[4,"What lubricant is applied to the shear blade in the aluminum extrusion press? ",null,"Graphite based lubricants are not allowable as it produces defects in the extruded material that will weaken it. Bees wax or sodium hydroxide based lubricants are acceptable.","Pass: Bees Wax or Sodium Hydroxide based lubricants used"]
[]
[null,null,null,null,"Fail: Graphite based lubricants used"]
[5,"How much material in the bloom is culled out for the transition material between billets?",null,"Look for a DOE on what length of material is culled out of the bloom.","Pass: DOE used to determine how much material is culled"]
[]
[null,null,null,null,"Fail: No DOE performed"]

{"sheet":"Forgings Audit","index":23,"n_rows":161,"n_cols":13,"rows_kept":161,"cut":false,"hidden":true,"merged":[[17,9,19,9],[17,8,19,8],[17,7,19,7],[17,6,19,6],[11,11,13,11],[14,6,16,6],[14,7,16,7],[14,8,16,8],[14,9,16,9],[14,10,16,10],[14,11,16,11],[11,6,13,6],[11,7,13,7],[11,8,13,8],[11,9,13,9],[11,10,13,10],[8,6,10,6],[8,7,10,7],[8,8,10,8],[8,9,10,9],[8,10,10,10],[8,11,10,11],[6,6,7,6],[6,7,7,7],[6,8,7,8],[6,9,7,9],[6,10,7,10],[29,0,31,0],[29,3,31,3],[29,5,31,5],[38,0,40,0],[38,3,40,3],[38,5,40,5],[32,0,34,0],[32,3,34,3],[32,5,34,5],[35,0,37,0],[35,3,37,3],[35,5,37,5],[20,0,22,0],[20,3,22,3],[20,5,22,5],[23,0,25,0],[23,3,25,3],[23,5,25,5],[26,0,28,0],[26,3,28,3],[26,5,28,5],[11,0,13,0],[11,3,13,3],[11,5,13,5],[14,0,16,0],[14,3,16,3],[14,5,16,5],[17,0,19,0],[17,3,19,3],[17,5,19,5],[0,4,3,4],[2,5,4,5],[6,0,7,0],[6,3,7,3],[6,4,7,4],[8,0,10,0],[8,3,10,3],[8,5,10,5],[5,0,5,3],[20,7,22,7],[20,6,22,6],[20,8,22,8],[20,9,22,9],[35,12,37,12],[38,12,40,12],[5,11,5,12],[17,11,19,11],[17,10,19,10],[20,11,22,11],[20,10,22,10],[32,11,34,11],[32,10,34,10],[20,12,22,12],[23,12,25,12],[26,12,28,12],[29,12,31,12],[32,12,34,12],[6,12,7,12],[8,12,10,12],[11,12,13,12],[14,12,16,12],[17,12,19,12],[6,11,7,11],[23,11,25,11],[23,10,25,10],[23,9,25,9],[23,8,25,8],[23,7,25,7],[23,6,25,6],[26,6,28,6],[38,7,40,7],[35,7,37,7],[32,7,34,7],[29,7,31,7],[26,7,28,7],[26,11,28,11],[26,10,28,10],[26,9,28,9],[38,8,40,8],[35,8,37,8],[32,8,34,8],[29,8,31,8],[26,8,28,8],[29,6,31,6],[32,6,34,6],[35,6,37,6],[38,6,40,6],[32,9,34,9],[38,9,40,9],[35,9,37,9],[35,10,37,10],[38,10,40,10],[38,11,40,11],[35,11,37,11],[29,9,31,9],[29,10,31,10],[29,11,31,11],[41,7,43,7],[41,8,43,8],[41,9,43,9],[41,10,43,10],[41,11,43,11],[41,12,43,12],[44,0,46,0],[44,3,46,3],[44,5,46,5],[44,6,46,6],[44,7,46,7],[44,8,46,8],[44,9,46,9],[44,10,46,10],[44,11,46,11],[44,12,46,12],[41,0,43,0],[41,3,43,3],[41,5,43,5],[41,6,43,6],[47,7,49,7],[47,8,49,8],[47,9,49,9],[47,10,49,10],[47,11,49,11],[47,12,49,12],[50,0,52,0],[50,3,52,3],[50,5,52,5],[50,6,52,6],[50,7,52,7],[50,8,52,8],[50,9,52,9],[50,10,52,10],[50,11,52,11],[50,12,52,12],[50,1,52,2],[47,0,49,0],[47,3,49,3],[47,5,49,5],[47,6,49,6],[53,7,55,7],[53,8,55,8],[53,9,55,9],[53,10,55,10],[53,11,55,11],[53,12,55,12],[56,0,58,0],[56,3,58,3],[56,5,58,5],[56,6,58,6],[56,7,58,7],[56,8,58,8],[56,9,58,9],[56,10,58,10],[56,11,58,11],[56,12,58,12],[53,1,55,2],[56,1,58,2],[53,0,55,0],[53,3,55,3],[53,5,55,5],[53,6,55,6],[59,7,61,7],[59,8,61,8],[59,9,61,9],[59,10,61,10],[59,11,61,11],[59,12,61,12],[62,0,64,0],[62,3,64,3],[62,5,64,5],[62,6,64,6],[62,7,64,7],[62,8,64,8],[62,9,64,9],[62,10,64,10],[62,11,64,11],[62,12,64,12],[59,1,61,2],[62,1,64,2],[59,0,61,0],[59,3,61,3],[59,5,61,5],[59,6,61,6],[65,6,67,6],[65,7,67,7],[65,8,67,8],[65,9,67,9],[65,10,67,10],[65,11,67,11],[65,12,67,12],[68,0,70,0],[68,3,70,3],[68,5,70,5],[68,6,70,6],[68,7,70,7],[68,8,70,8],[68,9,70,9],[68,10,70,10],[68,11,70,11],[68,12,70,12],[65,1,67,2],[68,1,70,2],[65,0,67,0],[65,3,67,3],[65,5,67,5],[71,12,73,12],[74,0,76,0],[74,3,76,3],[74,5,76,5],[74,6,76,6],[74,7,76,7],[74,8,76,8],[74,9,76,9],[74,10,76,10],[74,11,76,11],[74,12,76,12],[71,1,73,2],[74,1,76,2],[71,0,73,0],[71,3,73,3],[71,5,73,5],[71,6,73,6],[71,7,73,7],[71,8,73,8],[71,9,73,9],[71,10,73,10],[71,11,73,11],[77,0,79,0],[77,3,79,3],[77,5,79,5],[77,6,79,6],[77,7,79,7],[77,8,79,8],[77,9,79,9],[77,10,79,10],[77,11,79,11],[77,12,79,12],[77,1,79,2],[80,12,82,12],[83,0,85,0],[83,3,85,3],[83,5,85,5],[83,6,85,6],[83,7,85,7],[83,8,85,8],[83,9,85,9],[83,10,85,10],[83,11,85,11],[83,12,85,12],[80,1,82,2],[83,1,85,2],[80,0,82,0],[80,3,82,3],[80,5,82,5],[80,6,82,6],[80,7,82,7],[80,8,82,8],[80,9,82,9],[80,10,82,10],[80,11,82,11],[86,12,88,12],[89,0,91,0],[89,3,91,3],[89,5,91,5],[89,6,91,6],[89,7,91,7],[89,8,91,8],[89,9,91,9],[89,10,91,10],[89,11,91,11],[89,12,91,12],[86,1,88,2],[89,1,91,2],[86,0,88,0],[86,3,88,3],[86,5,88,5],[86,6,88,6],[86,7,88,7],[86,8,88,8],[86,9,88,9],[86,10,88,10],[86,11,88,11],[92,12,94,12],[95,0,97,0],[95,3,97,3],[95,5,97,5],[95,6,97,6],[95,7,97,7],[95,8,97,8],[95,9,97,9],[95,10,97,10],[95,11,97,11],[95,12,97,12],[92,1,94,2],[95,1,97,2],[92,0,94,0],[92,3,94,3],[92,5,94,5],[92,6,94,6],[92,7,94,7],[92,8,94,8],[92,9,94,9],[92,10,94,10],[92,11,94,11],[98,12,100,12],[101,0,103,0],[101,3,103,3],[101,5,103,5],[101,6,103,6],[101,7,103,7],[101,8,103,8],[101,9,103,9],[101,10,103,10],[101,11,103,11],[101,12,103,12],[98,1,100,2],[101,1,103,2],[98,0,100,0],[98,3,100,3],[98,5,100,5],[98,6,100,6],[98,7,100,7],[98,8,100,8],[98,9,100,9],[98,10,100,10],[98,11,100,11],[104,12,106,12],[107,0,109,0],[107,3,109,3],[107,5,109,5],[107,6,109,6],[107,7,109,7],[107,8,109,8],[107,9,109,9],[107,10,109,10],[107,11,109,11],[107,12,109,12],[104,1,106,2],[107,1,109,2],[104,0,106,0],[104,3,106,3],[104,5,106,5],[104,6,106,6],[104,7,106,7],[104,8,106,8],[104,9,106,9],[104,10,106,10],[104,11,106,11],[110,12,112,12],[113,0,115,0],[113,3,115,3],[113,5,115,5],[113,6,115,6],[113,7,115,7],[113,8,115,8],[113,9,115,9],[113,10,115,10],[113,11,115,11],[113,12,115,12],[110,1,112,2],[113,1,115,2],[110,0,112,0],[110,3,112,3],[110,5,112,5],[110,6,112,6],[110,7,112,7],[110,8,112,8],[110,9,112,9],[110,10,112,10],[110,11,112,11],[116,12,118,12],[119,0,121,0],[119,3,121,3],[119,5,121,5],[119,6,121,6],[119,7,121,7],[119,8,121,8],[119,9,121,9],[119,10,121,10],[119,11,121,11],[119,12,121,12],[116,1,118,2],[119,1,121,2],[116,0,118,0],[116,3,118,3],[116,5,118,5],[116,6,118,6],[116,7,118,7],[116,8,118,8],[116,9,118,9],[116,10,118,10],[116,11,118,11],[122,12,124,12],[125,0,127,0],[125,3,127,3],[125,5,127,5],[125,6,127,6],[125,7,127,7],[125,8,127,8],[125,9,127,9],[125,10,127,10],[125,11,127,11],[125,12,127,12],[122,1,124,2],[125,1,127,2],[122,0,124,0],[122,3,124,3],[122,5,124,5],[122,6,124,6],[122,7,124,7],[122,8,124,8],[122,9,124,9],[122,10,124,10],[122,11,124,11],[128,12,130,12],[131,0,133,0],[131,3,133,3],[131,5,133,5],[131,6,133,6],[131,7,133,7],[131,8,133,8],[131,9,133,9],[131,10,133,10],[131,11,133,11],[131,12,133,12],[128,1,130,2],[131,1,133,2],[128,0,130,0],[128,3,130,3],[128,5,130,5],[128,6,130,6],[128,7,130,7],[128,8,130,8],[128,9,130,9],[128,10,130,10],[128,11,130,11],[134,12,136,12],[137,0,139,0],[137,3,139,3],[137,5,139,5],[137,6,139,6],[137,7,139,7],[137,8,139,8],[137,9,139,9],[137,10,139,10],[137,11,139,11],[137,12,139,12],[134,1,136,2],[137,1,139,2],[134,0,136,0],[134,3,136,3],[134,5,136,5],[134,6,136,6],[134,7,136,7],[134,8,136,8],[134,9,136,9],[134,10,136,10],[134,11,136,11],[140,12,142,12],[143,0,145,0],[143,3,145,3],[143,5,145,5],[143,6,145,6],[143,7,145,7],[143,8,145,8],[143,9,145,9],[143,10,145,10],[143,11,145,11],[143,12,145,12],[140,1,142,2],[143,1,145,2],[140,0,142,0],[140,3,142,3],[140,5,142,5],[140,6,142,6],[140,7,142,7],[140,8,142,8],[140,9,142,9],[140,10,142,10],[140,11,142,11],[146,12,148,12],[149,0,151,0],[149,3,151,3],[149,5,151,5],[149,6,151,6],[149,7,151,7],[149,8,151,8],[149,9,151,9],[149,10,151,10],[149,11,151,11],[149,12,151,12],[146,1,148,2],[149,1,151,2],[146,0,148,0],[146,3,148,3],[146,5,148,5],[146,6,148,6],[146,7,148,7],[146,8,148,8],[146,9,148,9],[146,10,148,10],[146,11,148,11],[152,12,154,12],[155,0,157,0],[155,3,157,3],[155,5,157,5],[155,6,157,6],[155,7,157,7],[155,8,157,8],[155,9,157,9],[155,10,157,10],[155,11,157,11],[155,12,157,12],[152,1,154,2],[155,1,157,2],[152,0,154,0],[152,3,154,3],[152,5,154,5],[152,6,154,6],[152,7,154,7],[152,8,154,8],[152,9,154,9],[152,10,154,10],[152,11,154,11],[158,0,160,0],[158,3,160,3],[158,5,160,5],[158,6,160,6],[158,7,160,7],[158,8,160,8],[158,9,160,9],[158,10,160,10],[158,11,160,11],[158,1,160,2],[158,12,160,12],[6,1,7,2],[0,0,0,1],[0,2,0,3],[1,0,1,1],[1,2,1,3],[2,0,2,1],[2,2,2,3],[3,0,3,1],[3,2,3,3],[8,1,10,2],[11,1,13,2],[14,1,16,2],[17,1,19,2],[20,1,22,2],[23,1,25,2],[26,1,28,2],[29,1,31,2],[32,1,34,2],[35,1,37,2],[38,1,40,2],[41,1,43,2],[44,1,46,2],[47,1,49,2]]}
["Date: ",null,{"$f":"IF(ISBLANK('Supplier Data'!N30),\"\",'Supplier Data'!N30)","v":""}]
["Supplier Name:                                                                                                               ",null,{"$f":"IF(ISBLANK('Supplier Data'!D14),\"\",'Supplier Data'!D14)","v":""},null,null,"Overall Judgement"]
["Parts Evaluated:                                                                                                              ",null,null,null,null,{"$f":"IF(COUNTA(F9:F161)<>COUNT(A9:A161),\"R - Incomplete\",IF(OR(COUNTIF(F9:F161,\"Fail\")>0,COUNTIF(F9:F161,\"R - Unacceptable\")>0),\"R - Unacceptable\",IF(COUNTIF(F9:F161,\"Y - CA Required\")>0,\"Y - CA Required\",\"G - OK\")))","v":"R - Incomplete"}]
["Program:"]
[]
["Forgings Process Specific Audit",null,null,null,null,"JUDGEMENT"]
[null,"Question",null,"Verify ","Objective Judgement Criteria","(G/Y/R or P/F)","SUPPLIER EVIDENCE","NEXTEER OBSERVATIONS","Corrective Action Plan\nRequired for Red or Yellow Score Items","Person Responsible","Target Completion Date","Actual Completion Date","Nexteer Corrective ActionPlan Observations "]
[]
[1,"Does the supplier have chemical analysis capability?                           ",null,null,"Green: Supplier has chemical analysis capability"]
[null,null,null,null,"Yellow: Supplier does not have chemical analysis capability but A2lA qualified outsourced location is utilized"]
[null,null,null,null,"Red: Supplier does not have chemical analysis capability"]
[2,"Does the supplier have hardness testing capability?",null,null,"Pass: Supplier has hardness testing capability"]
[]
[null,null,null,null,"Fail: Supplier does not have hardness testing capability"]
[3,"Does the supplier have any mechanical testing capability?",null,null,"Pass: Supplier has mechanical testing capability"]
[]
[null,null,null,null,"Fail: Supplier does not have mechanical testing capability"]
[4,"Does the Supplier have a documented process for maintaining the identity of the heat code throughout the process, and does the Supplier demonstrate compliance with the process? ",null,null,"Green: The Supplier has a documented process, and demonstrates compliance with the process (ex. Storage, cutting, forging, finished stock etc.)"]
[null,null,null,null,"Yellow: The Supplier has a documented process, but does not demonstrate compliance with the process OR the Supplier does not have a documented process, but does demonstrate compliance with the process (ex. Storage, cutting, forging, finished stock etc.)"]
[null,null,null,null,"Red: The Supplier does not have a documented process, AND does not demonstrate compliance with the process (ex. Storage, cutting, forging, finished stock etc.)"]
[5,"Does the supplier Document and provide the receiving facility with the Mill cert and heat code associated with the forged parts being manufactured and does the Supplier demonstrates compliance with the process? ",null,null,"Green: The Supplier documents and provides the receiving facility with the mill cert and heat code associated with the forged parts"]
[null,null,null,null,"Yellow: The Supplier documents and does not provide the receiving facility with the mill cert and heat code associated with the forged parts"]
[null,null,null,null,"Red: The Supplier does not document nor provide the receiving facility with the Mill cert and heat code associated with the forged parts being manufactured"]
[6,"Does the Supplier have a documented process for material storage using the FIFO methodology, and does the Supplier demonstrate compliance with the process? ",null,null,"Green: The Supplier has a documented process, and demonstrates compliance with the process."]
[null,null,null,null,"Yellow: The Supplier has a documented process, but does not demonstrate compliance with the process OR the Supplier does not have a documented process, but does demonstrate compliance with the process"]
[null,null,null,null,"Red: The Supplier does not have a documented process, AND does not demonstrate compliance with the process"]
[7,"Does the Supplier have documented Packaging specifications for each Nexteer Automotive Part and does the Supplier demonstrate compliance with the process?",null,null,"Green: The Supplier has documented packaging specification(s), and demonstrates compliance with the process."]
[null,null,null,null,"Yellow: The Supplier has documented packaging specification(s), but does not demonstrate compliance with the process OR the Supplier does not have documented packaging specification(s), but does demonstrate compliance with the process"]
[null,null,null,null,"Red: The Supplier does not have documented packaging specification(s), AND does not demonstrate compliance with the process"]
[8,"Does the supplier have a documented process to review the cut or sheared faces at set-set up for defects, and does the Supplier demonstrate compliance with the process?",null,null,"Green: The Supplier has a documented process, and demonstrates compliance with the process (shear, cracks, piping, etc.)"]
[null,null,null,null,"Yellow: The Supplier has a documented process, but does not demonstrate compliance with the process OR the Supplier does not have a documented process, but does demonstrate compliance with the process (shear, cracks, piping, etc.)"]
[null,null,null,null,"Red: The Supplier does not have a documented process, AND does not demonstrate compliance with the process (shear, cracks, piping, etc.)"]
[9," Does the supplier have documented process limits for cold shearing based on steel grade and bar diameter, and does the Supplier demonstrate compliance with the process?",null,null,"Green: The Supplier has documented process limits, and demonstrates compliance with the process."]
[null,null,null,null,"Yellow: The Supplier has documented process limits, but does not demonstrate compliance with the process OR the Supplier does not have documented process limits, but does demonstrate compliance with the process"]
[null,null,null,null,"Red: The Supplier does not have documented process limits, AND does not demonstrate compliance with the process"]
[10,"Does the supplier have a documented process to inspect billets for square ness, and does the Supplier demonstrate compliance with the process?",null,null,"Green: The Supplier has a documented process, and demonstrates compliance with the process."]
[null,null,null,null,"Yellow: The Supplier has a documented process, but does not demonstrate compliance with the process OR the Supplier does not have a documented process, but does demonstrate compliance with the process"]
[null,null,null,null,"Red: The Supplier does not have a documented process, AND does not demonstrate compliance with the process"]
[11,"Does the supplier have a predictive/preventative maintenance process for Shear tooling, and does the Supplier demonstrate compliance with the process?",null,null,"Green: The Supplier has a predictive/preventative maintenance process, and demonstrates compliance with the process."]
[null,null,null,null,"Yellow: The Supplier has a predictive/preventative maintenance process, but does not demonstrate compliance with the process OR the Supplier does not have a predictive/preventative maintenance process, but does demonstrate compliance with the process"]
[null,null,null,null,"Red: The Supplier does not have a documented process, AND does not demonstrate compliance with the process"]
[12,"Does the supplier have a documented process for control of the mult/billet size, and does the Supplier demonstrate compliance with the process? ",null,null,"Green: The Supplier has a documented process, and demonstrates compliance with the process."]
[null,null,null,null,"Yellow: The Supplier has a documented process, but does not demonstrate compliance with the process OR the Supplier does not have a documented process, but does demonstrate compliance with the process"]
[null,null,null,null,"Red: The Supplier does not have a documented process, AND does not demonstrate compliance with the process"]
[13,"How often does the supplier weigh the mults? ",null,null,"Green: 100% automated"]
[null,null,null,null,"Yellow: 100% manual OR <100% audit"]
[null,null,null,null,"Red: Not Weighted"]
[14," Document the supplier's heating process and equipment",null,null,"Green: Induction"]
[null,null,null,null,"Yellow: Belt furnace OR Slot furnace"]
[null,null,null,null,"Red: Electric Resistance"]
[15,"Does the supplier have a documented process to handle Variations in the Heating process associated with Breaks, machine downtime, shift change, etc.   Does the Supplier demonstrate compliance with the process? ",null,null,"Green: The Supplier has a documented process, and demonstrates compliance with the process."]
[null,null,null,null,"Yellow: The Supplier has a documented process, but does not demonstrate compliance with the process OR the Supplier does not have a documented process, but does demonstrate compliance with the process"]
[null,null,null,null,"Red: The Supplier does not have a documented process, AND does not demonstrate compliance with the process"]
[16,"Does the supplier have infrared temperature monitoring?",null,null,"Green: Supplier has infrared temperature monitoring"]
[null,null,null,null,"Yellow: Supplier does not have infrared temperature monitoring, but utilizes another method(s)"]
[null,null,null,null,"Red: Supplier does not have infrared temparture monitoring"]
[17,"If Pyrometer is utilized in the system is it multi wave length?",null,null,"Pass: A pyrometer utilized in the system is multi wave length"]
[]
[null,null,null,null,"Fail: A pyrometer utilized in the system is not multi wave length"]
[18,"If Single frequency, how is emissitivity set?",null,null,"Green: Supplier sets emissitivity per the material being measured and has verified accuracy"]
[null,null,null,null,"Yellow: Supplier sets emissitivity per the material being measured but has not verified accuracy"]
[null,null,null,null,"Red: Supplier does not set emissitivity"]
[19,"Does the Supplier have a documented process to measure the temperature of each mult prior to forging, & Do they comply with the documented process? ",null,null,"Green: The Supplier has a documented process, and they comply with the documented process."]
[null,null,null,null,"Yellow: The Supplier has a documented process, but do not comply with the documented process OR the Supplier does not have a documented process, but does demonstrate compliance with the process"]
[null,null,null,null,"Red: The Supplier does not have a documented process, AND does not demonstrate compliance with the process"]
[20,"If Induction heating is being utilized does the supplier have a documented process for power monitoring and process feedback, and does the supplier demonstrate compliance with the process?",null,null,"Green: The Supplier has a documented process, and demonstrates compliance with the process."]
[null,null,null,null,"Yellow: The Supplier has a documented process, but does not demonstrate compliance with the process OR the Supplier does not have a documented process, but does demonstrate compliance with the process"]
[null,null,null,null,"Red: The Supplier does not have a documented process, AND does not demonstrate compliance with the process"]
[21,"Does the Supplier have a documented process to Calibrate the Temperature/Power Monitoring Equipment, and does the supplier demonstrate compliance with the process?",null,null,"Green: The Supplier has a documented process, and demonstrates compliance with the process."]
[null,null,null,null,"Yellow: The Supplier has a documented process, but does not demonstrate compliance with the process OR the Supplier does not have a documented process, but does demonstrate compliance with the process"]
[null,null,null,null,"Red: The Supplier does not have a documented process, AND does not demonstrate compliance with the process"]
[22,"Does the supplier have a documented process for calibration of all gages on instrument panels,  and does the supplier demonstrate compliance with the process?",null,null,"Green: The Supplier has a documented process, and demonstrates compliance with the process (Temperature Controls, Time Controls, etc.)"]
[null,null,null,null,"Yellow: The Supplier has a documented process, but does not demonstrate compliance with the process OR the Supplier does not have a documented process, but does demonstrate compliance with the process (Temperature Controls, Time Controls, etc.)"]
[null,null,null,null,"Red: The Supplier does not have a documented process, AND does not demonstrate compliance with the process (Temperature Controls, Time Controls, etc.)"]
[23,"Does the supplier have a documented process to reject Mults outside the established range for temperature and/or time & Do they comply with the documented process ?",null,null,"Green: The Supplier has a documented process, and they comply with the documented process."]
[null,null,null,null,"Yellow: The Supplier has a documented process, but do not comply with the documented process OR the Supplier does not have a documented process, but does demonstrate compliance with the process"]
[null,null,null,null,"Red: The Supplier does not have a documented process, AND does not demonstrate compliance with the process"]
[24,"Are all heat treat (Both captive & Outsourced Sources) qualified per CQI -9 Requirements?",null,null,"Pass: All Heat treat (both Captive & Outsourced sources) are qualified per CQI-9 Requirements"]
[]
[null,null,null,null,"Fail: All Heat treat (both Captive & Outsourced sources) are not qualified per CQI-9 Requirements"]
[25,"Does the Supplier have a documented Process/Procedure for the pre-heating of dies, and does the supplier demonstrate compliance with the process?",null,null,"Green: The Supplier has a documented process, and they comply with the documented process."]
[null,null,null,null,"Yellow: The Supplier has a documented process, but do not comply with the documented process OR the Supplier does not have a documented process, but does demonstrate compliance with the process"]
[null,null,null,null,"Red: The Supplier does not have a documented process, AND does not demonstrate compliance with the process"]
[26,"Does the Supplier have a documented process for Die Storage, and does the supplier demonstrate compliance with the process? (a place for everything and everything in its place)",null,null,"Green: The Supplier has a documented process, and they comply with the documented process. (a place for everything and everything in its place)"]
[null,null,null,null,"Yellow: The Supplier has a documented process, but do not comply with the documented process OR the Supplier does not have a documented process, but does demonstrate compliance with the process (a place for everything and everything in its place)"]
[null,null,null,null,"Red: The Supplier does not have a documented process, AND does not demonstrate compliance with the process (a place for everything and everything in its place)"]
[27,"Does the supplier have a predictive/preventative maintenance process for Dies, and does the supplier demonstrate compliance with the process? ",null,null,"Green: The Supplier has a predictive/preventative maintenance process, and they comply with the documented process."]
[null,null,null,null,"Yellow: The Supplier has a predictive/preventative maintenance process, but do not comply with the documented process OR the Supplier does not have a predictive/preventative maintenance process, but does demonstrate compliance with the process"]
[null,null,null,null,"Red: The Supplier does not have a predictive/preventative maintenance process, AND does not demonstrate compliance with the process"]
[28,"Does the supplier have a documented process for die review after the completion of production run, and does the supplier demonstrate compliance with the process?  (retains)",null,null,"Green: The Supplier has a predictive/preventative maintenance process, and they comply with the documented process."]
[null,null,null,null,"Yellow: The Supplier has a predictive/preventative maintenance process, but do not comply with the documented process OR the Supplier does not have a predictive/preventative maintenance process, but does demonstrate compliance with the process"]
[null,null,null,null,"Red: The Supplier does not have a predictive/preventative maintenance process, AND does not demonstrate compliance with the process"]
[29,"Does the supplier have a documented process for Press Set Up, and does the supplier demonstrate compliance with the process? ",null,null,"Green: The Supplier has a documented process, and they comply with the documented process."]
[null,null,null,null,"Yellow: The Supplier has a documented process, but do not comply with the documented process OR the Supplier does not have a documented process, but does demonstrate compliance with the process"]
[null,null,null,null,"Red: The Supplier does not have a documented process, AND does not demonstrate compliance with the process"]
[30,"Does the supplier have a documented process for review of the Press Tonnage during the set-up process, and does the supplier demonstrate compliance with the process? ",null,null,"Green: The Supplier has a documented process, and they comply with the documented process."]
[null,null,null,null,"Yellow: The Supplier has a documented process, but do not comply with the documented process OR the Supplier does not have a documented process, but does demonstrate compliance with the process"]
[null,null,null,null,"Red: The Supplier does not have a documented process, AND does not demonstrate compliance with the process"]
[31,"Does the supplier have a documented process for the calibration of the load cells, and does the supplier demonstrate compliance with the process? ",null,null,"Green: The Supplier has a documented process, and they comply with the documented process."]
[null,null,null,null,"Yellow: The Supplier has a documented process, but do not comply with the documented process OR the Supplier does not have a documented process, but does demonstrate compliance with the process"]
[null,null,null,null,"Red: The Supplier does not have a documented process, AND does not demonstrate compliance with the process"]
[32,"Are the set up checks based on air or water cooling of parts? \n(If water cooled how does the supplier validate that no additional hardening is occurring)",null,null,"Green: Air"]
[null,null,null,null,"Yellow: Air/Water"]
[null,null,null,null,"Red: Water"]
[33,"Does the Supplier have a documented process for Die Change over, and does the supplier demonstrate compliance with the process? ",null,null,"Green: The Supplier has a documented process, and they comply with the documented process."]
[null,null,null,null,"Yellow: The Supplier has a documented process, but do not comply with the documented process OR the Supplier does not have a documented process, but does demonstrate compliance with the process"]
[null,null,null,null,"Red: The Supplier does not have a documented process, AND does not demonstrate compliance with the process"]
[34,"What is the average time for Die Change over?  \n(Information Only)"]
[]
[]
[35,"Does the Supplier Have a documented process for prevention and detection of Cracks and demonstrates compliance with the process? ",null,null,"Green: The Supplier has a documented process, and they comply with the documented process."]
[null,null,null,null,"Yellow: The Supplier has a documented process, but do not comply with the documented process OR the Supplier does not have a documented process, but does demonstrate compliance with the process"]
[null,null,null,null,"Red: The Supplier does not have a documented process, AND does not demonstrate compliance with the process"]
[36,"Does the Supplier Have a documented process for prevention and detection of Laps and demonstrates compliance with the process? ",null,null,"Green: The Supplier has a documented process, and they comply with the documented process."]
[null,null,null,null,"Yellow: The Supplier has a documented process, but do not comply with the documented process OR the Supplier does not have a documented process, but does demonstrate compliance with the process"]
[null,null,null,null,"Red: The Supplier does not have a documented process, AND does not demonstrate compliance with the process"]
[37,"Does the Supplier Have a documented process for preventing and detecting Embedded Scale or Excess Scale and demonstrates compliance with the process? ",null,null,"Green: The Supplier has a documented process, and they comply with the documented process."]
[null,null,null,null,"Yellow: The Supplier has a documented process, but do not comply with the documented process OR the Supplier does not have a documented process, but does demonstrate compliance with the process"]
[null,null,null,null,"Red: The Supplier does not have a documented process, AND does not demonstrate compliance with the process"]
[38,"Does the Supplier Have a documented process for managing Legibility and demonstrates compliance with the process? ",null,null,"Green: The Supplier has a documented process, and they comply with the documented process."]
[null,null,null,null,"Yellow: The Supplier has a documented process, but do not comply with the documented process OR the Supplier does not have a documented process, but does demonstrate compliance with the process"]
[null,null,null,null,"Red: The Supplier does not have a documented process, AND does not demonstrate compliance with the process"]
[39,"Does the Supplier Have a documented process for preventing and detecting Improper Grain Flow and demonstrates compliance with the process? ",null,null,"Green: The Supplier has a documented process, and they comply with the documented process."]
[null,null,null,null,"Yellow: The Supplier has a documented process, but do not comply with the documented process OR the Supplier does not have a documented process, but does demonstrate compliance with the process"]
[null,null,null,null,"Red: The Supplier does not have a documented process, AND does not demonstrate compliance with the process"]
[40,"Does the Supplier have a documented process for controlling forging temperature and time at heat, and demonstrates compliance with the process?  ",null,"Validate Compliance at Each and Every Line, Piece of equipment, etc.","Green: The Supplier has a documented process, and they comply with the documented process."]
[null,null,null,null,"Yellow: The Supplier has a documented process, but do not comply with the documented process OR the Supplier does not have a documented process, but does demonstrate compliance with the process"]
[null,null,null,null,"Red: The Supplier does not have a documented process, AND does not demonstrate compliance with the process"]
[41,"Does the Supplier have a documented process for cleaning scale from forged parts and demonstrates compliance with the process? ",null,null,"Green: The Supplier has a documented process, and they comply with the documented process."]
[null,null,null,null,"Yellow: The Supplier has a documented process, but do not comply with the documented process OR the Supplier does not have a documented process, but does demonstrate compliance with the process"]
[null,null,null,null,"Red: The Supplier does not have a documented process, AND does not demonstrate compliance with the process"]
[42,"Does the Supplier have a documented process for maintaining the cleaning abrasive and shot blast equipment and demonstrates compliance with the process?\n",null,"Review of preventative maintenance records","Green: The Supplier has a documented process, and they comply with the documented process."]
[null,null,null,null,"Yellow: The Supplier has a documented process, but do not comply with the documented process OR the Supplier does not have a documented process, but does demonstrate compliance with the process"]
[null,null,null,null,"Red: The Supplier does not have a documented process, AND does not demonstrate compliance with the process"]
[43,"Does the Supplier have a documented process for the method of validating hardenability, and demonstrates compliance with the process?",null,null,"Green: The Supplier has a documented process, and they comply with the documented process."]
[null,null,null,null,"Yellow: The Supplier has a documented process, but do not comply with the documented process OR the Supplier does not have a documented process, but does demonstrate compliance with the process"]
[null,null,null,null,"Red: The Supplier does not have a documented process, AND does not demonstrate compliance with the process"]
[44,"Does the Supplier have a documented process for Heat Code Assignment and demonstrates compliance with the process? (Minimum of an annual review)",null,null,"Green: The Supplier has a documented process, and they comply with the documented process (minimum of an annual review)"]
[null,null,null,null,"Yellow: The Supplier has a documented process, but do not comply with the documented process OR the Supplier does not have a documented process, but does demonstrate compliance with the process (minimum of an annual review)"]
[null,null,null,null,"Red: The Supplier does not have a documented process, AND does not demonstrate compliance with the process (minimum of an annual review)"]
[45,"Does the Supplier have a documented process for review of the Micro structure of the forged parts being produced and demonstrates compliance with the process?",null,null,"Green: The Supplier has a documented process, and they comply with the documented process."]
[null,null,null,null,"Yellow: The Supplier has a documented process, but do not comply with the documented process OR the Supplier does not have a documented process, but does demonstrate compliance with the process"]
[null,null,null,null,"Red: The Supplier does not have a documented process, AND does not demonstrate compliance with the process"]
[46,"Does the supplier have a documented process for cooling the product, and does the supplier demonstrate compliance with the process?",null,null,"Green: The Supplier has a documented process, and they comply with the documented process."]
[null,null,null,null,"Yellow: The Supplier has a documented process, but do not comply with the documented process OR the Supplier does not have a documented process, but does demonstrate compliance with the process"]
[null,null,null,null,"Red: The Supplier does not have a documented process, AND does not demonstrate compliance with the process"]
[47,"Do all coatings that the supplier utilizes meet the Nexteer Automotive Specifications and Requirements?",null,null,"Pass: All coatings used by the supplier meet Nexteer Automotive Specifications and Requirements"]
[]
[null,null,null,null,"Fail: All coatings used by the supplier do not meet Nexteer Automotive Specifications and Requirements"]
[48,"Does the supplier have a documented process for part dimensional inspection, and does the supplier demonstrate compliance with the process",null,null,"Green: The Supplier has a documented process, and they comply with the documented process."]
[null,null,null,null,"Yellow: The Supplier has a documented process, but do not comply with the documented process OR the Supplier does not have a documented process, but does demonstrate compliance with the process"]
[null,null,null,null,"Red: The Supplier does not have a documented process, AND does not demonstrate compliance with the process"]
[49,"Does the Supplier have a documented process to Calibrate the Dimensional Inspection Equipment, and does the supplier demonstrate compliance with the process?",null,null,"Green: The Supplier has a documented process, and they comply with the documented process."]
[null,null,null,null,"Yellow: The Supplier has a documented process, but do not comply with the documented process OR the Supplier does not have a documented process, but does demonstrate compliance with the process"]
[null,null,null,null,"Red: The Supplier does not have a documented process, AND does not demonstrate compliance with the process"]
[50,"Does the Supplier Have a Documented Process for Re-work/Salvage, and Does the Supplier Demonstrate Compliance with the process?",null,null,"Green: The supplier has a Documented Process for Re-work/Salvage, and the Supplier demonstrates compliance with the process"]
[null,null,null,null,"Yellow: The Supplier has a Documented Process for Re-work/Salvage, but the Supplier does not demonstrate compliance with the process"]
[null,null,null,null,"Red: The Supplier does not have a Documented Process for Re-work/Salvage, and the Supplier does not demonstrate compliance with this requirement."]
[51,"If suppliers parts are subject to magnetic particle inspection requirements do they meet or exceed the requirements per the ASTM",null,null,"Green: The supplier meets all of the required ASTM requirements"]
[null,null,null,null,"Yellow: The supplier meets some of the ASTM requirements"]
[null,null,null,null,"Red: The supplier does not meet the ASTM Requirements"]

{"sheet":"Grease Application Audit","index":24,"n_rows":32,"n_cols":13,"rows_kept":32,"cut":false,"hidden":true,"merged":[[29,11,31,11],[29,6,31,6],[29,7,31,7],[29,8,31,8],[29,9,31,9],[29,10,31,10],[23,11,25,11],[26,6,28,6],[26,7,28,7],[26,8,28,8],[26,9,28,9],[26,10,28,10],[26,11,28,11],[23,6,25,6],[23,7,25,7],[23,8,25,8],[23,9,25,9],[23,10,25,10],[0,0,0,1],[0,2,0,3],[1,0,1,1],[1,2,1,3],[2,0,2,1],[2,2,2,3],[20,7,22,7],[20,8,22,8],[20,9,22,9],[11,7,13,7],[11,8,13,8],[11,9,13,9],[20,6,22,6],[6,6,7,6],[8,6,10,6],[11,6,13,6],[14,6,16,6],[17,6,19,6],[14,0,16,0],[14,3,16,3],[14,5,16,5],[17,0,19,0],[17,3,19,3],[17,5,19,5],[20,10,22,10],[20,11,22,11],[17,7,19,7],[17,8,19,8],[17,9,19,9],[17,10,19,10],[17,11,19,11],[14,7,16,7],[14,8,16,8],[14,9,16,9],[14,10,16,10],[14,11,16,11],[11,10,13,10],[11,11,13,11],[8,7,10,7],[8,8,10,8],[8,9,10,9],[8,10,10,10],[8,11,10,11],[6,7,7,7],[6,8,7,8],[6,9,7,9],[6,10,7,10],[6,11,7,11],[29,3,31,3],[29,5,31,5],[26,1,28,2],[29,1,31,2],[20,0,22,0],[20,3,22,3],[20,5,22,5],[23,0,25,0],[23,3,25,3],[23,5,25,5],[20,1,22,2],[23,1,25,2],[29,12,31,12],[2,5,4,5],[6,0,7,0],[6,3,7,3],[6,4,7,4],[6,5,7,5],[3,0,3,1],[3,2,3,3],[5,0,5,3],[6,1,7,2],[14,1,16,2],[17,1,19,2],[8,0,10,0],[8,3,10,3],[8,5,10,5],[11,0,13,0],[11,3,13,3],[11,5,13,5],[8,1,10,2],[11,1,13,2],[26,0,28,0],[26,3,28,3],[26,5,28,5],[29,0,31,0],[5,11,5,12],[17,12,19,12],[20,12,22,12],[6,12,7,12],[8,12,10,12],[11,12,13,12],[14,12,16,12],[23,12,25,12],[26,12,28,12]]}
["Date: ",null,{"$f":"IF(ISBLANK('Supplier Data'!N30),\"\",'Supplier Data'!N30)","v":""}]
["Supplier Name:                                                                                                               ",null,{"$f":"IF(ISBLANK('Supplier Data'!D14),\"\",'Supplier Data'!D14)","v":""},null,null,"Overall Judgement"]
["Parts Evaluated:                                                                                                              ",null,null,null,null,{"$f":"IF(COUNTA(F9:F56)<>COUNT(A9:A56),\"R - Incomplete\",IF(OR(COUNTIF(F9:F56,\"Fail\")>0,COUNTIF(F9:F56,\"R - Unacceptable\")>0),\"R - Unacceptable\",IF(COUNTIF(F9:F56,\"Y - CA Required\")>0,\"Y - CA Required\",\"G - OK\")))","v":"R - Incomplete"}]
["Program:"]
[]
["Grease Application Process Specific Audit",null,null,null,null,"JUDGEMENT"]
[null,"Question",null,"Verify ","Objective Judgement Criteria","(G/Y/R or \nPass/Fail)","SUPPLIER EVIDENCE","NEXTEER OBSERVATIONS","Corrective Action Plan\nRequired for Red or Yellow Score Items","Person Responsible","Target Completion Date","Actual Completion Date","Nexteer Corrective ActionPlan Observations "]
[]
[1,"Are there controls to assure that the correct grease is provided to the application site?",null,"Measures are in place to assure correct grease is provided to the application site.","Pass: Labeling and Error Proofing in Place to ensure grease is not mixed"]
[]
[null,null,null,null,"Fail: Controls are inadequate to ensure grease is not mixed"]
[2,"Are measures in place to ensure that the product, both grease and customer assembly, are kept clean throughout the process?",null,"Procedures and processing methods must be followed to ensure that neither the grease nor the customer parts are contaminated by foreign materials once in the process stream through to final packaging.","Pass: Industrial Hygene and cleanliness standards are in place to keep product and process clean"]
[]
[null,null,null,null,"Fail: Processing methods allow contamination during grease application process"]
[3,"Are practices in place to prevent grease from contaminating areas on the customer assembly that are not compatible with grease? ",null,"Measures should be taken to assure grease is not applied to critical areas.  Visual aids should show these areas.  Material handling and packaging prevents migration of grease to areas of the customer assembly that would prove to be detrimental to the function of the assembly.","Pass: Critical \"Keep Out\" areas are identified with visual aids"]
[]
[null,null,null,null,"Fail: \"Keep Out\" areas are not identified and documented on visual aids"]
[4,"Are steps taken to prevent air from getting into grease supply lines.  What is the process for changing drums?",null,"The supplier shall have procedures for handling grease and grease drums that encompass measures to specifically address air entrapment throughout the grease handling system.","Pass: Purge and air entrapment procedures ensure air is not introduced to the application system"]
[]
[null,null,null,null,"Fail: Grease application system can allow air entrapment"]
[5,"Is there an alarm or other procedure to indicate when the flow or other critical parameters are outside process requirements?  (At barrel and at application to the product)",null,"Process alarms or other procedures shall exist to alert the operator when the flow of grease is interrupted.  ","Pass: Flow monitoring alarms are in place"]
[]
[null,null,null,null,"Fail: No Flow monitoring alarms are in place"]
[6,"Are all cleaning processes used compatible with grease and product?",null,"Solvents or other materials used to clean the product or the manufacturing line must be specified, approved and used in a manner, which does not adversely affect the grease or product.","Pass: Grease compatibility with solvents and on line cleaners is documented"]
[]
[null,null,null,null,"Fail: Grease is not compatible with solvents and online cleaners or compatibility is not documented."]
[7,"Is there a rework procedure that complies with the original grease application specifications?",null,"The rework procedure should be consistent with the original application procedure to ensure coverage in terms of quantity and location of grease on the part or assembly.","Pass: cleaning and regreasing should follow original application method preferably using the production equipment for re application"]
[]
[null,null,null,null,"Fail: Re-application is not documented or does not follow original application method"]
[8,"Does area of greasing on part require verification that grease is actually on the part after the greasing station?",null,"Look for method of detecting the presence of grease.","Pass: Grease presence is detected"]
[]
[null,null,null,null,"Fail: No method for grease presence detection is available or used."]

{"sheet":"Injection Molding Audit","index":25,"n_rows":20,"n_cols":13,"rows_kept":20,"cut":false,"hidden":true,"merged":[[8,3,10,3],[0,0,0,1],[0,2,0,3],[1,0,1,1],[1,2,1,3],[2,0,2,1],[2,2,2,3],[17,9,19,9],[17,10,19,10],[17,11,19,11],[14,7,16,7],[14,8,16,8],[14,9,16,9],[14,10,16,10],[14,11,16,11],[17,7,19,7],[17,8,19,8],[11,9,13,9],[11,10,13,10],[11,11,13,11],[8,7,10,7],[8,8,10,8],[8,9,10,9],[8,10,10,10],[8,11,10,11],[11,7,13,7],[11,8,13,8],[6,7,7,7],[6,8,7,8],[6,9,7,9],[6,10,7,10],[6,11,7,11],[6,6,7,6],[8,6,10,6],[11,6,13,6],[14,6,16,6],[17,6,19,6],[14,0,16,0],[14,3,16,3],[14,5,16,5],[17,0,19,0],[17,3,19,3],[17,5,19,5],[14,1,16,2],[17,1,19,2],[8,5,10,5],[11,0,13,0],[11,3,13,3],[11,5,13,5],[2,5,4,5],[6,0,7,0],[6,3,7,3],[6,4,7,4],[6,5,7,5],[5,0,5,3],[11,1,13,2],[3,0,3,1],[3,2,3,3],[6,1,7,2],[8,1,10,2],[8,0,10,0],[5,11,5,12],[17,12,19,12],[6,12,7,12],[8,12,10,12],[11,12,13,12],[14,12,16,12]]}
["Date: ",null,{"$f":"IF(ISBLANK('Supplier Data'!N30),\"\",'Supplier Data'!N30)","v":""}]
["Supplier Name:                                                                                                               ",null,{"$f":"IF(ISBLANK('Supplier Data'!D14),\"\",'Supplier Data'!D14)","v":""},null,null,"Overall Judgement"]
["Parts Evaluated:                                                                                                              ",null,null,null,null,{"$f":"IF(COUNTA(F9:F56)<>COUNT(A9:A56),\"R - Incomplete\",IF(OR(COUNTIF(F9:F56,\"Fail\")>0,COUNTIF(F9:F56,\"R - Unacceptable\")>0),\"R - Unacceptable\",IF(COUNTIF(F9:F56,\"Y - CA Required\")>0,\"Y - CA Required\",\"G - OK\")))","v":"R - Incomplete"}]
["Program:"]
[]
["Injection Molding Process Specific Audit",null,null,null,null,"JUDGEMENT"]
[null,"Question",null,"Verify ","Objective Judgement Criteria","(G/Y/R or\nPass/Fail)","SUPPLIER EVIDENCE","NEXTEER OBSERVATIONS","Corrective Action Plan\nRequired for Red or Yellow Score Items","Person Responsible","Target Completion Date","Actual Completion Date","Nexteer Corrective ActionPlan Observations "]
[]
[1,"Is the material stored in silos?",null,"(1) Is there a standardized work instruction for loading and distribution of the material from the silos.\n(2) Are the silos and the connecting hoses color coded for visual management to distinguish between different resins/material being used.\n(3) Is the material being tested in the in-house lab for Sp. Gravity, Flow properties etc. prior to being unloaded in the silos. \n(4) Is every bulk load accompanied by the manufacturers certificate of analysis.","Green: Raw Material stored in silos and all verified criteria met"]
[null,null,null,null,"YELLOW: Silo(s) exist but not all verified criteria met, (ie lack in-house testing color coding etc.)"]
[null,null,null,null,"Red:  No material control at bulk silos"]
[2,"In an emergency (like material shortage/current weak market conditions, low volume order justifying smaller packaging etc.) does the supplier use gaylords to receive small quantities of the material",null,"(1) Is there a standardized work instruction for switching the uptake of material from silos to gaylord.\n(2) Are the connecting distribution hoses color coded for different materials?\n(3) Are the gaylords labeled with similar color coded labels to distinguish different materials?\n(4) How is the material usage from gaylord/s verified at the press? \n(5) Who are involved in verification that the correct material is used for the part being produced","GREEN: Gaylords are utilized with standardized work instructions for tranferring from silos and to the presses.  Gaylords have an ID/labeling procedure involving color coding on wands and boxes."]
[null,null,null,null,"YELLOW: Gaylords can or are utilzed with know formal written procedures to transfer from silos."]
[null,null,null,null,"Red: Raw material cannot be transferred to gaylords."]
[3,"For moisture sensitive materials, is the drying system adequate and properly maintained?",null,"This is important for Nexteer materials commonly used (I.e. Polyamide (Nylon, PA66, PA6, PA46, PA6-12)\nPolythalamide (high temperature nylong, HTN, Amodel)\nPolyesters (PET, PBT, Hytrel, TEEE)\nAcrylonitrile Butadiene Styrene (ABS)\nPolyurethanes (TPU)","GREEN:  Drying system exists with temperature controllers and display.  Controllers are equiped with audio and visual alarms alerting when parameters have been breached.  A mositure meter is used at set frequencies to verify dryer/controller."]
[null,null,null,null,"YELLOW:  All dryer controls mentioned above exist.  However they are not being verified with a moisture meter check.\n"]
[null,null,null,null,"Red:  Dryes has no alarms and no moisture check being performed."]
[4,"Are moisture checks for the resin being made per the PCP every shift?",null,"Check PCP and check sheets.","Pass: Moisture checks are verified as being checked per the control plan"]
[]
[null,null,null,null,"Fail: No moisture checks being performed"]

{"sheet":"Machining Audit","index":26,"n_rows":26,"n_cols":13,"rows_kept":26,"cut":false,"hidden":true,"merged":[[20,6,22,6],[17,7,19,7],[17,8,19,8],[17,9,19,9],[17,10,19,10],[20,7,22,7],[20,8,22,8],[20,9,22,9],[20,10,22,10],[23,6,25,6],[23,7,25,7],[23,8,25,8],[23,9,25,9],[23,10,25,10],[0,0,0,1],[0,2,0,3],[1,0,1,1],[1,2,1,3],[2,0,2,1],[2,2,2,3],[14,7,16,7],[14,8,16,8],[14,9,16,9],[14,10,16,10],[14,11,16,11],[11,7,13,7],[11,8,13,8],[11,9,13,9],[11,10,13,10],[11,11,13,11],[8,7,10,7],[8,8,10,8],[8,9,10,9],[8,10,10,10],[8,11,10,11],[6,7,7,7],[6,8,7,8],[6,9,7,9],[6,10,7,10],[6,11,7,11],[6,6,7,6],[8,6,10,6],[11,6,13,6],[14,6,16,6],[17,6,19,6],[23,0,25,0],[23,3,25,3],[23,5,25,5],[17,0,19,0],[17,3,19,3],[17,5,19,5],[20,0,22,0],[20,3,22,3],[20,5,22,5],[17,1,19,2],[20,1,22,2],[23,1,25,2],[11,0,13,0],[11,3,13,3],[11,5,13,5],[14,0,16,0],[14,3,16,3],[14,5,16,5],[11,1,13,2],[14,1,16,2],[8,0,10,0],[8,3,10,3],[8,5,10,5],[2,5,4,5],[6,0,7,0],[6,3,7,3],[6,4,7,4],[6,5,7,5],[3,0,3,1],[3,2,3,3],[6,1,7,2],[8,1,10,2],[5,0,5,3],[5,11,5,12],[17,12,19,12],[20,12,22,12],[23,12,25,12],[6,12,7,12],[8,12,10,12],[11,12,13,12],[14,12,16,12],[17,11,19,11],[23,11,25,11],[20,11,22,11]]}
["Date: ",null,{"$f":"IF(ISBLANK('Supplier Data'!N30),\"\",'Supplier Data'!N30)","v":""}]
["Supplier Name:                                                                                                               ",null,{"$f":"IF(ISBLANK('Supplier Data'!D14),\"\",'Supplier Data'!D14)","v":""},null,null,"Overall Judgement"]
["Parts Evaluated:                                                                                                              ",null,null,null,null,{"$f":"IF(COUNTA(F9:F56)<>COUNT(A9:A56),\"R - Incomplete\",IF(OR(COUNTIF(F9:F56,\"Fail\")>0,COUNTIF(F9:F56,\"R - Unacceptable\")>0),\"R - Unacceptable\",IF(COUNTIF(F9:F56,\"Y - CA Required\")>0,\"Y - CA Required\",\"G - OK\")))","v":"R - Incomplete"}]
["Program:"]
[]
["Machining Process Specific Audit",null,null,null,null,"JUDGEMENT"]
[null,"Question",null,"Verify ","Objective Judgement Criteria","(G/Y/R or \nPass/Fail)","SUPPLIER EVIDENCE","NEXTEER OBSERVATIONS","Corrective Action Plan\nRequired for Red or Yellow Score Items","Person Responsible","Target Completion Date","Actual Completion Date","Nexteer Corrective ActionPlan Observations "]
[]
[1,"For fragile tools is error proofing used to detect broken tools?",null,"Look for current sensors, whisker type probes and laser probes.","Pass: Error proofing and broken tool detection is in place"]
[]
[null,null,null,null,"Fail: broken tool detection is not in place"]
[2,"For multiple machines/fixtures how is part traceability accomplished?",null,"Look for a legend on witness marks on the part or dot matrix.","Pass: Part to fixture traceability must be in place"]
[]
[null,null,null,null,"Fail: No Part to fixture traceability is in place"]
[3,"Who has \"edit rights\" for the machining software programs?",null,"How are edit rights controlled?","Pass: Machining program access must be limited to authorized personel by lock out or password methods"]
[]
[null,null,null,null,"Fail: No Machining program access control"]
[4,"Is the equipment accuracy being used sufficient for the print tolerances required?",null,"Look for machine accuracy documentation.","Pass: Verify capability study data on critical tolerance dimensions"]
[]
[null,null,null,null,"Fail: Capability study data does not show capability"]
[5,"Are parts located & clamped correctly in the fixture(s)?",null,"Look for monitoring system(s) i.e. pressure or air transducers.","Pass: Part placement verification is in place in the fixturing"]
[]
[null,null,null,null,"Fail: No part placement verification is in place in fixturing"]
[6,"How is part remachining prevented?",null,"Look for work place organization and/or a monitoring system.","Pass: single piece flow that is well followed or fixture interlock"]
[]
[null,null,null,null,"Fail: Poor work piece flow or no fixture interlock"]

{"sheet":"Painting Audit","index":27,"n_rows":29,"n_cols":13,"rows_kept":29,"cut":false,"hidden":true,"merged":[[17,9,19,9],[17,8,19,8],[17,7,19,7],[17,6,19,6],[11,11,13,11],[14,6,16,6],[14,7,16,7],[14,8,16,8],[14,9,16,9],[14,10,16,10],[14,11,16,11],[11,6,13,6],[11,7,13,7],[11,8,13,8],[11,9,13,9],[11,10,13,10],[8,6,10,6],[8,7,10,7],[8,8,10,8],[8,9,10,9],[8,10,10,10],[8,11,10,11],[6,6,7,6],[6,7,7,7],[6,8,7,8],[6,9,7,9],[6,10,7,10],[20,0,22,0],[23,3,25,3],[20,5,22,5],[23,0,25,0],[26,3,28,3],[23,5,25,5],[26,0,28,0],[26,5,28,5],[20,3,22,3],[20,1,22,2],[23,1,25,2],[26,1,28,2],[0,4,3,4],[2,5,4,5],[6,0,7,0],[6,3,7,3],[6,4,7,4],[8,0,10,0],[8,5,10,5],[8,3,10,3],[0,0,0,1],[0,2,0,3],[1,0,1,1],[1,2,1,3],[2,0,2,1],[2,2,2,3],[3,0,3,1],[3,2,3,3],[6,1,7,2],[8,1,10,2],[5,0,5,3],[6,5,7,5],[20,10,22,10],[5,11,5,12],[17,11,19,11],[17,10,19,10],[20,11,22,11],[26,11,28,11],[26,10,28,10],[23,10,25,10],[23,11,25,11],[20,12,22,12],[23,12,25,12],[26,12,28,12],[6,12,7,12],[8,12,10,12],[11,12,13,12],[14,12,16,12],[17,12,19,12],[6,11,7,11],[26,9,28,9],[26,8,28,8],[26,7,28,7],[26,6,28,6],[23,6,25,6],[23,7,25,7],[23,8,25,8],[23,9,25,9],[20,6,22,6],[20,7,22,7],[20,8,22,8],[20,9,22,9],[11,0,13,0],[11,3,13,3],[11,5,13,5],[14,0,16,0],[14,3,16,3],[14,5,16,5],[17,0,19,0],[17,5,19,5],[17,3,19,3],[11,1,13,2],[14,1,16,2],[17,1,19,2]]}
["Date: ",null,{"$f":"IF(ISBLANK('Supplier Data'!N30),\"\",'Supplier Data'!N30)","v":""}]
["Supplier Name:                                                                                                               ",null,{"$f":"IF(ISBLANK('Supplier Data'!D14),\"\",'Supplier Data'!D14)","v":""},null,null,"Overall Judgement"]
["Parts Evaluated:                                                                                                              ",null,null,null,null,{"$f":"IF(COUNTA(F9:F41)<>COUNT(A9:A41),\"R - Incomplete\",IF(OR(COUNTIF(F9:F41,\"Fail\")>0,COUNTIF(F9:F41,\"R - Unacceptable\")>0),\"R - Unacceptable\",IF(COUNTIF(F9:F41,\"Y - CA Required\")>0,\"Y - CA Required\",\"G - OK\")))","v":"R - Incomplete"}]
["Program:"]
[]
["Painting Process Specific Audit",null,null,null,null,"JUDGEMENT"]
[null,"Question",null,"Verify ","Objective Judgement Criteria","(G/Y/R or P/F)","SUPPLIER EVIDENCE","NEXTEER OBSERVATIONS","Corrective Action Plan\nRequired for Red or Yellow Score Items","Person Responsible","Target Completion Date","Actual Completion Date","Nexteer Corrective ActionPlan Observations "]
[]
[1,"Are racks/hangers inspected before parts are loaded?",null,"Proper material handling within the mix room and at the load and prep station","Pass: Rack / hangers inspected before being loaded"]
[]
[null,null,null,null,"Fail: Racks / hangers NOT inspected before being loaded or inspected on less frequent basis"]
[2," Is their a PM schedule for racks maintenance/cleaning?",null,"Procedure, PFEMA, control plan, SWS, layer audit","Pass: Racks / hangers have a PM schedule that is being followed"]
[]
[null,null,null,null,"Fail: No PM schedule or no evidence it is being followed"]
[3,"Are parts water spot free after dry off? What is the verification process?",null,"Procedure, PFEMA, control plan, SWS, layer audit","Pass: Verification of water spot free parts is in place and followed"]
[]
[null,null,null,null,"Fail: No verification for water spot free parts in place or procedure not followed"]
[4,"Is there a PM schedule for the wash system prior to painting? Is it being followed?",null,"Look for schedule log.","Pass: Wash system has a PM schedule that is being followed"]
[]
[null,null,null,null,"Fail: No PM schedule or no evidence it is being followed"]
[5,"Are there process controls established for control oven temperature? Are there oven temperature set points? Verify controls are working.",null,"Look for oven profile.","Pass: Oven temperature set points established and followed"]
[]
[null,null,null,null,"Fail: Oven temperature set points not established or not followed and monitored"]
[6,"Is their a reaction plan for when oven temperature falls below the required temperature or when parts are in the oven longer than specified?",null,"Look for procedures.","Pass: reaction plan for oven temperature excursion is in place"]
[]
[null,null,null,null,"Fail: no reaction plan for oven temperature excursion"]
[7,"Cleaning Schedule for booths, grates, robots, etc. Maintenance of the sludge system/eliminators, etc",null,"Look for log.","Pass: All systems have PM plan established with evidence that it is being followed"]
[]
[null,null,null,null,"Fail: Some or all PM plans missing and / or some or all PM plans lack evidence that they are followed"]

{"sheet":"Powdered Metal Audit","index":28,"n_rows":53,"n_cols":13,"rows_kept":53,"cut":false,"hidden":true,"merged":[[20,7,22,7],[20,8,22,8],[20,9,22,9],[20,10,22,10],[20,11,22,11],[17,7,19,7],[17,8,19,8],[17,9,19,9],[17,10,19,10],[17,11,19,11],[14,7,16,7],[14,8,16,8],[14,9,16,9],[14,10,16,10],[14,11,16,11],[11,7,13,7],[11,8,13,8],[11,9,13,9],[11,10,13,10],[11,11,13,11],[8,7,10,7],[8,8,10,8],[8,9,10,9],[8,10,10,10],[8,11,10,11],[6,7,7,7],[6,8,7,8],[6,9,7,9],[6,10,7,10],[6,11,7,11],[20,6,22,6],[6,6,7,6],[8,6,10,6],[11,6,13,6],[14,6,16,6],[17,6,19,6],[41,0,43,0],[41,3,43,3],[41,5,43,5],[35,0,37,0],[35,3,37,3],[35,5,37,5],[38,0,40,0],[38,3,40,3],[38,5,40,5],[32,0,34,0],[32,3,34,3],[32,5,34,5],[26,0,28,0],[20,0,22,0],[20,3,22,3],[20,5,22,5],[23,0,25,0],[23,3,25,3],[5,0,5,3],[14,0,16,0],[14,3,16,3],[14,5,16,5],[17,0,19,0],[17,3,19,3],[17,5,19,5],[8,0,10,0],[8,3,10,3],[8,5,10,5],[11,0,13,0],[11,3,13,3],[11,5,13,5],[6,4,7,4],[6,5,7,5],[6,3,7,3],[44,0,46,0],[44,3,46,3],[44,5,46,5],[26,1,28,2],[29,1,31,2],[32,1,34,2],[35,1,37,2],[38,1,40,2],[41,1,43,2],[44,1,46,2],[26,3,28,3],[26,5,28,5],[29,0,31,0],[29,3,31,3],[29,5,31,5],[23,5,25,5],[47,0,49,0],[47,3,49,3],[47,5,49,5],[50,0,52,0],[50,3,52,3],[50,5,52,5],[0,0,0,1],[0,2,0,3],[1,0,1,1],[1,2,1,3],[2,0,2,1],[2,2,2,3],[3,0,3,1],[3,2,3,3],[6,1,7,2],[8,1,10,2],[11,1,13,2],[14,1,16,2],[17,1,19,2],[20,1,22,2],[23,1,25,2],[2,5,4,5],[6,0,7,0],[47,1,49,2],[50,1,52,2],[23,6,25,6],[23,7,25,7],[23,8,25,8],[23,9,25,9],[23,10,25,10],[23,11,25,11],[26,6,28,6],[26,7,28,7],[26,8,28,8],[26,9,28,9],[26,10,28,10],[26,11,28,11],[29,6,31,6],[29,7,31,7],[29,8,31,8],[29,9,31,9],[29,10,31,10],[29,11,31,11],[32,6,34,6],[32,7,34,7],[32,8,34,8],[32,9,34,9],[32,10,34,10],[32,11,34,11],[35,6,37,6],[35,7,37,7],[35,8,37,8],[35,9,37,9],[35,10,37,10],[35,11,37,11],[38,6,40,6],[38,7,40,7],[38,8,40,8],[38,9,40,9],[38,10,40,10],[38,11,40,11],[41,6,43,6],[41,7,43,7],[41,8,43,8],[41,9,43,9],[41,10,43,10],[41,11,43,11],[44,6,46,6],[44,7,46,7],[44,8,46,8],[44,9,46,9],[44,10,46,10],[44,11,46,11],[47,6,49,6],[47,7,49,7],[47,8,49,8],[47,9,49,9],[47,10,49,10],[47,11,49,11],[50,6,52,6],[50,7,52,7],[50,8,52,8],[50,9,52,9],[50,10,52,10],[50,11,52,11],[35,12,37,12],[38,12,40,12],[41,12,43,12],[5,11,5,12],[17,12,19,12],[20,12,22,12],[44,12,46,12],[47,12,49,12],[50,12,52,12],[6,12,7,12],[8,12,10,12],[11,12,13,12],[14,12,16,12],[23,12,25,12],[26,12,28,12],[29,12,31,12],[32,12,34,12]]}
["Date: ",null,{"$f":"IF(ISBLANK('Supplier Data'!N30),\"\",'Supplier Data'!N30)","v":""}]
["Supplier Name:                                                                                                               ",null,{"$f":"IF(ISBLANK('Supplier Data'!D14),\"\",'Supplier Data'!D14)","v":""},null,null,"Overall Judgement"]
["Parts Evaluated:                                                                                                              ",null,null,null,null,{"$f":"IF(COUNTA(F9:F56)<>COUNT(A9:A56),\"R - Incomplete\",IF(OR(COUNTIF(F9:F56,\"Fail\")>0,COUNTIF(F9:F56,\"R - Unacceptable\")>0),\"R - Unacceptable\",IF(COUNTIF(F9:F56,\"Y - CA Required\")>0,\"Y - CA Required\",\"G - OK\")))","v":"R - Incomplete"}]
["Program:"]
[]
["Powered Metal Process Specific Audit",null,null,null,null,"JUDGEMENT"]
[null,"Question",null,"Verify ","Objective Judgement Criteria","(G/Y/R or \nPass/Fail)","SUPPLIER EVIDENCE","NEXTEER OBSERVATIONS","Corrective Action Plan\nRequired for Red or Yellow Score Items","Person Responsible","Target Completion Date","Actual Completion Date","Nexteer Corrective ActionPlan Observations "]
[]
[1,"In the material hopper, how does the Supplier prevent contamination of powder material?",null,"No contamination in powder causing inclusions and voids. Are there covers on the hoppers? Are there screens between the hopper and feeding tube? Are they cleaned regularly. Are they checked for screen integrity?","Pass: Good contamination control with covers in place on hoppers and screen maintainence recorded"]
[]
[null,null,null,null,"Fail: Hopper covers missing, no screen maintainence or checking"]
[2,"Is there continuous flow of powder from the hopper to the tube and press?",null,"Lack of continuous flow could cause low density and voids. Sensors available to detect low material volume.","Pass: Material flow sensors in place"]
[]
[null,null,null,null,"Fail: No method to detect low material volume flow"]
[3,"Does the Powder shoe receive regular maintenance?  ",null,"Review PM maintenance to ensure there is regular visual checks for shoe degradation and integrity. Debris from rubber shoe causes contamination and possible voids.","Pass: PM records verifying Powder shoe maintainence schedule"]
[]
[null,null,null,null,"Fail: No PM plan for Powder shoe or PM plan not followed and recorded"]
[4,"Are there any possibilities for any impact that could cause green cracks from press to ejection, to conveyor, to deburr operation?",null,"Green cracks are not allowed. Impact points, part to part contact can cause green cracks.  Check for any impact from ejection from mold, discharge on to conveyors, hitting side rails, part to part contact, deburring brushes, etc.","Pass: Audit for material handling in green state that eliminates impact prior to sintering stage"]
[]
[null,null,null,null,"Fail: Material handling that will allow impact on green parts"]
[5,"At compact operation how does the Supplier confirm density requirements are met?",null,"Parts need to meet print density requirements.  Weight scales, length measurements at set up, density checks and frequencies.","Pass: PCP documents density checking plan at press - documentation is maintained"]
[]
[null,null,null,null,"Fail: no density checking plan or plan not followed"]
[6,"Prior to sintering are there controls in place to minimize or protect against green cracks during part handling, part staging, in process dunnage, etc",null,"No Green Cracks allowed. Look for evidence of automation, no part to part contact. If parts are being compacted then stored prior to sinter, ensure in process dunnage is as adequate to protect parts.","Pass: Audit for material handling in green state that eliminates impact prior to sintering stage"]
[]
[null,null,null,null,"Fail: Material handling that will allow impact on green parts"]
[7,"How does the Supplier control distortion or flatness in sinter furnace?",null,"Part distortion is not allowed. If ceramic plates are used are they ground for flatness? Are they checked for integrity? Are belts in furnace worn? Ensure parts are not set on seams in furnace allowing possibility for distortion, cracking.","Pass: Flatness control of belts and ceramic plates is maintained and documented"]
[]
[null,null,null,null,"Fail: Belts, plates and furnace surfaces are not maintained and controlled"]
[8,"How is flatness controlled?",null,"Print specification. Does the Supplier have adequate gage methods?  Is the process capable?  If not does the Supplier perform 100% inspection?","Pass: Flatness Capability study and / or Flatness gage R&R for %100 gage operations"]
[]
[null,null,null,null,"Fail: Flatness Capability study not available, failed or R&R not available for %100 gage operations"]
[9,"How does the Supplier control density in all variation of part thickness?  Is there a process to pull samples for each location?  Is the frequency adequate?  Is there a reaction plan for out of print conditions",null,"Print specification, picture sheet showing all areas of required density and frequencies. For examples around holes, around spline area, pedalstools legs, flanges,  etc","Pass: Density check map in control plan established and documented"]
[]
[null,null,null,null,"Fail: no density checking plan or plan not followed"]
[10,"Is there a method used to check for Green Cracks?",null,"Nondestructive testing for green cracks, resonance testing, ping or ring testing, Magnetic particle inspection (MPI) checks, etc. What controls does the supplier have in place to ensure green cracks do not exist or reach the customer?","Pass: NDT method available for detecting green cracks"]
[]
[null,null,null,null,"Fail: No NDT method for green cracks"]
[11,"If supplier performs Magnetic particle inspection verify inspector has passed vision and color blindness test. ",null,"Red/Green deficiency will not permit inspectors to see fluorescent indications.  Verify Supplier requires inspectors to have vision tests, both for color blindness and far sightedness.","Pass: Magnetic particle inspection operators are certified for color vision"]
[]
[null,null,null,null,"Fail: Magnetic particle inspection operators are not certified for color vision"]
[12,"Does the supplier check for residual magnetism?",null,"  Does the supplier have field indicator/gauss meter to check for residual magnetism?","Pass: Residual magnetism checked and controled"]
[]
[null,null,null,null,"Fail: No residual magnetism check in place"]
[13,"Is the part running in the press that it was PPAP'd in? ",null,"Check the PPAP package and the press used to run the part.","Green -  Press number matches control plan."]
[null,null,null,null,"Yellow: Press is the same tonnage, but is different than the PPAP press"]
[null,null,null,null,"Red: No clear definition of part to press assignment"]
[14,"Does the press have tonnage monitors and how often are they checked for equal tonnage?",null,"Look for the tonnage monitors and the recorded data.","Green: Press set-up or maint documents are available, match current press operating parameters and will shut down press automatically if outside of operating limits"]
[null,null,null,null,"Yellow: Tonnage monitors are functional but do not interface with press controls to shut down when forces are outside of set limits."]
[null,null,null,null,"Red: no tonnage monitors on presses"]
[15,"How are parts handled coming out of the press to prevent handling damage?",null,"Look for method of handling part upon exit from the press and what the work instructions state.","Green: Material handling set-up based on durability of part and common sense approach to drawing requirements."]
[null,null,null,null,"Yellow: Material handling is present, but \"due care\" needs to be considered."]
[null,null,null,null,"Red: Material handling is not defined or there is no consideration for \"due care\""]

{"sheet":"Rubber Bonding Audit","index":29,"n_rows":29,"n_cols":13,"rows_kept":29,"cut":false,"hidden":true,"merged":[[20,7,22,7],[20,8,22,8],[20,9,22,9],[20,10,22,10],[20,11,22,11],[17,7,19,7],[17,8,19,8],[17,9,19,9],[17,10,19,10],[17,11,19,11],[14,7,16,7],[14,8,16,8],[14,9,16,9],[14,10,16,10],[14,11,16,11],[11,7,13,7],[11,8,13,8],[11,9,13,9],[11,10,13,10],[11,11,13,11],[8,7,10,7],[8,8,10,8],[8,9,10,9],[8,10,10,10],[8,11,10,11],[6,7,7,7],[6,8,7,8],[6,9,7,9],[6,10,7,10],[6,11,7,11],[20,6,22,6],[6,6,7,6],[8,6,10,6],[11,6,13,6],[14,6,16,6],[17,6,19,6],[26,0,28,0],[26,3,28,3],[26,5,28,5],[20,0,22,0],[20,3,22,3],[20,5,22,5],[23,0,25,0],[23,3,25,3],[23,5,25,5],[20,1,22,2],[23,1,25,2],[26,1,28,2],[14,0,16,0],[14,3,16,3],[14,5,16,5],[17,0,19,0],[17,3,19,3],[17,5,19,5],[14,1,16,2],[17,1,19,2],[8,0,10,0],[8,3,10,3],[8,5,10,5],[11,0,13,0],[11,3,13,3],[11,5,13,5],[8,1,10,2],[11,1,13,2],[2,5,4,5],[6,0,7,0],[6,3,7,3],[6,4,7,4],[6,5,7,5],[3,0,3,1],[3,2,3,3],[6,1,7,2],[5,0,5,3],[0,0,0,1],[0,2,0,3],[1,0,1,1],[1,2,1,3],[2,0,2,1],[2,2,2,3],[23,6,25,6],[23,7,25,7],[23,8,25,8],[23,9,25,9],[23,10,25,10],[26,6,28,6],[26,7,28,7],[26,8,28,8],[26,9,28,9],[26,10,28,10],[5,11,5,12],[17,12,19,12],[20,12,22,12],[23,12,25,12],[26,12,28,12],[6,12,7,12],[8,12,10,12],[11,12,13,12],[14,12,16,12],[23,11,25,11],[26,11,28,11]]}
["Date: ",null,{"$f":"IF(ISBLANK('Supplier Data'!N30),\"\",'Supplier Data'!N30)","v":""}]
["Supplier Name:                                                                                                               ",null,{"$f":"IF(ISBLANK('Supplier Data'!D14),\"\",'Supplier Data'!D14)","v":""},null,null,"Overall Judgement"]
["Parts Evaluated:                                                                                                              ",null,null,null,null,{"$f":"IF(COUNTA(F9:F56)<>COUNT(A9:A56),\"R - Incomplete\",IF(OR(COUNTIF(F9:F56,\"Fail\")>0,COUNTIF(F9:F56,\"R - Unacceptable\")>0),\"R - Unacceptable\",IF(COUNTIF(F9:F56,\"Y - CA Required\")>0,\"Y - CA Required\",\"G - OK\")))","v":"R - Incomplete"}]
["Program:"]
[]
["Rubber Bonding Process Specific Audit"]
[null,"Question",null,"Verify ","Objective Judgement Criteria","(G/Y/R or \nPass/Fail)","SUPPLIER EVIDENCE","NEXTEER OBSERVATIONS","Corrective Action Plan\nRequired for Red or Yellow Score Items","Person Responsible","Target Completion Date","Actual Completion Date","Nexteer Corrective ActionPlan Observations "]
[]
[1,"If adhesive coating on metal parts is required for bonding are there adequate controls?",null,"\"Review Process Control Plan and Identify all the manufacturing steps. (Including cycle time, temperature, etc)\n See Coating  Process Audit\"","Green: Control Plan checks incoming material to ensure adhesive coat is properly applied. Operator wears gloves to protect against contamination of adhesive surface. Operator work instructions shows disposal of dropped material. "]
[null,null,null,null,"Yellow: Operators wear gloves to protect against handling and disposal policy or only an incoming check."]
[null,null,null,null,"Red: No incoming check or handling protection of adhesive material"]
[2,"If metal components are treated at outside facility are proper steps taken to maintain proper surface requirements for next operation ",null,"Review customer specifications. Review Control Plan for adequate steps in maintaining part conditions.","Green: Obtainable certifications that are received from sub-supplier. Incoming material check in Control Plan. Operator wears gloves to protect against contamination of adhesive surface. Operator work instructions shows disposal of dropped material. "]
[null,null,null,null,"Yelllow: Operators wear gloves to protect against handling and disposal policy or only an incoming check or certifications are obtainable from sub-supplier."]
[null,null,null,null,"Red: Operators are not wearing gloves, no incoming check, no certification from sub-supplier."]
[3,"What are the process monitoring checks used to maintain proper rubber molding requirements?",null,"Review control plan /log sheets.","Green: controls at line that maintain rubber controls within the molding area (computer automated inputs, work instructions, trained operated signoff)"]
[null,null,null,null,"Yellow: Automated Inputs. Work instructions or operator signoff at startup"]
[null,null,null,null,"Red: No automated Inputs or no work instructions"]
[4,"Have requirements been established for maximum open  mold times in order to maintain proper temperature of metal components?",null,"Review control plan /log sheets.","Green: controls at line that maintain rubber controls within the molding area (computer automated inputs, work instructions, trained operated signoff)"]
[null,null,null,null,"Yellow: Automated Inputs. Work instructions or operator signoff at startup"]
[null,null,null,null,"Red: No automated Inputs or no work instructions"]
[5,"Have requirements been established to maintain proper temperature / time for adhesive coating and rubber bonding requirements during the molding cycle?",null,"Review control plan /log sheets.","Green: controls at line that maintain rubber controls within the molding area (computer automated inputs, work instructions, trained operated signoff)"]
[null,null,null,null,"Yellow: Automated Inputs. Either work instructions or operator signoff at startup do not exist"]
[null,null,null,null,"Red: No automated Inputs or no work instructions"]
[6,"Are parts handled properly to avoid part contamination:",null,"Are gloves used and are they proper for the application?","Green: Work instructions on handling. Gloves are worn. Trained Operator Signoff"]
[null,null,null,null,"Yellow: Work instructions exist. Gloves are worn or trained operator signoff exist."]
[null,null,null,null,"Red: No Work Instructions on handling of material. If work instructions exist, operators do not wear gloves and no trained operator signoff"]
[7,"Are bond tests conducted on prescribed frequency and what equipment is used?",null,"Look at control plan.","Green: Frequency is identified in Control Plan and historical data are attainable"]
[null,null,null,null,"Yellow: Frequency is identified in Control Plan. Can not provide historical data."]
[null,null,null,null,"Red: Bond tests are not able to be completed."]

{"sheet":"Semiconductor Assembly Audit","index":30,"n_rows":92,"n_cols":13,"rows_kept":92,"cut":false,"hidden":true,"merged":[[89,8,91,8],[89,9,91,9],[89,10,91,10],[89,11,91,11],[89,12,91,12],[89,0,91,0],[89,1,91,2],[89,3,91,3],[89,5,91,5],[89,6,91,6],[89,7,91,7],[86,7,88,7],[86,8,88,8],[86,9,88,9],[86,10,88,10],[86,11,88,11],[86,12,88,12],[83,8,85,8],[83,9,85,9],[83,10,85,10],[83,11,85,11],[83,12,85,12],[83,7,85,7],[86,0,88,0],[86,1,88,2],[86,3,88,3],[86,5,88,5],[86,6,88,6],[83,0,85,0],[83,1,85,2],[83,3,85,3],[83,5,85,5],[83,6,85,6],[80,7,82,7],[80,8,82,8],[80,9,82,9],[80,10,82,10],[80,11,82,11],[80,12,82,12],[77,8,79,8],[77,9,79,9],[77,10,79,10],[77,11,79,11],[77,12,79,12],[77,7,79,7],[80,0,82,0],[80,1,82,2],[80,3,82,3],[80,5,82,5],[80,6,82,6],[77,0,79,0],[77,1,79,2],[77,3,79,3],[77,5,79,5],[77,6,79,6],[74,7,76,7],[74,8,76,8],[74,9,76,9],[74,10,76,10],[74,11,76,11],[74,12,76,12],[71,8,73,8],[71,9,73,9],[71,10,73,10],[71,11,73,11],[71,12,73,12],[71,7,73,7],[74,0,76,0],[74,1,76,2],[74,3,76,3],[74,5,76,5],[74,6,76,6],[71,0,73,0],[71,1,73,2],[71,3,73,3],[71,5,73,5],[71,6,73,6],[68,7,70,7],[68,8,70,8],[68,9,70,9],[68,10,70,10],[68,11,70,11],[68,12,70,12],[68,0,70,0],[68,1,70,2],[68,3,70,3],[68,5,70,5],[68,6,70,6],[65,7,67,7],[65,8,67,8],[65,9,67,9],[65,10,67,10],[65,11,67,11],[65,12,67,12],[62,8,64,8],[62,9,64,9],[62,10,64,10],[62,11,64,11],[62,12,64,12],[62,7,64,7],[65,0,67,0],[65,1,67,2],[65,3,67,3],[65,5,67,5],[65,6,67,6],[62,0,64,0],[62,1,64,2],[62,3,64,3],[62,5,64,5],[62,6,64,6],[59,8,61,8],[59,9,61,9],[59,10,61,10],[59,11,61,11],[59,12,61,12],[59,7,61,7],[59,0,61,0],[59,1,61,2],[59,3,61,3],[59,5,61,5],[59,6,61,6],[56,7,58,7],[56,8,58,8],[56,9,58,9],[56,10,58,10],[56,11,58,11],[56,12,58,12],[53,8,55,8],[53,9,55,9],[53,10,55,10],[53,11,55,11],[53,12,55,12],[53,7,55,7],[56,0,58,0],[56,1,58,2],[56,3,58,3],[56,5,58,5],[56,6,58,6],[53,0,55,0],[53,1,55,2],[53,3,55,3],[53,5,55,5],[53,6,55,6],[50,7,52,7],[50,8,52,8],[50,9,52,9],[50,10,52,10],[50,11,52,11],[50,12,52,12],[47,8,49,8],[47,9,49,9],[47,10,49,10],[47,11,49,11],[47,12,49,12],[47,7,49,7],[50,0,52,0],[50,1,52,2],[50,3,52,3],[50,5,52,5],[50,6,52,6],[47,0,49,0],[47,1,49,2],[47,3,49,3],[47,5,49,5],[47,6,49,6],[44,7,46,7],[44,8,46,8],[44,9,46,9],[44,10,46,10],[44,11,46,11],[44,12,46,12],[44,0,46,0],[44,1,46,2],[44,3,46,3],[44,5,46,5],[44,6,46,6],[41,7,43,7],[41,8,43,8],[41,9,43,9],[41,10,43,10],[41,11,43,11],[41,12,43,12],[38,8,40,8],[38,9,40,9],[38,10,40,10],[38,11,40,11],[38,12,40,12],[38,7,40,7],[41,0,43,0],[41,1,43,2],[41,3,43,3],[41,5,43,5],[41,6,43,6],[38,0,40,0],[38,1,40,2],[38,3,40,3],[38,5,40,5],[38,6,40,6],[35,7,37,7],[35,8,37,8],[35,9,37,9],[35,10,37,10],[35,11,37,11],[35,12,37,12],[32,8,34,8],[32,9,34,9],[32,10,34,10],[32,11,34,11],[32,12,34,12],[32,7,34,7],[35,0,37,0],[35,1,37,2],[35,3,37,3],[35,5,37,5],[35,6,37,6],[32,0,34,0],[32,1,34,2],[32,3,34,3],[32,5,34,5],[32,6,34,6],[29,7,31,7],[29,8,31,8],[29,9,31,9],[29,10,31,10],[29,11,31,11],[29,12,31,12],[26,8,28,8],[26,9,28,9],[26,10,28,10],[26,11,28,11],[26,12,28,12],[26,7,28,7],[29,0,31,0],[29,1,31,2],[29,3,31,3],[29,5,31,5],[29,6,31,6],[26,0,28,0],[26,1,28,2],[26,3,28,3],[26,5,28,5],[26,6,28,6],[23,8,25,8],[23,9,25,9],[23,10,25,10],[23,11,25,11],[23,12,25,12],[23,7,25,7],[23,0,25,0],[23,1,25,2],[23,3,25,3],[23,5,25,5],[23,6,25,6],[14,8,16,8],[20,9,22,9],[20,10,22,10],[20,11,22,11],[20,12,22,12],[17,8,19,8],[17,9,19,9],[17,10,19,10],[17,11,19,11],[17,12,19,12],[17,1,19,2],[17,3,19,3],[17,5,19,5],[17,6,19,6],[17,7,19,7],[14,0,16,0],[14,1,16,2],[14,3,16,3],[14,5,16,5],[14,6,16,6],[14,7,16,7],[20,0,22,0],[20,1,22,2],[20,3,22,3],[20,5,22,5],[20,6,22,6],[20,7,22,7],[20,8,22,8],[8,12,10,12],[11,0,13,0],[11,1,13,2],[11,3,13,3],[11,5,13,5],[11,6,13,6],[11,7,13,7],[11,8,13,8],[11,9,13,9],[11,10,13,10],[11,11,13,11],[11,12,13,12],[14,9,16,9],[14,10,16,10],[14,11,16,11],[14,12,16,12],[17,0,19,0],[5,0,5,3],[5,11,5,12],[6,0,7,0],[6,1,7,2],[6,3,7,3],[6,4,7,4],[6,5,7,5],[6,12,7,12],[8,0,10,0],[8,1,10,2],[8,3,10,3],[8,5,10,5],[8,6,10,6],[8,7,10,7],[8,8,10,8],[8,9,10,9],[8,10,10,10],[6,6,7,6],[6,7,7,7],[6,8,7,8],[6,9,7,9],[6,10,7,10],[6,11,7,11],[8,11,10,11],[0,0,0,1],[0,2,0,3],[1,0,1,1],[1,2,1,3],[2,0,2,1],[2,2,2,3],[2,5,4,5],[3,0,3,1],[3,2,3,3]]}
["Date: ",null,{"$f":"IF(ISBLANK('Supplier Data'!N30),\"\",'Supplier Data'!N30)","v":""}]
["Supplier Name:                                                                                                               ",null,{"$f":"IF(ISBLANK('Supplier Data'!D14),\"\",'Supplier Data'!D14)","v":""},null,null,"Overall Judgement"]
["Parts Evaluated:                                                                                                              ",null,null,null,null,{"$f":"IF(COUNTA(F9:F92)<>COUNT(A9:A92),\"R - Incomplete\",IF(OR(COUNTIF(F9:F92,\"Fail\")>0,COUNTIF(F9:F92,\"R - Unacceptable\")>0),\"R - Unacceptable\",IF(COUNTIF(F9:F92,\"Y - CA Required\")>0,\"Y - CA Required\",\"G - OK\")))","v":"R - Incomplete"}]
["Program:"]
[]
["Semiconductor Assembly Audit"]
[null,"Question",null,"Verify ","Objective Judgement Criteria","(G/Y/R or \nPass/Fail)","SUPPLIER EVIDENCE","NEXTEER OBSERVATIONS","Corrective Action Plan\nRequired for Red or Yellow Score Items","Person Responsible","Target Completion Date","Actual Completion Date","Nexteer Corrective ActionPlan Observations "]
[]
[1,"1. Does the site have a cleanliness classification rating for its assembly area? (eg class 100, Class 10, etc) \n2. Does the site have air particulate monitoring system and procedures?\n3. Does the site have chemical, gas, water, etc. particulate monitoring  systems?\n4.Does the site have lot process tracking system?\n",null,"Evidence of control charts for contaminate particulant count. \nEvidence of control charts and real time monitoring of systems.\nEvidence of proceedures and action plans based on out of control conditions (OCAP).\nEvidence of runcard or electronic lot tracking provided.","Green: All items demonstrated"]
[null,null,null,null,"Yellow:  Other Evidence that controls are  demonstrated"]
[null,null,null,null,"Red: Less than 3 items demonstrated."]
[2,"Does the facitiy have incoming material handling, storage, traceability controls  specifically for the following materials?\n1. Mold compound .\n2. Lead frame/laminate .\n3. Die attach.\n4. Wire consumption and storage.",null,"Evidence of material acceptance testing\nEvidence of control charts and real time monitoring of systems.\nEvidence of FIFO being used for all materials\nEvidence of material handling requirements documented in work instruction","Green: All items demonstrated"]
[null,null,null,null,"Yellow:  Other Evidence that controls are  demonstrated"]
[null,null,null,null,"Red: Less than 3 items demonstrated."]
[3,"Are equipment and tool process parameters verified at each setup?",null,"Evidence of automated set-up recipe download. \nEvidence of set-up sheet verification.\nEvidence of lot travelers with set-up information.\nEvidende of layered audit frequency and results","Green: Evidence Provided"]
[null,null,null,null,"Yellow: Other Evidence Suggesting Compliance"]
[null,null,null,null,"Red: No Evidence of initiative. "]
[4,"1. Are automated equipment control systems demonstrated?\n2. Internal / External process change controls demonstrated?\n3. Internal audits of quality system adequacy demonstrated?",null,"Evidence of control charts and real time monitoring of systems.\nEvidence of revision control on the production floor demonstrated.\nEvidence of internal audit results and action plans demonstrated. ","Green: All items demonstrated"]
[null,null,null,null,"Yellow:  2 items demonstrated"]
[null,null,null,null,"Red: No Evidence provided"]
[5,"At incoming inspection provide evidence of  physical  product characteristics are measured, analyzed and for key characteristics of the in coming material. Examples would be cross sectional analysis, viscosity tests, pull tests, shear tests, etc. ",null,"Evidence of material acceptance testing of incoming materials\nEvidence of control charts and real time monitoring of systems for ball shear, wire pull and die shear. ","Green: Evidence Provided"]
[null,null,null,null,"Yellow: Other Evidence Suggesting Compliance"]
[null,null,null,null,"Red: No Evidence of initiative."]
[6,"Manufacturing In line monitoring: ",null,"Evidence of control charts and real time monitoring of systems for ball shear, wire pull and die shear. Temperature profiles ","Green: Evidence Provided"]
[null,null,null,null,"Yellow: Other Evidence Suggesting Compliance"]
[null,null,null,null,"Red: No Evidence of initiative."]
[8,"Is rework allowed?  If so, are only specific parts or processes allowed for rework?",null,"Evidence of documentation for rework of specific items and processes are allowed\nEvidence that reworked products or process have completed qualification testing. ","Pass: All items demonstrated"]
[]
[null,null,null,null,"Fail: A reworked device not submitted for qualification testing."]
[9,"Operator Training ",null,"Evidence that Operators are trained for specific rework task. ","Pass: Evidence Provided"]
[]
[null,null,null,null,"Fail: No Evidence of initiative."]
[10,"SPC,Control plan, rules, ",null,"Evidence of SPC data, control plans and work instructions exist and are documented.","Green: Evidence Provided"]
[null,null,null,null,"Yellow: Other Evidence Suggesting Compliance"]
[null,null,null,null,"Red: No Evidence of initiative."]
[11,"Reiview of Cpk/Ppk and data to drive line inprovement action plans . (DOE /four corner process) ",null,"Evidence of Qualtity reviews are conducted and action plans are generated from items identified in those meetings.  ","Green: Evidence Provided"]
[null,null,null,null,"Yellow: Other Evidence Suggesting Compliance"]
[null,null,null,null,"Red: No Evidence of initiative."]
[12,"OCAP procedures with demonstrated verifications.",null,"Evidence of OCAP procedures and training","Green: Evidence Provided"]
[null,null,null,null,"Yellow: Other Evidence Suggesting Compliance"]
[null,null,null,null,"Red: No Evidence of initiative."]
[13,"GR&R procedures: Identified that critical process and controls are tied to GR&R",null,"Evidence of GR&R and tool certification","Green: Evidence Provided"]
[null,null,null,null,"Yellow: Other Evidence Suggesting Compliance"]
[null,null,null,null,"Red: No Evidence of initiative."]
[15,"Are Shut down and start up procedures for maintainance personnel clearly defined for critical tools? \n",null,"Evidence of proceedures defined in a work instruction or control plan.","Green: Evidence Provided"]
[null,null,null,null,"Yellow: Other Evidence Suggesting Compliance"]
[null,null,null,null,"Red: No Evidence of initiative."]
[16,"Failure analysis assessment:  Is there an updated and reviewed list  of analytical capabilities?",null,"Evidence of Equipment Inventory","Green: Evidence Provided"]
[null,null,null,null,"Yellow: Other Evidence Suggesting Compliance"]
[null,null,null,null,"Red: No Evidence of initiative."]
[17,"Are there FA and Process control procedures established for - internal and external analysis? ",null,"Evidence of Work instructions, control plans, process monitors available. ","Green: Evidence Provided"]
[null,null,null,null,"Yellow: Other Evidence Suggesting Compliance"]
[null,null,null,null,"Red: No Evidence of initiative."]
[18,"Are training procedures established for each area of FA?.",null,"Evidence of training procedures for specific FA tasks","Green: Evidence Provided"]
[null,null,null,null,"Yellow: Other Evidence Suggesting Compliance"]
[null,null,null,null,"Red: No Evidence of initiative."]
[19," Are training records for all personnel in FA established and reviewed.",null,"Evidence of training documentation for personnel in the FA organization","Green: Evidence Provided"]
[null,null,null,null,"Yellow: Other Evidence Suggesting Compliance"]
[null,null,null,null,"Red: No Evidence of initiative."]
[20,"Are Audit proceedures available for assessing external analytical capabilities?",null,"Evidence of qualification of external FA sources.\nEvidence of work performed at external suppliers  ","Green: Evidence Provided"]
[null,null,null,null,"Yellow: Other Evidence Suggesting Compliance"]
[null,null,null,null,"Red: No Evidence of initiative."]
[22,"Is there evidence that \"Lessons learned\" has been implimented in next gen technologies and product designs or incorporated in updated PFMEA's/DFMEA's ?   ",null,"Evidence of Feedback into the Design and Manufacturing Processes.","Green: Evidence Provided"]
[null,null,null,null,"Yellow: Other Evidence Suggesting Compliance"]
[null,null,null,null,"Red: No Evidence of initiative."]
[23,"Are lessons learned tracked, communicated, and used?",null,"Evidense of leasons learned are designed into new products and/or processes.","Green: Evidence Provided"]
[null,null,null,null,"Yellow: Other Evidence Suggesting Compliance"]
[null,null,null,null,"Red: No Evidence of initiative."]
[25,"Is there a revision control proceedure for test program upgrades: ",null,"Evidence of test program revision control","Green: Evidence Provided"]
[null,null,null,null,"Yellow: Other Evidence Suggesting Compliance"]
[null,null,null,null,"Red: No Evidence of initiative."]
[26,"Does the Package Final Test  (PFT)/ handler equipment sets support Nexteer package form factors? :",null,"Evidence of inventory list of handlers and there capabilities","Green: Evidence Provided"]
[null,null,null,null,"Yellow: Other Evidence Suggesting Compliance"]
[null,null,null,null,"Red: No Evidence of initiative."]
[27,"Does PFT support Tri temp testing? What range? : If not applicable select \"Evidence Provided\" ",null,"Evidence of environmental testing requirements meet Nexteer SOW requirements. ","Green: Evidence Provided"]
[null,null,null,null,"Yellow: Other Evidence Suggesting Compliance"]
[null,null,null,null,"Red: No Evidence of initiative."]
[28,"How are bad parts prevented from escaping and being shipped as good product?",null,"Evidence of lot tracking and product containment ","Green: Evidence Provided"]
[null,null,null,null,"Yellow: Other Evidence Suggesting Compliance"]
[null,null,null,null,"Red: No Evidence of initiative."]
[29,"Is there an ongoing reliability monitoring program for finished product?\n   1.Which tests are performed?\n   2.What is done with the data?\n   3.How are failures handled?\n   4.Is the data published?\n   5.Are there closed loop procedures for correcting detected problems and issues?",null,"If no ORM  test services,  provide evidence of test services audit.\nEvidence test chamber capabilities\nEvidence of data analysis and root cause investigation. ","Green: Evidence Provided"]
[null,null,null,null,"Yellow: Other Evidence Suggesting Compliance"]
[null,null,null,null,"Red: No Evidence of initiative."]
[30,"Are components qualified in accordance with AEC Q100 / Q101/ Q200? Are tests run beyond the requirements of AEC Q100 / Q101/ Q200?  If yes, please describe.\n",null,"Evidence of AEC Q100 compliance. \nEvidence of FA reports","Green: Evidence Provided"]
[null,null,null,null,"Yellow: Other Evidence Suggesting Compliance"]
[null,null,null,null,"Red: No Evidence of initiative."]
[31,"Are warranty and field returns formally monitored?\n",null,"Evidence of field performance tracking, RMA or FA data. ","Green: Evidence Provided"]
[null,null,null,null,"Yellow: Other Evidence Suggesting Compliance"]
[null,null,null,null,"Red: No Evidence of initiative."]
[32,"Are there procedures for correcting warranty and field return problems?",null,"Evidence of feedback into the hardware and process development teams.","Green: Evidence Provided"]
[null,null,null,null,"Yellow: Other Evidence Suggesting Compliance"]
[null,null,null,null,"Red: No Evidence of initiative."]

{"sheet":"Stamping Audit","index":31,"n_rows":26,"n_cols":13,"rows_kept":26,"cut":false,"hidden":true,"merged":[[17,10,19,10],[17,11,19,11],[20,7,22,7],[20,8,22,8],[20,9,22,9],[20,10,22,10],[20,11,22,11],[11,10,13,10],[11,11,13,11],[14,7,16,7],[14,8,16,8],[14,9,16,9],[14,10,16,10],[14,11,16,11],[6,10,7,10],[6,11,7,11],[8,7,10,7],[8,8,10,8],[8,9,10,9],[8,10,10,10],[8,11,10,11],[2,5,4,5],[23,5,25,5],[8,5,10,5],[6,4,7,4],[11,5,13,5],[14,5,16,5],[6,5,7,5],[17,5,19,5],[20,5,22,5],[3,0,3,1],[3,2,3,3],[6,1,7,2],[8,1,10,2],[0,0,0,1],[0,2,0,3],[1,0,1,1],[1,2,1,3],[2,0,2,1],[2,2,2,3],[8,0,10,0],[6,0,7,0],[8,3,10,3],[6,3,7,3],[5,0,5,3],[23,10,25,10],[20,0,22,0],[11,3,13,3],[14,3,16,3],[23,3,25,3],[17,3,19,3],[20,3,22,3],[11,1,13,2],[14,1,16,2],[17,1,19,2],[23,1,25,2],[17,0,19,0],[23,0,25,0],[11,0,13,0],[14,0,16,0],[20,6,22,6],[23,6,25,6],[23,7,25,7],[23,8,25,8],[23,9,25,9],[6,6,7,6],[8,6,10,6],[11,6,13,6],[14,6,16,6],[17,6,19,6],[11,9,13,9],[17,7,19,7],[17,8,19,8],[17,9,19,9],[20,1,22,2],[6,7,7,7],[6,8,7,8],[6,9,7,9],[11,7,13,7],[11,8,13,8],[5,11,5,12],[23,12,25,12],[6,12,7,12],[8,12,10,12],[11,12,13,12],[14,12,16,12],[17,12,19,12],[20,12,22,12],[23,11,25,11]]}
["Date: ",null,{"$f":"IF(ISBLANK('Supplier Data'!N30),\"\",'Supplier Data'!N30)","v":""}]
["Supplier Name:                                                                                                               ",null,{"$f":"IF(ISBLANK('Supplier Data'!D14),\"\",'Supplier Data'!D14)","v":""},null,null,"Overall Judgement"]
["Parts Evaluated:                                                                                                              ",null,null,null,null,{"$f":"IF(COUNTA(F9:F56)<>COUNT(A9:A56),\"R - Incomplete\",IF(OR(COUNTIF(F9:F56,\"Fail\")>0,COUNTIF(F9:F56,\"R - Unacceptable\")>0),\"R - Unacceptable\",IF(COUNTIF(F9:F56,\"Y - CA Required\")>0,\"Y - CA Required\",\"G - OK\")))","v":"R - Incomplete"}]
["Program:"]
[]
["Stamping Process Specific Audit"]
[null,"Question",null,"Verify ","Objective Judgement Criteria","(G/Y/R or \nPass/Fail)","SUPPLIER EVIDENCE","NEXTEER OBSERVATIONS","Corrective Action Plan\nRequired for Red or Yellow Score Items","Person Responsible","Target Completion Date","Actual Completion Date","Nexteer Corrective ActionPlan Observations "]
[]
[1,"Does the supplier keep the first and last piece and web until the next run?",null,"Look for evidence of the web.","Green: Die strip is tagged for latest production date and retained samples are available. First piece sample(s) in the area at the press."]
[null,null,null,null,"Yellow: Die strip not identified with production run date or master samples without time stamps or ID"]
[null,null,null,null,"Red: Nothing available"]
[2,"Is the part running in the press that it was PPAP'd in? ",null,"Check the PPAP package and the press used to run the part.","Green -  Press number matches control plan."]
[null,null,null,null,"Yellow: Press is the same tonnage, but is different than the PPAP press"]
[null,null,null,null,"Red: No clear definition of part to press assignment"]
[3,"If the die lube is mixed, how is the concentration monitored?",null,"Look for a log sheet to show that the concentration is specified and that the check is being made.","Green: Die lube part number matches set-up documents. Pre-mixed lube has supplier cert docs showing correct content. When mixed, procedure defines correct mix ratio with data to support."]
[null,null,null,null,"Yellow: Documentation is missing or lacking, but process appears to have some level of control"]
[null,null,null,null,"Red: No definition of lube specified for the part / press or instructions for mixing lube"]
[4,"Does the press have tonnage monitors and how often are they checked for equal tonnage?",null,"Look for the tonnage monitors and the recorded data.","Green: Press set-up or maint documents are available, match current press operating parameters and will shut down press automatically if outside of operating limits"]
[null,null,null,null,"Yellow: Tonnage monitors are functional but do not interface with press controls to shut down when forces are outside of set limits."]
[null,null,null,null,"Red: no tonnage monitors on presses"]
[5,"Is material culled out of the process between adjacent coils and how is it discarded so as not to mix it in the process stream of good parts?",null,"Discuss if adjacent coils are welded together or if a specific quantity of parts is discarded at the end of each coil and at the start of another coil.","Green: process docs and work instructions define length of material that must be removed before strip is fed into press. Number of parts are defined at initial press start-up or coil change for scrapping prior to beginning production run."]
[null,null,null,null,"Yellow: Instructions are available but no definition of lengths or strokes of press that must be scrapped. \"No generic callouts\""]
[null,null,null,null,"Red: No instructions or documentation."]
[6,"How are parts handled coming out of the press to prevent handling damage?",null,"Look for method of handling part upon exit from the press and what the work instructions state.","Green: Material handling set-up based on durability of part and common sense approach to drawing requirements."]
[null,null,null,null,"Yellow: Material handling is present, but \"due care\" needs to be considered."]
[null,null,null,null,"Red: Material handling is not defined or there is no consideration for \"due care\""]

{"sheet":"Steel Mill Audit","index":32,"n_rows":407,"n_cols":15,"rows_kept":407,"cut":false,"hidden":true,"merged":[[23,0,25,0],[23,3,25,3],[27,0,29,0],[27,3,29,3],[23,1,25,2],[27,1,29,2],[26,0,26,6],[23,5,25,5],[23,4,25,4],[27,4,29,4],[14,0,16,0],[14,3,16,3],[27,5,29,5],[14,6,16,6],[17,6,19,6],[20,6,22,6],[23,6,25,6],[27,6,29,6],[17,3,19,3],[20,0,22,0],[20,3,22,3],[17,1,19,2],[20,1,22,2],[27,9,29,9],[27,10,29,10],[27,11,29,11],[27,12,29,12],[23,14,25,14],[20,9,22,9],[20,10,22,10],[20,11,22,11],[20,12,22,12],[20,13,22,13],[20,14,22,14],[27,13,29,13],[14,9,16,9],[14,10,16,10],[14,11,16,11],[23,9,25,9],[23,10,25,10],[23,11,25,11],[23,12,25,12],[23,13,25,13],[17,9,19,9],[17,10,19,10],[17,11,19,11],[17,12,19,12],[17,13,19,13],[27,14,29,14],[26,13,26,14],[33,0,35,0],[33,3,35,3],[36,0,38,0],[36,3,38,3],[33,1,35,2],[36,1,38,2],[45,0,47,0],[45,3,47,3],[39,0,41,0],[39,3,41,3],[42,0,44,0],[42,3,44,3],[39,1,41,2],[42,1,44,2],[45,1,47,2],[33,4,35,4],[36,4,38,4],[39,4,41,4],[42,4,44,4],[7,0,7,6],[5,0,6,5],[3,2,3,3],[10,13,10,14],[10,0,10,6],[2,7,4,7],[11,6,13,6],[8,4,9,5],[11,1,13,2],[11,5,13,5],[14,5,16,5],[17,5,19,5],[20,5,22,5],[11,4,13,4],[14,4,16,4],[17,4,19,4],[20,4,22,4],[7,13,7,14],[8,14,9,14],[11,14,13,14],[8,0,9,0],[8,3,9,3],[8,6,9,6],[8,1,9,2],[14,12,16,12],[14,13,16,13],[14,14,16,14],[17,14,19,14],[14,1,16,2],[17,0,19,0],[48,6,50,6],[51,6,53,6],[42,10,44,10],[42,11,44,11],[42,12,44,12],[36,13,38,13],[36,14,38,14],[39,9,41,9],[39,10,41,10],[39,13,41,13],[39,14,41,14],[36,9,38,9],[36,10,38,10],[0,0,0,1],[0,2,0,3],[1,0,1,1],[1,2,1,3],[2,0,2,1],[2,2,2,3],[3,0,3,1],[11,0,13,0],[11,3,13,3],[8,13,9,13],[11,9,13,9],[11,10,13,10],[11,11,13,11],[11,12,13,12],[11,13,13,13],[8,9,9,9],[8,10,9,10],[8,11,9,11],[8,12,9,12],[48,11,50,11],[48,12,50,12],[48,13,50,13],[48,14,50,14],[51,10,53,10],[51,11,53,11],[51,12,53,12],[51,13,53,13],[51,14,53,14],[33,10,35,10],[33,11,35,11],[33,12,35,12],[33,13,35,13],[33,14,35,14],[33,9,35,9],[39,11,41,11],[39,12,41,12],[36,11,38,11],[48,0,50,0],[51,0,53,0],[54,0,56,0],[48,3,50,3],[51,3,53,3],[54,3,56,3],[48,1,50,2],[51,1,53,2],[54,1,56,2],[42,13,44,13],[42,14,44,14],[45,9,47,9],[45,10,47,10],[45,11,47,11],[45,12,47,12],[45,13,47,13],[36,12,38,12],[45,14,47,14],[42,9,44,9],[42,6,44,6],[54,6,56,6],[45,4,47,4],[48,4,50,4],[51,4,53,4],[54,4,56,4],[54,10,56,10],[54,11,56,11],[54,12,56,12],[54,13,56,13],[54,14,56,14],[45,6,47,6],[48,10,50,10],[78,3,80,3],[81,0,83,0],[81,1,83,2],[81,3,83,3],[78,4,80,4],[81,4,83,4],[84,4,86,4],[87,4,89,4],[72,0,74,0],[72,1,74,2],[72,3,74,3],[75,0,77,0],[75,1,77,2],[75,3,77,3],[57,0,59,0],[57,1,59,2],[57,3,59,3],[60,0,62,0],[60,1,62,2],[60,3,62,3],[63,0,65,0],[63,1,65,2],[63,3,65,3],[84,0,86,0],[84,1,86,2],[84,3,86,3],[87,0,89,0],[87,1,89,2],[87,3,89,3],[78,0,80,0],[78,1,80,2],[60,4,62,4],[33,5,35,5],[36,5,38,5],[39,5,41,5],[42,5,44,5],[45,5,47,5],[33,6,35,6],[36,6,38,6],[39,6,41,6],[66,0,68,0],[109,0,111,0],[109,1,111,2],[109,3,111,3],[112,0,114,0],[112,1,114,2],[112,3,114,3],[103,0,105,0],[103,1,105,2],[103,3,105,3],[106,0,108,0],[106,1,108,2],[106,3,108,3],[97,0,99,0],[97,1,99,2],[97,3,99,3],[112,6,114,6],[66,1,68,2],[66,3,68,3],[69,0,71,0],[69,1,71,2],[69,3,71,3],[72,4,74,4],[75,4,77,4],[130,0,132,0],[130,1,132,2],[130,3,132,3],[133,0,135,0],[133,1,135,2],[133,3,135,3],[124,0,126,0],[124,1,126,2],[124,3,126,3],[127,0,129,0],[127,1,129,2],[127,3,129,3],[118,0,120,0],[118,1,120,2],[118,3,120,3],[121,0,123,0],[121,1,123,2],[121,3,123,3],[148,0,150,0],[148,1,150,2],[148,3,150,3],[151,0,153,0],[151,1,153,2],[151,3,153,3],[148,4,150,4],[151,4,153,4],[154,4,156,4],[157,4,159,4],[142,0,144,0],[142,1,144,2],[142,3,144,3],[145,0,147,0],[145,1,147,2],[145,3,147,3],[136,0,138,0],[136,1,138,2],[136,3,138,3],[139,0,141,0],[139,1,141,2],[139,3,141,3],[145,4,147,4],[160,0,162,0],[160,1,162,2],[160,3,162,3],[164,0,166,0],[164,1,166,2],[164,3,166,3],[163,0,163,6],[160,6,162,6],[164,6,166,6],[160,4,162,4],[164,4,166,4],[154,0,156,0],[154,1,156,2],[154,3,156,3],[157,0,159,0],[157,1,159,2],[157,3,159,3],[185,0,187,0],[185,1,187,2],[185,3,187,3],[188,0,190,0],[188,1,190,2],[188,3,190,3],[163,13,163,14],[182,0,184,0],[182,1,184,2],[182,3,184,3],[176,0,178,0],[176,1,178,2],[176,3,178,3],[179,0,181,0],[179,1,181,2],[179,3,181,3],[170,0,172,0],[170,1,172,2],[170,3,172,3],[173,0,175,0],[173,1,175,2],[173,3,175,3],[167,0,169,0],[167,1,169,2],[167,3,169,3],[167,6,169,6],[170,6,172,6],[173,6,175,6],[167,4,169,4],[170,4,172,4],[173,4,175,4],[170,7,172,8],[203,0,205,0],[203,1,205,2],[203,3,205,3],[206,0,208,0],[206,1,208,2],[206,3,208,3],[203,4,205,4],[206,4,208,4],[209,4,211,4],[212,4,214,4],[197,0,199,0],[197,1,199,2],[197,3,199,3],[200,0,202,0],[200,1,202,2],[200,3,202,3],[191,0,193,0],[191,1,193,2],[191,3,193,3],[194,0,196,0],[194,1,196,2],[194,3,196,3],[212,3,214,3],[221,0,223,0],[221,1,223,2],[221,3,223,3],[224,0,226,0],[224,1,226,2],[224,3,226,3],[215,0,217,0],[215,1,217,2],[215,3,217,3],[218,0,220,0],[218,1,220,2],[218,3,220,3],[215,4,217,4],[218,4,220,4],[221,4,223,4],[224,4,226,4],[209,0,211,0],[209,1,211,2],[212,0,214,0],[212,1,214,2],[209,3,211,3],[233,0,235,0],[233,1,235,2],[233,3,235,3],[236,0,238,0],[236,1,238,2],[236,3,238,3],[227,0,229,0],[227,1,229,2],[227,3,229,3],[230,0,232,0],[230,1,232,2],[230,3,232,3],[227,4,229,4],[230,4,232,4],[233,4,235,4],[236,4,238,4],[242,4,244,4],[245,0,247,0],[245,1,247,2],[245,3,247,3],[248,0,250,0],[248,1,250,2],[248,3,250,3],[245,4,247,4],[248,4,250,4],[251,4,253,4],[254,4,256,4],[257,4,259,4],[260,4,262,4],[254,5,256,5],[239,0,241,0],[239,1,241,2],[239,3,241,3],[242,0,244,0],[242,1,244,2],[242,3,244,3],[242,5,243,5],[245,5,246,5],[248,5,249,5],[239,4,241,4],[239,5,241,5],[270,4,272,4],[273,4,275,4],[257,0,259,0],[257,1,259,2],[257,3,259,3],[260,0,262,0],[260,1,262,2],[260,3,262,3],[251,0,253,0],[251,1,253,2],[251,3,253,3],[254,0,256,0],[254,1,256,2],[254,3,256,3],[251,5,252,5],[257,5,259,5],[260,5,262,5],[263,0,263,6],[273,1,275,2],[291,0,293,0],[291,1,293,2],[291,3,293,3],[294,0,296,0],[294,1,296,2],[294,3,296,3],[285,0,287,0],[285,1,287,2],[285,3,287,3],[288,0,290,0],[288,1,290,2],[288,3,290,3],[273,3,275,3],[264,0,266,0],[264,1,266,2],[264,3,266,3],[267,0,269,0],[267,1,269,2],[267,3,269,3],[282,0,284,0],[282,1,284,2],[282,3,284,3],[276,0,278,0],[276,1,278,2],[276,3,278,3],[279,0,281,0],[279,1,281,2],[279,3,281,3],[270,0,272,0],[270,1,272,2],[270,3,272,3],[273,0,275,0],[307,0,309,0],[307,1,309,2],[307,3,309,3],[310,5,312,5],[313,5,315,5],[316,5,318,5],[319,5,321,5],[310,9,312,9],[307,9,309,9],[304,9,306,9],[304,10,306,10],[304,11,306,11],[304,12,306,12],[304,13,306,13],[304,14,306,14],[297,0,299,0],[297,1,299,2],[297,3,299,3],[300,0,302,0],[300,1,302,2],[300,3,302,3],[304,5,306,5],[307,5,309,5],[304,4,306,4],[307,4,309,4],[297,10,299,10],[297,11,299,11],[297,12,299,12],[297,13,299,13],[297,14,299,14],[300,10,302,10],[300,11,302,11],[319,3,321,3],[316,10,318,10],[316,11,318,11],[316,12,318,12],[316,13,318,13],[332,12,334,12],[332,13,334,13],[313,0,315,0],[313,1,315,2],[313,3,315,3],[310,0,312,0],[310,1,312,2],[310,3,312,3],[329,10,331,10],[329,11,331,11],[329,12,331,12],[329,13,331,13],[348,0,350,0],[348,1,350,2],[348,3,350,3],[339,0,341,0],[339,1,341,2],[339,3,341,3],[342,0,344,0],[342,1,344,2],[342,3,344,3],[339,5,341,5],[342,5,344,5],[351,0,351,6],[352,0,354,0],[352,1,354,2],[352,3,354,3],[355,0,357,0],[355,1,357,2],[355,3,357,3],[345,0,347,0],[345,1,347,2],[345,3,347,3],[345,5,347,5],[355,5,357,5],[339,4,341,4],[342,4,344,4],[345,4,347,4],[348,4,350,4],[352,4,354,4],[355,4,357,4],[370,0,372,0],[370,1,372,2],[370,3,372,3],[373,0,375,0],[373,1,375,2],[373,3,375,3],[364,0,366,0],[364,1,366,2],[364,3,366,3],[367,0,369,0],[367,1,369,2],[367,3,369,3],[364,5,366,5],[367,5,369,5],[370,5,372,5],[373,5,375,5],[358,0,360,0],[358,1,360,2],[358,3,360,3],[361,0,363,0],[361,1,363,2],[361,3,363,3],[358,5,360,5],[361,5,363,5],[358,4,360,4],[361,4,363,4],[364,4,366,4],[367,4,369,4],[370,4,372,4],[373,4,375,4],[388,0,390,0],[388,1,390,2],[388,3,390,3],[391,0,393,0],[391,1,393,2],[391,3,393,3],[388,5,390,5],[391,5,393,5],[394,5,396,5],[382,0,384,0],[382,1,384,2],[382,3,384,3],[385,0,387,0],[385,1,387,2],[385,3,387,3],[376,0,378,0],[376,1,378,2],[376,3,378,3],[379,0,381,0],[379,1,381,2],[379,3,381,3],[376,5,378,5],[379,5,380,5],[382,5,383,5],[385,5,387,5],[376,4,378,4],[379,4,381,4],[382,4,384,4],[385,4,387,4],[388,4,390,4],[391,4,393,4],[406,0,408,0],[406,1,408,2],[406,3,408,3],[400,0,402,0],[400,1,402,2],[400,3,402,3],[403,0,405,0],[403,1,405,2],[403,3,405,3],[400,5,402,5],[400,4,402,4],[403,4,405,4],[406,4,408,4],[394,0,396,0],[394,1,396,2],[394,3,396,3],[397,0,399,0],[397,1,399,2],[397,3,399,3],[397,4,399,4],[394,4,396,4],[403,5,405,5],[406,5,408,5],[358,7,360,8],[361,7,363,8],[364,7,366,8],[367,7,369,8],[370,7,372,8],[373,7,375,8],[376,7,378,8],[379,7,381,8],[382,7,384,8],[385,7,387,8],[388,7,390,8],[391,7,393,8],[394,7,396,8],[397,7,399,8],[400,7,402,8],[403,7,405,8],[406,7,408,8],[348,7,350,8],[352,7,354,8],[355,7,357,8],[173,7,175,8],[185,7,187,8],[188,7,190,8],[191,7,193,8],[194,7,196,8],[197,7,199,8],[251,7,253,8],[304,7,306,8],[307,7,309,8],[310,7,312,8],[313,7,315,8],[316,7,318,8],[319,7,321,8],[322,7,324,8],[326,7,328,8],[329,7,331,8],[254,7,256,8],[257,7,259,8],[260,7,262,8],[264,7,266,8],[267,7,269,8],[270,7,272,8],[273,7,275,8],[276,7,278,8],[279,7,281,8],[212,7,214,8],[215,7,217,8],[218,7,220,8],[221,7,223,8],[282,7,284,8],[285,7,287,8],[288,7,290,8],[291,7,293,8],[294,7,296,8],[297,7,299,8],[300,7,302,8],[332,7,334,8],[335,7,337,8],[339,7,341,8],[342,7,344,8],[338,0,338,6],[335,0,337,0],[335,1,337,2],[335,3,337,3],[329,0,331,0],[329,1,331,2],[329,3,331,3],[332,0,334,0],[332,1,334,2],[332,3,334,3],[322,0,324,0],[322,1,324,2],[322,3,324,3],[326,0,328,0],[326,1,328,2],[326,3,328,3],[316,0,318,0],[316,1,318,2],[316,3,318,3],[319,0,321,0],[319,1,321,2],[57,6,59,6],[60,6,62,6],[63,6,65,6],[66,6,68,6],[69,6,71,6],[72,6,74,6],[176,6,178,6],[179,6,181,6],[182,6,184,6],[185,6,187,6],[188,6,190,6],[191,6,193,6],[194,6,196,6],[197,6,199,6],[90,0,90,6],[100,0,102,0],[100,1,102,2],[100,3,102,3],[91,0,93,0],[91,1,93,2],[91,3,93,3],[94,0,96,0],[94,1,96,2],[94,3,96,3],[91,6,93,6],[94,6,96,6],[115,0,117,0],[115,1,117,2],[115,3,117,3],[91,4,93,4],[94,4,96,4],[57,4,59,4],[335,4,337,4],[276,5,278,5],[279,5,281,5],[282,5,284,5],[285,5,287,5],[288,5,290,5],[291,5,293,5],[294,5,296,5],[297,5,299,5],[300,5,302,5],[115,6,117,6],[118,6,120,6],[121,6,123,6],[127,4,129,4],[130,4,132,4],[133,4,135,4],[136,4,138,4],[139,4,141,4],[142,4,144,4],[313,4,315,4],[316,4,318,4],[319,4,321,4],[322,4,324,4],[326,4,328,4],[329,4,331,4],[332,4,334,4],[200,6,202,6],[325,0,325,6],[322,5,324,5],[326,5,328,5],[329,5,331,5],[332,5,334,5],[63,4,65,4],[66,4,68,4],[69,4,71,4],[339,6,341,6],[342,6,344,6],[345,6,347,6],[348,6,350,6],[352,6,354,6],[310,6,312,6],[313,6,315,6],[316,6,318,6],[319,6,321,6],[322,6,324,6],[326,6,328,6],[329,6,331,6],[332,6,334,6],[335,6,337,6],[276,6,278,6],[279,6,281,6],[282,6,284,6],[285,6,287,6],[288,6,290,6],[291,6,293,6],[118,4,120,4],[121,4,123,4],[124,4,126,4],[97,4,99,4],[100,4,102,4],[103,4,105,4],[106,4,108,4],[109,4,111,4],[112,4,114,4],[115,4,117,4],[176,4,178,4],[179,4,181,4],[182,4,184,4],[185,4,187,4],[188,4,190,4],[191,4,193,4],[194,4,196,4],[197,4,199,4],[200,4,202,4],[310,4,312,4],[276,4,278,4],[279,4,281,4],[282,4,284,4],[285,4,287,4],[288,4,290,4],[291,4,293,4],[294,4,296,4],[297,4,299,4],[300,4,302,4],[264,4,266,4],[267,4,269,4],[303,0,303,6],[304,0,306,0],[304,1,306,2],[304,3,306,3],[203,6,205,6],[206,6,208,6],[236,6,238,6],[239,6,241,6],[242,6,244,6],[245,6,247,6],[215,6,217,6],[218,6,220,6],[221,6,223,6],[224,6,226,6],[227,6,229,6],[230,6,232,6],[233,6,235,6],[361,6,363,6],[364,6,366,6],[367,6,369,6],[75,6,77,6],[78,6,80,6],[81,6,83,6],[84,6,86,6],[87,6,89,6],[124,6,126,6],[127,6,129,6],[130,6,132,6],[133,6,135,6],[136,6,138,6],[139,6,141,6],[142,6,144,6],[145,6,147,6],[148,6,150,6],[151,6,153,6],[154,6,156,6],[157,6,159,6],[97,6,99,6],[100,6,102,6],[103,6,105,6],[106,6,108,6],[109,6,111,6],[382,6,384,6],[218,5,219,5],[397,5,399,5],[294,6,296,6],[297,6,299,6],[300,6,302,6],[355,6,357,6],[335,5,337,5],[264,5,266,5],[267,5,269,5],[270,5,272,5],[273,5,275,5],[264,6,266,6],[267,6,269,6],[270,6,272,6],[273,6,275,6],[248,6,250,6],[251,6,253,6],[254,6,256,6],[257,6,259,6],[260,6,262,6],[348,5,350,5],[352,5,354,5],[139,7,141,8],[385,6,387,6],[304,6,306,6],[307,6,309,6],[358,6,360,6],[60,7,62,8],[63,7,65,8],[66,7,68,8],[69,7,71,8],[72,7,74,8],[75,7,77,8],[78,7,80,8],[81,7,83,8],[84,7,86,8],[87,7,89,8],[91,7,93,8],[94,7,96,8],[97,7,99,8],[100,7,102,8],[103,7,105,8],[106,7,108,8],[109,7,111,8],[112,7,114,8],[176,7,178,8],[179,7,181,8],[182,7,184,8],[209,6,211,6],[212,6,214,6],[370,6,372,6],[373,6,375,6],[376,6,378,6],[379,6,381,6],[224,7,226,8],[388,6,390,6],[391,6,393,6],[394,6,396,6],[397,6,399,6],[400,6,402,6],[403,6,405,6],[406,6,408,6],[8,7,9,8],[11,7,13,8],[14,7,16,8],[17,7,19,8],[20,7,22,8],[23,7,25,8],[27,7,29,8],[33,7,35,8],[36,7,38,8],[39,7,41,8],[42,7,44,8],[45,7,47,8],[48,7,50,8],[51,7,53,8],[54,7,56,8],[57,7,59,8],[115,7,117,8],[118,7,120,8],[121,7,123,8],[124,7,126,8],[127,7,129,8],[130,7,132,8],[133,7,135,8],[136,7,138,8],[361,9,363,9],[358,9,360,9],[326,9,328,9],[294,9,296,9],[291,9,293,9],[288,9,290,9],[285,9,287,9],[282,9,284,9],[279,9,281,9],[276,9,278,9],[273,9,275,9],[142,7,144,8],[145,7,147,8],[148,7,150,8],[151,7,153,8],[154,7,156,8],[157,7,159,8],[160,7,162,8],[164,7,166,8],[167,7,169,8],[227,7,229,8],[230,7,232,8],[233,7,235,8],[236,7,238,8],[239,7,241,8],[242,7,244,8],[245,7,247,8],[248,7,250,8],[200,7,202,8],[203,7,205,8],[206,7,208,8],[209,7,211,8],[270,9,272,9],[322,9,324,9],[319,9,321,9],[316,9,318,9],[313,9,315,9],[345,7,347,8],[406,9,408,9]],"merged_total":1729,"flags":["merged_cut"]}
["Date: ",null,{"$f":"IF(ISBLANK('Supplier Data'!N30),\"\",'Supplier Data'!N30)","v":""}]
["Supplier Name:                                                                                                               ",null,{"$f":"IF(ISBLANK('Supplier Data'!D14),\"\",'Supplier Data'!D14)","v":""},null,null,null,null,"Overall Judgement"]
["Parts Evaluated:                                                                                                              ",null,null,null,null,null,"Please select the overall judgement based on this Steel Mill Process Specific Audit "]
["Program:"]
[]
["This is a survey to better understand the process steps followed to produce our purchase specification material part numbers (MPN) of steel. It will also assist us in using uniform terminology on our specifications."]
[]
["Steel Mill Process Specific Audit"]
[null,"Question",null,"Responses Available","Answers",null,"Comments","SUPPLIER EVIDENCE",null,"NEXTEER OBSERVATIONS","Corrective Action Plan\nRequired for Red or Yellow Score Items","Person Responsible","Target Completion Date","Actual Completion Date","Nexteer Corrective ActionPlan Observations "]
[]
["Furnace Information"]
[1,"Primary Steel Making Process",null,"*BOF\n*Electric Arc Furnace\n*Other (please specify)"]
[]
[]
[2,"Capacity",null,null,"please enter response in next box:"]
[]
[]
[3,"Tap Type",null,"*Bottom\n*Side\n*Other (please specify)"]
[]
[]
[4,"Will this purchase specification MPN undergo furnace deoxidizing?"]
[]
[]
[5,"Will furnace deoxidizing be performed?",null,"If Yes, indicate method utilized"]
[]
[]
["Ladle Information"]
[6,"Are the ladles preheated",null,"If no, skip to question 7"]
[]
[]
["6a","Indicate tap time in minutes",null,null,"please enter response in next box:"]
[]
[]
[7,"Do you have Vacuum Degas Capability?",null,"If No, skip to question 10"]
[]
[]
[8,"Will this MPN be Vacuum Degassed?",null,"If Yes, please answer questions \n8a-8f pertaining to this MPN"]
[]
[]
["8a","What type of degasser will be used?",null,null,"please enter response in next box:"]
[]
[]
["8b","What is the vacuum level, in torr?",null,null,"please enter response in next box:"]
[]
[]
["8c","How long to get to vacuum level, in minutes?",null,null,"please enter response in next box:"]
[]
[]
["8d","What is the degassing time, in minutes?",null,null,"please enter response in next box:"]
[]
[]
["8e","What inert gas is used?",null,null,"please enter response in next box:"]
[]
[]
["8f","What is the expected temperature drop during degassing?",null,null,"please enter response in next box:"]
[]
[]
[9,"Is there a separate station for vacuum degassing and ladle refinement?"]
[]
[]
[10,"Will ladle deoxidizing be performed?",null,"If Yes, indicate method utilized"]
[]
[]
[11,"What is the slag V-ratio (lime/silicia)?",null,null,"please enter response in next box:"]
[]
[]
[12,"Will grain refinement be performed?",null,"If No, skip to question 13"]
[]
[]
["12a","What material is being used to grain refine?",null,null,"please enter response in next box:"]
[]
[]
["12b","What method of addition is being used?",null,null,"please enter response in next box:"]
[]
[]
["12c","At what time is the material being added?",null,null,"please enter response in next box:"]
[]
[]
[13,"Do you have ladle re-heat capability?",null,"If yes, and the ladle is re-heated after vacuum degas, indicate the controls that are in place to ensure no additional inclusions are created from the re-heat."]
[]
[]
[14,"Is the ladle stirred?",null,"If yes, indicate the type of gas that is being used"]
[]
[]
["14a","Is the ladle bottom bubbling?"]
[]
[]
[15,"Is slag analyzed?",null,"If yes, indicate why it is being done and how often it is being analyzed"]
[]
[]
["Tundish Information"]
[16,"What is the tundish design?",null,"*Delta Shape\n*\"T\" Shape\n*\"U\" Shape\n*\"V\" Shape"]
[]
[]
[17,"What is the tundish throughput, in tons/minutes?",null,null,"please enter response in next box:"]
[]
[]
[18,"What is the tundish capacity, in tons?",null,null,"please enter response in next box:"]
[]
[]
[19,"What is the residence time, in minutes?",null,null,"please enter response in next box:"]
[]
[]
[20,"What is the tundish working or metal depth, in inches?",null,null,"please enter response in next box:"]
[]
[]
["20a","At what depth is there concern for slag getting into the melt?",null,null,"please enter response in next box:"]
[]
[]
["20b","How is that depth known?",null,null,"please enter response in next box:"]
[]
[]
["20c","How is the metal vortexing detected?",null,null,"please enter response in next box:"]
[]
[]
[21,"Is the tundish preheated?"]
[]
[]
[22,"Are dams or weirs employed?"]
[]
[]
["22a","Are baffles employed?"]
[]
[]
[23,"Is argo bubbling in the tundish practiced?"]
[]
[]
[24,"What is the tundish powder used?",null,"*Synthetic slag (please indicate the V ratio (lime/silica))\n*Insulating powder\n*Other (please specify)"]
[]
[]
[25,"What is the ladle to tundish nozzle control?",null,"*Slide gate\n*Stopper Rod\n*Rotary Slide\n*Metered Nozzle\n*Other (please specify)"]
[]
[]
["26a","Is there shrouded metal transfer from Ladle to Tundish?",null,"Indicate method"]
[]
[]
["26b","Is there shrouded metal transfer from Tundish to Mold?",null,"Indicate method"]
[]
[]
[27,"How is shroud connection sealed?",null,"*Ceramic Fiber Gasket\n*Argon Injection\n*Argon Gas Ring"]
[]
[]
[28,"What quality controls are in place for lancing a ladle or tundish?",null,null,"please enter response in next box:"]
[]
[]
[29,"What is the tundish metal level control?",null,"*Ultrasonic Depth Measurement\n*Electromagnetic Level Indicator\n*Weight\n*Visual\n*Other (please specify)"]
[]
[]
[30,"Do you have tundish metal re-heat capability?"]
[]
[]
[31,"What is the expected temperature drop from beginning to the end of a heat?",null,null,"please enter response in next box:"]
[]
[]
[32,"Is non-metallic inclusion content measured in the tundish (insoluble AI content)?"]
[]
[]
[33,"Is alloy trim made in the tundish?"]
[]
[]
[34,"What is the procedure for tundish slag removal and slag renew?",null,null,"please enter response in next box:"]
[]
[]
["Casting Information"]
[35,"Do you have Ingot Cast Capability?",null,"If yes, please indicate if this MPN will be Ingot Cast."]
[]
[]
[36,"Do you have Continuous Cast Capability?",null,"If yes, please indicate if this MPN will be Continuous Cast.\n\nIf no, skip to question 37"]
[]
[]
["36a","How many strands to the caster? Are all strands being run?",null,null,"please enter response in next box:"]
[]
[]
["36b","How is the mold level controlled?",null,null,"please enter response in next box:"]
[]
[]
["36c","How is the mold oscillated?",null,null,"please enter response in next box:"]
[]
[]
["36d","What is the mold lubrication used?",null,"*Powder\n*Oil\n*Automatically Fed\n*Fed by hand"]
[]
[]
["36e","Are there mold injections of any elements?"]
[]
[]
["36f","Is electromagnetic stirring employed?"]
[]
[]
["36g","Does a ferrite band around the chill zone exist in the as-cast product?"]
[]
[]
["36h","How is the secondary cooling employed?",null,"*Jet type spray\n*Mist type spray\n*Combination of jet and mist spray\n*Water cooled perforated metal plates\n*Other (please specify)"]
[]
[]
["36i","Are foot rollers employed?"]
[]
[]
["36j","What is the mold chill zone depth?",null,null,"please enter response in next box:"]
[]
[]
[37,"Will this purchase specification MPN be Bloom Cast?",null,"If yes, please indicate size."]
[]
[]
[38,"Will this purchase specification MPN be Billet Cast?",null,"If yes, please indicate size."]
[]
[]
[39,"What is the size change from Bloom to Billet?",null,null,"please enter response in next box:"]
[]
[]
["40a","What is the tundish to mold stream process?",null,"*Open to atmosphere\n*Enclosed by Submerged shroud\n*Pollard type gas curtain shroud\n*Flexible shroud (Bellows Type)\n*Liquid gas shroud\n*Other (please specify)"]
[]
[]
["40b","What is the tundish to mold flow control?",null,"*Slide gate\n*Stopper Rod\n*Rotary Slide\n*Metered Nozzle\n*Throttled\n*Other (please specify)"]
[]
[]
["40c","What are the mold dimensions?",null,null,"please enter response in next box:"]
[]
[]
["40d","What is the actual mold length? \n\nWhat is the effective length?",null,null,"please enter response in next box:"]
[]
[]
["40e","Is the caster operation computer controlled?",null,"*Partial\n*Total\n*Static\n*Dynamic"]
[]
[]
[41,"How is ladle casting temperature controlled?",null,null,"please enter response in next box:"]
[]
[]
[42,"What level of superheat above liquidus is aimed for? Include range",null,null,"please enter response in next box:"]
[]
[]
["43a","Indicate typical casting gas levels (SAE 8620, SAE 5160, or comparable steel) for Oxygen:",null,null,"please enter response in next box:"]
[]
[]
["43b","Indicate typical casting gas levels (SAE 8620, SAE 5160, or comparable steel) for Nitrogen:",null,null,"please enter response in next box:"]
[]
[]
["43c","Indicate typical casting gas levels (SAE 8620, SAE 5160, or comparable steel) for Hydrogen:",null,null,"please enter response in next box:"]
[]
[]
[44,"What quality controls are in place for the material grade transition zones?",null,null,"please enter response in next box:"]
[]
[]
["45a","Within heat variability:\n(5 heat data)",null,"Chemistry (Key Elements: C, Mn, S, Si, Ni, Mo, Cr, V, Al, N. etc…)","please enter response in next box:"]
[]
[]
["45b","Within heat variability:\n(5 heat data)",null,"Hardenability (Jominey or DI)","please enter response in next box:"]
[]
[]
["45c","Within heat variability:\n(5 heat data)",null,"Cleanliness","please enter response in next box:"]
[]
[]
[46,"Level of Decarb",null,null,"please enter response in next box:"]
[]
[]
[47,"Any special finished surface preparation?"]
[]
[]
[48,"Total reduction rations of this MPN:",null,null,"please enter response in next box:"]
[]
[]
[49,"What is the bar/coil end cut method?",null,"*Hot Shear\n*Cold Shear\n*Saw Cut"]
[]
[]
["Reheat Furnace Information"]
[50,"What type of slag control is used?",null,"*Fast Tilt Furnace\n*EBT\n*Submerged Tap\n*Other (please specify)"]
[]
[]
[51,"Is slag analyzed?",null,"If yes, indicate how often"]
[]
[]
[52,"What is the slag V-ratio (lime/silicia)?",null,null,"please enter response in next box:"]
[]
[]
[53,"Is wet (hot) heel practiced?",null,"If yes, please specify amount, in tons."]
[]
[]
[54,"Is inclusion modification performed?",null,"If yes, please indicate the type."]
[]
[]
[55,"Do you employ a reheat furnace?",null,"If yes, please specify?"]
[]
[]
[56,"What type of hearth?",null,"*Walking beam\n*Pusher\n*Hot skids"]
[]
[]
[57,"How many zones in the furnace?",null,null,"please enter response in next box:"]
[]
[]
[58,"What is the furnace atmosphere (e.g. % excess oxygen)?",null,null,"please enter response in next box:"]
[]
[]
[59,"What is the discharge temperature? (°F)",null,null,"please enter response in next box:"]
[]
[]
[60,"What is the average reheat time? (in minutes)",null,null,"please enter response in next box:"]
[]
[]
[61,"What is the number of blooms in the furnace at one time?",null,null,"please enter response in next box:"]
[]
[]
[62,"What is the procedure for line stoppage?",null,null,"please enter response in next box:"]
[]
[]
["Mill Information"]
[63,"What is the number of passes used for this MPN?",null,null,"please enter response in next box:"]
[]
[]
[64,"How many strands are done?",null,null,"please enter response in next box:"]
[]
[]
[65,"Is scale breaking used?",null,"If yes, please indicate the type.\n(High pressure air, High pressure water, Other)"]
[]
[]
[66,"Is hot scarfing performed?",null,"If no, skip to question 67"]
[]
[]
["66a","By weight, what percent of hot scarfing is performed?",null,null,"please enter response in next box:"]
[]
[]
["66b","What is the average depth of scarf?",null,null,"please enter response in next box:"]
[]
[]
[67,"What type of end cropping is done?",null,"*Front\n*Back\n*None"]
[]
[]
["Inspection Information"]
[68,"What type of inspection is employed?",null,"*Visual\n*Magnaglow\n*Eddy current\n*Ultrasonic\n*Thermal Imaging\n*Hot Eddy Current"]
[]
[]
[69,"Is product shot blasted prior to inspection?",null,null,"please enter response in next box:"]
[]
[]
[70,"What is the minimum flaw size detectable?",null,null,"please enter response in next box:"]
[]
[]
[71,"What flaw orientation is detectable?",null,"*Longitundal\n*Transverse"]
[]
[]
["End Product Information"]
[72,"Is condiitoning performed?",null,"If no, skip to question 73"]
[]
[]
["72a","What type of conditioning is performed?",null,"*Chiping\n*Grinding\n*Scarfing\n*Other (please specify)"]
[]
[]
[73,"Is Straightness measured?",null,"If yes, please indicate the method utilized."]
[]
[]
["73a","What are the operating limits?",null,null,"please enter response in next box:"]
[]
[]
["Testing Information"]
[74,"When is chemistry checked?",null,null,"please enter response in next box:"]
[]
[]
[75,"What are typical residual element levels (Cu, Cr, V, Sn, As, Ni, Mo, Cb, Ti, Sb)?",null,null,"please enter response in next box:"]
[]
[]
[76,"When is hardenability checked?",null,null,"please enter response in next box:"]
[]
[]
[77,"Is a jominy performed or is a DI calculated?",null,null,"please enter response in next box:"]
[]
[]
[78,"If a jominey is performed, is the sample:",null,"*Machined\n*Cast\n*Rolled\n*Forged"]
[]
[]
[79,"If a DI is calculated, what method is used for the calculation (e.g. SAE)",null,null,"please enter response in next box:"]
[]
[]
[80,"Is a macroetch/sulfur print conducted?",null,"If yes, please specify"]
[]
[]
[81,"Is the micro-cleanliness measured?",null,"If yes, please indicate method (e.g. ASTM)"]
[]
[]
[82,"Is the decarburization measured?",null,"If yes, please indicate method (e.g. ASTM)"]
[]
[]
["82a","What is the typical decarburization?",null,null,"please enter response in next box:"]
[]
[]
["82b","What is the maximum decarburization?",null,null,"please enter response in next box:"]
[]
[]
[83,"How is the grain size determined?",null,null,"please enter response in next box:"]
[]
[]
["83a","What is the typical grain size?",null,null,"please enter response in next box:"]
[]
[]
["83b","How is the grain size reported (i.e. austenitic or ferritic)?",null,null,"please enter response in next box:"]
[]
[]
["83c","What is the typical practice for grain refinement?",null,null,"please enter response in next box:"]
[]
[]
["84a","What is the capability on:\nDimensions:",null,null,"please enter response in next box:"]
[]
[]
["84b","What is the capability on:\nHardenability:",null,null,"please enter response in next box:"]
[]
[]
["84c","What is the capability on:\nSeams:",null,null,"please enter response in next box:"]
[]
[]
["84d","What is the capability on:\nDecarburization:",null,null,"please enter response in next box:"]

{"sheet":"Threading Tapping Audit","index":33,"n_rows":37,"n_cols":13,"rows_kept":37,"cut":false,"hidden":true,"merged":[[22,8,24,8],[22,9,24,9],[6,7,7,7],[6,8,7,8],[6,9,7,9],[6,10,7,10],[6,11,7,11],[12,11,14,11],[15,6,17,6],[15,7,17,7],[15,8,17,8],[15,9,17,9],[15,10,17,10],[6,6,7,6],[22,10,24,10],[9,6,11,6],[9,7,11,7],[9,8,11,8],[9,9,11,9],[9,10,11,10],[12,6,14,6],[12,7,14,7],[12,8,14,8],[12,9,14,9],[22,5,24,5],[25,0,27,0],[25,3,27,3],[25,5,27,5],[22,1,24,2],[25,1,27,2],[34,0,36,0],[34,3,36,3],[34,5,36,5],[28,0,30,0],[28,3,30,3],[28,5,30,5],[31,0,33,0],[31,3,33,3],[31,5,33,5],[22,0,24,0],[22,3,24,3],[28,1,30,2],[31,1,33,2],[34,1,36,2],[28,6,30,6],[28,7,30,7],[28,8,30,8],[0,0,0,1],[0,2,0,3],[1,0,1,1],[1,2,1,3],[2,0,2,1],[2,2,2,3],[2,5,4,5],[6,0,7,0],[6,3,7,3],[6,4,7,4],[6,5,7,5],[3,0,3,1],[3,2,3,3],[6,1,7,2],[5,0,5,3],[9,0,11,0],[9,3,11,3],[15,0,17,0],[15,3,17,3],[15,5,17,5],[18,0,20,0],[18,8,20,8],[18,9,20,9],[18,10,20,10],[12,0,14,0],[12,3,14,3],[12,5,14,5],[18,3,20,3],[18,5,20,5],[15,1,17,2],[18,1,20,2],[34,12,36,12],[9,12,11,12],[12,12,14,12],[15,12,17,12],[34,6,36,6],[34,7,36,7],[34,8,36,8],[34,9,36,9],[34,10,36,10],[34,11,36,11],[31,6,33,6],[31,7,33,7],[31,8,33,8],[31,9,33,9],[31,10,33,10],[28,9,30,9],[28,10,30,10],[28,11,30,11],[25,6,27,6],[25,7,27,7],[25,8,27,8],[25,9,27,9],[18,6,20,6],[18,7,20,7],[8,0,8,3],[21,0,21,3],[25,10,27,10],[31,11,33,11],[6,12,7,12],[5,11,5,12],[8,11,8,12],[18,12,20,12],[21,11,21,12],[22,12,24,12],[25,12,27,12],[28,12,30,12],[31,12,33,12],[9,11,11,11],[15,11,17,11],[18,11,20,11],[22,11,24,11],[12,10,14,10],[25,11,27,11],[22,6,24,6],[22,7,24,7],[9,5,11,5],[9,1,11,2],[12,1,14,2]]}
["Date: ",null,{"$f":"IF(ISBLANK('Supplier Data'!N30),\"\",'Supplier Data'!N30)","v":""}]
["Supplier Name:                                                                                                               ",null,{"$f":"IF(ISBLANK('Supplier Data'!D14),\"\",'Supplier Data'!D14)","v":""},null,null,"Overall Judgement"]
["Parts Evaluated:                                                                                                              ",null,null,null,null,{"$f":"IF(COUNTA(F9:F56)<>COUNT(A9:A56),\"R - Incomplete\",IF(OR(COUNTIF(F9:F56,\"Fail\")>0,COUNTIF(F9:F56,\"R - Unacceptable\")>0),\"R - Unacceptable\",IF(COUNTIF(F9:F56,\"Y - CA Required\")>0,\"Y - CA Required\",\"G - OK\")))","v":"R - Incomplete"}]
["Program:"]
[]
["Threading and Tapping Process Specific Audit",null,null,null,null,"JUDGEMENT"]
[null,"Question",null,"Verify ","Objective Judgement Criteria","(G/Y/R or \nPass/Fail)","SUPPLIER EVIDENCE","NEXTEER OBSERVATIONS","Corrective Action Plan\nRequired for Red or Yellow Score Items","Person Responsible","Target Completion Date","Actual Completion Date","Nexteer Corrective ActionPlan Observations "]
[]
["Section 1:Threading"]
[1,"Is there a process in place to control thread dimensions ?",null,"Force Monitor.  Make sure that Supplier has variable / attribute gauges. Check every set-up, readjustment, tool change and per Control Plan. ","Green: Gages for thread dimensions are available and used every set-up, readjusment, tool change and per control plan"]
[null,null,null,null,"Yellow: Gages are present, frequency is not often enough"]
[null,null,null,null,"Red: Missing gages, no evidence that gages are being used"]
[2,"Is there a process in place to verify incomplete threads for error proofing ?",null,"Process error proofing. ( let Supplier explain you, some Supplier use different system). Look for Double Leads detection monitor and Force detection system. Every set-up, readjustment, one per shift min. and process check based on control plan.","Green: Error proofing for incomplete, double leads in place and used with verification"]
[null,null,null,null,"Yellow: Some error proofing in place but incomplete"]
[null,null,null,null,"Red: no error proofing or error proofing inoperative, not verified"]
[3,"Is there a work instruction in place to verify complete thread profile. (Pitch, Major, Minor and  other dimensions if specified on the drawing) ?",null,"Every set-up, readjustment, one per shift min. and process check based on control plan. Shall have variable gauge for checking pitch dia. (Attribute gauges, Comparator and  etc).","Pass: Work instruction in place and used"]
[]
[null,null,null,null,"Fail: Work instruction not in place or not followed"]
[4,"Is there a method of preventing defects due to handling in the process? ",null,"Equipment designed for soft handling, reduced drop-height from conveyor systems. Rhino lining in hoppers and use of plastic bang-board.","Green: All equipment is designed for protection of parts during handling"]
[null,null,null,null,"Yellow: Most equipment is designed for protection of parts during handling - some improvement needed"]
[null,null,null,null,"Red: Metal material handling allows metal to metal contact and part damage"]
["Section 2: Tapping"]
[1,"Is there a process in place to check Pitch, Major and Minor Diameter ?",null,"Review variable and attribute gauges. Parts should be inspected per control plan.(Note: Variable gauge is required for checking Pitch Diameter). Look for error proofing process.","Pass: Work instruction in place and used"]
[]
[null,null,null,null,"Fail: Work instruction not in place or not followed"]
[2,"Is there a process in place to monitor missing and incomplete threads ?",null,"Every set-up, 1st pc. Inspection and per control plan. Variable and attribute gauges. Error proofing process by using sensor, laser, optical, camera and / or other process. (Ask Supplier to explain  error proofing system and verify).","Green: Error proofing for incomplete, double leads in place and used with verification"]
[null,null,null,null,"Yellow: Some error proofing in place but incomplete"]
[null,null,null,null,"Red: no error proofing or error proofing inoperative, not verified"]
[3,"Is there is process in place to monitor cleanliness ? (Free of chips, oil and foreign Material.",null,"Every set-up, 1st pc. and through out the process per control plan. Visual and gauge inspection. Details work instruction including tool change, coolant flow and PM program. Look for error proofing system","Pass: effective system is in place to verify and monitor cleanliness"]
[]
[null,null,null,null,"Fail: no effective system is in place to verify and monitor cleanliness"]
[4,"Is there a process in place to check diameter prior to Tap operation?",null,"\"If there is drilling and tapping process,\ninner diameter of drill hole must be checked. (Variable gauge is required for checking Diameter)\nEvery set-up, 1st pc.  Inspection and per control plan.\"","Pass: Pilot hole verified"]
[]
[null,null,null,null,"Fail: Pilot hole is not verified"]
[5,"How are the number of full threads verified if called out on the drawing?",null,"Look  for a profile trace on the threads or in process controls. (pretap diameter, taper in the pretap diameter, tolerance on the pretap diameter, etc.)","Pass: Number of threads is verified "]
[]
[null,null,null,null,"Fail: Number of full threads not checked"]

{"sheet":"Torque Control Audit","index":34,"n_rows":38,"n_cols":13,"rows_kept":38,"cut":false,"hidden":true,"merged":[[11,10,13,10],[11,11,13,11],[6,6,7,6],[8,6,10,6],[11,6,13,6],[14,6,16,6],[17,6,19,6],[6,7,7,7],[6,8,7,8],[6,9,7,9],[6,10,7,10],[14,7,16,7],[14,8,16,8],[14,9,16,9],[14,10,16,10],[17,7,19,7],[17,8,19,8],[17,9,19,9],[17,10,19,10],[8,7,10,7],[8,8,10,8],[8,9,10,9],[8,10,10,10],[11,7,13,7],[23,0,25,0],[23,3,25,3],[23,5,25,5],[26,0,28,0],[26,3,28,3],[26,5,28,5],[23,1,25,2],[26,1,28,2],[23,6,25,6],[35,0,37,0],[35,3,37,3],[35,5,37,5],[29,0,31,0],[29,3,31,3],[29,5,31,5],[32,0,34,0],[32,3,34,3],[32,5,34,5],[29,1,31,2],[32,1,34,2],[35,1,37,2],[11,3,13,3],[11,5,13,5],[8,1,10,2],[11,1,13,2],[20,0,22,0],[20,3,22,3],[20,5,22,5],[14,0,16,0],[14,3,16,3],[14,5,16,5],[17,0,19,0],[17,3,19,3],[17,5,19,5],[14,1,16,2],[17,1,19,2],[20,1,22,2],[5,0,5,3],[35,6,37,6],[35,7,37,7],[35,8,37,8],[35,9,37,9],[35,10,37,10],[0,0,0,1],[0,2,0,3],[1,0,1,1],[1,2,1,3],[2,0,2,1],[2,2,2,3],[2,5,4,5],[6,0,7,0],[6,3,7,3],[6,4,7,4],[6,5,7,5],[3,0,3,1],[3,2,3,3],[6,1,7,2],[8,0,10,0],[8,3,10,3],[8,5,10,5],[11,0,13,0],[6,11,7,11],[29,11,31,11],[32,6,34,6],[32,7,34,7],[32,8,34,8],[32,9,34,9],[32,10,34,10],[32,11,34,11],[29,6,31,6],[29,7,31,7],[29,8,31,8],[29,9,31,9],[29,10,31,10],[23,10,25,10],[20,6,22,6],[20,7,22,7],[20,8,22,8],[20,9,22,9],[20,10,22,10],[11,8,13,8],[11,9,13,9],[23,7,25,7],[23,8,25,8],[23,9,25,9],[8,11,10,11],[23,11,25,11],[26,6,28,6],[26,7,28,7],[26,8,28,8],[26,9,28,9],[26,10,28,10],[35,12,37,12],[5,11,5,12],[17,12,19,12],[20,12,22,12],[6,12,7,12],[8,12,10,12],[11,12,13,12],[14,12,16,12],[23,12,25,12],[26,12,28,12],[29,12,31,12],[32,12,34,12],[35,11,37,11],[26,11,28,11],[14,11,16,11],[17,11,19,11],[20,11,22,11]]}
["Date: ",null,{"$f":"IF(ISBLANK('Supplier Data'!N30),\"\",'Supplier Data'!N30)","v":""}]
["Supplier Name:                                                                                                               ",null,{"$f":"IF(ISBLANK('Supplier Data'!D14),\"\",'Supplier Data'!D14)","v":""},null,null,"Overall Judgement"]
["Parts Evaluated:                                                                                                              ",null,null,null,null,{"$f":"IF(COUNTA(F9:F53)<>COUNT(A9:A53),\"R - Incomplete\",IF(OR(COUNTIF(F9:F53,\"Fail\")>0,COUNTIF(F9:F53,\"R - Unacceptable\")>0),\"R - Unacceptable\",IF(COUNTIF(F9:F53,\"Y - CA Required\")>0,\"Y - CA Required\",\"G - OK\")))","v":"R - Incomplete"}]
["Program:"]
[]
["Torque Control Process Specific Audit",null,null,null,null,"JUDGEMENT"]
[null,"Question",null,"Verify ","Objective Judgement Criteria","(G/Y/R or \nPass/Fail)","SUPPLIER EVIDENCE","NEXTEER OBSERVATIONS","Corrective Action Plan\nRequired for Red or Yellow Score Items","Person Responsible","Target Completion Date","Actual Completion Date","Nexteer Corrective ActionPlan Observations "]
[]
[1,"Are operations with complex or 2nd pass sequences identified?  (i.e. cross pattern and/or dual pass method.) ",null,"Look for torque storage data? ","Pass: Verify error proofing for complex or 2nd pass sequences"]
[]
[null,null,null,null,"Fail: No error proofing for complex sequences"]
[2,"Is a Torque and Angle system being used to perform operations. ",null,"Review station fastening program.                       Review PCP for station identification.     ","Pass: Torque and Angle stations working correctly"]
[]
[null,null,null,null,"Fail: Torque and Angle stations not working per PCP"]
[3,"Is there a standard daily/weekly torque process audit procedure in place?",null,"Review audit check sheets. Verify process is followed correctly. Verify click wrench's (Tool calibration records current?)","Pass: Tool audit check sheets complete and available with complete calibrations"]
[]
[null,null,null,null,"Fail: No Tool audit check sheet or incomplete calibrations"]
[4,"Is there a re-use / re-install policy for all rejected / suspect fasteners? ",null,"A policy that PROHIBITS re-using fasteners that have been un-torqued or fallen on the floor or suspect in any way. Review audit check sheets. Verify process is followed correctly.        ","Pass: Re-use and dropped part policy prohibits fastener re-use and evidence is available"]
[]
[null,null,null,null,"Fail: No Re-use or dropped part policy exists or allows re-use of fasteners"]
[5,"Are all torque control programs password protected?",null,"Check Engineering audit sheets. Verify password is needed to change program. Review PCP","Pass: All torque control programs are password protected or under lock and key"]
[]
[null,null,null,null,"Fail: Torque control parameters are accessable by operator"]
[6,"Torque guns - DC or Pneumatic? Rate of fastening (RPM)?",null,"Is there a requirement for controlling the rate of fastening? Are Pneumatic guns checked for RPM (pressure spikes etc.) during PM? ","Pass: DC and Pnuematic guns have RPM control verified by audit"]
[]
[null,null,null,null,"Fail: DC or Pnuematic guns have no RPM control or verification"]
[7,"Are there any fasteners laying on the floor/work area?",null,"Visually inspect area. Review JES for house keeping. Review PFMEA. Is the \"dropped-parts\" policy in effect?","Pass: Work place free from loose and dropped parts"]
[]
[null,null,null,null,"Fail: Dropped part policy not in place or not followed - fasteners loose on work surface or floor"]
[8,"Are Impact tools being used? If so Why?",null,"Impact tools are strictly prohibited from being used in any torque process. Please pay special attention to eliminating this process if found.","Pass: No impact tools allowed"]
[]
[null,null,null,null,"Fail: Impact tools in use for torque control applications"]
[9,"Is there back-up fastening process in case the main process fails? Does this back-up process meet the volume requirements? Is that back-up process documented with standardized procedures? ",null,"Check JES instructions. Review check sheets. Review PCP. Review P/M log for inspections.","Pass: Contingency plan in place"]
[]
[null,null,null,null,"Fail: No contingency plan in place"]
[10,"Is there a Part/Torque traceability process in place? How long is the Torque data retained?",null,"Verify marking / identification is present. Verify JES instructions.  Check a random sample and verify against process.","Pass: Torque traceablity in place in form of log sheets audits or tied to assembly serial number"]
[]
[null,null,null,null,"Fail: No torque traceability in place"]

{"sheet":"Wafer Fabrication Audit","index":35,"n_rows":110,"n_cols":13,"rows_kept":110,"cut":false,"hidden":true,"merged":[[107,11,109,11],[107,12,109,12],[107,0,109,0],[107,1,109,2],[107,3,109,3],[107,5,109,5],[107,6,109,6],[107,7,109,7],[107,8,109,8],[107,9,109,9],[107,10,109,10],[101,11,103,11],[101,12,103,12],[104,0,106,0],[104,1,106,2],[104,3,106,3],[104,5,106,5],[104,6,106,6],[104,7,106,7],[104,8,106,8],[104,9,106,9],[104,10,106,10],[104,11,106,11],[104,12,106,12],[101,0,103,0],[101,1,103,2],[101,3,103,3],[101,5,103,5],[101,6,103,6],[101,7,103,7],[101,8,103,8],[101,9,103,9],[101,10,103,10],[95,11,97,11],[95,12,97,12],[98,0,100,0],[98,1,100,2],[98,3,100,3],[98,5,100,5],[98,6,100,6],[98,7,100,7],[98,8,100,8],[98,9,100,9],[98,10,100,10],[98,11,100,11],[98,12,100,12],[95,0,97,0],[95,1,97,2],[95,3,97,3],[95,5,97,5],[95,6,97,6],[95,7,97,7],[95,8,97,8],[95,9,97,9],[95,10,97,10],[89,11,91,11],[89,12,91,12],[92,0,94,0],[92,1,94,2],[92,3,94,3],[92,5,94,5],[92,6,94,6],[92,7,94,7],[92,8,94,8],[92,9,94,9],[92,10,94,10],[92,11,94,11],[92,12,94,12],[89,0,91,0],[89,1,91,2],[89,3,91,3],[89,5,91,5],[89,6,91,6],[89,7,91,7],[89,8,91,8],[89,9,91,9],[89,10,91,10],[83,11,85,11],[83,12,85,12],[86,0,88,0],[86,1,88,2],[86,3,88,3],[86,5,88,5],[86,6,88,6],[86,7,88,7],[86,8,88,8],[86,9,88,9],[86,10,88,10],[86,11,88,11],[86,12,88,12],[83,0,85,0],[83,1,85,2],[83,3,85,3],[83,5,85,5],[83,6,85,6],[83,7,85,7],[83,8,85,8],[83,9,85,9],[83,10,85,10],[77,11,79,11],[77,12,79,12],[80,0,82,0],[80,1,82,2],[80,3,82,3],[80,5,82,5],[80,6,82,6],[80,7,82,7],[80,8,82,8],[80,9,82,9],[80,10,82,10],[80,11,82,11],[80,12,82,12],[77,0,79,0],[77,1,79,2],[77,3,79,3],[77,5,79,5],[77,6,79,6],[77,7,79,7],[77,8,79,8],[77,9,79,9],[77,10,79,10],[71,11,73,11],[71,12,73,12],[74,0,76,0],[74,1,76,2],[74,3,76,3],[74,5,76,5],[74,6,76,6],[74,7,76,7],[74,8,76,8],[74,9,76,9],[74,10,76,10],[74,11,76,11],[74,12,76,12],[71,0,73,0],[71,1,73,2],[71,3,73,3],[71,5,73,5],[71,6,73,6],[71,7,73,7],[71,8,73,8],[71,9,73,9],[71,10,73,10],[65,11,67,11],[65,12,67,12],[68,0,70,0],[68,1,70,2],[68,3,70,3],[68,5,70,5],[68,6,70,6],[68,7,70,7],[68,8,70,8],[68,9,70,9],[68,10,70,10],[68,11,70,11],[68,12,70,12],[65,0,67,0],[65,1,67,2],[65,3,67,3],[65,5,67,5],[65,6,67,6],[65,7,67,7],[65,8,67,8],[65,9,67,9],[65,10,67,10],[59,11,61,11],[59,12,61,12],[62,0,64,0],[62,1,64,2],[62,3,64,3],[62,5,64,5],[62,6,64,6],[62,7,64,7],[62,8,64,8],[62,9,64,9],[62,10,64,10],[62,11,64,11],[62,12,64,12],[59,0,61,0],[59,1,61,2],[59,3,61,3],[59,5,61,5],[59,6,61,6],[59,7,61,7],[59,8,61,8],[59,9,61,9],[59,10,61,10],[53,11,55,11],[53,12,55,12],[56,0,58,0],[56,1,58,2],[56,3,58,3],[56,5,58,5],[56,6,58,6],[56,7,58,7],[56,8,58,8],[56,9,58,9],[56,10,58,10],[56,11,58,11],[56,12,58,12],[53,0,55,0],[53,1,55,2],[53,3,55,3],[53,5,55,5],[53,6,55,6],[53,7,55,7],[53,8,55,8],[53,9,55,9],[53,10,55,10],[47,11,49,11],[47,12,49,12],[50,0,52,0],[50,1,52,2],[50,3,52,3],[50,5,52,5],[50,6,52,6],[50,7,52,7],[50,8,52,8],[50,9,52,9],[50,10,52,10],[50,11,52,11],[50,12,52,12],[47,0,49,0],[47,1,49,2],[47,3,49,3],[47,5,49,5],[47,6,49,6],[47,7,49,7],[47,8,49,8],[47,9,49,9],[47,10,49,10],[41,11,43,11],[41,12,43,12],[44,0,46,0],[44,1,46,2],[44,3,46,3],[44,5,46,5],[44,6,46,6],[44,7,46,7],[44,8,46,8],[44,9,46,9],[44,10,46,10],[44,11,46,11],[44,12,46,12],[41,0,43,0],[41,1,43,2],[41,3,43,3],[41,5,43,5],[41,6,43,6],[41,7,43,7],[41,8,43,8],[41,9,43,9],[41,10,43,10],[35,11,37,11],[35,12,37,12],[38,0,40,0],[38,1,40,2],[38,3,40,3],[38,5,40,5],[38,6,40,6],[38,7,40,7],[38,8,40,8],[38,9,40,9],[38,10,40,10],[38,11,40,11],[38,12,40,12],[35,0,37,0],[35,1,37,2],[35,3,37,3],[35,5,37,5],[35,6,37,6],[35,7,37,7],[35,8,37,8],[35,9,37,9],[35,10,37,10],[32,7,34,7],[32,8,34,8],[32,9,34,9],[32,10,34,10],[32,11,34,11],[32,12,34,12],[29,8,31,8],[29,9,31,9],[29,10,31,10],[29,11,31,11],[29,12,31,12],[29,7,31,7],[32,0,34,0],[32,1,34,2],[32,3,34,3],[32,5,34,5],[32,6,34,6],[29,0,31,0],[29,1,31,2],[29,3,31,3],[29,5,31,5],[29,6,31,6],[26,7,28,7],[26,8,28,8],[26,9,28,9],[26,10,28,10],[26,11,28,11],[26,12,28,12],[23,8,25,8],[23,9,25,9],[23,10,25,10],[23,11,25,11],[23,12,25,12],[23,7,25,7],[26,0,28,0],[26,1,28,2],[26,3,28,3],[26,5,28,5],[26,6,28,6],[23,0,25,0],[23,1,25,2],[23,3,25,3],[23,5,25,5],[23,6,25,6],[14,8,16,8],[20,9,22,9],[20,10,22,10],[20,11,22,11],[20,12,22,12],[17,8,19,8],[17,9,19,9],[17,10,19,10],[17,11,19,11],[17,12,19,12],[17,1,19,2],[17,3,19,3],[17,5,19,5],[17,6,19,6],[17,7,19,7],[14,0,16,0],[14,1,16,2],[14,3,16,3],[14,5,16,5],[14,6,16,6],[14,7,16,7],[20,0,22,0],[20,1,22,2],[20,3,22,3],[20,5,22,5],[20,6,22,6],[20,7,22,7],[20,8,22,8],[8,12,10,12],[11,0,13,0],[11,1,13,2],[11,3,13,3],[11,5,13,5],[11,6,13,6],[11,7,13,7],[11,8,13,8],[11,9,13,9],[11,10,13,10],[11,11,13,11],[11,12,13,12],[14,9,16,9],[14,10,16,10],[14,11,16,11],[14,12,16,12],[17,0,19,0],[5,0,5,3],[5,11,5,12],[6,0,7,0],[6,1,7,2],[6,3,7,3],[6,4,7,4],[6,5,7,5],[6,12,7,12],[8,0,10,0],[8,1,10,2],[8,3,10,3],[8,5,10,5],[8,6,10,6],[8,7,10,7],[8,8,10,8],[8,9,10,9],[8,10,10,10],[6,6,7,6],[6,7,7,7],[6,8,7,8],[6,9,7,9],[6,10,7,10],[6,11,7,11],[8,11,10,11],[0,0,0,1],[0,2,0,3],[1,0,1,1],[1,2,1,3],[2,0,2,1],[2,2,2,3],[2,5,4,5],[3,0,3,1],[3,2,3,3]]}
["Date: ",null,{"$f":"IF(ISBLANK('Supplier Data'!N30),\"\",'Supplier Data'!N30)","v":""}]
["Supplier Name:                                                                                                               ",null,{"$f":"IF(ISBLANK('Supplier Data'!D14),\"\",'Supplier Data'!D14)","v":""},null,null,"Overall Judgement"]
["Parts Evaluated:                                                                                                              ",null,null,null,null,{"$f":"IF(COUNTA(F9:F110)<>COUNT(A9:A110),\"R - Incomplete\",IF(OR(COUNTIF(F9:F110,\"Fail\")>0,COUNTIF(F9:F110,\"R - Unacceptable\")>0),\"R - Unacceptable\",IF(COUNTIF(F9:F110,\"Y - CA Required\")>0,\"Y - CA Required\",\"G - OK\")))","v":"R - Incomplete"}]
["Program:"]
[]
["Wafer Fabrication Process Specific Audit"]
[null,"Question",null,"Verify ","Objective Judgement Criteria","(G/Y/R or \nPass/Fail)","SUPPLIER EVIDENCE","NEXTEER OBSERVATIONS","Corrective Action Plan\nRequired for Red or Yellow Score Items","Person Responsible","Target Completion Date","Actual Completion Date","Nexteer Corrective ActionPlan Observations "]
[]
[1,"Is the site capability, capacity, tool sets, and tool capabilities consident with industry?",null,"Connectivity of Plans and Roadmaps that are consistent with your technology direction. \nContinuious improvement plans on track and inline with corporate objectives.","Green: Evidence of  data"]
[null,null,null,null,"Yellow: Evidence of industry data"]
[null,null,null,null,"Red: No Parison approval process"]
[2,"Is the process maturity and  yield history, benchmarked and  comparable within industry?",null,"Connectivity of Plans and Roadmaps that are consistent with your technology direction. \nContinuious improvement plans on track and inline with corporate objectives.","Green: Evidence of  data"]
[null,null,null,null,"Yellow: Evidence of industry data"]
[null,null,null,null,"Red: No Parison approval process"]
[3,"Does it include technical details for processes Nexteer Automotive is using and next process shrinks available or in development.",null,"Information on site roadmaps; competative posture within the industry for the technology, management commitment for continued investment within the organization.\nEvidence of long term viability of this site at this location, projected investiment plans.  ","Green: Evidence Provided"]
[null,null,null,null,"Yellow: Other Evidence Suggesting Compliance"]
[null,null,null,null,"Red: No Evidence of initiative. "]
[4,"Are there unique elements in this process, and does it compare favorably to current/future industry standards?\n",null,"If no (mark green) \nIf yes, provide information on site roadmaps; competative posture within the industry for the technology, management commitment for continued investment within the organization.\nEvidence of long term viability of this site at this location, projected investiment plans.  ","Green: Evidence Provided"]
[null,null,null,null,"Yellow: Other Evidence Suggesting Compliance"]
[null,null,null,null,"Red: No Evidence of initiative."]
[5,"Are there process evolutions planned for this Fab?",null,"Information on site roadmaps; competative posture within the industry for the technology, management commitment for continued investment within the organization.\nEvidence of long term viability of this site at this location, projected investiment plans.  ","Green: Evidence Provided"]
[null,null,null,null,"Yellow: Other Evidence Suggesting Compliance"]
[null,null,null,null,"Red: No Evidence of initiative."]
[6,"In design for manufacturing, is manufacturing  management involved in the design process?\n",null,"Evidence of manufacturing sign-off for all design related activities. ","Green: Evidence Provided"]
[null,null,null,null,"Yellow: Other Evidence Suggesting Compliance"]
[null,null,null,null,"Red: No Evidence of initiative."]
[7,"Is there a  design review process and content. Who participates? What topics are typically included? Are all Sub-Supplier designed IP blocks submitted as part of the review?\n",null,"Evidence of procedures and/or documentation of the design review process. ","Green: Evidence Provided"]
[null,null,null,null,"Yellow: Other Evidence Suggesting Compliance"]
[null,null,null,null,"Red: No Evidence of initiative."]
[8,"Is there an alert and escalation process inherent throughout the design process?\n",null,"Evidence of process or proceedure for formal escalation of issues in the design cycle.","Green: Evidence Provided"]
[null,null,null,null,"Yellow: Other Evidence Suggesting Compliance"]
[null,null,null,null,"Red: No Evidence of initiative."]
[9,"Is their an established  process that outlines the design flow process (from initial quote response to final design release).\n",null,"Evidence of a business flow from new product introduction.","Green: Evidence Provided"]
[null,null,null,null,"Yellow: Other Evidence Suggesting Compliance"]
[null,null,null,null,"Red: No Evidence of initiative."]
[10,"Are design rules compared to FAB manufacturability rules demonstrated in the design process?",null,"Evidence that manufacturing design guidelines are incorporated into the design process. ","Green: Evidence Provided"]
[null,null,null,null,"Yellow: Other Evidence Suggesting Compliance"]
[null,null,null,null,"Red: No Evidence of initiative."]
[11,"Is the  PFMEA incorporated into DFMEA demonstrated?",null,"Evidence that the DFMEA incorporates PFMEA severities as consistency.","Green: Evidence Provided"]
[null,null,null,null,"Yellow: Other Evidence Suggesting Compliance"]
[null,null,null,null,"Red: No Evidence of initiative."]
[12,"FAB change evaluated with design and backend input into the change request?",null,"Evidence that Process Engineering Changes are reviewed by the effected design and backend engineering departments.","Green: Evidence Provided"]
[null,null,null,null,"Yellow: Other Evidence Suggesting Compliance"]
[null,null,null,null,"Red: No Evidence of initiative."]
[13,"Does the facility maintain and monitor:\na. Chemical controls.\nb. Gas Controls?\nc. Water controls?\n",null,"1)Evidence of material acceptance testing\n2)Evidence of control charts and real time monitoring of systems.\n3)Evidence of proceedures and action plans based on OCAP.\n4)Evidence of Maintenance schedules and start up and shut down proceedures.","Green: All items demonstrated"]
[null,null,null,null,"Yellow:  3 items demonstrated"]
[null,null,null,null,"Red: Less than 3 items demonstrated."]
[14,"Does your automated equipment have control systems? ",null,"Evidence of control charts and real time monitoring of systems.\nEvidence of lot travelers with customer spific information. \nEvidende of audit frequency and results","Green: Evidence Provided"]
[null,null,null,null,"Yellow: Other Evidence Suggesting Compliance"]
[null,null,null,null,"Red: No Evidence of initiative."]
[15,"Are equipment and tool process parameters verified at each setup?",null,"Evidence of automated set-up recipe download. \nEvidence of set-up sheet verification.\nEvidence of lot travelers with set-up information.\nEvidende of layered audit frequency and results ","Green: Evidence Provided"]
[null,null,null,null,"Yellow: Other Evidence Suggesting Compliance"]
[null,null,null,null,"Red: No Evidence of initiative."]
[16,"Are Internal audits of quality systems performed on a regular basis? ",null,"Evidence of control charts and real time monitoring of systems.\nEvidence of lot travelers with customer spific information. \nEvidende of audit frequency and results","Green: Evidence Provided"]
[null,null,null,null,"Yellow: Other Evidence Suggesting Compliance"]
[null,null,null,null,"Red: No Evidence of initiative."]
[17,"Are Statistical Bin Analysis techniques, based on AEC Q-002, demonstrated?  Are those bin limits used to establish  lower limits (mavrick lot limit) for subsequent wafer lots?\n",null,"Evidence of testing based on AEC Q-002\nEvidence of control charts and real time monitoring of systems.\nEvidence of yield feedback and yeild logs. ","Green: Evidence of two initiatives."]
[null,null,null,null,"Yellow: Evidence of one initiative"]
[null,null,null,null,"Red: No Evidence of initiative"]
[18,"Is topography reviewed and  demonstrated on a regular basis (Cross section, Stress Measurements)?",null,"Evidence of control charts and/or  real time monitoring of systems.\nEvidence of proceedures and action plans based on out of control action plans (OCAP).","Green: Evidence Provided"]
[null,null,null,null,"Yellow: Other Evidence Suggesting Compliance"]
[null,null,null,null,"Red: No Evidence of initiative."]
[19," Are Critical Dimensions (CD's) demonstrated?",null,"Evidence of control charts and/or  real time monitoring of systems.\nEvidence of proceedures and action plans based on OCAP.","Green: Evidence Provided"]
[null,null,null,null,"Yellow: Other Evidence Suggesting Compliance"]
[null,null,null,null,"Red: No Evidence of initiative."]
[20,"Are Wettability studies demonstrated?",null,"Evidence of control charts and/or  real time monitoring of systems.\nEvidence of proceedures and action plans based on OCAP.","Green: Evidence Provided"]
[null,null,null,null,"Yellow: Other Evidence Suggesting Compliance"]
[null,null,null,null,"Red: No Evidence of initiative."]
[21,"Are Etch Profiles demonstrated?",null,"Evidence of control charts and/or  real time monitoring of systems.\nEvidence of proceedures and action plans based on OCAP.\nEvidence of Maintenance schedules and start up and shut down proceedures.","Green: Evidence Provided"]
[null,null,null,null,"Yellow: Other Evidence Suggesting Compliance"]
[null,null,null,null,"Red: No Evidence of initiative."]
[22,"Are Oxide controls demonstrated (Gate)?",null,"Evidence of control charts and/or  real time monitoring of systems.\nEvidence of proceedures and action plans based on OCAP.","Green: Evidence Provided"]
[null,null,null,null,"Yellow: Other Evidence Suggesting Compliance"]
[null,null,null,null,"Red: No Evidence of initiative."]
[23,"Are there Dislocation controls?\n 1. Densities, voids, vacancies, stacking faults & Interstitials included?\n 2. Contaminants (O2, N, H, types) included?.\n 3. Stress from Implant, Plasma, Chemical Vapor Deposition ( CVD) included?",null,"Evidence of control charts and/or  real time monitoring of systems.\nEvidence of proceedures and action plans based on OCAP.","Green: Evidence Provided"]
[null,null,null,null,"Yellow: Other Evidence Suggesting Compliance"]
[null,null,null,null,"Red: No Evidence of initiative."]
[24,"Are Critical Characteristic Photo measurements demonstrated?",null,"Evidence of control charts and/or  real time monitoring of systems.\nEvidence of proceedures and action plans based on OCAP.","Green: Evidence Provided"]
[null,null,null,null,"Yellow: Other Evidence Suggesting Compliance"]
[null,null,null,null,"Red: No Evidence of initiative."]
[25,"Are there Metal and Dielectric deposition controls?",null,"Evidence of control charts and/or  real time monitoring of systems.\nEvidence of proceedures and action plans based on OCAP.","Green: Evidence Provided"]
[null,null,null,null,"Yellow: Other Evidence Suggesting Compliance"]
[null,null,null,null,"Red: No Evidence of initiative."]
[26,"Are there Residual Film controls?",null,"Evidence of control charts and/or  real time monitoring of systems.\nEvidence of proceedures and action plans based on OCAP.","Green: Evidence Provided"]
[null,null,null,null,"Yellow: Other Evidence Suggesting Compliance"]
[null,null,null,null,"Red: No Evidence of initiative."]
[27,"Are Shut down and start up procedures for maintainance personnel clearly defined for critical tools? \n",null,"Evidence of proceedures defined in a work instruction or control plan.","Pass: Yes"]
[]
[null,null,null,null,"Fail: No"]
[28,"Is there an updated and reviewed list  of analytical capabilities?",null,"Evidence of Equipment Inventory","Green: Evidence Provided"]
[null,null,null,null,"Yellow: Other Evidence Suggesting Compliance"]
[null,null,null,null,"Red: No Evidence of initiative."]
[29,"Are there FA and Process control procedures established for - internal and external analysis? ",null,"Evidence of Work instructions, control plans, process monitors available. ","Green: Evidence Provided"]
[null,null,null,null,"Yellow: Other Evidence Suggesting Compliance"]
[null,null,null,null,"Red: No Evidence of initiative."]
[30,"Are training procedures established for each area of FA? ",null,"Evidence of training procedures for specific FA tasks","Green: Evidence Provided"]
[null,null,null,null,"Yellow: Other Evidence Suggesting Compliance"]
[null,null,null,null,"Red: No Evidence of initiative."]
[31," Are training records for all personnel in FA department established and reviewed.",null,"Evidence of training documentation for personnel in the FA organization","Green: Evidence Provided"]
[null,null,null,null,"Yellow: Other Evidence Suggesting Compliance"]
[null,null,null,null,"Red: No Evidence of initiative."]
[32,"Are Audit procedures available for assessing external analytical capabilities?",null,"Evidence of qualification of external FA sources.\nEvidence of work performed at external suppliers  ","Green: Evidence Provided"]
[null,null,null,null,"Yellow: Other Evidence Suggesting Compliance"]
[null,null,null,null,"Red: No Evidence of initiative."]
[33,"Can all wafer technologies be successfully resolved with the tools available either internally or externally? ",null,"Evidence of successful FA's for all technologies at that facility. ","Pass: Yes"]
[]
[null,null,null,null,"Fail: No"]
[34,"Is there evidence that \"Lessons learned\" has been implimented in next gen technologies and product designs?  ",null,"Evidence of Feedback into the Design and Manufacturing Processes.","Green: Evidence Provided"]
[null,null,null,null,"Yellow: Other Evidence Suggesting Compliance"]
[null,null,null,null,"Red: No Evidence of initiative."]

{"sheet":"AP","index":36,"n_rows":85,"n_cols":4,"rows_kept":85,"cut":false,"hidden":true,"merged":[]}
[]
["AP","Advance Product Quality Planning "]
[]
["AP1.0","Advance Planning"]
["AP1.1",null,"Special Characteristics are Defined"]
["AP1.1.1",null,null,"Flow of Special Characteristic from DFMEA to  PFMEA is not assured"]
["AP1.1.2",null,null,"A process is defined to assure special characteristics flow to all quality documents"]
["AP1.1.3",null,null,"Special Characteristic flow to PFMEA is assured"]
["AP1.1.4",null,null,"Compliant to IATF Product safety clause 4.4.1.1 & 4.4.1.2"]
["AP1.1.5",null,null,"NA"]
["AP1.2",null,"Testing and Gage plan"]
["AP1.2.1",null,null,"No Testing  and/or  Gage Plan"]
["AP1.2.2",null,null,"A Test and gage plan is developed"]
["AP1.2.3",null,null,"The Test and gage plan has been evaluated for risk"]
["AP1.2.4",null,null,"The Test and gage plan has little or no risk"]
["AP1.2.5",null,null,"NA"]
["AP1.3",null,"Equipment, tooling and Facility requirements"]
["AP1.3.1",null,null,"No plan developed for Equipment, Tooling and/or Facilities"]
["AP1.3.2",null,null,"A plan for Equipment, Tooling and Facilities is developed"]
["AP1.3.3",null,null,"The plan for Equipment, Tooling & Facilities has been evaluated for risk"]
["AP1.3.4",null,null,"The plan for Equipment, Tooling & Facilities has little or no risk"]
["AP1.3.5",null,null,"NA"]
["AP1.4",null,"Team feasibility and Management commitment"]
["AP1.4.1",null,null,"No  team is assigned to the project"]
["AP1.4.2",null,null,"The product quality team has been identified and has management support"]
["AP1.4.3",null,null,"The product quality team has concluded the project is feasible with recommended changes"]
["AP1.4.4",null,null,"The product quality team has concluded the project is feasible with no changes"]
["AP1.4.5",null,null,"NA"]
["AP2.0","Process Design and Development"]
["AP2.1",null,"Process Failure Mode and Effects Analysis (PFMEA)"]
["AP2.1.1",null,null,"No Process Flow diagram and/or PFMEA is available"]
["AP2.1.2",null,null,"The process flow diagram & PFMEA cover the entire process from receiving to shipping"]
["AP2.1.3",null,null,"The PFMEA identifies special characteristics for regulations and safety"]
["AP2.1.4",null,null,"The PFMEA satisfies AIAG requirements and is effective"]
["AP2.1.5",null,null,"NA"]
["AP2.2",null,"Control Plan"]
["AP2.2.1",null,null,"No control plan is available"]
["AP2.2.2",null,null,"All controls identified in the PFMEA are included in the control plan"]
["AP2.2.3",null,null,"All gages and test equipment specified in the control plan are available"]
["AP2.2.4",null,null,"The pre production and production control plans satisfy AIAG requirements"]
["AP2.2.5",null,null,"NA"]
["AP2.3",null,"Product / Process Quality System Review"]
["AP2.3.1",null,null,"No review of the Quality Management System (QMS) has been conducted."]
["AP2.3.2",null,null,"Procedural changes have been identified to update the QMS to produce the product."]
["AP2.3.3",null,null,"Procedural changes to the QMS required to produce the product have been implemented."]
["AP2.3.4",null,null,"The Quality system satisfies IATF16949 requirements and is effective."]
["AP2.3.5",null,null,"NA"]
["AP2.4",null,"Packaging Standards and Specifications"]
["AP2.4.1",null,null,"Packaging requirements are not understood"]
["AP2.4.2",null,null,"Packaging requirements are incorporated into packaging specifications."]
["AP2.4.3",null,null,"Packaging design is complete and assures product characteristics remain unchanged."]
["AP2.4.4",null,null,"The PFMEA comprehends risk in packaging and all material handling."]
["AP2.4.5",null,null,"NA"]
["AP3.0","Product and Process Validation"]
["AP3.1",null,"Measurement System Analysis"]
["AP3.1.1",null,null,"Measurement system analysis has not been completed"]
["AP3.1.2",null,null,"The monitoring and measurement devices are effectively checking identified characteristics."]
["AP3.1.3",null,null,"The analytical methods and acceptance criteria conform to those in reference manuals on MSA"]
["AP3.1.4",null,null,"IATF 16949:2016 clause 7.1.5.1.1 Measurement Systems Analysis is met."]
["AP3.1.5",null,null,"NA"]
["AP3.2",null,"Packaging Validation"]
["AP3.2.1",null,null,"Test shipments are not complete"]
["AP3.2.2",null,null,"Test shipments are planned."]
["AP3.2.3",null,null,"Test shipments with normal transportation are completed"]
["AP3.2.4",null,null,"Packaging evaluation of effectiveness is complete"]
["AP3.2.5",null,null,"NA"]
["AP3.3",null,"PPAP approval"]
["AP3.3.1",null,null,"PPAP approval is not complete."]
["AP3.3.2",null,null,"All PPAP requirements are defined and understood."]
["AP3.3.3",null,null,"The PPAP is prepared and submitted."]
["AP3.3.4",null,null,"The PPAP meets the AIAG standard."]
["AP3.3.5",null,null,"NA"]
["AP3.4",null,"Significant Production Run"]
["AP3.4.1",null,null,"No Significant Production Run has been conducted"]
["AP3.4.2",null,null,"Production Run w/ production tools, equipment, gages & Environment completed"]
["AP3.4.3",null,null,"Production Run meets production rate and quality objectives."]
["AP3.4.4",null,null,"Sample production parts meet all requirements"]
["AP3.4.5",null,null,"NA"]
["APE","Effectiveness"]
["APE.1",null,"Effectiveness measure"]
["AP4.1.1",null,null,"No feedback from APQP process is available"]
["AP4.1.2",null,null,"Data from all significant APQP process is available for improvement initiatives"]
["AP4.1.3",null,null,"Lessons learned and Best practices are documented"]
["AP4.1.4",null,null,"The metrics for APQP show the process is effective."]
["AP4.1.5",null,null,"NA"]

{"sheet":"AQ","index":37,"n_rows":85,"n_cols":4,"rows_kept":85,"cut":false,"hidden":true,"merged":[]}
[]
["AQ","Automotive Quality Standards"]
[]
["AQ1.0","Quality Management system 1-6"]
["AQ1.1",null,"General requirements"]
["AQ1.1.1",null,null,"No standard in place"]
["AQ1.1.2",null,null,"Process approach using Plan-Do-Check-Act"]
["AQ1.1.3",null,null,"Plans and actions  address risk & opportunities"]
["AQ1.1.4",null,null,"The IATF standard is aligned with the organization's quality system"]
["AQ1.1.5",null,null,"NA"]
["AQ1.2",null,"Context of the Organization Clause 4"]
["AQ1.2.1",null,null,"A list of internal and external issues is identified"]
["AQ1.2.2",null,null,"Documented information on interested parties is available"]
["AQ1.2.3",null,null,"A Quality Manual is available"]
["AQ1.2.4",null,null,"Key process maps are developed"]
["AQ1.2.5",null,null,"NA"]
["AQ1.3",null,"Leadership Clause 5"]
["AQ1.3.1",null,null,"Management review agenda's and minutes are available"]
["AQ1.3.2",null,null,"Customer satisfaction objectives and metrics are available"]
["AQ1.3.3",null,null,"The quality policy is understood within the organization"]
["AQ1.3.4",null,null,"Job responsibilities and Authorities are understood"]
["AQ1.3.5",null,null,"NA"]
["AQ1.4",null,"Planning Clause 6"]
["AQ1.4.1",null,null,"Risk analysis is both reactive and proactive"]
["AQ1.4.2",null,null,"Actions to address risk and opportunities is documented"]
["AQ1.4.3",null,null,"A process is defined to set quality objectives"]
["AQ1.4.4",null,null,"Changes are planned and systematic"]
["AQ1.4.5",null,null,"NA"]
["AQ2.0","Support and Operation Clauses 7 & 8"]
["AQ2.1",null,"Resources 7.1   Competence 7.2"]
["AQ2.1.1",null,null,"Organization has the people necessary for effective QMS"]
["AQ2.1.2",null,null,"Facilities and equipment support product realization"]
["AQ2.1.3",null,null,"Knowledge is maintained and available"]
["AQ2.1.4",null,null,"Evidence of competence is available"]
["AQ2.1.5",null,null,"NA"]
["AQ2.2",null,"Awareness 7.3  Communication 7.4  Documentation 7.5"]
["AQ2.1.1",null,null,"Employees are aware of their impact on quality"]
["AQ2.1.2",null,null,"Processes are documented that motivate achievement of objectives"]
["AQ2.1.3",null,null,"A process for communication is documented"]
["AQ2.1.4",null,null,"Documentation required by QMS is maintained"]
["AQ2.1.5",null,null,"NA"]
["AQ2.3",null,"Operation Planning 8.1  Requirements 8.2  Design 8.3"]
["AQ2.3.1",null,null,"A process for change management is effective"]
["AQ2.3.2",null,null,"A process for Customer change approval is in place"]
["AQ2.3.3",null,null,"Customer product specifications, standards and requirements are documented"]
["AQ2.3.4",null,null,"Design outputs are verified against special characteristic design inputs "]
["AQ2.3.5",null,null,"NA"]
["AQ2.4",null,"External 8.4  Provision 8.5 Release 8.6  Controls 8.7"]
["AQ2.4.1",null,null,"External provided products and processes are evaluated"]
["AQ2.4.2",null,null,"Organizational process controls are implemented for all operations"]
["AQ2.4.3",null,null,"The organization assures product requirements are met prior to release to customer"]
["AQ2.4.4",null,null,"An effective process for handling non conformity is implemented."]
["AQ2.4.5",null,null,"NA"]
["AQ3.0","Performance & Improvement Clauses 9 & 10"]
["AQ3.1",null,"Monitoring"]
["AQ3.1.1",null,null,"The organization has determined methods for measurement, analysis and evaluation to insure results"]
["AQ3.1.2",null,null,"Process control checks are documented "]
["AQ3.1.3",null,null,"Customer satisfaction is measured"]
["AQ3.1.4",null,null,"Performance  and effectiveness of the QMS is measured"]
["AQ3.1.5",null,null,"NA"]
["AQ3.2",null,"Internal Audit 9.2"]
["AQ3.2.1",null,null,"No internal audit plan"]
["AQ3.2.2",null,null,"Internal QMS audits are planned and conducted."]
["AQ3.2.3",null,null,"Auditors are trained"]
["AQ3.2.4",null,null,"Effectiveness of the audit program is part of management review"]
["AQ3.2.5",null,null,"NA"]
["AQ3.3",null,"Management Review 9.3"]
["AQ3.3.1",null,null,"Top management reviews are scheduled and conducted"]
["AQ3.3.2",null,null,"Management review inputs meet IATF16949 requirements"]
["AQ3.3.3",null,null,"Management review outputs meet IATF16949 requirements"]
["AQ3.3.4",null,null,"Management review action plans address performance issues"]
["AQ3.3.5",null,null,"NA"]
["AQ3.4",null,"Improvement Clause 10"]
["AQ3.4.1",null,null,"The organization has identified improvement actions"]
["AQ3.4.2",null,null,"The organization has a standard problem solving approach"]
["AQ3.4.3",null,null,"Error proofing devices are tested"]
["AQ3.4.4",null,null,"A process for continuous improvement is effective"]
["AQ3.4.5",null,null,"NA"]
["AQE","Effectiveness"]
["AQE.1",null,"IATF 16949 Certification"]
["AQE.1.1",null,null,"The supplier is not certified to the IATF standard"]
["AQE.1.2",null,null,"The supplier has completed an IATF audit and working on nonconformances"]
["AQE.1.3",null,null,"The supplier has been certified to the IATF standard via 2nd party"]
["AQE.1.4",null,null,"The supplier has been certified to the IATF standard via 3rd party"]
["AQE.1.5",null,null,"NA"]

{"sheet":"CC","index":38,"n_rows":85,"n_cols":4,"rows_kept":85,"cut":false,"hidden":true,"merged":[]}
[]
["CC","Contamination Control"]
[]
["CC1.0","Risk Identified and Controlled"]
["CC1.1",null,"Operations affected by PFMEA"]
["CC1.1.1",null,null,"No operations have contamination requirements are considered in PFMEA."]
["CC1.1.2",null,null,"Operations that have contamination requirements are considered in PFMEA."]
["CC1.1.3",null,null,"Some operations that could be affected by contamination are considered in PFMEA."]
["CC1.1.4",null,null,"Most operations that could be affected by contamination are considered in PFMEA."]
["CC1.1.5",null,null,"NA"]
["CC1.2",null,"Procedure developed for cleanliness"]
["CC1.2.1",null,null,"No procedures are developed to measure cleanliness when requirements exist."]
["CC1.2.2",null,null,"Procedures are developed to measure cleanliness when requirements exist."]
["CC1.2.3",null,null,"Procedures are followed and verified in inspection lab when requirements exist."]
["CC1.2.4",null,null,"Inspectors can clearly articulate procedures for inspection lab when requirements exist."]
["CC1.2.5",null,null,"NA"]
["CC1.3",null,"Control limits "]
["CC1.3.1",null,null,"No control limits are defined to trigger reaction plans."]
["CC1.3.2",null,null,"Control limits are defined to trigger reaction plans when requirements exist."]
["CC1.3.3",null,null,"Evidence of reaction to trigger points is available."]
["CC1.3.4",null,null,"Operators/Inspectors can clearly explain reaction to out of control conditions."]
["CC1.3.5",null,null,"NA"]
["CC1.4",null,"Contamination Improvement plans"]
["CC1.4.1",null,null,"No improvement plans "]
["CC1.4.2",null,null,"Contamination improvement plans are identified"]
["CC1.4.3",null,null,"Contamination improvement plan is tracked"]
["CC1.4.4",null,null,"Contamination improvement plan is effective"]
["CC1.4.5",null,null,"NA"]
["CC2.0","Control to ensure proper functionality of equipment and processes"]
["CC2.1",null,"Procedure and checks - metal working fluid system"]
["CC2.1.1",null,null,"No procedures are developed to ensure quality and cleanliness of - Metal Working Fluid System."]
["CC2.1.2",null,null,"Procedures are developed to ensure quality and cleanliness of - Metal Working Fluid System."]
["CC2.1.3",null,null,"Most tasks required to ensure quality and cleanliness are completed - Metal Working Fluid System."]
["CC2.1.4",null,null,"All task required to ensure quality and cleanliness are completed - Metal Working Fluid System."]
["CC2.1.5",null,null,"NA"]
["CC2.2",null,"Procedure and checks - fluid/air probes"]
["CC2.1.1",null,null,"No procedures are developed to ensure quality and cleanliness of - Fluid/Air probes."]
["CC2.1.2",null,null,"Procedures are developed to ensure quality and cleanliness of - Fluid/Air probes."]
["CC2.1.3",null,null,"Most tasks required to ensure quality and cleanliness are completed - Fluid/Air probes."]
["CC2.1.4",null,null,"All task required to ensure quality and cleanliness are completed - Fluid/Air probes."]
["CC2.1.5",null,null,"NA"]
["CC2.3",null,"Procedure and checks - work station cleanliness"]
["CC2.3.1",null,null,"No procedures are developed to ensure quality and cleanliness of Workstations."]
["CC2.3.2",null,null,"Procedures are developed to ensure quality and cleanliness of  Workstations."]
["CC2.3.3",null,null,"Most tasks required to ensure quality and cleanliness are completed - Workstations."]
["CC2.3.4",null,null,"All task required to ensure quality and cleanliness are completed - Workstations."]
["CC2.3.5",null,null,"NA"]
["CC2.4",null,"Procedure and checks  - dunnage and part storage"]
["CC2.4.1",null,null,"No procedures are developed to ensure quality and cleanliness of - Dunnage and part storage."]
["CC2.4.2",null,null,"Procedures are developed to ensure quality and cleanliness of - Dunnage and part storage."]
["CC2.4.3",null,null,"Most tasks required to ensure quality and cleanliness are completed - Dunnage and part storage."]
["CC2.4.4",null,null,"All task required to ensure quality and cleanliness are completed - Dunnage and part storage."]
["CC2.4.5",null,null,"NA"]
["CC3.0","Clean room"]
["CC3.1",null,"Clean room protective clothing defined"]
["CC3.1.1",null,null,"No clean room protective clothing requirements are defined and posted."]
["CC3.1.2",null,null,"Clean room protective clothing requirements are defined and posted."]
["CC3.1.3",null,null,"Clean room personnel adhere to protective clothing requirements."]
["CC3.1.4",null,null,"Clean room access is controlled and personnel protective clothing is assured."]
["CC3.1.5",null,null,"NA"]
["CC3.2",null,"Positive pressure to stop outside air/contaminants"]
["CC3.2.1",null,null,"No clean room environmental controls are defined."]
["CC3.2.2",null,null,"Clean room environmental controls are defined."]
["CC3.2.3",null,null,"Clean room environmental controls are defined and clearly posted."]
["CC3.2.4",null,null,"Clean room environmental controls are adhered to and effective."]
["CC3.2.5",null,null,"NA"]
["CC3.3",null,"Sources of dirt and foreign material is considered in PFMEA"]
["CC3.3.1",null,null,"No sources of dirt and foreign material as potential failure mode is considered in PFMEA."]
["CC3.3.2",null,null,"Sources of dirt and foreign material as potential failure mode is considered in PFMEA."]
["CC3.3.3",null,null,"Operator's are aware of sources of dirt and foreign material in the manufacturing process."]
["CC3.3.4",null,null,"Operator's control sources of dirt and foreign material in the manufacturing process."]
["CC3.3.5",null,null,"NA"]
["CC3.4",null,"Methods developed to prevent contamination"]
["CC3.4.1",null,null,"No controls are defined to prevent contamination."]
["CC3.4.2",null,null,"Controls are defined to prevent contamination."]
["CC3.4.3",null,null,"Controls are in place to prevent contamination."]
["CC3.4.4",null,null,"Controls are in place to prevent contamination and are effective."]
["CC3.4.5",null,null,"NA"]
["CCE","Targets are defined for contamination reduction activity"]
["CCE.1",null,"Sediment result monitored, reduction plan defined"]
["CCE.1.1",null,null,"No sediment result are monitored."]
["CCE.1.2",null,null,"Sediment result are monitored."]
["CCE.1.3",null,null,"Sediment result monitored, improvement plans defined."]
["CCE.1.4",null,null,"Sediment result monitored, improvement plans are effective."]
["CCE.1.5",null,null,"NA"]

{"sheet":"EL","index":39,"n_rows":85,"n_cols":4,"rows_kept":85,"cut":false,"hidden":true,"merged":[]}
[]
["EL","External Logistic"]
[]
["EL1.0","Supply process is managed"]
["EL1.1",null,"Process to follow deliveries is formalized and applied"]
["EL1.1.1",null,null,"Incoming material area has no documented standard processes."]
["EL1.1.2",null,null,"Incoming material area has documented standard processes."]
["EL1.1.3",null,null,"Incoming material area is organized and clearly identified"]
["EL1.1.4",null,null,"Incoming material process is properly managed and effective."]
["EL1.1.5",null,null,"NA"]
["EL1.2",null,"Master schedule of deliveries"]
["EL1.2.1",null,null,"No Master deliver Schedule is available."]
["EL1.2.2",null,null,"Master deliver Schedule is available."]
["EL1.2.3",null,null,"Schedule is visible and clearly used."]
["EL1.2.4",null,null,"Deliveries are well planned and tracked. Any deviations have corrective action plans"]
["EL1.2.5",null,null,"NA"]
["EL1.3",null,"Service rate of suppliers is followed"]
["EL1.3.1",null,null,"Ratings are not defined for critical tier suppliers."]
["EL1.3.2",null,null,"Ratings are defined for critical tier suppliers."]
["EL1.3.3",null,null,"Service rates are tracked"]
["EL1.3.4",null,null,"Service rate for tier suppliers is reviewed action plans are established. "]
["EL1.3.5",null,null,"NA"]
["EL1.4",null,"Action plans for supplier delivery problems"]
["EL1.4.1",null,null,"No actions plans exist"]
["EL1.4.2",null,null,"Action plans are available"]
["EL1.4.3",null,null,"Action plans are being tracked"]
["EL1.4.4",null,null,"Action plans are on target for improvement"]
["EL1.4.5",null,null,"NA"]
["EL2.0","Secure supplies"]
["EL2.1",null,"Components/materials which are risky to supply are identified"]
["EL2.1.1",null,null,"Reviews of suppliers is not available."]
["EL2.1.2",null,null,"Reviews of suppliers  is available."]
["EL2.1.3",null,null,"Risky suppliers are identified."]
["EL2.1.4",null,null,"Corrective action plans are available for risky suppliers​."]
["EL2.1.5",null,null,"NA"]
["EL2.2",null,"Plans for critical suppliers/parts are reviewed"]
["EL2.2.1",null,null,"Long term securing plans are not developed for key critical suppliers."]
["EL2.2.2",null,null,"Long term securing plans are developed for key critical suppliers."]
["EL2.2.3",null,null,"Long term securing plans are reviewed by leadership."]
["EL2.2.4",null,null,"Long term securing action plans are reviewed regularly by leadership."]
["EL2.2.5",null,null,"NA"]
["EL2.3",null,"Alternative supply identified"]
["EL2.3.1",null,null,"No alternative plans exist"]
["EL2.3.2",null,null,"Alternative suppliers are identified"]
["EL2.3.3",null,null,"Plans exist for alternative supply for risky products"]
["EL2.3.4",null,null,"Plans for alternative suppliers are reviewed and updated"]
["EL2.3.5",null,null,"NA"]
["EL2.4",null,"Safety Stock management"]
["EL2.4.1",null,null,"Safety stock is not managed"]
["EL2.4.2",null,null,"Safety stock quantities are identified"]
["EL2.4.3",null,null,"Safety stock is part of build plan"]
["EL2.4.4",null,null,"Warehouse(s) are effectively managed to minimize risk"]
["EL2.4.5",null,null,"NA"]
["EL3.0","Shipping process is organized and tracked"]
["EL3.1",null,"Shipping process is described"]
["EL3.1.1",null,null,"No standard procedures for shipping operations exist."]
["EL3.1.2",null,null,"Standard procedures for shipping operations exist."]
["EL3.1.3",null,null,"Standard instructions for shipping operations exist."]
["EL3.1.4",null,null,"Shipping standards are effectively trained and executed."]
["EL3.1.5",null,null,"NA"]
["EL3.2",null,"Shipping process integrates milestone operations"]
["EL3.2.1",null,null,"Shipping milestones are not defined."]
["EL3.2.2",null,null,"Shipping milestones are defined"]
["EL3.2.3",null,null,"Shipping Milestones are tracked and communicated."]
["EL3.2.4",null,null,"Potential problems are identified and mitigated before affecting customers."]
["EL3.2.5",null,null,"NA"]
["EL3.3",null,"Packaging is labelled properly"]
["EL3.3.1",null,null,"Packaging and labeling failure modes are not identified in the PFEMA."]
["EL3.3.2",null,null,"Packaging and labeling failure modes are identified in the PFEMA."]
["EL3.3.3",null,null,"Packaging and labeling controls are in place."]
["EL3.3.4",null,null,"Strong controls are in place to prevent packaging and labeling issues."]
["EL3.3.5",null,null,"NA"]
["EL3.4",null,"EDI communication is valid with customer"]
["EL3.4.1",null,null,"No EDI process is in place."]
["EL3.4.2",null,null,"EDI process is in place."]
["EL3.4.3",null,null,"Back up plan in place and has been tested."]
["EL3.4.4",null,null,"No EDI issues exist."]
["EL3.4.5",null,null,"NA"]
["ELE","Indicators are defined and tracked to ensure effectiveness and efficiency of external logistic management"]
["ELE.1",null,"Indicators concerning the supply process: Fill rate, Service rate, and Logistics."]
["ELE.1.1",null,null,"No logistics metrics are tracked"]
["ELE.1.2",null,null,"Logistics metrics are defined"]
["ELE.1.3",null,null,"Metrics are up to date and displayed"]
["ELE.1.4",null,null,"Logistic metrics are part of management review"]
["ELE.1.5",null,null,"NA"]

{"sheet":"FR","index":40,"n_rows":135,"n_cols":5,"rows_kept":135,"cut":false,"hidden":true,"merged":[]}
[null,null,null,null," "]
["FR","Fast Response"]
[]
["FR1.0","Daily Fast Response Meeting"]
["FR1.1",null,"Fast Response meeting attendance and participation"]
["FR1.1.1",null,null,"No meeting Scheduled"]
["FR1.1.2",null,null,"A Daily Fast Response meeting is scheduled with cross functional team invited"]
["FR1.1.3",null,null,"A Daily Fast Response meeting is conducted with cross-functional attendees."]
["FR1.1.4",null,null,"The Fast Response meeting has a high level of engagement and participation."]
["FR1.1.5",null,null,"NA"]
["FR1.2",null,"Fast Response meeting agenda"]
["FR1.2.1",null,null,"No response meeting agenda"]
["FR1.2.2",null,null,"The Daily Fast Response meeting is led by manufacturing."]
["FR1.2.3",null,null,"The Daily Fast Response meeting is led by manufacturing with a clear agenda."]
["FR1.2.4",null,null,"The Daily Fast Response meeting agenda is maintained, time is not wasted."]
["FR1.2.5",null,null,"NA"]
["FR1.3",null,"Fast Response meeting issues are addressed"]
["FR1.3.1",null,null,"Issues are not addressed in meeting"]
["FR1.3.2",null,null,"Issues from past 24 hours are addressed."]
["FR1.3.3",null,null,"Significant issues are contained and escalated to formal problem solving"]
["FR1.3.4",null,null,"Significant issues include both external and internal problems."]
["FR1.3.5",null,null,"NA"]
["FR1.4",null,"Fast Response meeting issues are assigned"]
["FR1.4.1",null,null,"No ownership assignments are made."]
["FR1.4.2",null,null,"Natural owners are assigned to problems verbally."]
["FR1.4.3",null,null,"Natural owners are assigned to problems and documented."]
["FR1.4.4",null,null,"Natural owners are assigned to problems, next report out date is determined and documented."]
["FR1.4.5",null,null,"NA"]
["FR2.0","Fast Response Tracking Board"]
["FR2.1",null,"Fast Response Tracking Board"]
["FR2.1.1",null,null,"No Fast response board exists"]
["FR2.1.2",null,null,"A method of tracking fast response problems is in use. (Fast Response Board)"]
["FR2.1.3",null,null,"The Fast Response board used for tracking of issues is updated daily."]
["FR2.1.4",null,null,"The Fast Response board used for tracking of issues is updated daily and is current."]
["FR2.1.5",null,null,"NA"]
["FR2.2",null,"Fast Response Issues are communicated"]
["FR2.2.1",null,null,"No standard communication plan is in place"]
["FR2.2.2",null,null,"A method of communicating problems to all Key Stake holders is defined."]
["FR2.2.3",null,null,"Personnel responsible to stop shipment, stop production to correct quality problems is defined."]
["FR2.2.4",null,null,"The process of communicating problems to stake holders is documented."]
["FR2.1.5",null,null,"NA"]
["FR2.3",null,"Standard Problem Solving Method is used"]
["FR2.3.1",null,null," No standard for problem solving is in place"]
["FR2.3.2",null,null,"A problem solving method is used as part of the fast response board."]
["FR2.3.3",null,null,"The problem solving steps have expected timing for exit established."]
["FR2.3.4",null,null,"The problem solving steps and exit criteria status is clearly visible."]
["FR2.3.5",null,null,"NA"]
["FR2.4",null,"Fast Response Items are completed in a timely manner"]
["FR2.4.1",null,null,"No projected completion dates are posted on fast response board"]
["FR2.4.2",null,null,"Completion dates are established for problems tracked on fast response board."]
["FR2.4.3",null,null,"Completion date status in known for problems tracked on fast response board."]
["FR2.4.4",null,null,"Effective completion of problems tracked on fast response board is apparent."]
["FR2.4.5",null,null,"NA"]
["FR3.0","Problem communication"]
["FR3.1",null,"Quality Alerts process is in place"]
["FR3.1.1",null,null,"No standard process to alert employees of quality issues is in place"]
["FR3.1.2",null,null,"A standardized alert process is in place for the communication of issues."]
["FR3.1.3",null,null,"Internal and external significant issues are posted on the Fast Response board."]
["FR3.1.4",null,null,"Standardized quality alerts are posted for significant internal and external issues."]
["FR3.1.5",null,null,"NA"]
["FR3.2",null,"Detailed standard problem solving forms exists"]
["FR3.2.1",null,null,"A standard format for quality alerts is not in place"]
["FR3.2.2",null,null,"A standard format exists for communication of quality issues to interested parties. (3L5Y, 8D)"]
["FR3.2.3",null,null,"Detailed documentation of significant events is maintained"]
["FR3.2.4",null,null,"Detailed documentation of significant events is managed and delivered to interested parties"]
["FR3.2.5",null,null,"NA"]
["FR3.3",null,"Communication between shifts is assured"]
["FR3.3.1",null,null,"No standard intershift communication is in place"]
["FR3.3.2",null,null,"A process is defined to communicate between shifts."]
["FR3.3.3",null,null,"All information which can affect the next shifts have to be passed across and documented."]
["FR3.3.4",null,null,"Information flow between shifts is assured."]
["FR3.3.5",null,null,"NA"]
["FR3.4",null,"A functioning Andon system is in place"]
["FR3.4.1",null,null,"No system is in place to help an employee when an abnormal condition occurs"]
["FR3.4.2",null,null,"A process to help team members when an abnormal condition occurs is defined"]
["FR3.4.3",null,null,"An \"Andon\" process is functional to help team members( lights, alarm etc.)"]
["FR3.4.4",null,null,"Andon alarms are reacted to and corrective actions are taken to eliminate the condition"]
["FR3.4.5",null,null,"NA"]
["FR4","Problem Solving Process"]
["FR4.1",null,"Standard Problem Solving Process"]
["FR4.1.1",null,null,"No standard problems solving method is in place"]
["FR4.1.2",null,null,"A standard problem solving process is defined for use at the facility"]
["FR4.1.3",null,null,"Customer specified processes, tools or systems are used for problems solving. (10.2.3)"]
["FR4.1.4",null,null,"The standard problem solving process is effective at determining root cause."]
["FR4.1.5",null,null,"NA"]
["FR4.2",null,"Return Part Analysis Process"]
["FR4.2.1",null,null,"A problem solving form is not completed as part of the problem solving process."]
["FR4.2.2",null,null,"A problem solving form is completed as part of the problem solving process."]
["FR4.2.3",null,null,"Problem solving forms used for customer issues."]
["FR4.2.4",null,null,"Problem solving forms used across the plant for internal, customer and supplier issues."]
["FR4.2.5",null,null,"NA"]
["FR4.3",null,"Problems are completed by cross functional teams"]
["FR4.3.1",null,null,"No problem solving documentation is completed at the facility."]
["FR4.3.2",null,null,"Problem solving documentation is completed by one person at the facility."]
["FR4.3.3",null,null,"Problem solving documentation is completed by one person with input from others."]
["FR4.3.4",null,null,"Evidence of cross-functional team approach for solving problems."]
["FR4.3.5",null,null,"NA"]
["FR4.4",null,"Systemic Root cause is identified"]
["FR4.4.1",null,null,"No systemic root causes is determined."]
["FR4.4.2",null,null,"Systemic root causes are determined but are weak."]
["FR4.4.3",null,null,"Systemic root causes are determined, not always looked across."]
["FR4.4.4",null,null,"Tools for identifying systemic root cause are effective."]
["FR4.4.5",null,null,"NA"]
["FR5","Lessons learned."]
["FR5.1",null,"Lessons Learned Database"]
["FR5.1.1",null,null," Lessons learned are not documented."]
["FR5.1.2",null,null,"Lessons learned are documented on problem solving forms."]
["FR5.1.3",null,null," Lessons learned are transferred from problem solving forms to a database."]
["FR5.1.4",null,null,"There is evidence the lessons learned database is maintained and readily available."]
["FR5.1.5",null,null,"NA"]
["FR5.2",null,"Lessons Learned review process"]
["FR5.2.1",null,null,"Lessons learned are not reviewed as part of the problem solving process."]
["FR5.2.2",null,null,"Lessons learned are reviewed as part of the problem solving process."]
["FR5.2.3",null,null,"There is evidence that lessons learned are being implemented."]
["FR5.2.4",null,null,"Implementation tracking of lessons learned is part to the management review process."]
["FR5.2.5",null,null,"NA"]
["FR5.3",null,"Read Across is Institutionalized"]
["FR5.3.1",null,null,"Read across is not completed as part of the problem solving process."]
["FR5.3.2",null,null,"Read across is completed as part of the problem solving process."]
["FR5.3.3",null,null,"Read across is being applied."]
["FR5.3.4",null,null,"Read across is applied for all the issues where problem solving is done."]
["FR5.3.5",null,null,"NA"]
["FR5.4",null,"Lessons Learned Database"]
["FR5.4.1",null,null,"No lessons learned database is available"]
["FR5.4.2",null,null,"Lessons learned information is available."]
["FR5.4.3",null,null,"Lessons learned information is easily retrievable by all who need the information."]
["FR5.4.4",null,null,"Lessons learned information is fed back to PFMEA and/or APQP checklists."]
["FR5.4.5",null,null,"NA"]
["FRE","Effectiveness"]
["FRE1",null,"Targets are defined."]
["FRE1.1.1",null,null,"No Quality metrics are defined"]
["FRE1.1.2",null,null,"Quality Metrics are defined."]
["FRE1.1.3",null,null,"Quality metrics track FR performance."]
["FRE1.1.4",null,null,"Quality metrics track FR performance are posted and up to date."]
["FRE1.1.5",null,null,"NA"]

{"sheet":"LP","index":41,"n_rows":110,"n_cols":4,"rows_kept":110,"cut":false,"hidden":true,"merged":[]}
[]
["LP","Layered Process Audit"]
[]
["LP1.0","A Layered Process Audit (LPA) is established"]
["LP1.1",null,"Written procedure of LPA"]
["LP1.1.1",null,null,"No written Procedure developed defining the rules of LPA."]
["LP1.1.2",null,null,"Written Procedure developed defining the rules of LPA."]
["LP1.1.3",null,null,"Written Procedure defines frequency of audit."]
["LP1.1.4",null,null,"Written Procedure defines data collection process for audit."]
["LP1.1.5",null,null,"NA"]
["LP1.2",null,"Layered Audit for manufacturing"]
["LP1.2.1",null,null,"No layered audit is conducted in all manufacturing areas."]
["LP1.2.2",null,null,"Layered Audit is conducted in all manufacturing areas."]
["LP1.2.3",null,null,"Layered Audit includes manufacturing support areas. (PC&L & Trades)"]
["LP1.2.4",null,null,"Layered Audit includes all support areas. (Engineering)"]
["LP1.2.5",null,null,"NA"]
["LP1.3",null,"LPA check sheet"]
["LP1.3.1",null,null,"No LPA Check Sheet has standard elements: (Safety, Quality)"]
["LP1.3.2",null,null,"LPA Check Sheet has standard elements: (Safety, Quality)"]
["LP1.3.3",null,null,"LPA Check Sheet has standard elements: (Safety, Quality, Standardized Work)"]
["LP1.3.4",null,null,"LPA Check Sheet has standard elements: (Safety, Quality, Standardized Work, QSB elements)"]
["LP1.3.5",null,null,"NA"]
["LP1.4",null,"Auditors trained"]
["LP1.4.1",null,null,"No auditors are trained to a standard method for Layered Process Audits."]
["LP1.4.2",null,null,"Auditors trained to a standard method for Layered Process Audits."]
["LP1.4.3",null,null,"Auditors are trained and consistently find non conformances."]
["LP1.4.4",null,null,"Auditors are trained and provide constructive feedback on continuous improvement."]
["LP1.4.5",null,null,"NA"]
["LP2.0","LPA covers all operational activities"]
["LP2.1",null,"Layered audit"]
["LP2.1.1",null,null,"No layered audit schedule is posted."]
["LP2.1.2",null,null,"Layered audit schedule is posted."]
["LP2.1.3",null,null,"Layered audit schedule ensures all manufacturing shifts reviewed."]
["LP2.1.4",null,null,"Layered audit schedule ensures all manufacturing shifts and operations are reviewed."]
["LP2.1.5",null,null,"NA"]
["LP2.2",null,"LPA is scheduled"]
["LP2.2.1",null,null,"No LPA is scheduled for more than one Level of the organization."]
["LP2.2.2",null,null,"LPA is scheduled for more than one Level of the organization."]
["LP2.2.3",null,null,"LPA is scheduled for multiple Levels of the organization."]
["LP2.2.4",null,null,"LPA is scheduled for multiple Levels of the organization with varying focus."]
["LP2.2.5",null,null,"NA"]
["LP2.3",null,"LPA schedule attainment"]
["LP2.3.1",null,null,"No LPA schedule attainment is tracked."]
["LP2.3.2",null,null,"LPA schedule attainment is tracked."]
["LP2.3.3",null,null,"LPA schedule attainment is tracked and completion rate is high."]
["LP2.3.4",null,null,"LPA schedule attainment is tracked by manufacturing and part of management review."]
["LP2.3.5",null,null,"NA"]
["LP2.4",null,"LPA Prioritization"]
["LP2.4.1",null,null,"No concept of LPA prioritization exists"]
["LP2.4.2",null,null,"LPA process prioritization is used to develop the schedule"]
["LP2.4.3",null,null,"LPA priorities are based on inputs like safety, customer issues, scrap, downtime etc."]
["LP2.4.4",null,null,"An LPA planning team uses high severity and/or frequency to prioritize audits"]
["LP2.4.5",null,null,"NA"]
["LP3.0","LPA action plans are in place"]
["LP3.1",null,"LPA records"]
["LP3.1.1",null,null,"No external non-conformity is marked on FR board and quality alerts."]
["LP3.1.2",null,null,"Only external non-conformity is marked on FR board and quality alerts."]
["LP3.1.3",null,null,"Both internal/external non-conformities are on FR board, but insufficient Alerts are posted."]
["LP3.1.4",null,null,"Complete quality alerts are posted for both internal and external issues and on FR board."]
["LP3.1.5",null,null,"NA"]
["LP3.2",null,"Problem solving with action plans"]
["LP3.2.1",null,null,"No quality alert exists showing non conforming condition and tasks."]
["LP3.2.2",null,null,"Quality alert exists showing non conforming condition and tasks."]
["LP3.2.3",null,null,"Quality alert list pertinent information to quality issue, date, defect state pictures, and tasks."]
["LP3.2.4",null,null,"Quality alert lists all information: Date, Problem definition, Pictures of good and bad states, and tasks."]
["LP3.2.5",null,null,"NA"]
["LP3.3",null,"LPA results for continuous improvement"]
["LP3.3.1",null,null,"No escalation process exists for improvement ideas"]
["LP3.3.2",null,null,"LPA improvement ideas are documented"]
["LP3.3.3",null,null,"LPA action plans for improvement exist"]
["LP3.3.4",null,null,"LPA action plans for improvement are tracked and effective"]
["LP3.3.5",null,null,"NA"]
["LP3.4",null,"LPA results for compliance"]
["LP3.4.1",null,null,"No escalation process exists for LPA compliance issues"]
["LP3.4.2",null,null,"LPA compliance issues are documented"]
["LP3.4.3",null,null,"LPA action plans for compliance issues exist"]
["LP3.4.4",null,null,"LPA action plans for compliance issues are tracked and effective"]
["LP3.4.5",null,null,"NA"]
["LP4","Manufacturing process audit"]
["LP4.1",null,"Process Flow chart"]
["LP4.1.1",null,null,"Process flow charts are not available"]
["LP4.1.2",null,null,"Process flow charts are available"]
["LP4.1.3",null,null,"Process flow charts are updated "]
["LP4.1.4",null,null,"Process flow charts correlate with PFMEA and Control plans"]
["LP4.1.5",null,null,"NA"]
["LP4.2",null,"PFMEA"]
["LP4.2.1",null,null,"PFMEA is generic no process failure modes identified"]
["LP4.2.2",null,null,"PFMEA includes process failure modes"]
["LP4.2.3",null,null,"PFMEA are reviewed and updated"]
["LP4.2.4",null,null,"PFMEA are updated with standardized reviews"]
["LP4.2.5",null,null,"NA"]
["LP4.3",null,"Control Plan"]
["LP4.3.1",null,null,"No control plan review exists"]
["LP4.3.2",null,null,"Control plans reflect the process on the manufacturing floor"]
["LP4.3.3",null,null,"Control plans are reviewed and updated"]
["LP4.3.4",null,null,"Control plans are updated with standardized reviews"]
["LP4.3.5",null,null,"NA"]
["LP4.4",null,"Process documentation"]
["LP4.4.1",null,null,"No process documentation exists on the manufacturing floor"]
["LP4.4.2",null,null,"Standard documents are developed"]
["LP4.4.3",null,null,"Standard documents are in place"]
["LP4.4.4",null,null,"Standard documents are up to date and effective"]
["LP4.4.5",null,null,"NA"]
["LPE","LPA effectiveness is continuously monitored"]
["LPE.1",null,"Tracking of audit results"]
["LPE.1.1",null,null,"No layered audit results are tracked."]
["LPE.1.2",null,null,"Layered audit results are tracked."]
["LPE.1.3",null,null,"Layered audit action plans are tracked."]
["LPE.1.4",null,null,"Tracking of audit results is used to measure effectiveness."]
["LPE.1.5",null,null,"NA"]

{"sheet":"MA","index":42,"n_rows":135,"n_cols":4,"rows_kept":135,"cut":false,"hidden":true,"merged":[]}
[]
["MA","Maintenance"]
[]
["MA1.0","Maintenance strategy"]
["MA1.1",null,"Process is formalized and includes preventive and corrective maintenance"]
["MA1.1.1",null,null,"No formal maintenance process is defined."]
["MA1.1.2",null,null,"A formal maintenance process is defined."]
["MA1.1.3",null,null,"The maintenance process includes preventive and corrective maintenance."]
["MA1.1.4",null,null,"All machines, tools, equipment and facilities at the site are included in the process."]
["MA1.1.5",null,null,"NA"]
["MA1.2",null,"System for maintenance operations"]
["MA1.2.1",null,null,"No system for planning, organizing and monitoring maintenance operations is in place."]
["MA1.2.2",null,null,"A system for planning, organizing and monitoring maintenance operations is in place."]
["MA1.2.3",null,null,"Maintenance instructions are maintained to assure tasks are documented."]
["MA1.2.4",null,null,"The maintenance system allows for monitoring of effectiveness."]
["MA1.2.5",null,null,"NA"]
["MA1.3",null,"Breakdown maintenance lessons learned are included in preventative maintenance"]
["MA1.3.1",null,null,"No linkage exists between breakdown maintenance activity and PM"]
["MA1.3.2",null,null,"Breakdown maintenance data is available to update PM activity"]
["MA1.3.3",null,null,"PM activities are updated based on breakdown repairs"]
["MA1.3.4",null,null,"PM activities are reviewed by management to assure activities are updated."]
["MA1.3.5",null,null,"NA"]
["MA1.4",null,"Process to improve production output (OEE)"]
["MA1.4.1",null,null,"No process is in place to improve production output."]
["MA1.4.2",null,null,"The process is in place to improve production output."]
["MA1.4.3",null,null,"Resources are determined, available and trained to support the operation"]
["MA1.4.4",null,null,"Production output is monitored and action plans developed to improve effectiveness."]
["MA1.4.5",null,null,"NA"]
["MA2.0","Activities are planned, performed and tracked"]
["MA2.1",null,"Preventive maintenance planning"]
["MA2.1.1",null,null,"No Preventive Maintenance (PM) planning strategy exists."]
["MA2.1.2",null,null,"A Preventive Maintenance (PM) planning strategy exists."]
["MA2.1.3",null,null,"Equipment risk classification is accounted for in PM planning."]
["MA2.1.4",null,null,"The Preventive Maintenance plan (schedule) is communicated and visual to the facility."]
["MA2.1.5",null,null,"NA"]
["MA2.2",null,"Planning is followed"]
["MA2.1.1",null,null,"No Preventative maintenance schedule compliance is tracked."]
["MA2.1.2",null,null,"Preventative maintenance schedule compliance is tracked."]
["MA2.1.3",null,null,"Preventative maintenance schedule is communicated."]
["MA2.1.4",null,null,"PM schedule deviations are tracked and countermeasure actions developed."]
["MA2.1.5",null,null,"NA"]
["MA2.3",null,"Corrective maintenance is completed"]
["MA2.3.1",null,null,"No organized corrective maintenance process is defined."]
["MA2.3.2",null,null,"An organized corrective maintenance process is defined."]
["MA2.3.3",null,null,"Corrective maintenance requests are communicated and documented."]
["MA2.3.4",null,null,"Corrective maintenance is completed. The PM is updated based on corrective maintenance."]
["MA2.3.5",null,null,"NA"]
["MA2.4",null,"Records of all maintenance"]
["MA2.4.1",null,null,"No process to maintain records of all maintenance activities exists."]
["MA2.4.2",null,null,"A process to maintain records of all maintenance activities exists."]
["MA2.4.3",null,null,"All maintenance activity records are completed including actions taken."]
["MA2.4.4",null,null,"Maintenance activity records are summarized and reviewed.  Action plans are developed."]
["MA2.4.5",null,null,"NA"]
["MA3.0","Level 1 Maintenance"]
["MA3.1",null,"Level 1 maintenance covers equipment identification, cleaning, self-maintenance and safety"]
["MA3.1.1",null,null,"No Level 1 maintenance process is defined."]
["MA3.1.2",null,null,"A Level 1 maintenance process is defined."]
["MA3.1.3",null,null,"Level 1 maintenance covers, cleaning, self-maintenance and safety."]
["MA3.1.4",null,null,"Level 1 maintenance process execution is documented and effective."]
["MA3.1.5",null,null,"NA"]
["MA3.2",null,"Level 1 maintenance is performed by manufacturing instructions"]
["MA3.2.1",null,null,"No Level 1 maintenance is managed and performed by manufacturing."]
["MA3.2.2",null,null,"Level 1 maintenance is managed and performed by manufacturing."]
["MA3.2.3",null,null,"Work instructions exist for all Level 1 maintenance activity."]
["MA3.2.4",null,null,"Level 1 maintenance training is completed based on work instructions with certified trainers."]
["MA3.2.5",null,null,"NA"]
["MA3.3",null,"Any deviation or suggestion is escalated to a high level maintenance activity"]
["MA3.3.1",null,null,"No process is defined to escalate deviations and suggestions to a higher level maintenance."]
["MA3.3.2",null,null,"A process is defined to escalate deviations and suggestions to a higher level maintenance."]
["MA3.3.3",null,null,"A process is in place to escalate deviations and suggestions to a higher level maintenance."]
["MA3.3.4",null,null,"Follow-up is assured for activities escalated to a higher level maintenance activity."]
["MA3.3.5",null,null,"NA"]
["MA3.4",null,"Level 1 maintenance is periodically reviewed and updated"]
["MA3.4.1",null,null,"No evidence that Level 1 maintenance activities are reviewed"]
["MA3.4.2",null,null,"Level 1 maintenance process is in place"]
["MA3.4.3",null,null,"Level 1 maintenance activities are verified"]
["MA3.4.4",null,null,"Level 1 maintenance activities are updated based on data"]
["MA3.4.5",null,null,"NA"]
["MA4","Maintenance materials"]
["MA4.1",null,"List of critical spare parts"]
["MA4.1.1",null,null,"No list of critical spare parts is determined."]
["MA4.1.2",null,null,"A list of critical spare parts is determined."]
["MA4.1.3",null,null,"A list of critical spare parts is regularly updated."]
["MA4.1.4",null,null,"A list of critical spare parts managed and regularly reviewed."]
["MA4.1.5",null,null,"NA"]
["MA4.2",null,"Spare parts are available"]
["MA4.2.1",null,null,"No spare parts inventory control system is used."]
["MA4.2.2",null,null,"A spare parts inventory control system is used."]
["MA4.2.3",null,null,"The spare parts inventory is verified and accurate."]
["MA4.2.4",null,null," Parts order tracking is combined with PM & Breakdown systems to update inventory."]
["MA4.2.5",null,null,"NA"]
["MA4.3",null,"Part storage condition and physical inspections are performed"]
["MA4.3.1",null,null,"No Part storage conditions are organized for stored items."]
["MA4.3.2",null,null,"Part storage conditions are organized for stored items."]
["MA4.3.3",null,null,"Part storage conditions assure integrity of stored parts."]
["MA4.3.4",null,null,"Periodic physical inspections are performed for stored items."]
["MA4.3.5",null,null,"NA"]
["MA4.4",null,"Maintenance material suppliers are identified"]
["MA4.4.1",null,null,"No suppliers are identified"]
["MA4.4.2",null,null,"Suppliers are identified"]
["MA4.4.3",null,null,"Lead time are defined for material suppliers"]
["MA4.4.4",null,null,"Material suppliers are effective at meeting delivery commitments"]
["MA4.4.5",null,null,"NA"]
["MA5","Product specific tools"]
["MA5.1",null,"Customer Specific Tool (CST) is identified"]
["MA5.1.1",null,null,"No process to identify Customer Specific Tool (CST) is developed."]
["MA5.1.2",null,null,"A process to identify Customer Specific Tool (CST) is developed."]
["MA5.1.3",null,null,"A process to identify Customer Specific Tool (CST) is place."]
["MA5.1.4",null,null,"Customer Specific Tool (CST) is identified according to customer requirements."]
["MA5.1.5",null,null,"NA"]
["MA5.2",null,"Storage of CST is organized and managed"]
["MA5.2.1",null,null,"No storage of the CST is organized place for every tool."]
["MA5.2.2",null,null,"The storage of the CST is organized place for every tool."]
["MA5.2.3",null,null,"The storage of the CST is organized every tool on location."]
["MA5.2.4",null,null,"The storage of the CST is organized and managed."]
["MA5.2.5",null,null,"NA"]
["MA5.3",null,"Tool release process after storage"]
["MA5.3.1",null,null,"No tool release process  is established."]
["MA5.3.2",null,null,"The tool release process  is established."]
["MA5.3.3",null,null,"Start-up process applied (SW5)."]
["MA5.3.4",null,null,"Tool release process is documented to assure tool readiness."]
["MA5.3.5",null,null,"NA"]
["MA5.4",null,"Product/process re-qualification is carried out"]
["MA5.4.1",null,null,"No process  for re-qualification of replacement tooling is defined. "]
["MA5.4.2",null,null,"A process  for re-qualification of replacement tooling is defined. "]
["MA5.4.3",null,null,"A process  for re-qualification of replacement tooling is in place. "]
["MA5.4.4",null,null,"Product/process re-qualification is assured according to requirements."]
["MA5.4.5",null,null,"NA"]
["MAE","Activities are tracked to ensure effectiveness"]
["MAE.1",null,"Effectiveness & Efficiency targets defined"]
["MAE.1.1",null,null,"No data for maintenance is tracked"]
["MAE.1.2",null,null,"MTBF and MTTR metrics are tracked"]
["MAE.1.3",null,null,"Management review maintenance data regularly"]
["MAE.1.4",null,null,"Effectiveness and Efficiency targets are defined and related indicators are tracked at management review."]
["MAE.1.5",null,null,"NA"]

{"sheet":"MC","index":43,"n_rows":110,"n_cols":4,"rows_kept":110,"cut":false,"hidden":true,"merged":[]}
[]
["MC","Managing Change"]
[]
["MC1.0","Changes are controlled"]
["MC1.1",null,"Procedure to manage product/process/source changes"]
["MC1.1.1",null,null,"No procedure to manage product/process/source changes is defined."]
["MC1.1.2",null,null,"A procedure to manage product/process/source changes is defined."]
["MC1.1.3",null,null,"A procedure to manage product/process/source changes is defined and is being applied."]
["MC1.1.4",null,null,"A procedure to manage product/process/source changes is defined and is being applied both for planned and emergency changes."]
["MC1.1.5",null,null,"NA"]
["MC1.2",null,"Change form is utilized to document changes"]
["MC1.2.1",null,null,"No change form is utilized to document changes and is controlled."]
["MC1.2.2",null,null,"A change form is utilized to document changes and is controlled."]
["MC1.2.3",null,null,"A change form is utilized to document changes and is controlled and applied."]
["MC1.2.4",null,null,"A change form is utilized to document changes and is controlled and applied through a document control process."]
["MC1.2.5",null,null,"NA"]
["MC1.3",null,"All changes are reviewed and approved by customer"]
["MC1.3.1",null,null,"No changes need to be reviewed and approved by customer."]
["MC1.3.2",null,null,"All changes need to be reviewed and approved by customer."]
["MC1.3.3",null,null,"All changes need to be reviewed and approved by customer through a documented and tracked process."]
["MC1.3.4",null,null,"All changes need to be reviewed and approved by customer through a documented and tracked process that alerts the customer during the early phases to get approval prior to kick off."]
["MC1.3.5",null,null,"NA"]
["MC1.4",null,"By-pass processes have to be identified as part of approved process"]
["MC1.4.1",null,null,"No by-pass processes is  considered as part of approved process."]
["MC1.4.2",null,null,"By-pass processes have to be identified considered as part of approved process."]
["MC1.4.3",null,null,"By-pass processes have to be identified considered as part of approved process and documented with proper sign offs."]
["MC1.4.4",null,null,"During the planning phase potential by-pass processes have to be identified and at  minimum most critical ones to be considered as part of approved process. "]
["MC1.4.5",null,null,"NA"]
["MC2.0","Risk analysis of change"]
["MC2.1",null,"Product/process/source change, an analysis is carried out"]
["MC2.1.1",null,null,"For any product/process/source change, a feasibility analysis is not carried out."]
["MC2.1.2",null,null,"For any product/process/source change, a feasibility analysis is carried out. "]
["MC2.1.3",null,null,"For any product/process/source change, a feasibility analysis is carried out and tracked."]
["MC2.1.4",null,null,"For any product/process/source change, a feasibility analysis is carried out and tracked on a controlled document."]
["MC2.1.5",null,null,"NA"]
["MC2.2",null,"Verification and Validation "]
["MC2.2.1",null,null,"No validation or verification activity performed"]
["MC2.2.2",null,null,"Define verification and validation activities to ensure compliance with customer requirements"]
["MC2.2.3",null,null,"Validate changes before implementation"]
["MC2.2.4",null,null,"Validated changes meet all customer requirements"]
["MC2.2.5",null,null,"NA"]
["MC2.3",null,"Engineering specifications"]
["MC2.3.1",null,null,"Specifications are not met"]
["MC2.3.2",null,null,"Specifications are not clearly defined"]
["MC2.3.3",null,null,"All changes are compliant to statutory and regulatory requirements 8.4.2.2"]
["MC2.3.4",null,null,"All changes are compliant to IATF 7.5.3.2.2 standard"]
["MC2.3.5",null,null,"NA"]
["MC2.4",null,"Product Approval process"]
["MC2.4.1"]
["MC2.4.2"]
["MC2.4.3"]
["MC2.4.4",null,null,"All changes are compliant to ISO 8.4.3 standard"]
["MC2.4.5",null,null,"NA"]
["MC3.0","A Production Trial Run"]
["MC3.1",null,"Procedure to control production trail runs"]
["MC3.1.1",null,null,"No standardized communication procedure is in place. "]
["MC3.1.2",null,null,"A standardized communication procedure is in place. "]
["MC3.1.3",null,null,"A standardized communication procedure is in place with a form to monitor PTR's. "]
["MC3.1.4",null,null,"A standardized communication procedure is in place with a form to control PTR's that documents each step of the process and records all approvals.. "]
["MC3.1.5",null,null,"NA"]
["MC3.2",null,"Trial run batch is ensured"]
["MC3.2.1",null,null,"No procedure for Plant PTR is developed."]
["MC3.2.2",null,null,"Procedure for Plant PTR is developed."]
["MC3.2.3",null,null,"Procedure and traceability for Plant PTR is developed."]
["MC3.2.4",null,null,"Traceability for Plant PTR is developed and implemented."]
["MC3.2.5",null,null,"NA"]
["MC3.3",null,"Break point is defined"]
["MC3.3.1",null,null,"No break point is defined."]
["MC3.3.2",null,null,"Break point is defined."]
["MC3.3.3",null,null,"Break point is defined and tracked/monitored by a process."]
["MC3.3.4",null,null,"Break point is defined and tracked/monitored by a process which is communicated to the customer."]
["MC3.3.5",null,null,"NA"]
["MC3.4",null,"PTR feedback process"]
["MC3.4.1",null,null,"Results of PTR are not communicated"]
["MC3.4.2",null,null,"A process to communicate PTR information is defined"]
["MC3.4.3",null,null,"A process to communicate PTR information is in place"]
["MC3.4.4",null,null,"Results of PTR are communicated and documented"]
["MC3.4.5",null,null,"NA"]
["MC4","Banking strategy"]
["MC4.1",null,"Banking strategy takes account process capacity, customer need, lead time and safety margin"]
["MC4.1.1",null,null,"No process is developed for banking strategy takes account of process capacity, customer need, lead time and safety margin."]
["MC4.1.2",null,null," Process is developed for banking strategy takes account of process capacity, customer need, lead time and safety margin."]
["MC4.1.3",null,null," Process is developed for banking strategy takes account of process capacity, customer need, lead time and safety margin and implemented."]
["MC4.1.4",null,null," Process is developed for banking strategy takes account of process capacity, customer need, lead time and safety margin and implemented and tracked, with the customer approval for safety stock levels."]
["MC4.1.5",null,null,"NA"]
["MC4.2",null,"Guidelines for execution storage and packing of parts"]
["MC4.2.1",null,null,"No guidelines for execution storage and packaging of parts are established."]
["MC4.2.2",null,null,"Established guidelines for execution storage and packaging of parts."]
["MC4.2.3",null,null,"Established guidelines for execution storage and packaging of parts including protective packaging."]
["MC4.2.4",null,null,"Established guidelines for execution storage and packaging of parts including protective packaging for  all parts and materials both production and service."]
["MC4.2.5",null,null,"NA"]
["MC4.3",null,"Plan to exhaust product before delivering new change level"]
["MC4.3.1",null,null,"No plan to exhaust product before delivering new change level, FIFO is kept."]
["MC4.3.2",null,null,"A plan to exhaust product before delivering new change level, FIFO is kept."]
["MC4.3.3",null,null,"A process to exhaust product before delivering new change level exists, FIFO is kept."]
["MC4.3.4",null,null,"Supplier assures that the process to exhaust product before delivering new change level exists, FIFO is kept.  Records and documentation of implementation are present. "]
["MC4.3.5",null,null,"NA"]
["MC4.4",null,"Control of Obsolete product"]
["MC4.4.1",null,null,"No plan exists for obsolete product"]
["MC4.4.2",null,null,"Obsolete product is found in the facility"]
["MC4.4.3",null,null,"No Obsolete product is at the facility"]
["MC4.4.4",null,null,"Obsolete product is controlled and managed"]
["MC4.4.5",null,null,"NA"]
["MCE","Changes are tracked to ensure that changes have no negative impact to customer"]
["MCE.1",null,"Number of issues generated by a change"]
["MCE.1.1",null,null,"No process for observing indicators is in place."]
["MCE.1.2",null,null,"Process for observing indicators is in place."]
["MCE.1.3",null,null,"Indicators are being tracked and logged to monitor change. "]
["MCE.1.4",null,null,"Number of issues generated by a change are tracked and reviewed."]
["MCE.1.5",null,null,"NA"]

{"sheet":"MM","index":44,"n_rows":85,"n_cols":4,"rows_kept":85,"cut":false,"hidden":true,"merged":[]}
[]
["MM","Manufacturing & Material Flow "]
[]
["MM1.0","Manufacturing planning & scheduling"]
["MM1.1",null,"Sales and Operating plan is reviewed regularly"]
["MM1.1.1",null,null,"No Sales & Operating Plan is available."]
["MM1.1.2",null,null,"The Sales & Operating Plan is available."]
["MM1.1.3",null,null,"The Sales & Operating Plan is reviewed regularly."]
["MM1.1.4",null,null,"The Sales & Operating Plan is communicated and used for manufacturing planning."]
["MM1.1.5",null,null,"NA"]
["MM1.2",null,"Master production schedule (MPS) provides a forecast of the customer requirement"]
["MM1.2.1",null,null,"Master Production Schedule does not provides a forecast of the customer demand by Part Number."]
["MM1.2.2",null,null,"Master Production Schedule provides a forecast of the customer demand by Part Number."]
["MM1.2.3",null,null,"Daily planning takes into account tool change, set-up, start-up process, OEE, etc."]
["MM1.2.4",null,null,"Master Production Schedule is clearly visible to manufacturing team."]
["MM1.2.5",null,null,"NA"]
["MM1.3",null,"MPS is reviewed regularly"]
["MM1.3.1",null,null,"The Master Production Schedule is not used to define resources."]
["MM1.3.2",null,null,"The Master Production Schedule is used to define resources."]
["MM1.3.3",null,null,"The Master Production Schedule is reviewed regularly for resource planning."]
["MM1.3.4",null,null,"The Master Production Schedule & resource plan is clearly visible to the manufacturing team."]
["MM1.3.5",null,null,"NA"]
["MM1.4",null,"Deviations are reviewed daily"]
["MM1.4.1",null,null,"Daily production plan deviations are not tracked and reviewed on a daily basis."]
["MM1.4.2",null,null,"Daily production plan deviations are tracked and reviewed on a daily basis."]
["MM1.4.3",null,null,"An escalation process is defined for deviations to daily plan."]
["MM1.4.4",null,null,"Action plans are developed for deviations to daily production plan."]
["MM1.4.5",null,null,"NA"]
["MM2.0","Storage controls"]
["MM2.1",null,"Controlled storage conditions"]
["MM2.1.1",null,null,"Procedures are not defined for Storage locations that require controlled conditions."]
["MM2.1.2",null,null,"Procedures are defined for Storage locations that require controlled conditions."]
["MM2.1.3",null,null,"Processes are in place for Storage locations that require controlled conditions."]
["MM2.1.4",null,null,"Control of  storage conditions is effective."]
["MM2.1.5",null,null,"NA"]
["MM2.2",null,"Stock management system"]
["MM2.1.1",null,null,"Stock management system does not take into account: change level."]
["MM2.1.2",null,null,"Stock management system take into account: change level."]
["MM2.1.3",null,null,"Stock management system take into account: expiring dates, change level."]
["MM2.1.4",null,null,"Stock management system take into account: expiring dates, change level and FIFO."]
["MM2.1.5",null,null,"NA"]
["MM2.3",null,"FIFO"]
["MM2.3.1",null,null,"No FIFO plan or procedures"]
["MM2.3.2",null,null,"FIFO plans and procedures are defined"]
["MM2.3.3",null,null,"FIFO plans and procedures are in place on the manufacturing floor"]
["MM2.3.4",null,null,"FIFO plans and procedures are effective"]
["MM2.3.5",null,null,"NA"]
["MM2.4",null,"Inventory control"]
["MM2.4.1",null,null,"No Inventory plan or procedures"]
["MM2.4.2",null,null,"Inventory plans and procedures are defined"]
["MM2.4.3",null,null,"Inventory plans and procedures are in place on the manufacturing floor"]
["MM2.4.4",null,null,"FIFO plans and procedures are effective"]
["MM2.4.5",null,null,"NA"]
["MM3.0","Product Storage & Packaging"]
["MM3.1",null,"Loops and flow are organized"]
["MM3.1.1",null,null," The loops and flows of full/empty packaging is not determined."]
["MM3.1.2",null,null,"The loops and flows of full/empty packaging is determined."]
["MM3.1.3",null,null,"The loops and flows of full/empty packaging are organized and managed."]
["MM3.1.4",null,null,"Any deviations to loops and flows of full/empty packaging have corrective action plans."]
["MM3.1.5",null,null,"NA"]
["MM3.2",null,"Package quality"]
["MM3.2.1",null,null,"No process to check quality of the packaging is defined."]
["MM3.2.2",null,null,"A process to check quality of the packaging is defined."]
["MM3.2.3",null,null,"A process to check quality of the packaging is supported with standard instructions."]
["MM3.2.4",null,null,"A process to check quality of the packaging is effective."]
["MM3.2.5",null,null,"NA"]
["MM3.3",null,"Storage areas are identified and organized"]
["MM3.3.1",null,null,"Process flow charts do not include Storage areas and material flow processes."]
["MM3.3.2",null,null,"Process flow charts include Storage areas and material flow processes."]
["MM3.3.3",null,null,"Storage areas are identified and organized."]
["MM3.3.4",null,null,"Storage areas are identified and organized and match Process Flow charts."]
["MM3.3.5",null,null,"NA"]
["MM3.4",null,"Potential failure modes"]
["MM3.4.1",null,null,"No potential failure modes related to material  handling are considered in PFMEA."]
["MM3.4.2",null,null,"Potential failure modes related to material  handling are considered in PFMEA."]
["MM3.4.3",null,null,"Potential failure modes related to material storage and handling are considered in PFMEA."]
["MM3.4.4",null,null,"Most failure modes related to material storage and handling are considered in PFMEA."]
["MM3.4.5",null,null,"NA"]
["MME","Indicators are defined and tracked to ensure effectiveness of material flow management"]
["MME.1",null,"Indicators of delivery compliance"]
["MME.1.1",null,null,"Indicators of Inventory"]
["MME.1.2",null,null,"Indicators of Schedule compliance"]
["MME.1.3",null,null,"Indicators of supplier delivery compliance"]
["MME.1.4",null,null,"Indicators concerning availability of packaging."]
["MME.1.5",null,null,"NA"]

{"sheet":"NC","index":45,"n_rows":135,"n_cols":6,"rows_kept":135,"cut":false,"hidden":true,"merged":[]}
[]
["NC","Non-conforming Material & Identification"]
[]
["NC1.0","Traceability rules "]
["NC1.1",null,"Traceability Requirements"]
["NC1.1.1",null,null,"No Traceability requirements are not defined."]
["NC1.1.2",null,null,"Traceability requirements are defined minimum identified lot size one per shift."]
["NC1.1.3",null,null,"Traceability processes are in place and meet customer requirements in NSR."]
["NC1.1.4",null,null,"Traceability processes are verified to  meet customer requirements."]
["NC1.1.5",null,null,"NA"]
["NC1.2",null,"Quality Status of the product"]
["NC1.2.1",null,null,"No part tagging procedure available."]
["NC1.2.2",null,null,"Part tagging procedures are defined."]
["NC1.2.3",null,null,"Part tagging and identification procedures are in place."]
["NC1.2.4",null,null,"Parts are tagged with all appropriate information and status known"]
["NC1.2.5",null,null,"NA"]
["NC1.3",null,"Equipment and stock areas are designed for FIFO"]
["NC1.3.1",null,null,"No standard for marking storage areas."]
["NC1.3.2",null,null,"A standard for marking storage areas exists."]
["NC1.3.3",null,null,"Defined storage areas meet facility marking standard."]
["NC1.3.4",null,null,"Material is clearly FIFO and meets storage area standard."]
["NC1.3.5",null,null,"NA"]
["NC1.4",null,"Material flow rules"]
["NC1.4.1",null,null,"No plan for FIFO of each material exists."]
["NC1.4.2",null,null,"A plan for FIFO of each material exists."]
["NC1.4.3",null,null,"Material FIFO processes are supported with work instructions."]
["NC1.4.4",null,null,"All materials are clearly in identified locations and following rules of FIFO."]
["NC1.4.5",null,null,"NA"]
["NC2.0","Material Segregation"]
["NC2.1",null,"Tagging & Visual Management"]
["NC2.1.1",null,null,"No procedure for identifying and handling NOK materials."]
["NC2.1.2",null,null,"A procedure for identification and handling of NOK material exists."]
["NC2.1.3",null,null," All NOK material is identified and in defined locations."]
["NC2.1.4",null,null,"NOK material is marked, secured, and in a defined location away from production material."]
["NC2.1.5",null,null,"NA"]
["NC2.2",null,"Sample checks find NOK part, containment procedures executed",null,null,"CNC3.1"]
["NC2.1.1",null,null,"No sample check procedure is in place."]
["NC2.1.2",null,null,"Sample check procedure is in place."]
["NC2.1.3",null,null,"In process checks are being performed based on work instructions.",null,"CNC3.2"]
["NC2.1.4",null,null,"A containment and reconciliation process is executed when a sample check fails."]
["NC2.1.5",null,null,"NA"]
["NC2.3",null,"Scrap and suspect material",null,null," "]
["NC2.3.1",null,null,"No procedure exists for identifying and handling suspect materials."]
["NC2.3.2",null,null,"A procedure exists for identifying and handling suspect materials."]
["NC2.3.3",null,null,"Suspect materials are identified and in defined locations away from production material."]
["NC2.3.4",null,null,"All personnel are trained on proper handling & identification procedures of scrap and suspect material."]
["NC2.3.5",null,null,"NA"]
["NC2.4",null,"NOK parts segregated"]
["NC2.4.1",null,null,"No procedure for the storage and disposition of suspect and NOK material."]
["NC2.4.2",null,null,"A procedure exists for the storage and disposition of suspect and NOK material."]
["NC2.4.3",null,null,"The procedure complies with applicable customer specified controls for NOK parts (8.7.1.2)"]
["NC2.4.4",null,null,"NOK & suspect material is held in a secured area and dispositioned in a timely manner. "]
["NC2.4.5",null,null,"NA"]
["NC3.0","Reaction and Escalation"]
["NC3.1",null,"Alarm Limits"]
["NC3.1.1",null,null,"No alarm limits are in place."]
["NC3.1.2",null,null,"Alarm limits based on type and number of defect found are established."]
["NC3.1.3",null,null,"Alarm limits based on type and number of defects are tracked."]
["NC3.1.4",null,null,"Escalation process is initiated and documented  when Alarm limits are reached."]
["NC3.1.5",null,null,"NA"]
["NC3.2",null,"Escalation procedure defined"]
["NC3.2.1",null,null,"No Alarm escalation procedure is in place"]
["NC3.2.2",null,null,"Alarm limit escalation procedure is defined and documented."]
["NC3.2.3",null,null,"Escalation procedure is followed when alarm limit is reached."]
["NC3.2.4",null,null,"Escalation procedure training is documented."]
["NC3.2.5",null,null,"NA"]
["NC3.3",null,"Reaction plan is defined"]
["NC3.3.1",null,null,"No reaction plan is defined in procedure"]
["NC3.3.2",null,null,"Immediate reaction plan is defined including actions taken, breakpoint & upstream reaction. "]
["NC3.3.3",null,null,"Immediate reaction plan is executed and recorded. "]
["NC3.3.4",null,null,"Results of controls are recorded. A real-time follow up of results is applied."]
["NC3.3.5",null,null,"NA"]
["NC3.4",null,"Escalation personnel identified"]
["NC3.4.1",null,null,"Personnel are not specified in an escalation procedure"]
["NC3.4.2",null,null,"Personnel are specified in an escalation procedure"]
["NC3.4.3",null,null,"The personnel responsible for escalation are identified and knowledgeable"]
["NC3.4.4",null,null,"The personnel responsible for escalation effectively respond"]
["NC3.4.5",null,null,"NA"]
["NC4","Containment"]
["NC4.1",null,"Containment Worksheet"]
["NC4.1.1",null,null,"No standard containment process and containment worksheet exists."]
["NC4.1.2",null,null,"A standard containment process and containment worksheet exists."]
["NC4.1.3",null,null,"Containment worksheets identify all storage locations."]
["NC4.1.4",null,null,"Containment worksheets are being completed properly for all significant issues."]
["NC4.1.5",null,null,"NA"]
["NC4.2",null,"Containment Area"]
["NC4.2.1",null,null,"No containment area is clearly identified."]
["NC4.2.2",null,null,"A containment area is clearly identified."]
["NC4.2.3",null,null,"Standardized work instructions for maintaining the containment area are being followed."]
["NC4.2.4",null,null,"Containment area is reviewed daily to assure compliance."]
["NC4.2.5",null,null,"NA"]
["NC4.3",null,"Containment Process"]
["NC4.3.1",null,null,"No procedure to identify containment material."]
["NC4.3.2",null,null,"A procedure to identify containment material is developed."]
["NC4.3.3",null,null,"Materials are marked and contained in identified containment locations."]
["NC4.3.4",null,null,"All stock is marked or tagged in containment area and disposition target is set."]
["NC4.3.5",null,null,"NA"]
["NC4.4",null,"Disposition"]
["NC4.4.1",null,null,"No containment actions are defined on worksheet."]
["NC4.4.2",null,null,"Containment actions are defined on worksheet."]
["NC4.4.3",null,null,"Containment worksheet defines actions needed but not fully executed."]
["NC4.4.4",null,null,"All suspect material is contained to defined areas"]
["NC4.4.5",null,null,"NA"]
["NC5","Rework or (repair) including sub component reuse"]
["NC5.1",null,"Authorized rework has PPAP"]
["NC5.1.1",null,null,"No documented rework process exists."]
["NC5.1.2",null,null,"Documented rework process exists and approved by customer."]
["NC5.1.3",null,null,"Rework parts are clearly identified as reworked."]
["NC5.1.4",null,null,"Rework process is documented properly, parts tagged, and process approved by customer"]
["NC5.1.5",null,null,"NA"]
["NC5.2",null,"Failure modes of rework are PFMEA"]
["NC5.2.1",null,null,"No rework process is included in PFMEA."]
["NC5.2.2",null,null,"Rework process is included in PFMEA."]
["NC5.2.3",null,null,"PFMEA does not include all failure modes"]
["NC5.2.4",null,null,"Rework is address in PFMEA with well defined exit and entrance points in process"]
["NC5.2.5",null,null,"NA"]
["NC5.3",null,"Reintroduction of reworked parts"]
["NC5.3.1",null,null,"There is no process for reintroduces parts prior to original exit step"]
["NC5.3.2",null,null,"Process reintroduces parts prior to original exit step"]
["NC5.3.3",null,null,"All markings, tracking, and insertion points are defined in a requirement"]
["NC5.3.4",null,null,"Process is compliant to requirement.  "]
["NC5.3.5",null,null,"NA"]
["NC5.4",null,"Rework Operation"]
["NC5.4.1",null,null,"There is no process defined for rework"]
["NC5.4.2",null,null,"Rework Process has standardized work including re-inspection and traceability"]
["NC5.4.3",null,null,"Rework controls are defined and executed by appropriate trained personnel"]
["NC5.4.4",null,null,"Rework controls include identification and traceability requirements"]
["NC5.4.5",null,null,"NA"]
["NCE","Improvement Targets"]
["NCE.1",null,"Performance metrics"]
["NCE.1.1",null,null,"No performance metrics are defined."]
["NCE.1.2",null,null,"Performance metrics are defined."]
["NCE.1.3",null,null,"Performance metrics are up to date, tracked, or used for continuous improvement."]
["NCE.1.4",null,null,"Metrics are regularly tracked and reviewed by staff with action plans."]
["NCE.1.5",null,null,"NA"]

{"sheet":"RR","index":46,"n_rows":110,"n_cols":4,"rows_kept":110,"cut":false,"hidden":true,"merged":[]}
[]
["RR","Risk Reduction"]
[]
["RR1.0","PFMEA developed and maintained"]
["RR1.1",null,"PFMEA is developed"]
["RR1.1.1",null,null,"No evidence of PFMEA revision history."]
["RR1.1.2",null,null,"Evidence of PFMEA revision history."]
["RR1.1.3",null,null,"Evidence of two employees creating/maintaining PFMEA."]
["RR1.1.4",null,null,"Evidence of three or more employee contact with FMEA (multiple functions)."]
["RR1.1.5",null,null,"NA"]
["RR1.2",null,"PFMEA available for all part numbers and operations"]
["RR1.2.1",null,null,"No operations and Part Numbers have evidence of PFMEA line items (PPAP)."]
["RR1.2.2",null,null,"All Operations and Part Numbers have evidence of PFMEA line items (PPAP)."]
["RR1.2.3",null,null,"PFMEA line items are bilateral for features where applicable (short v long / OS v US)."]
["RR1.2.4",null,null,"All PFMEA line item details are subjectively comprehensive in detail."]
["RR1.2.5",null,null,"NA"]
["RR1.3",null,"PFMEA is updated for quality issue"]
["RR1.3.1",null,null,"No problem solving method has before and after PFMEA Severity, Occurrence, and Detection."]
["RR1.3.2",null,null,"PFMEA is updated based on lessons from problem cases."]
["RR1.3.3",null,null,"PFMEA is updated based on lessons from other inputs (recalls, complaints etc.)"]
["RR1.3.4",null,null,"PFMEA is continuously updated from lessons learned on all problems"]
["RR1.3.5",null,null,"NA"]
["RR1.4",null,"Periodic reviews are scheduled"]
["RR1.4.1",null,null,"No evidence of PFMEA revisions."]
["RR1.4.2",null,null,"Evidence of PFMEA revisions due to external changes to product/process."]
["RR1.4.3",null,null,"Evidence of PFMEA revisions due to internal and external changes to product/process."]
["RR1.4.4",null,null,"Evidence of continuous revision to PFMEA for Occurrence changes using SPC, FTQ, or similar."]
["RR1.4.5",null,null,"NA"]
["RR2.0","Proactive approach for high risk items"]
["RR2.1",null,"High severity and high risk items"]
["RR2.1.1",null,null,"No evidence of any knowledge of performing risk priority sorting."]
["RR2.1.2",null,null,"Evidence of any knowledge of performing risk priority sorting."]
["RR2.1.3",null,null,"Evidence of high risk items having appropriate QCL symbols or rankings per design requirements."]
["RR2.1.4",null,null,"Evidence of appropriate controls per the QCL symbols or rankings in \"Current Process Controls Prevention\"."]
["RR2.1.5",null,null,"NA"]
["RR2.2",null,"Prioritization based on defined approach"]
["RR2.2.1",null,null,"No evidence of any knowledge of performing risk priority sorting."]
["RR2.2.2",null,null,"Evidence of any knowledge of performing risk priority sorting."]
["RR2.2.3",null,null,"Utilization of RPN number (Severity x Occurrence x Detection)."]
["RR2.2.4",null,null,"Utilization of an additional sorting method (such as HPAD) to better define risk."]
["RR2.2.5",null,null,"NA"]
["RR2.3",null,"Recommended actions documented"]
["RR2.3.1",null,null,"No evidence of high risk items having corrective actions listed on PFMEA."]
["RR2.3.2",null,null,"Evidence of high risk items having corrective actions listed on PFMEA."]
["RR2.3.3",null,null,"Evidence of high risk items being tracked with corrective action and owner."]
["RR2.3.4",null,null,"Evidence of high risk corrective actions being completed on-time or ahead of schedule."]
["RR2.3.5",null,null,"NA"]
["RR2.4",null,"Quality tools are applied to mitigate risk"]
["RR2.4.1",null,null,"No evidence of high risk items having corrective actions listed on PFMEA."]
["RR2.4.2",null,null,"Evidence of high risk items having corrective actions listed on PFMEA."]
["RR2.4.3",null,null,"Evidence of alert to high risk items which corrective actions are not completed."]
["RR2.4.4",null,null,"Evidence of implemented countermeasures in place where corrective actions not completed (LPA,etc)."]
["RR2.4.5",null,null,"NA"]
["RR3.0","Reverse PFMEA process"]
["RR3.1",null,"Cross-functional team conducts on-stations review"]
["RR3.1.1",null,null,"No evidence of On-Station Reverse PFMEA being completed."]
["RR3.1.2",null,null,"Evidence of On-Station Reverse PFMEA being completed with cross functional team."]
["RR3.1.3",null,null,"On-Station Reverse PFMEA must be conducted on each Nexteer part minimum once per year."]
["RR3.1.4",null,null,"On-Station Reverse PFMEA being conducted weekly with Ops, Qual, Eng, & Mgt."]
["RR3.1.5",null,null,"NA"]
["RR3.2",null,"Schedule of reverse PFMEA"]
["RR3.2.1",null,null,"No evidence of On-Station Reverse PFMEA being completed."]
["RR3.2.2",null,null,"Evidence of On-Station Reverse PFMEA being completed."]
["RR3.2.3",null,null,"On-Station Reverse PFMEA being conducted regularly with cross-functional team."]
["RR3.2.4",null,null,"Schedule of Reverse PFMEA available along with logical explanation of why area/operation is selected."]
["RR3.2.5",null,null,"NA"]
["RR3.3",null,"Findings are driven back into Process Flow, PFMEA, Control Plan, Work Instructions"]
["RR3.3.1",null,null,"No evidence of findings contained within a list."]
["RR3.3.2",null,null,"Evidence of findings contained within a list."]
["RR3.3.3",null,null,"Evidence of corrective actions via Control Plan, PFMEA, or etc. revision history."]
["RR3.3.4",null,null,"Consistent findings due to Reverse PFMEA review being completed  within timeframe specified by supplier."]
["RR3.3.5",null,null,"NA"]
["RR3.4",null,"PFMEA Look across"]
["RR3.4.1",null,null,"No Look across is performed on Risk Reduction findings"]
["RR3.4.2",null,null,"Look across is part of the PFMEA review process"]
["RR3.4.3",null,null,"Look across is performed on most Risk Reduction findings"]
["RR3.4.4",null,null,"Look across is performed on All Risk Reduction findings"]
["RR3.4.5",null,null,"NA"]
["RR4","Assess potential risks which could impact the plant"]
["RR4.1",null,"Process to evaluate and control risk "]
["RR4.1.1",null,null,"No evidence of a form of overall risk assessment of facility."]
["RR4.1.2",null,null,"Evidence of a form of overall risk assessment of facility."]
["RR4.1.3",null,null,"Evidence of an annual review of facility risk assessment."]
["RR4.1.4",null,null,"Evidence of risk prevention or mitigation plan tested regularly for accuracy (ex. Annual power outage simulation)."]
["RR4.1.5",null,null,"NA"]
["RR4.2",null,"Tool to identify, evaluate and prioritize risk"]
["RR4.2.1",null,null,"No evidence of a form of overall risk assessment of facility."]
["RR4.2.2",null,null,"Evidence of a form of overall risk assessment of facility."]
["RR4.2.3",null,null,"Required corrective actions from risk assessment are kept on a list until completed."]
["RR4.2.4",null,null,"Required corrective actions are identified with owner and required/estimated completion date."]
["RR4.2.5",null,null,"NA"]
["RR4.3",null,"Prevention and reaction plans"]
["RR4.3.1",null,null,"No evidence of a form of overall risk assessment of facility."]
["RR4.3.2",null,null,"Evidence of a form of overall risk assessment of facility."]
["RR4.3.3",null,null,"A structured tool is used to evaluate risk such as a PFMEA or catastrophic risk assessment form."]
["RR4.3.4",null,null,"The evaluation is scheduled for periodic review."]
["RR4.3.5",null,null,"NA"]
["RR4.4",null,"Notification Process"]
["RR4.4.1",null,null,"No process is defined to communicate catastrophic issues to customer"]
["RR4.4.2",null,null," A process is defined to communicate catastrophic issues to interested parties"]
["RR4.4.3",null,null,"The notification to interested parties has required information to define the situation"]
["RR4.4.4",null,null,"The organization reviews the process to communicate yearly"]
["RR4.4.5",null,null,"NA"]
["RRE","Targets are defined to ensure effectiveness  and efficiency of risk reduction activity"]
["RRE.1",null,"Tracking number of high risk items"]
["RRE.1.1",null,null,"No high risk items identified are being tracked."]
["RRE.1.2",null,null,"High risk items identified are being tracked."]
["RRE.1.3",null,null,"A visual tool being used to show effectiveness of risk reduction."]
["RRE.1.4",null,null,"Visual effectiveness tool is being used (and regularly updated) to show typology and count of high risk items as well as trend chart to show effectiveness."]
["RRE.1.5",null,null,"NA"]

{"sheet":"SC","index":47,"n_rows":110,"n_cols":4,"rows_kept":110,"cut":false,"hidden":true,"merged":[]}
[]
["SC","Supply Chain Management"]
[]
["SC1.0","Procedures to select and evaluate suppliers"]
["SC1.1",null,"Procedures require supplier audits"]
["SC1.1.1",null,null,"No procedures exist to select and evaluate suppliers for sourcing decisions."]
["SC1.1.2",null,null,"Procedures exist to select and evaluate suppliers for sourcing decisions."]
["SC1.1.3",null,null,"Procedures include supplier audits and evaluation of their systems."]
["SC1.1.4",null,null,"Supplier selection procedures are effectively implemented."]
["SC1.1.5",null,null,"NA"]
["SC1.2",null,"Criteria to become a sourceable supplier is defined"]
["SC1.2.1",null,null,"No criteria to become a sourceable supplier is defined."]
["SC1.2.2",null,null,"Criteria to become a sourceable supplier is defined."]
["SC1.2.3",null,null,"Criteria used to source a supplier is measured."]
["SC1.2.4",null,null,"Criteria used to source a supplier is effective."]
["SC1.2.5",null,null,"NA"]
["SC1.3",null,"Supplier Monitoring"]
["SC1.3.1",null,null,"Supplier performance is not monitored"]
["SC1.3.2",null,null,"A process is in place to monitor supplier performance"]
["SC1.3.3",null,null,"All CQI procedures required for the supplier are compliant."]
["SC1.3.4",null,null,"Requirements for IATF 8.4.2.4 are met"]
["SC1.3.5",null,null,"NA"]
["SC1.4",null,"QMS development"]
["SC1.4.1",null,null,"No QMS system in place"]
["SC1.4.2",null,null,"ISO9001  third party certification"]
["SC1.4.3",null,null,"MAQMSR certified"]
["SC1.4.4",null,null,"IATF third party certified"]
["SC1.4.5",null,null,"NA"]
["SC2.0","Customer requirements are cascaded"]
["SC2.1",null,"Customer specific requirements are implements"]
["SC2.1.1",null,null,"No procedures require customer specific requirements to be implemented at tier suppliers."]
["SC2.1.2",null,null,"Procedures require customer specific requirements to be implemented at tier suppliers."]
["SC2.1.3",null,null,"Customer specific requirements are passed to tier suppliers."]
["SC2.1.4",null,null,"Customer specific requirements are implemented at tier suppliers."]
["SC2.1.5",null,null,"NA"]
["SC2.2",null,"Tiered supplier comply to product specifications"]
["SC2.1.1",null,null,"No procedures require tiered suppliers to comply to product and process validation requirements."]
["SC2.1.2",null,null,"Procedures require tiered suppliers to comply to product and process validation requirements."]
["SC2.1.3",null,null,"Product and process validation requirements are passed to tiered suppliers."]
["SC2.1.4",null,null,"Tiered suppliers comply to product and process validation requirements."]
["SC2.1.5",null,null,"NA"]
["SC2.3",null,"Key and pass through characteristics"]
["SC2.3.1",null,null,"No key and Pass Through characteristics are identified."]
["SC2.3.2",null,null,"Key and Pass Through characteristics are identified."]
["SC2.3.3",null,null,"Key and Pass Through characteristics are controlled."]
["SC2.3.4",null,null,"Key and Pass Through characteristics are identified, shared and controlled with tier supplier."]
["SC2.3.5",null,null,"NA"]
["SC2.4",null,"All design and process changes are communicated"]
["SC2.4.1",null,null,"No procedures require design and process changes to be communicated."]
["SC2.4.2",null,null,"Procedures require design and process changes to be communicated."]
["SC2.4.3",null,null,"A system for communication of design and process changes between suppliers is in place."]
["SC2.4.4",null,null,"All design and process changes are documented and communicated."]
["SC2.4.5",null,null,"NA"]
["SC3.0","Escalation process"]
["SC3.1",null,"Parts with deviation "]
["SC3.1.1",null,null,"No process is defined to process formal deviation requests."]
["SC3.1.2",null,null,"A process is defined to process formal deviation requests."]
["SC3.1.3",null,null,"All  part deviations follow the formal deviation process."]
["SC3.1.4",null,null,"For parts with deviation, tier 1 validates the formal deviation request."]
["SC3.1.5",null,null,"NA"]
["SC3.2",null,"Quality issue problem solving "]
["SC3.2.1",null,null,"No quality issue problem solving program is implemented for tiered suppliers."]
["SC3.2.2",null,null,"Quality issue problem solving program is implemented for tiered suppliers."]
["SC3.2.3",null,null,"Supplier quality issues are reviewed & documented in Fast Response."]
["SC3.2.4",null,null,"Supplier Quality problem solving is implemented, action plans verified, due dates are kept."]
["SC3.2.5",null,null,"NA"]
["SC3.3",null,"Approved supplier performance list"]
["SC3.3.1",null,null,"No supplier performance indicators are defined."]
["SC3.3.2",null,null,"Supplier performance indicators are defined."]
["SC3.3.3",null,null,"A process is in place to track approved supplier's performance."]
["SC3.3.4",null,null,"Action plans are in place to improve supplier performance problems."]
["SC3.3.5",null,null,"NA"]
["SC3.4",null,"Tiered supplier management"]
["SC3.4.1",null,null,"communication between tiers is not standardized"]
["SC3.4.2",null,null,"Tiered suppliers have escalation and problem solving processes defined"]
["SC3.4.3",null,null,"Tiered suppliers communicate problems"]
["SC3.4.4",null,null,"Tiered suppliers effectively communicate problems using standard forms"]
["SC3.4.5",null,null,"NA"]
["SC4","Incoming inspection"]
["SC4.1",null,"Control plan established "]
["SC4.1.1",null,null,"No incoming inspection control standards are established for critical products."]
["SC4.1.2",null,null,"Incoming inspection control standards are established for critical products."]
["SC4.1.3",null,null,"Incoming inspection is completed for critical products."]
["SC4.1.4",null,null,"Incoming inspection control is documented and action plans developed for all deviations."]
["SC4.1.5",null,null,"NA"]
["SC4.2",null,"Approved components/material used for assembled part"]
["SC4.2.1",null,null,"No use of PPAP approved parts is controlled at incoming inspection."]
["SC4.2.2",null,null,"Use of PPAP approved parts is controlled at incoming inspection."]
["SC4.2.3",null,null,"Approved part deviations are escalated and contained."]
["SC4.2.4",null,null,"Use of approved components/material is assured."]
["SC4.2.5",null,null,"NA"]
["SC4.3",null,"Part inspection requirement"]
["SC4.3.1",null,null,"No part inspection requirements are defined in procedures or instructions."]
["SC4.3.2",null,null,"Part inspection requirements are defined in procedures or instructions."]
["SC4.3.3",null,null,"Part inspection requirements are implemented by trained personnel."]
["SC4.3.4",null,null,"Part inspection requirement deviations are escalated and contained."]
["SC4.3.5",null,null,"NA"]
["SC4.4",null,"Part traceability"]
["SC4.4.1",null,null,"Traceability requirements are not met"]
["SC4.4.2",null,null,"Traceability requirements are defined in the control plan"]
["SC4.4.3",null,null,"Traceability requirements are documented on process control documents"]
["SC4.4.4",null,null,"All traceability requirements are met"]
["SC4.4.5",null,null,"NA"]
["SCE","Tier supplier targets and performance is tracked"]
["SCE.1",null,"Tier performance result is tracked"]
["SCE.1.1",null,null,"No supply chain metrics are tracked"]
["SCE.1.2",null,null,"Supply chain metrics are defined"]
["SCE.1.3",null,null,"Tier performance result (ppm, rate of complaints, IpB, delivery...)is tracked."]
["SCE.1.4",null,null,"Tier performance results is part of management review"]
["SCE.1.5",null,null,"NA"]

{"sheet":"SU","index":48,"n_rows":96,"n_cols":4,"rows_kept":96,"cut":false,"hidden":true,"merged":[]}
[]
["SU","Sustainability"]
[]
["SU1.0","Overall Sustainability Concept"]
["SU1.1",null,"Does the supplier understand the concept of Sustainability?"]
["SU1.1.1",null,null,"No"]
["SU1.1.2",null,null,"Yes"]
["SU1.1.3",null,null,"*"]
["SU1.2",null,"Does the supplier manage/set targets/have an internal standard for Corruption and Bribary?"]
["SU1.2.1",null,null,"No"]
["SU1.2.2",null,null,"Yes"]
["SU1.2.3",null,null,"*"]
["SU1.3",null,"Does the supplier manage/set targets/have an internal standard for Basic Human Rights?"]
["SU1.3.1",null,null,"No"]
["SU1.3.2",null,null,"Yes"]
["SU1.3.3",null,null,"*"]
["SU1.4",null,"Does the supplier manage/set targets/have an internal standard for Freedom of Association?"]
["SU1.4.1",null,null,"No"]
["SU1.4.2",null,null,"Yes"]
["SU1.4.3",null,null,"*"]
["SU1.5",null,"Does the supplier manage/set targets/have an internal standard for Child Labor?"]
["SU1.5.1",null,null,"No"]
["SU1.5.2",null,null,"Yes"]
["SU1.5.3",null,null,"*"]
["SU1.6",null,"Does the supplier manage/set targets/have an internal standard for Forced or Compulsory Labor?"]
["SU1.6.1",null,null,"No"]
["SU1.6.2",null,null,"Yes"]
["SU1.6.3",null,null,"*"]
["SU1.7",null,"Does the supplier manage/set targets/have an internal standard for Non-discrimination?"]
["SU1.7.1",null,null,"No"]
["SU1.7.2",null,null,"Yes"]
["SU1.7.3",null,null,"*"]
["SU1.8",null,"Does the supplier manage/set targets/have an internal standard for Fair Working Conditions?"]
["SU1.8.1",null,null,"No"]
["SU1.8.2",null,null,"Yes"]
["SU1.8.3",null,null,"*"]
["SU1.9",null,"Does the supplier manage/set targets/have an internal standard for Training and Development?"]
["SU1.9.1",null,null,"No"]
["SU1.9.2",null,null,"Yes"]
["SU1.9.3",null,null,"*"]
["SU1.10",null,"Does the supplier manage/set targets/have an internal standard for Health and Safety in the Workplace?"]
["SU1.10.1",null,null,"No"]
["SU1.10.2",null,null,"Yes"]
["SU1.10.3",null,null,"*"]
["SU1.11",null,"Does the supplier manage/set targets/have an internal standard for Environmental Protection?"]
["SU1.11.1",null,null,"No"]
["SU1.11.2",null,null,"Yes"]
["SU1.11.3",null,null,"*"]
["SU1.12",null,"Does the supplier manage/set targets/have an internal standard for Sustainability in the Supply Chain?"]
["SU1.12.1",null,null,"No"]
["SU1.12.2",null,null,"Yes"]
["SU1.12.3",null,null,"*"]
["SU2.0","Supplier Legal Complience"]
["SU2.1",null,"Is the supplier compliant with applicable legislation in the areas of bribary/corruption, money laundering, infringement of data protection, insider trading, conflicts of interest, anti-corruption activities, unethical contract tendering?"]
["SU2.1.1",null,null,"No"]
["SU2.1.2",null,null,"Yes"]
["SU2.1.3",null,null,"*"]
["SU2.2",null,"Is the supplier free of any judgements or enforcement actions in any of these areas?"]
["SU2.2.1",null,null,"No"]
["SU2.2.2",null,null,"Yes"]
["SU2.2.3",null,null,"*"]
["SU3.0","Employment Compliance"]
["SU3.1",null,"Does supplier employ policies against child labor, forced, or bonded labor?"]
["SU3.1.1",null,null,"No"]
["SU3.1.2",null,null,"Yes"]
["SU3.1.3",null,null,"*"]
["SU3.2",null,"Does supplier comply with local legislation on human rights?"]
["SU3.2.1",null,null,"No"]
["SU3.2.2",null,null,"Yes"]
["SU3.2.3",null,null,"*"]
["SU3.3",null,"Does supplier comply with local legislation on working conditions (including contract of employment, working hours, etc.)?"]
["SU3.3.1",null,null,"No"]
["SU3.3.2",null,null,"Yes"]
["SU3.3.3",null,null,"*"]
["SU4.0","Health & Safety"]
["SU4.1",null,"Does supplier have a Health and Safety Management System?"]
["SU4.1.1",null,null,"No"]
["SU4.1.2",null,null,"Yes"]
["SU4.1.3",null,null,"*"]
["SU4.2",null,"Does the supplier systematically assess risk and measure health and safety performance?"]
["SU4.2.1",null,null,"No"]
["SU4.2.2",null,null,"Yes"]
["SU4.2.3",null,null,"*"]
["SU4.3",null,"Is the health and safety policy extended to the sub-tiers?"]
["SU4.3.1",null,null,"No"]
["SU4.3.2",null,null,"Yes"]
["SU4.3.3",null,null,"*"]
["SU5.0","Environmental Management System"]
["SU5.1",null,"Does the suplier have an environmental management system?"]
["SU5.1.1",null,null,"No"]
["SU5.1.2",null,null,"Yes"]
["SU5.1.3",null,null,"*"]
["SU5.2",null,"Does the supplier have an environmental policy statement and is it communicated to the employees?"]
["SU5.2.1",null,null,"No"]
["SU5.2.2",null,null,"Yes"]
["SU5.2.3",null,null,"*"]

{"sheet":"SW","index":49,"n_rows":135,"n_cols":4,"rows_kept":135,"cut":false,"hidden":true,"merged":[]}
[]
["SW","Standardized work"]
[]
["SW1.0","Workplace Safety"]
["SW1.1",null,"Safety standards"]
["SW1.1.1",null,null,"No safety standards are defined for each workplace."]
["SW1.1.2",null,null,"Safety standards are defined for each workplace."]
["SW1.1.3",null,null,"Minor nonconformances are observed to safety standards at workplaces."]
["SW1.1.4",null,null,"Operators 100% comply to safety standards at each workplace."]
["SW1.1.5",null,null,"NA"]
["SW1.2",null,"Layout considers safety"]
["SW1.2.1",null,null,"No standards for design of facility layout considers safety aspects are available."]
["SW1.2.2",null,null,"Standards for design of facility layout considers safety aspects to avoid potential safety risk."]
["SW1.2.3",null,null,"Minor nonconformances are observed to layout safety standards."]
["SW1.2.4",null,null,"Standards for design of facility are 100% in place to avoid potential safety risks."]
["SW1.2.5",null,null,"NA"]
["SW1.3",null,"Ergonomics"]
["SW1.3.1",null,null,"No rules related to ergonomics are defined."]
["SW1.3.2",null,null,"Rules related to ergonomics are defined."]
["SW1.3.3",null,null,"Rules related to ergonomics are defined and applied but \"uncomfortable\" workstations exist."]
["SW1.3.4",null,null,"Rules related to ergonomics are defined and applied to all workstations."]
["SW1.3.5",null,null,"NA"]
["SW1.4",null,"Workstation design"]
["SW1.4.1",null,null,"Standard procedures do not include operator involvement in workstation design."]
["SW1.4.2",null,null,"Standard procedures include operator involvement in workstation design."]
["SW1.4.3",null,null,"Evidence exists that there are workstation design and improvement initiatives"]
["SW1.4.4",null,null,"Evidence exists that operators are involved in workstation design and improvement initiatives"]
["SW1.4.5",null,null,"NA"]
["SW2.0","Workplace Organization"]
["SW2.1",null,"Organization of workplace"]
["SW2.1.1",null,null,"The facility has no standard for workplace design."]
["SW2.1.2",null,null,"The facility has standard for workplace design including material handling, stock flow & FIFO."]
["SW2.1.3",null,null,"The facilities workplaces are organized and material flow in clear."]
["SW2.1.4",null,null,"Organization of workplaces ensure compliance with the FIFO and buffers."]
["SW2.1.5",null,null,"NA"]
["SW2.2",null,"Systematic approach"]
["SW2.1.1",null,null,"The facility has no standard for workplace organization (5S)."]
["SW2.1.2",null,null,"The facility has a standard for workplace organization (5S)."]
["SW2.1.3",null,null,"The workplace organization standard is implemented."]
["SW2.1.4",null,null,"Systematic approach to workplace organization is implemented and sustained."]
["SW2.1.5",null,null,"NA"]
["SW2.3",null,"Shop floor"]
["SW2.3.1",null,null,"No visual standard for workplace organization is developed for use on the shop floor."]
["SW2.3.2",null,null,"A visual standard for workplace organization is developed for use on the shop floor."]
["SW2.3.3",null,null,"The visual standard for workplace organization is in place on the shop floor."]
["SW2.3.4",null,null,"The visual standard for workplace organization is 100% effective on the shop floor."]
["SW2.3.5",null,null,"NA"]
["SW2.4",null,"Continuous improvement/waste elimination"]
["SW2.4.1",null,null,"No continuous improvement/waste elimination program."]
["SW2.4.2",null,null,"A continuous improvement/waste elimination program is defined."]
["SW2.4.3",null,null,"A continuous improvement/waste elimination program is being executed."]
["SW2.4.4",null,null,"Continuous improvement/waste elimination action plans exist."]
["SW2.4.5",null,null,"NA"]
["SW3.0","Work Instructions"]
["SW3.1",null,"Standardized work instructions (SWI)"]
["SW3.1.1",null,null,"No standard for operator work Instructions is defined."]
["SW3.1.2",null,null,"A standard for operator work Instructions is defined."]
["SW3.1.3",null,null,"Standardized Work Instructions (SWI) are available and accurately reflect all operations."]
["SW3.1.4",null,null,"SWI for visual control clearly define critical areas to be checked where a defect can occur."]
["SW3.1.5",null,null,"NA"]
["SW3.2",null,"Revision history"]
["SW3.2.1",null,null,"Revision history is not part of the work instruction standard."]
["SW3.2.2",null,null,"Revision history is part of the work instruction standard."]
["SW3.2.3",null,null,"Revision history is maintained and up to date with current practice."]
["SW3.2.4",null,null,"Revision history is maintained and accurately reflects current change control status."]
["SW3.2.5",null,null,"NA"]
["SW3.3",null,"SWI by cross-functional team"]
["SW3.3.1",null,null,"The standard process to develop work instructions does not include a cross-functional team."]
["SW3.3.2",null,null,"The standard process to develop work instructions include a cross-functional team."]
["SW3.3.3",null,null,"Work instructions are developed by cross-functional team."]
["SW3.3.4",null,null,"Work instructions developed by cross-functional team and include all necessary information."]
["SW3.3.5",null,null,"NA"]
["SW3.4",null,"What, How and Why"]
["SW3.4.1",null,null,"The standard for work element instruction does not includes What, How & Why."]
["SW3.4.2",null,null,"The standard for work element instruction includes What, How & Why."]
["SW3.4.3",null,null,"Work element instructions include What, How & Why."]
["SW3.4.4",null,null,"Work element instructions effectively communicate What, How & Why."]
["SW3.4.5",null,null,"NA"]
["SW4","Start of Production Validation"]
["SW4.1",null,"Start up productions"]
["SW4.1.1",null,null,"No start-up instructions are documented for manufacturing operations, tool change and set up."]
["SW4.1.2",null,null,"Start-up instructions are documented for manufacturing operations, tool change and set up."]
["SW4.1.3",null,null,"Start-up instructions are available for manufacturing operations, tool change and set up."]
["SW4.1.4",null,null,"Start-up instructions reflect current practice for manufacturing operation, tool change and set up."]
["SW4.1.5",null,null,"NA"]
["SW4.2",null,"Start up process"]
["SW4.2.1",null,null,"No start-up process is documented for start of shift, change over & after production stop."]
["SW4.2.2",null,null,"A start-up process is documented for start of shift, change over & after production stop."]
["SW4.2.3",null,null,"A start-up process is in place for start of shift, change over & after production stop."]
["SW4.2.4",null,null,"A start-up process is effectively applied at start of shift, change over & after production stop."]
["SW4.2.5",null,null,"NA"]
["SW4.3",null,"Start up instruction"]
["SW4.3.1",null,null,"No start-up instructions include a list of the checking tasks to be carried out."]
["SW4.3.2",null,null,"Start-up instructions include a list of the checking tasks to be carried out."]
["SW4.3.3",null,null,"Start-up checking tasks are completed."]
["SW4.3.4",null,null,"Start-up checking tasks are effectively completed and recorded."]
["SW4.3.5",null,null,"NA"]
["SW4.4",null,"First-off parts validation"]
["SW4.4.1",null,null,"No procedure for first-off parts validation and traceability is developed."]
["SW4.4.2",null,null,"A procedure for first-off parts validation and traceability is developed."]
["SW4.4.3",null,null,"The procedure for first-off parts validation and traceability is in place."]
["SW4.4.4",null,null,"The procedure for first-off parts validation and traceability is effective and documented."]
["SW4.4.5",null,null,"NA"]
["SW5","Reference Samples"]
["SW5.1",null,"Definition of samples"]
["SW5.1.1",null,null,"No responsibility for reference samples is defined."]
["SW5.1.2",null,null,"Responsibility for reference samples is defined."]
["SW5.1.3",null,null,"Reference sample tolerances and decision criterion is established."]
["SW5.1.4",null,null,"Reference samples support the control plan effectively"]
["SW5.1.5",null,null,"NA"]
["SW5.2",null,"Samples clearly identified"]
["SW5.2.1",null,null,"Samples (physical) are not clearly identified and/or pictures are clear."]
["SW5.2.2",null,null,"Samples (physical) are clearly identified and/or pictures are clear."]
["SW5.2.3",null,null,"Good and bad reference samples are effectively stored."]
["SW5.2.4",null,null,"Good & bad samples are identified and in accordance with latest design and approval status."]
["SW5.2.5",null,null,"NA"]
["SW5.3",null,"Samples is referenced"]
["SW5.3.1",null,null,"No use of samples is referenced in instructions."]
["SW5.3.2",null,null,"Use of samples is referenced in instructions."]
["SW5.3.3",null,null,"All visual controls have good & bad samples referenced in instructions."]
["SW5.3.4",null,null,"Employees are trained on visual controls w/good & bad samples referenced in instructions."]
["SW5.3.5",null,null,"NA"]
["SW5.4",null,"Samples are reviewed"]
["SW5.4.1",null,null,"No procedure defines the period for sample review."]
["SW5.4.2",null,null,"A procedure defines the period for sample review."]
["SW5.4.3",null,null,"Samples are periodically reviewed."]
["SW5.4.4",null,null,"Samples are reviewed and preservation is assured."]
["SW5.4.5",null,null,"NA"]
["SWE","Targets defined and followed to optimize processes"]
["SWE.1",null,"Tracking of external/internal issues"]
["SWE.1.1",null,null,"Problem case(s) caused by lack of work instructions"]
["SWE.1.2",null,null,"Standard work instruction review is part of layered audit"]
["SWE.1.3",null,null,"External and internal issues created by not well defined working instruction are escalated to fast response"]
["SWE.1.4",null,null,"External and internal issues created by not well defined working instruction have action plans"]
["SWE.1.5",null,null,"NA"]

{"sheet":"TC","index":50,"n_rows":135,"n_cols":5,"rows_kept":135,"cut":false,"hidden":true,"merged":[]}
[null,null,null,null," "]
["TC","Terms and Conditions"]
[]
["TC1.0","Terms and Conditions"]
["TC1.1",null,"Non-Disclosure Agreement (NDA)"]
["TC1.1.1",null,null,"Don't agree on NDA. "]
["TC1.1.2"]
["TC1.1.3",null,null,"Haven't seen NDA."]
["TC1.1.4",null,null,"Seen and agreee on NDA."]
["TC1.1.5",null,null,"NA"]
["TC1.2",null,"Hold Production Pricing for 5 Years"]
["TC1.2.1",null,null,"No, don't agree to this clause. "]
["TC1.2.2"]
["TC1.2.3"]
["TC1.2.4",null,null,"Will hold/maintain production pricing for 5 years. "]
["TC1.2.5",null,null,"NA"]
["TC1.3",null,"Right to Audit/Inspect"]
["TC1.3.1",null,null,"No, don't agree to this clause. "]
["TC1.3.2"]
["TC1.3.3"]
["TC1.3.4",null,null,"Agree that Nexteer can come in and audit/inspect if there is an issue.  "]
["TC1.3.5",null,null,"NA"]
["TC1.4",null,"Consigned Material"]
["TC1.4.1",null,null,"Don't agree to maintain inventory records and hold year plus one year inventory. "]
["TC1.4.2"]
["TC1.4.3"]
["TC1.4.4",null,null,"Agrees to maintain inventory records and hold year plus one year inventory. "]
["TC1.4.5",null,null,"NA"]
["TC2.0","Context of the Organization"]
["TC2.1",null,"Quality System Certification"]
["TC2.1.1",null,null,"No Quality System Certification."]
["TC2.1.2",null,null,"Have ISO 9001."]
["TC2.1.3",null,null,"Have IATF 16949."]
["TC2.1.4",null,null,"Have IATF 16949 and fully comply."]
["TC2.1.5",null,null,"NA"]
["TC2.2",null,"Environmental Management Certification System"]
["TC2.2.1",null,null,"No Environmental Management Certification System."]
["TC2.2.2",null,null,"Have an Environmental Management Certification System but not ISO14001."]
["TC2.2.3",null,null,"ISO14001 is in place."]
["TC2.2.4",null,null,"ISO14001 is in place, and fully comply. "]
["TC2.1.5",null,null,"NA"]
["TC2.3",null,"Customer Specific Requirements"]
["TC2.3.1",null,null,"Not able to meet customer specific requirements."]
["TC2.3.2",null,null,"Able to meet customer specific requirements with long lead time."]
["TC2.3.3",null,null,"Able to meet customer specific requirements with little issues."]
["TC2.3.4",null,null,"Fully able to meet customer specific requirements."]
["TC2.3.5",null,null,"NA"]
["TC2.4",null,"Understanding Nexteer as an organization"]
["TC2.4.1",null,null,"Don't understand Nexteer's organization and goals."]
["TC2.4.2",null,null,"Understand the bare minimum of Nexteer's organization and goals."]
["TC2.4.3",null,null,"Understand most of Nexteer's organization and goals. "]
["TC2.4.4",null,null,"Fully understand Nexteer's organization and goals."]
["TC2.4.5",null,null,"NA"]
["TC3.0","Leadership"]
["TC3.1",null,"Corporate Responsibility"]
["TC3.1.1",null,null,"Show no signs of basic corporate responsibility."]
["TC3.1.2",null,null,"Show minimal signs of basic corporate responsibility."]
["TC3.1.3",null,null,"Show most of the signs of basic corporate responsibility. "]
["TC3.1.4",null,null,"Show all signs of basic corporate responsibility. "]
["TC3.1.5",null,null,"NA"]
["TC3.2",null,"General Quality Policy"]
["TC3.2.1",null,null,"No general quality policy is present."]
["TC3.2.2",null,null,"General quality policy is present."]
["TC3.2.3",null,null,"General quality policy is being used throughout the company."]
["TC3.2.4",null,null,"General quality policy is in place and being used effectively. "]
["TC3.2.5",null,null,"NA"]
["TC3.3",null,"Communication of the Quality Policy"]
["TC3.3.1",null,null,"No communication of the quality policy."]
["TC3.3.2",null,null,"Overall communication of the quality policy is present. "]
["TC3.3.3",null,null,"Communication of the quality policy is seen throughout the company. "]
["TC3.3.4",null,null,"Communication of the quality policy is seen throughout the company and effective. "]
["TC3.3.5",null,null,"NA"]
["TC3.4",null,"Organizational roles and responsibility"]
["TC3.4.1",null,null,"No one knows there responsibility and role in the company."]
["TC3.4.2",null,null,"Some know there responsibility and role in the company. "]
["TC3.4.3",null,null,"Most know there responsibility and role in the company. "]
["TC3.4.4",null,null,"Everyone knows there role and responsibility and role in the company. "]
["TC3.4.5",null,null,"NA"]
["TC4","Planning"]
["TC4.1",null,"Risk Analysis"]
["TC4.1.1",null,null,"No Risk Analysis is present."]
["TC4.1.2",null,null,"Risk Analysis is present."]
["TC4.1.3",null,null,"Risk Analysis is present and being used."]
["TC4.1.4",null,null,"Risk Analysis is being used effectively. "]
["TC4.1.5",null,null,"NA"]
["TC4.2",null,"Planning of Changes"]
["TC4.2.1",null,null,"No planning of changes is present."]
["TC4.2.2",null,null,"Planning of changes is present."]
["TC4.2.3",null,null,"Planning of changes is present and being used."]
["TC4.2.4",null,null,"Planning of changes is being used effectively. "]
["TC4.2.5",null,null,"NA"]
["TC4.3",null,"Quality Objectives and Planning"]
["TC4.3.1",null,null,"No quality objectives are present. "]
["TC4.3.2",null,null,"Quality objectives are present. "]
["TC4.3.3",null,null,"Some planning is used to reach quality objectives. "]
["TC4.3.4",null,null,"Planning used to reach quality objectives are effective. "]
["TC4.3.5",null,null,"NA"]
["TC4.4",null,"Contingency Plans"]
["TC4.4.1",null,null,"No Contingency Plans are present."]
["TC4.4.2",null,null,"Contingency Plans are present."]
["TC4.4.3",null,null,"Contingency Plans are present and being used. "]
["TC4.4.4",null,null,"Contingency Plans are being used effectively. "]
["TC4.4.5",null,null,"NA"]
["TC5","Support"]
["TC5.1",null,"People"]
["TC5.1.1",null,null,"Employees are not supportive of each other."]
["TC5.1.2",null,null,"Some employees are supportive of each other."]
["TC5.1.3",null,null,"Most employees are supportive of each other."]
["TC5.1.4",null,null,"All employees are supportive of each other. "]
["TC5.1.5",null,null,"NA"]
["TC5.2",null,"Measurement System Analysis"]
["TC5.2.1",null,null,"No Gage R&R is present."]
["TC5.2.2",null,null,"Gage R& R is implemented."]
["TC5.2.3",null,null,"Gage R&R is being used on all gages. "]
["TC5.2.4",null,null,"Gage R&R is being used and is effective. "]
["TC5.2.5",null,null,"NA"]
["TC5.3",null,"Plant, Facility and Equipment Planning"]
["TC5.3.1",null,null,"No planning is present."]
["TC5.3.2",null,null,"Some planning is used."]
["TC5.3.3",null,null,"Planning is being used throughout the company."]
["TC5.3.4",null,null,"Planning is used and is effective throughout the company. "]
["TC5.3.5",null,null,"NA"]
["TC5.4",null,"Record Retention"]
["TC5.4.1",null,null,"No Record Retention is present. "]
["TC5.4.2",null,null,"Record Retention is present. "]
["TC5.4.3",null,null,"Record Retention is present and somewhat useful."]
["TC5.4.4",null,null,"Records from the past can be found in a timely matter. "]
["TC5.4.5",null,null,"NA"]
["TCE","Effectiveness"]
["TCE1",null,"Agreement to terms and conditions"]
["TCE1.1.1",null,null,"Supplier does not agree to terms and conditions."]
["TCE1.1.2",null,null,"Supplier agrees to terms and conditions with exceptions."]
["TCE1.1.3",null,null,"Supplier agrees to terms and conditions ."]
["TCE1.1.4",null,null,"Supplier understands and agrees to terms and conditions."]
["TCE1.1.5",null,null,"NA"]

{"sheet":"TR","index":51,"n_rows":110,"n_cols":4,"rows_kept":110,"cut":false,"hidden":true,"merged":[]}
[]
["TR","Training"]
[]
["TR1.0","Training process is defined"]
["TR1.1",null,"Training process covers the staff"]
["TR1.1.1",null,null,"No training procedure covers the entire staff of manufacturing and all support functions."]
["TR1.1.2",null,null,"A training procedure covers the entire staff of manufacturing and all support functions."]
["TR1.1.3",null,null,"Training plans cover the entire staff of manufacturing and all support functions."]
["TR1.1.4",null,null,"Training plans are on schedule for the entire staff of manufacturing and all support functions"]
["TR1.1.5",null,null,"NA"]
["TR1.2",null,"Internal trainers"]
["TR1.2.1",null,null,"No procedure identifies who may conduct training and trainer certification."]
["TR1.2.2",null,null,"A procedure identifies who may conduct training and trainer certification."]
["TR1.2.3",null,null,"Internal trainers are identified and conduct training."]
["TR1.2.4",null,null,"Internal trainers are identified and qualified to ensure that only certified trainers train."]
["TR1.2.5",null,null,"NA"]
["TR1.3",null,"Graduating step "]
["TR1.3.1",null,null,"No graduating step training approach is designed for the facility."]
["TR1.3.2",null,null,"A graduating step training approach is designed for the facility."]
["TR1.3.3",null,null,"A graduating step approach is developed and applied for each training activity."]
["TR1.3.4",null,null,"Graduating step goals are developed and executed for each training activity."]
["TR1.3.5",null,null,"NA"]
["TR1.4",null,"On the job training"]
["TR1.4.1",null,null,"No process for hands-on training."]
["TR1.4.2",null,null,"A process for hands-on training is defined."]
["TR1.4.3",null,null,"Hands-on training is conducted with certified trainer present."]
["TR1.4.4",null,null,"Dedicated infrastructure (outside of the process) for hands-on training is available."]
["TR1.4.5",null,null,"NA"]
["TR2.0","Training Safety & Corporate Responsibility"]
["TR2.1",null,"Safety policy"]
["TR2.1.1",null,null,"No safety policy is defined and communicated to all staff memebers."]
["TR2.1.2",null,null,"A safety policy is defined and communicated to all staff memebers."]
["TR2.1.3",null,null,"A safety policy is visual within the facility for all employees and visitors."]
["TR2.1.4",null,null,"A safety handbook is available, periodically updated and training is assured."]
["TR2.1.5",null,null,"NA"]
["TR2.2",null,"Staff is trained"]
["TR2.1.1",null,null,"Not all of staff is trained in two levels: 1. General safety, 2. Individual job training."]
["TR2.1.2",null,null,"All staff is trained in two levels: 1. General safety, 2. Individual job training."]
["TR2.1.3",null,null,"General safety and individual job training records exist."]
["TR2.1.4",null,null,"General safety and individual job training is effective."]
["TR2.1.5",null,null,"NA"]
["TR2.3",null,"Visitors safety"]
["TR2.3.1",null,null,"No standard process for communicating safety requirements to visitors is established."]
["TR2.3.2",null,null,"A standard process for communicating safety requirements to visitors is established."]
["TR2.3.3",null,null,"Visitors safety standards & equipment are available."]
["TR2.3.4",null,null,"Visitors safety process is assured."]
["TR2.3.5",null,null,"NA"]
["TR2.4",null,"Corporate Responsibility Training"]
["TR2.4.1",null,null,"Corporate Responsibilty requirements for IATF are not complete"]
["TR2.4.2",null,null,"corporate responsibility training is defined"]
["TR2.4.3",null,null,"Anti Bribery, code of conduct and ethics training is provided"]
["TR2.4.4",null,null,"Corporate Responsibilty requirements for IATF are complete"]
["TR2.4.5",null,null,"NA"]
["TR3.0","Employee Training"]
["TR3.1",null,"Basic training"]
["TR3.1.1",null,null,"No procedure defines basic training to be provided to each new employee."]
["TR3.1.2",null,null,"A procedure defines basic training to be provided to each new employee."]
["TR3.1.3",null,null,"Basic training is given to each new employee."]
["TR3.1.4",null,null,"Basic training needs are reviewed annually."]
["TR3.1.5",null,null,"NA"]
["TR3.2",null,"Training is documented"]
["TR3.2.1",null,null,"No training needs are determined for each employee."]
["TR3.2.2",null,null,"Training needs are determined for each employee."]
["TR3.2.3",null,null,"Training is documented for each employee."]
["TR3.2.4",null,null,"Training is documented for each employee showing skill level, trainer, date of sign off."]
["TR3.2.5",null,null,"NA"]
["TR3.3",null,"Qualification levels established"]
["TR3.3.1",null,null,"No qualification levels for specific jobs are established."]
["TR3.3.2",null,null,"Qualification levels for specific jobs are established."]
["TR3.3.3",null,null,"A measurable criteria for qualification on each job is defined."]
["TR3.3.4",null,null,"Only qualified operators working on jobs is assured."]
["TR3.3.5",null,null,"NA"]
["TR3.4",null,"Employee refresher training"]
["TR3.4.1",null,null,"No procedure defining employee refresher training is developed."]
["TR3.4.2",null,null,"A procedure defining employee refresher training is developed."]
["TR3.4.3",null,null,"Documentation of employee refresher training exists."]
["TR3.4.4",null,null,"Employee refresher training is assured."]
["TR3.4.5",null,null,"NA"]
["TR4","Employee Recognition"]
["TR4.1",null,"Recognize employee achievements"]
["TR4.1.1",null,null,"No process to recognize employees achievements is defined."]
["TR4.1.2",null,null,"A process to recognize employees achievements is defined."]
["TR4.1.3",null,null,"Process in place to recognize employees achievements."]
["TR4.1.4",null,null,"Process to recognize employees achievements is effective"]
["TR4.1.5",null,null,"NA"]
["TR4.2",null,"Individual objectives "]
["TR4.2.1",null,null,"No process to align individual objectives with the site targets is defined."]
["TR4.2.2",null,null,"A process to align individual objectives with the site targets is defined."]
["TR4.2.3",null,null,"A process to align individual objectives with the site targets is in place."]
["TR4.2.4",null,null,"Individual objectives are effective and reviewed with feed back to the employees."]
["TR4.2.5",null,null,"NA"]
["TR4.3",null,"Process to collect employee suggestions"]
["TR4.3.1",null,null,"No process to collect employee suggestions is in place."]
["TR4.3.2",null,null,"Process to collect employee suggestions is defined."]
["TR4.3.3",null,null,"Process to collect employee suggestions is in place."]
["TR4.3.4",null,null,"The process to collect suggestions with improvement actions is tracked."]
["TR4.3.5",null,null,"NA"]
["TR4.4",null,"Recognition Communication"]
["TR4.4.1",null,null,"No communication for recognition exists"]
["TR4.4.2",null,null,"A process for recognition is defined"]
["TR4.4.3",null,null,"A process for employee recognition is in place"]
["TR4.4.4",null,null,"Recognition communication is standardized."]
["TR4.4.5",null,null,"NA"]
["TRE","Metrics & Effectiveness"]
["TRE.1",null,"Flexibility target"]
["TRE.1.1",null,null,"No training goals are available"]
["TRE.1.2",null,null,"Training goals are defined"]
["TRE.1.3",null,null,"Training goals are tracked"]
["TRE.1.4",null,null,"Training goals are met."]
["TRE.1.5",null,null,"NA"]

{"sheet":"VS","index":52,"n_rows":135,"n_cols":5,"rows_kept":135,"cut":false,"hidden":true,"merged":[]}
[]
["VS","Verification & Error Proof"]
[]
["VS1.0","Quality in Station"]
["VS1.1",null,"Error Proof & Verification Station"]
["VS1.1.1",null,null,"No error proof & verification station is defined"]
["VS1.1.2",null,null,"Error Proof & Verification Station strategy permanent & temporary is defined in procedures"]
["VS1.1.3",null,null,"Error Proof & Verification Station escalation procedures are in place."]
["VS1.1.4",null,null,"Error Proof & Verification Station strategy is documented with work instructions."]
["VS1.1.5",null,null,"NA"]
["VS1.2",null,"Characteristics are defined"]
["VS1.2.1",null,null,"No characteristics checked 100% are defined for each workstation."]
["VS1.2.2",null,null,"Characteristics checked 100% are defined for each workstation."]
["VS1.2.3",null,null,"Standard work for verification Station is developed."]
["VS1.2.4",null,null,"Training for Verification Station standard work is completed."]
["VS1.2.5",null,null,"NA"]
["VS1.3",null,"Customer complaints require VS review"]
["VS1.3.1",null,null,"Customer complaints are not reviewed."]
["VS1.3.2",null,null,"Customer complaints require verification station review."]
["VS1.3.3",null,null,"Customer complaints always initiate verification station review."]
["VS1.3.4",null,null,"All Customer complaint verification station reviews are documented."]
["VS1.3.5",null,null,"NA"]
["VS1.4",null,"Verification Station"]
["VS1.4.1",null,null,"All customer requirements for verification station are not completed."]
["VS1.4.2",null,null,"All the temporary and permanent verification stations required by customer are implemented"]
["VS1.4.3",null,null,"All the temporary and permanent verification stations required by customer are effective"]
["VS1.4.4",null,null,"All verification stations are reviewed for effectiveness each shift and documented"]
["VS1.4.5",null,null,"NA"]
["VS2.0","Alarm Limits"]
["VS2.1",null,"Alarm limit process is defined"]
["VS2.1.1",null,null,"No alarm process is in place"]
["VS2.1.2",null,null,"Alarm process and procedures are defined"]
["VS2.1.3",null,null,"Alarm process and procedures are in place"]
["VS2.1.4",null,null,"All plant personnel are trained on alarm limit procedures"]
["VS2.1.5",null,null,"NA"]
["VS2.2",null,"Alarm limits are established for processes"]
["VS2.1.1",null,null,"No alarm limits are established"]
["VS2.1.2",null,null,"Alarm limits are defined for each operation"]
["VS2.1.3",null,null,"Alarm limits are part of the count sheet"]
["VS2.1.4",null,null,"A process to establish process alarm limits based on data is in place"]
["VS2.1.5",null,null,"NA"]
["VS2.3",null,"Standard format for in-station data collection"]
["VS2.3.1",null,null,"No alarm limits are identified at workstations"]
["VS2.3.2",null,null,"A standard form exist for data collection that includes alarm limits"]
["VS2.3.3",null,null,"A standard form with alarm limits is utilized on the manufacturing floor"]
["VS2.3.4",null,null,"Data collect is standardized "]
["VS2.3.5",null,null,"NA"]
["VS2.4",null,"Alarm improvement strategy"]
["VS2.4.1",null,null,"No improvement strategy exists"]
["VS2.4.2",null,null,"Alarm process is reviewed for improvement opportunities"]
["VS2.4.3",null,null,"Action plans are developed to improve alarm process"]
["VS2.4.4",null,null,"Action plans are in place to improve alarm process"]
["VS2.4.5",null,null,"NA"]
["VS3.0","Improvement Process"]
["VS3.1",null,"Problem solving "]
["VS3.1.1",null,null,"No data is collected at Verification & VS Stations."]
["VS3.1.2",null,null,"Data is collected at Verification & VS Stations for continuous improvement"]
["VS3.1.3",null,null,"Verification & VS Station Pareto analysis is completed and used for problem solving."]
["VS3.1.4",null,null,"Action plans are developed based on Verification & VS Station Pareto analysis."]
["VS3.1.5",null,null,"NA"]
["VS3.2",null,"Daily review of verification"]
["VS3.2.1",null,null,"No process is established to review Verification & VS Station activity daily."]
["VS3.2.2",null,null,"A process is established to review Verification & VS Station activity daily."]
["VS3.2.3",null,null,"A process is in place to review Verification & VS Station activity daily."]
["VS3.2.4",null,null,"Daily review of Verification Station activity and follow up results are in action plans."]
["VS3.2.5",null,null,"NA"]
["VS3.3",null,"Leadership/support staff reviews"]
["VS3.3.1",null,null,"No process of Leadership weekly review of Verification & VS station status is defined."]
["VS3.3.2",null,null,"A process of Leadership weekly review of Verification & VS station status is defined."]
["VS3.3.3",null,null,"A process of Leadership weekly review of Verification & VS station status is in place."]
["VS3.3.4",null,null,"Leadership review of Verification & VS station problem solving activity is effective."]
["VS3.3.5",null,null,"NA"]
["VS3.4",null,"Look Across"]
["VS3.4.1",null,null,"No look across database exists"]
["VS3.4.2",null,null,"A look across database is in place"]
["VS3.4.3",null,null,"Look across is evident in problem solving activities"]
["VS3.4.4",null,null,"Look Across is effectively implemented - examples of it being used are available."]
["VS3.4.5",null,null,"NA"]
["VS4","Gages & Error Proofing Devices"]
["VS4.1",null,"Master list"]
["VS4.1.1",null,null,"No master list of gages & error-proofing devices."]
["VS4.1.2",null,null,"The master list of gages and error-proofing devices is available."]
["VS4.1.3",null,null,"All gages and error-proofing devices have a Preventative maintenance task list .","2015-017"]
["VS4.1.4",null,null,"The master list of gages and error-proofing devices is current."]
["VS4.1.5",null,null,"NA"]
["VS4.2",null,"Error proofing gaging and master sample organization"]
["VS4.2.1",null,null,"Error-proofing devices, gages and master samples are not clearly identified."]
["VS4.2.2",null,null,"Each error-proofing device, gage and master samples is clearly identified."]
["VS4.2.3",null,null,"Each error-proofing device, gage and master sample is maintained & controlled."]
["VS4.2.4",null,null,"Each error-proofing device, gage and master sample is visually organized."]
["VS4.2.5",null,null,"NA"]
["VS4.3",null,"Error proofing device masters"]
["VS4.3.1",null,null,"No process to master each Error-proofing device daily, @changeover and start-up is developed."]
["VS4.3.2",null,null,"A process to master each Error-proofing device daily, @changeover and start-up is developed."]
["VS4.3.3",null,null,"The process to master each Error-proofing device is in place, documented and effective."]
["VS4.3.4",null,null,"Details of the process risk and test frequencies are documented in the control plan."]
["VS4.3.5",null,null,"NA"]
["VS4.4",null,"Gage Calibration"]
["VS4.4.1",null,null,"No procedure for gage calibration is available."]
["VS4.4.2",null,null,"A procedure for gage calibration is available."]
["VS4.4.3",null,null,"Gage Calibration process is in place and in compliance with IATF 7.1.5.2.1 standard"]
["VS4.4.4",null,null,"Gage Calibration process is documented, tracked and effective."]
["VS4.4.5",null,null,"NA"]
["VS5","Reaction Plan"]
["VS5.1",null,"Error Proof (EP) failures  reaction plan"]
["VS5.1.1",null,null,"No EP failure reaction plan."]
["VS5.1.2",null,null,"EP failure reaction plan is defined."]
["VS5.1.3",null,null,"EP failure reaction plan includes who is notified and actions to be taken."]
["VS5.1.4",null,null,"EP failure reaction plan training is completed and documented."]
["VS5.1.5",null,null,"NA"]
["VS5.2",null,"Parts produced"]
["VS5.2.1",null,null,"No EP verification failure containment procedure."]
["VS5.2.2",null,null,"An EP verification failure containment procedure is developed."]
["VS5.2.3",null,null,"The procedure assures all the parts produced since the last OK verification must be contained."]
["VS5.2.4",null,null,"All EP verification failure containment activity is documented and escalated."]
["VS5.2.5",null,null,"NA"]
["VS5.3",null,"Corrective actions for error proofing"]
["VS5.3.1",null,null,"No requirements for Error Proofing device failure corrective action."]
["VS5.3.2",null,null,"Requirements for Error Proofing device failure corrective action is documented in a procedure."]
["VS5.3.3",null,null,"Corrective actions to fix Error Proofing device failure is documented."]
["VS5.3.4",null,null,"Corrective actions to fix Error Proofing device failure is verified."]
["VS5.3.5",null,null,"NA"]
["VS5.4",null,"Error proofing devices"]
["VS5.4.1",null,null,"No procedure for Error proofing by-pass process."]
["VS5.4.2",null,null,"A procedure for Error proofing by-pass process is documented."]
["VS5.4.3",null,null,"The by-pass procedure for Error proofing instructions are available at the machine.."]
["VS5.4.4",null,null,"The by-pass procedure for Error proofing instruction training is completed."]
["VS5.4.5",null,null,"NA"]
["VSE","Effectiveness"]
["VSE.1",null,"Performance metrics"]
["VSE.1.1",null,null,"No performance metrics are defined."]
["VSE.1.2",null,null,"Performance metrics are defined."]
["VSE.1.3",null,null,"Performance metrics are up to date, tracked, and used for continuous improvement."]
["VSE.1.4",null,null,"Metrics are regularly tracked and reviewed by staff with action plans."]
["VSE.1.5",null,null,"NA"]

{"sheet":"NSA Level 1","index":53,"n_rows":180,"n_cols":24,"rows_kept":180,"cut":false,"hidden":true,"merged":[[179,22,182,22],[175,22,178,22],[179,21,182,21],[149,21,150,21],[173,20,173,21],[107,21,108,21],[113,20,113,21],[175,20,178,20],[175,21,178,21],[125,22,126,22],[134,22,135,22],[146,22,147,22],[158,21,159,21],[134,21,135,21],[146,21,147,21],[158,22,159,22],[167,21,168,21],[167,22,168,22],[146,19,147,19],[83,19,84,19],[92,19,93,19],[104,19,105,19],[134,19,135,19],[65,21,66,21],[61,5,61,9],[158,10,159,10],[167,10,168,10],[158,13,159,13],[158,14,158,18],[167,13,168,13],[167,14,167,18],[146,13,147,13],[146,14,146,18],[158,19,159,19],[125,14,125,18],[125,5,125,9],[125,20,128,20],[116,5,116,9],[116,13,117,13],[116,14,116,18],[125,13,126,13],[104,10,105,10],[46,19,47,19],[61,19,62,19],[46,4,47,4],[46,13,47,13],[46,14,46,18],[61,13,62,13],[61,14,61,18],[46,10,47,10],[61,10,62,10],[46,5,46,9],[46,20,55,20],[74,2,75,2],[58,20,58,21],[52,21,53,21],[49,21,50,21],[167,19,168,19],[71,20,71,21],[61,4,62,4],[74,20,77,20],[80,20,80,21],[74,4,75,4],[74,19,75,19],[155,20,155,21],[146,4,147,4],[116,20,119,20],[122,20,122,21],[116,4,117,4],[134,14,134,18],[131,20,131,21],[83,20,86,20],[74,5,74,9],[134,10,135,10],[146,10,147,10],[116,10,117,10],[125,4,126,4],[116,19,117,19],[125,19,126,19],[125,10,126,10],[83,2,84,2],[167,5,167,9],[0,2,0,21],[18,20,27,20],[164,20,164,21],[167,4,168,4],[168,20,170,20],[158,5,158,9],[158,20,161,20],[158,4,159,4],[146,5,146,9],[146,20,152,20],[143,20,143,21],[137,21,138,21],[134,5,134,9],[135,20,140,20],[104,5,104,9],[104,20,110,20],[125,21,126,21],[104,14,104,18],[3,4,4,4],[6,21,7,21],[3,10,4,10],[18,10,19,10],[33,10,34,10],[3,21,4,21],[3,19,4,19],[92,4,93,4],[74,13,75,13],[74,14,74,18],[83,13,84,13],[83,14,83,18],[92,13,93,13],[92,14,92,18],[92,5,92,9],[92,20,98,20],[89,20,89,21],[83,5,83,9],[74,21,75,21],[74,10,75,10],[83,10,84,10],[92,10,93,10],[83,4,84,4],[61,20,68,20],[18,5,18,9],[9,21,10,21],[3,5,3,9],[3,14,3,18],[3,13,4,13],[18,14,18,18],[43,20,43,21],[37,21,38,21],[33,5,33,9],[33,20,40,20],[30,20,30,21],[33,14,33,18],[18,19,19,19],[33,19,34,19],[3,22,4,22],[18,21,19,21],[18,22,19,22],[33,21,34,21],[33,22,34,22],[46,21,47,21],[46,22,47,22],[61,21,62,21],[61,22,62,22],[21,21,22,21],[24,21,25,21],[74,22,75,22],[83,21,84,21],[83,22,84,22],[92,21,93,21],[92,22,93,22],[104,21,105,21],[104,22,105,22],[116,21,117,21],[116,22,117,22],[95,21,96,21],[101,20,101,21]]}
[null,"Audit Type: Onsite",null,null,null,null,null,null,null,null,null,null,null,null,null,null,null,null,null,null,null,null,null,"28sep18 - lt -- tab is meant to be used for future use (v7) as needed."]
[]
[]
[" Quest #",{"$f":"FR!B2","v":"Fast Response"},null,"Build up Score Assessment"," ","Build up Scoring",null,null,null,null,"Quest Score",null,"Build up Score Assessment"," ","Build up Scoring",null,null,null,null,"Quest Score",null,"Self Score","Onsite Score"]
[{"$f":"FR!$A$29","v":"FR2.0"},{"$f":"FR!$B$29","v":"Fast Response Tracking Board"},null,null,null,4,3,2,1,"NR",null,null,null,null,4,3,2,1,"NR"]
[{"$f":"FR!$A$36","v":"FR2.2"},{"$f":"FR!$C$36","v":"Fast Response Issues are communicated"},null,"No standard communication plan is in place",null,{"$f":"IF(D6=FR!$D$40,\"X\",\"\")","v":""},{"$f":"IF(D6=FR!$D$39,\"X\",\"\")","v":""},{"$f":"IF(D6=FR!$D$38,\"X\",\"\")","v":""},{"$f":"IF(D6=FR!$D$37,\"X\",\"\")","v":"X"},{"$f":"IF(D6=FR!$D$41,\"X\",\"\")","v":""},{"$f":"SUM(V6)","v":1},null,"The process of communicating problems to stake holders is documented.",null,{"$f":"IF(M6=FR!$D$40,\"X\",\"\")","v":"X"},{"$f":"IF(M6=FR!$D$39,\"X\",\"\")","v":""},{"$f":"IF(M6=FR!$D$38,\"X\",\"\")","v":""},{"$f":"IF(M6=FR!$D$37,\"X\",\"\")","v":""},{"$f":"IF(M6=FR!$D$41,\"X\",\"\")","v":""},{"$f":"SUM(W6)","v":4},null,{"$f":"IF(F6=\"x\",4,IF(G6=\"x\",3,IF(H6=\"x\",2,IF(I6=\"x\",1,IF(J6=\"x\",\"NR\",\"\")))))","v":1},{"$f":"IF(O6=\"x\",4,IF(P6=\"x\",3,IF(Q6=\"x\",2,IF(R6=\"x\",1,IF(S6=\"x\",\"NR\",\"\")))))","v":4}]
[]
[{"$f":"FR!$A$54","v":"FR3.0"},{"$f":"FR!$B$54","v":"Problem communication"}]
[{"$f":"FR!$A$61","v":"FR3.2"},{"$f":"FR!$C$61","v":"Detailed standard problem solving forms exists"},null,"A standard format for quality alerts is not in place",null,{"$f":"IF(D9=FR!$D$65,\"X\",\"\")","v":""},{"$f":"IF(D9=FR!$D$64,\"X\",\"\")","v":""},{"$f":"IF(D9=FR!$D$63,\"X\",\"\")","v":""},{"$f":"IF(D9=FR!$D$62,\"X\",\"\")","v":"X"},{"$f":"IF(D9=FR!$D$66,\"X\",\"\")","v":""},{"$f":"SUM(V9)","v":1},null,"Detailed documentation of significant events is managed and delivered to interested parties",null,{"$f":"IF(M9=FR!$D$65,\"X\",\"\")","v":"X"},{"$f":"IF(M9=FR!$D$64,\"X\",\"\")","v":""},{"$f":"IF(M9=FR!$D$63,\"X\",\"\")","v":""},{"$f":"IF(M9=FR!$D$62,\"X\",\"\")","v":""},{"$f":"IF(M9=FR!$D$66,\"X\",\"\")","v":""},{"$f":"SUM(W9)","v":4},null,{"$f":"IF(F9=\"x\",4,IF(G9=\"x\",3,IF(H9=\"x\",2,IF(I9=\"x\",1,IF(J9=\"x\",\"NR\",\"\")))))","v":1},{"$f":"IF(O9=\"x\",4,IF(P9=\"x\",3,IF(Q9=\"x\",2,IF(R9=\"x\",1,IF(S9=\"x\",\"NR\",\"\")))))","v":4}]
[]
[{"$f":"FR!$A$79","v":"FR4"},{"$f":"FR!$B$79","v":"Problem Solving Process"}]
[{"$f":"FR!$A$80","v":"FR4.1"},{"$f":"FR!$C$80","v":"Standard Problem Solving Process"},null,"No standard problems solving method is in place",null,{"$f":"IF(D12=FR!$D$84,\"X\",\"\")","v":""},{"$f":"IF(D12=FR!$D$83,\"X\",\"\")","v":""},{"$f":"IF(D12=FR!$D$82,\"X\",\"\")","v":""},{"$f":"IF(D12=FR!$D$81,\"X\",\"\")","v":"X"},{"$f":"IF(D12=FR!$D$85,\"X\",\"\")","v":""},{"$f":"SUM(V12)","v":1},null,"The standard problem solving process is effective at determining root cause.",null,{"$f":"IF(M12=FR!$D$84,\"X\",\"\")","v":"X"},{"$f":"IF(M12=FR!$D$83,\"X\",\"\")","v":""},{"$f":"IF(M12=FR!$D$82,\"X\",\"\")","v":""},{"$f":"IF(M12=FR!$D$81,\"X\",\"\")","v":""},{"$f":"IF(M12=FR!$D$85,\"X\",\"\")","v":""},{"$f":"SUM(W12)","v":4},null,{"$f":"IF(F12=\"x\",4,IF(G12=\"x\",3,IF(H12=\"x\",2,IF(I12=\"x\",1,IF(J12=\"x\",\"NR\",\"\")))))","v":1},{"$f":"IF(O12=\"x\",4,IF(P12=\"x\",3,IF(Q12=\"x\",2,IF(R12=\"x\",1,IF(S12=\"x\",\"NR\",\"\")))))","v":4}]
[]
[null,null,null,null,null,null,null,null,null,null,null,null,null,null,null,null,null,null,null,null,"Potential","Self Total","Onsite Total"]
[null,null,null,null,null,null,null,null,null,null,null,null,null,null,null,null,null,null,null,null,{"$f":"COUNT(V6:V12)*4","v":12},{"$f":"SUM(V6,V9,V12)","v":3},{"$f":"SUM(W6,W9,W12)","v":12}]
[]
[]
[]
[" Quest #",{"$f":"NC!B2","v":"Non-conforming Material & Identification"},null,"Build up Score Assessment"," ","Build up Scoring",null,null,null,null,"Quest Score",null,"Build up Score Assessment"," ","Build up Scoring",null,null,null,null,"Quest Score",null,"Self Score","Onsite Score"]
[{"$f":"NC!$A$4","v":"NC1.0"},{"$f":"NC!$B$4","v":"Traceability rules "},null,null,null,4,3,2,1,"NR",null,null,null,null,4,3,2,1,"NR"]
[{"$f":"NC!$A$11","v":"NC1.2"},{"$f":"NC!$C$11","v":"Quality Status of the product"},null,"Parts are tagged with all appropriate information and status known",null,{"$f":"IF(D21=NC!$D$15,\"X\",\"\")","v":"X"},{"$f":"IF(D21=NC!$D$14,\"X\",\"\")","v":""},{"$f":"IF(D21=NC!$D$13,\"X\",\"\")","v":""},{"$f":"IF(D21=NC!$D$12,\"X\",\"\")","v":""},{"$f":"IF(D21=NC!$D$16,\"X\",\"\")","v":""},{"$f":"SUM(V21)","v":4},null,"Parts are tagged with all appropriate information and status known",null,{"$f":"IF(M21=NC!$D$15,\"X\",\"\")","v":"X"},{"$f":"IF(M21=NC!$D$14,\"X\",\"\")","v":""},{"$f":"IF(M21=NC!$D$13,\"X\",\"\")","v":""},{"$f":"IF(M21=NC!$D$12,\"X\",\"\")","v":""},{"$f":"IF(M21=NC!$D$16,\"X\",\"\")","v":""},{"$f":"SUM(W21)","v":4},null,{"$f":"IF(F21=\"x\",4,IF(G21=\"x\",3,IF(H21=\"x\",2,IF(I21=\"x\",1,IF(J21=\"x\",\"NR\",\"\")))))","v":4},{"$f":"IF(O21=\"x\",4,IF(P21=\"x\",3,IF(Q21=\"x\",2,IF(R21=\"x\",1,IF(S21=\"x\",\"NR\",\"\")))))","v":4}]
[]
[{"$f":"NC!$A$29","v":"NC2.0"},{"$f":"NC!$B$29","v":"Material Segregation"}]
[{"$f":"NC!$A$30","v":"NC2.1"},{"$f":"NC!$C$30","v":"Tagging & Visual Management"},null,"NOK material is marked, secured, and in a defined location away from production material.",null,{"$f":"IF(D24=NC!$D$34,\"X\",\"\")","v":"X"},{"$f":"IF(D24=NC!$D$33,\"X\",\"\")","v":""},{"$f":"IF(D24=NC!$D$32,\"X\",\"\")","v":""},{"$f":"IF(D24=NC!$D$31,\"X\",\"\")","v":""},{"$f":"IF(D24=NC!$D$35,\"X\",\"\")","v":""},{"$f":"SUM(V24)","v":4},null,"NOK material is marked, secured, and in a defined location away from production material.",null,{"$f":"IF(M24=NC!$D$34,\"X\",\"\")","v":"X"},{"$f":"IF(M24=NC!$D$33,\"X\",\"\")","v":""},{"$f":"IF(M24=NC!$D$32,\"X\",\"\")","v":""},{"$f":"IF(M24=NC!$D$31,\"X\",\"\")","v":""},{"$f":"IF(M24=NC!$D$35,\"X\",\"\")","v":""},{"$f":"SUM(W24)","v":4},null,{"$f":"IF(F24=\"x\",4,IF(G24=\"x\",3,IF(H24=\"x\",2,IF(I24=\"x\",1,IF(J24=\"x\",\"NR\",\"\")))))","v":4},{"$f":"IF(O24=\"x\",4,IF(P24=\"x\",3,IF(Q24=\"x\",2,IF(R24=\"x\",1,IF(S24=\"x\",\"NR\",\"\")))))","v":4}]
[]
[{"$f":"NC!$A$79","v":"NC4"},{"$f":"NC!$B$79","v":"Containment"}]
[{"$f":"NC!$A$92","v":"NC4.3"},{"$f":"NC!$C$92","v":"Containment Process"},null,"All stock is marked or tagged in containment area and disposition target is set.",null,{"$f":"IF(D27=NC!$D$96,\"X\",\"\")","v":"X"},{"$f":"IF(D27=NC!$D$95,\"X\",\"\")","v":""},{"$f":"IF(D27=NC!$D$94,\"X\",\"\")","v":""},{"$f":"IF(D27=NC!$D$93,\"X\",\"\")","v":""},{"$f":"IF(D27=NC!$D$97,\"X\",\"\")","v":""},{"$f":"SUM(V27)","v":4},null,"All stock is marked or tagged in containment area and disposition target is set.",null,{"$f":"IF(M27=NC!$D$96,\"X\",\"\")","v":"X"},{"$f":"IF(M27=NC!$D$95,\"X\",\"\")","v":""},{"$f":"IF(M27=NC!$D$94,\"X\",\"\")","v":""},{"$f":"IF(M27=NC!$D$93,\"X\",\"\")","v":""},{"$f":"IF(M27=NC!$D$97,\"X\",\"\")","v":""},{"$f":"SUM(W27)","v":4},null,{"$f":"IF(F27=\"x\",4,IF(G27=\"x\",3,IF(H27=\"x\",2,IF(I27=\"x\",1,IF(J27=\"x\",\"NR\",\"\")))))","v":4},{"$f":"IF(O27=\"x\",4,IF(P27=\"x\",3,IF(Q27=\"x\",2,IF(R27=\"x\",1,IF(S27=\"x\",\"NR\",\"\")))))","v":4}]
[" "]
[null,null,null,null,null,null,null,null,null,null,null,null,null,null,null,null,null,null,null,null,"Potential","Self Total","Onsite Total"]
[null,null,null,null,null,null,null,null,null,null,null,null,null,null,null,null,null,null,null,null,{"$f":"COUNT(V21:V27)*4","v":12},{"$f":"SUM(V21,V24,V27)","v":12},{"$f":"SUM(W21,W24,W27)","v":12}]
[]
[]
[]
[" Quest #","Verification Station & Error Proof Verification",null,"Build up Score Assessment"," ","Build up Scoring",null,null,null,null,"Quest Score",null,"Build up Score Assessment"," ","Build up Scoring",null,null,null,null,"Quest Score",null,"Self Score","Onsite Score"]
[{"$f":"VS!$A$4","v":"VS1.0"},{"$f":"VS!$B$4","v":"Quality in Station"},null,"Element Guidance",null,4,3,2,1,"NR",null,null,"Element Guidance",null,4,3,2,1,"NR"]
[{"$f":"VS!$A$5","v":"VS1.1"},{"$f":"VS!$C$5","v":"Error Proof & Verification Station"},null,"Error Proof & Verification Station strategy is documented with work instructions.",null,{"$f":"IF(D36=VS!$D$9,\"X\",\"\")","v":"X"},{"$f":"IF(D36=VS!$D$8,\"X\",\"\")","v":""},{"$f":"IF(D36=VS!$D$7,\"X\",\"\")","v":""},{"$f":"IF(D36=VS!$D$6,\"X\",\"\")","v":""},{"$f":"IF(D36=VS!$D$10,\"X\",\"\")","v":""},{"$f":"SUM(V36:V37)","v":8},null,"Error Proof & Verification Station strategy is documented with work instructions.",null,{"$f":"IF(M36=VS!$D$9,\"X\",\"\")","v":"X"},{"$f":"IF(M36=VS!$D$8,\"X\",\"\")","v":""},{"$f":"IF(M36=VS!$D$7,\"X\",\"\")","v":""},{"$f":"IF(M36=VS!$D$6,\"X\",\"\")","v":""},{"$f":"IF(M36=VS!$D$10,\"X\",\"\")","v":""},{"$f":"SUM(W36:W37)","v":8},null,{"$f":"IF(F36=\"x\",4,IF(G36=\"x\",3,IF(H36=\"x\",2,IF(I36=\"x\",1,IF(J36=\"x\",\"NR\",\"\")))))","v":4},{"$f":"IF(O36=\"x\",4,IF(P36=\"x\",3,IF(Q36=\"x\",2,IF(R36=\"x\",1,IF(S36=\"x\",\"NR\",\"\")))))","v":4}]
[{"$f":"VS!$A$23","v":"VS1.4"},{"$f":"VS!$C$23","v":"Verification Station"},null,"All verification stations are reviewed for effectiveness each shift and documented",null,{"$f":"IF(D37=VS!$D$27,\"X\",\"\")","v":"X"},{"$f":"IF(D37=VS!$D$26,\"X\",\"\")","v":""},{"$f":"IF(D37=VS!$D$25,\"X\",\"\")","v":""},{"$f":"IF(D37=VS!$D$24,\"X\",\"\")","v":""},{"$f":"IF(D37=VS!$D$28,\"X\",\"\")","v":""},null,null,"All verification stations are reviewed for effectiveness each shift and documented",null,{"$f":"IF(M37=VS!$D$27,\"X\",\"\")","v":"X"},{"$f":"IF(M37=VS!$D$26,\"X\",\"\")","v":""},{"$f":"IF(M37=VS!$D$25,\"X\",\"\")","v":""},{"$f":"IF(M37=VS!$D$24,\"X\",\"\")","v":""},{"$f":"IF(M37=VS!$D$28,\"X\",\"\")","v":""},null,null,{"$f":"IF(F37=\"x\",4,IF(G37=\"x\",3,IF(H37=\"x\",2,IF(I37=\"x\",1,IF(J37=\"x\",\"NR\",\"\")))))","v":4},{"$f":"IF(O37=\"x\",4,IF(P37=\"x\",3,IF(Q37=\"x\",2,IF(R37=\"x\",1,IF(S37=\"x\",\"NR\",\"\")))))","v":4}]
[]
[{"$f":"VS!$A$79","v":"VS4"},{"$f":"VS!$B$79","v":"Gages & Error Proofing Devices"},null,"Element Guidance",null,null,null,null,null,null,null,null,"Element Guidance"]
[{"$f":"VS!$A$98","v":"VS4.4"},{"$f":"VS!$C$98","v":"Gage Calibration"},null,"Gage Calibration process is documented, tracked and effective.",null,{"$f":"IF(D40=VS!$D$102,\"X\",\"\")","v":"X"},{"$f":"IF(D40=VS!$D$101,\"X\",\"\")","v":""},{"$f":"IF(D40=VS!$D$100,\"X\",\"\")","v":""},{"$f":"IF(D40=VS!$D$99,\"X\",\"\")","v":""},{"$f":"IF(D40=VS!$D$103,\"X\",\"\")","v":""},{"$f":"SUM(V40)","v":4},null,"Gage Calibration process is documented, tracked and effective.",null,{"$f":"IF(M40=VS!$D$102,\"X\",\"\")","v":"X"},{"$f":"IF(M40=VS!$D$101,\"X\",\"\")","v":""},{"$f":"IF(M40=VS!$D$100,\"X\",\"\")","v":""},{"$f":"IF(M40=VS!$D$99,\"X\",\"\")","v":""},{"$f":"IF(M40=VS!$D$103,\"X\",\"\")","v":""},{"$f":"SUM(W40)","v":4},null,{"$f":"IF(F40=\"x\",4,IF(G40=\"x\",3,IF(H40=\"x\",2,IF(I40=\"x\",1,IF(J40=\"x\",\"NR\",\"\")))))","v":4},{"$f":"IF(O40=\"x\",4,IF(P40=\"x\",3,IF(Q40=\"x\",2,IF(R40=\"x\",1,IF(S40=\"x\",\"NR\",\"\")))))","v":4}]
[]
[null,null,null,null,null,null,null,null,null,null,null,null,null,null,null,null,null,null,null,null,"Potential","Self Total","Onsite Total"]
[null,null,null,null," "," "," "," "," "," ",null,null,null,null,null,null,null,null,null,null,{"$f":"COUNT(V36:V41)*4","v":12},{"$f":"SUM(V36,V37,V40)","v":12},{"$f":"SUM(W36,W37,W40)","v":12}]
[]
[]
[]
[" Quest #",{"$f":"SW!B2","v":"Standardized work"},null,"Build up Score Assessment"," ","Build up Scoring",null,null,null,null,"Quest Score",null,"Build up Score Assessment"," ","Build up Scoring",null,null,null,null,"Quest Score",null,"Self Score","Onsite Score"]
[{"$f":"SW!$A$4","v":"SW1.0"},{"$f":"SW!$B$4","v":"Workplace Safety"},null,"Element Guidance",null,4,3,2,1,"NR",null,null,"Element Guidance",null,4,3,2,1,"NR"]
[{"$f":"SW!$A$11","v":"SW1.2"},{"$f":"SW!$C$11","v":"Layout considers safety"},null,"Standards for design of facility are 100% in place to avoid potential safety risks.",null,{"$f":"IF(D49=SW!$D$15,\"X\",\"\")","v":"X"},{"$f":"IF(D49=SW!$D$14,\"X\",\"\")","v":""},{"$f":"IF(D49=SW!$D$13,\"X\",\"\")","v":""},{"$f":"IF(D49=SW!$D$12,\"X\",\"\")","v":""},{"$f":"IF(D49=SW!$D$16,\"X\",\"\")","v":""},{"$f":"SUM(V49)","v":4},null,"Standards for design of facility are 100% in place to avoid potential safety risks.",null,{"$f":"IF(M49=SW!$D$15,\"X\",\"\")","v":"X"},{"$f":"IF(M49=SW!$D$14,\"X\",\"\")","v":""},{"$f":"IF(M49=SW!$D$13,\"X\",\"\")","v":""},{"$f":"IF(M49=SW!$D$12,\"X\",\"\")","v":""},{"$f":"IF(M49=SW!$D$16,\"X\",\"\")","v":""},{"$f":"SUM(W49)","v":4},null,{"$f":"IF(F49=\"x\",4,IF(G49=\"x\",3,IF(H49=\"x\",2,IF(I49=\"x\",1,IF(J49=\"x\",\"NR\",\"\")))))","v":4},{"$f":"IF(O49=\"x\",4,IF(P49=\"x\",3,IF(Q49=\"x\",2,IF(R49=\"x\",1,IF(S49=\"x\",\"NR\",\"\")))))","v":4}]
[]
[{"$f":"SW!$A$29","v":"SW2.0"},{"$f":"SW!$B$29","v":"Workplace Organization"},null,"Element Guidance",null,null,null,null,null,null,null,null,"Element Guidance"]
[{"$f":"SW!$A$42","v":"SW2.3"},{"$f":"SW!$C$42","v":"Shop floor"},null,"The visual standard for workplace organization is 100% effective on the shop floor.",null,{"$f":"IF(D52=SW!$D$46,\"X\",\"\")","v":"X"},{"$f":"IF(D52=SW!$D$45,\"X\",\"\")","v":""},{"$f":"IF(D52=SW!$D$44,\"X\",\"\")","v":""},{"$f":"IF(D52=SW!$D$43,\"X\",\"\")","v":""},{"$f":"IF(D52=SW!$D$47,\"X\",\"\")","v":""},{"$f":"SUM(V52)","v":4},null,"The visual standard for workplace organization is 100% effective on the shop floor.",null,{"$f":"IF(M52=SW!$D$46,\"X\",\"\")","v":"X"},{"$f":"IF(M52=SW!$D$45,\"X\",\"\")","v":""},{"$f":"IF(M52=SW!$D$44,\"X\",\"\")","v":""},{"$f":"IF(M52=SW!$D$43,\"X\",\"\")","v":""},{"$f":"IF(M52=SW!$D$47,\"X\",\"\")","v":""},{"$f":"SUM(W52)","v":4},null,{"$f":"IF(F52=\"x\",4,IF(G52=\"x\",3,IF(H52=\"x\",2,IF(I52=\"x\",1,IF(J52=\"x\",\"NR\",\"\")))))","v":4},{"$f":"IF(O52=\"x\",4,IF(P52=\"x\",3,IF(Q52=\"x\",2,IF(R52=\"x\",1,IF(S52=\"x\",\"NR\",\"\")))))","v":4}]
[]
[{"$f":"SW!$A$79","v":"SW4"},{"$f":"SW!$B$79","v":"Start of Production Validation"},null,"Element Guidance",null,null,null,null,null,null,null,null,"Element Guidance"]
[{"$f":"SW!$A$98","v":"SW4.4"},{"$f":"SW!$C$98","v":"First-off parts validation"},null,"The procedure for first-off parts validation and traceability is effective and documented.",null,{"$f":"IF(D55=SW!$D$102,\"X\",\"\")","v":"X"},{"$f":"IF(D55=SW!$D$101,\"X\",\"\")","v":""},{"$f":"IF(D55=SW!$D$100,\"X\",\"\")","v":""},{"$f":"IF(D55=SW!$D$99,\"X\",\"\")","v":""},{"$f":"IF(D55=SW!$D$103,\"X\",\"\")","v":""},{"$f":"SUM(V55)","v":4},null,"The procedure for first-off parts validation and traceability is effective and documented.",null,{"$f":"IF(M55=SW!$D$102,\"X\",\"\")","v":"X"},{"$f":"IF(M55=SW!$D$101,\"X\",\"\")","v":""},{"$f":"IF(M55=SW!$D$100,\"X\",\"\")","v":""},{"$f":"IF(M55=SW!$D$99,\"X\",\"\")","v":""},{"$f":"IF(M55=SW!$D$103,\"X\",\"\")","v":""},{"$f":"SUM(W55)","v":4},null,{"$f":"IF(F55=\"x\",4,IF(G55=\"x\",3,IF(H55=\"x\",2,IF(I55=\"x\",1,IF(J55=\"x\",\"NR\",\"\")))))","v":4},{"$f":"IF(O55=\"x\",4,IF(P55=\"x\",3,IF(Q55=\"x\",2,IF(R55=\"x\",1,IF(S55=\"x\",\"NR\",\"\")))))","v":4}]
[" "]
[null,null,null,null,null,null,null,null,null,null,null,null,null,null,null,null,null,null,null,null,"Potential","Self Total","Onsite Total"]
[null,null,null,null,null,null,null,null,null,null,null,null,null,null,null,null,null,null,null,null,{"$f":"COUNT(V49:V55)*4","v":12},{"$f":"SUM(V49,V52,V55)","v":12},{"$f":"SUM(W49,W52,W55)","v":12}]
[]
[]
[]
[" Quest #",{"$f":"MA!B2","v":"Maintenance"},null,"Build up Score Assessment"," ","Build up Scoring",null,null,null,null,"Quest Score",null,"Build up Score Assessment"," ","Build up Scoring",null,null,null,null,"Quest Score",null,"Self Score","Onsite Score"]
[{"$f":"MA!$A$4","v":"MA1.0"},{"$f":"MA!$B$4","v":"Maintenance strategy"},null,"Element Guidance",null,4,3,2,1,"NR",null,null,"Element Guidance",null,4,3,2,1,"NR"]
[{"$f":"MA!$A$5","v":"MA1.1"},{"$f":"MA!$C$5","v":"Process is formalized and includes preventive and corrective maintenance"},null,"All machines, tools, equipment and facilities at the site are included in the process.",null,{"$f":"IF(D64=MA!$D$9,\"X\",\"\")","v":"X"},{"$f":"IF(D64=MA!$D$8,\"X\",\"\")","v":""},{"$f":"IF(D64=MA!$D$7,\"X\",\"\")","v":""},{"$f":"IF(D64=MA!$D$6,\"X\",\"\")","v":""},{"$f":"IF(D64=MA!$D$10,\"X\",\"\")","v":""},{"$f":"SUM(V64:V65)","v":8},null,"All machines, tools, equipment and facilities at the site are included in the process.",null,{"$f":"IF(M64=MA!$D$9,\"X\",\"\")","v":"X"},{"$f":"IF(M64=MA!$D$8,\"X\",\"\")","v":""},{"$f":"IF(M64=MA!$D$7,\"X\",\"\")","v":""},{"$f":"IF(M64=MA!$D$6,\"X\",\"\")","v":""},{"$f":"IF(M64=MA!$D$10,\"X\",\"\")","v":""},{"$f":"SUM(W64:W65)","v":8},null,{"$f":"IF(F64=\"x\",4,IF(G64=\"x\",3,IF(H64=\"x\",2,IF(I64=\"x\",1,IF(J64=\"x\",\"NR\",\"\")))))","v":4},{"$f":"IF(O64=\"x\",4,IF(P64=\"x\",3,IF(Q64=\"x\",2,IF(R64=\"x\",1,IF(S64=\"x\",\"NR\",\"\")))))","v":4}]
[{"$f":"MA!$A$23","v":"MA1.4"},{"$f":"MA!$C$23","v":"Process to improve production output (OEE)"},null,"Production output is monitored and action plans developed to improve effectiveness.",null,{"$f":"IF(D65=MA!$D$27,\"X\",\"\")","v":"X"},{"$f":"IF(D65=MA!$D$26,\"X\",\"\")","v":""},{"$f":"IF(D65=MA!$D$25,\"X\",\"\")","v":""},{"$f":"IF(D65=MA!$D$24,\"X\",\"\")","v":""},{"$f":"IF(D65=MA!$D$28,\"X\",\"\")","v":""},null,null,"Production output is monitored and action plans developed to improve effectiveness.",null,{"$f":"IF(M65=MA!$D$27,\"X\",\"\")","v":"X"},{"$f":"IF(M65=MA!$D$26,\"X\",\"\")","v":""},{"$f":"IF(M65=MA!$D$25,\"X\",\"\")","v":""},{"$f":"IF(M65=MA!$D$24,\"X\",\"\")","v":""},{"$f":"IF(M65=MA!$D$28,\"X\",\"\")","v":""},null,null,{"$f":"IF(F65=\"x\",4,IF(G65=\"x\",3,IF(H65=\"x\",2,IF(I65=\"x\",1,IF(J65=\"x\",\"NR\",\"\")))))","v":4},{"$f":"IF(O65=\"x\",4,IF(P65=\"x\",3,IF(Q65=\"x\",2,IF(R65=\"x\",1,IF(S65=\"x\",\"NR\",\"\")))))","v":4}]
[]
[{"$f":"MA!$A$79","v":"MA4"},{"$f":"MA!$B$79","v":"Maintenance materials"},null,"Element Guidance",null,null,null,null,null,null,null,null,"Element Guidance"]
[{"$f":"MA!$A$80","v":"MA4.1"},{"$f":"MA!$C$80","v":"List of critical spare parts"},null,"A list of critical spare parts managed and regularly reviewed.",null,{"$f":"IF(D68=MA!$D$84,\"X\",\"\")","v":"X"},{"$f":"IF(D68=MA!$D$83,\"X\",\"\")","v":""},{"$f":"IF(D68=MA!$D$82,\"X\",\"\")","v":""},{"$f":"IF(D68=MA!$D$81,\"X\",\"\")","v":""},{"$f":"IF(D68=MA!$D$85,\"X\",\"\")","v":""},{"$f":"SUM(V68)","v":4},null,"A list of critical spare parts managed and regularly reviewed.",null,{"$f":"IF(M68=MA!$D$84,\"X\",\"\")","v":"X"},{"$f":"IF(M68=MA!$D$83,\"X\",\"\")","v":""},{"$f":"IF(M68=MA!$D$82,\"X\",\"\")","v":""},{"$f":"IF(M68=MA!$D$81,\"X\",\"\")","v":""},{"$f":"IF(M68=MA!$D$85,\"X\",\"\")","v":""},{"$f":"SUM(W68)","v":4},null,{"$f":"IF(F68=\"x\",4,IF(G68=\"x\",3,IF(H68=\"x\",2,IF(I68=\"x\",1,IF(J68=\"x\",\"NR\",\"\")))))","v":4},{"$f":"IF(O68=\"x\",4,IF(P68=\"x\",3,IF(Q68=\"x\",2,IF(R68=\"x\",1,IF(S68=\"x\",\"NR\",\"\")))))","v":4}]
[]
[null,null,null,null,null,null,null,null,null,null,null,null,null,null,null,null,null,null,null,null,"Potential","Self Total","Onsite Total"]
[null,null,null,null,null,null,null,null,null,null,null,null,null,null,null,null,null,null,null,null,{"$f":"COUNT(V64:V69)*4","v":12},{"$f":"SUM(V64,V65,V68)","v":12},{"$f":"SUM(W64,W65,W68)","v":12}]
[]
[]
[]
[" Quest #",{"$f":"TR!B2","v":"Training"},null,"Build up Score Assessment"," ","Build up Scoring",null,null,null,null,"Quest Score",null,"Build up Score Assessment"," ","Build up Scoring",null,null,null,null,"Quest Score",null,"Self Score","Onsite Score"]
[{"$f":"TR!$A$29","v":"TR2.0"},{"$f":"TR!$B$29","v":"Training Safety & Corporate Responsibility"},null,"Element Guidance",null,4,3,2,1,"NR",null,null,"Element Guidance",null,4,3,2,1,"NR"]
[{"$f":"TR!$A$36","v":"TR2.2"},{"$f":"TR!$C$36","v":"Staff is trained"},null,"General safety and individual job training is effective.",null,{"$f":"IF(D77=TR!$D$40,\"X\",\"\")","v":"X"},{"$f":"IF(D77=TR!$D$39,\"X\",\"\")","v":""},{"$f":"IF(D77=TR!$D$38,\"X\",\"\")","v":""},{"$f":"IF(D77=TR!$D$37,\"X\",\"\")","v":""},{"$f":"IF(D77=TR!$D$41,\"X\",\"\")","v":""},{"$f":"SUM(V77)","v":4},null,"General safety and individual job training is effective.",null,{"$f":"IF(M77=TR!$D$40,\"X\",\"\")","v":"X"},{"$f":"IF(M77=TR!$D$39,\"X\",\"\")","v":""},{"$f":"IF(M77=TR!$D$38,\"X\",\"\")","v":""},{"$f":"IF(M77=TR!$D$37,\"X\",\"\")","v":""},{"$f":"IF(M77=TR!$D$41,\"X\",\"\")","v":""},{"$f":"SUM(W77)","v":4},null,{"$f":"IF(F77=\"x\",4,IF(G77=\"x\",3,IF(H77=\"x\",2,IF(I77=\"x\",1,IF(J77=\"x\",\"NR\",\"\")))))","v":4},{"$f":"IF(O77=\"x\",4,IF(P77=\"x\",3,IF(Q77=\"x\",2,IF(R77=\"x\",1,IF(S77=\"x\",\"NR\",\"\")))))","v":4}]
[" "]
[null,null,null,null,null,null,null,null,null,null,null,null,null,null,null,null,null,null,null,null,"Potential","Self Total","Onsite Total"]
[null,null,null,null,null,null,null,null,null,null,null,null,null,null,null,null,null,null,null,null,{"$f":"COUNT(V73:V78)*4","v":4},{"$f":"SUM(V73,V74,V77)","v":4},{"$f":"SUM(W73,W74,W77)","v":4}]
[]
[]
[]
[" Quest #",{"$f":"LP!B2","v":"Layered Process Audit"},null,"Build up Score Assessment"," ","Build up Scoring",null,null,null,null,"Quest Score",null,"Build up Score Assessment"," ","Build up Scoring",null,null,null,null,"Quest Score",null,"Self Score","Onsite Score"]
[{"$f":"LP!$A$29","v":"LP2.0"},{"$f":"LP!$B$29","v":"LPA covers all operational activities"},null,"Element Guidance",null,4,3,2,1,"NR",null,null,"Element Guidance",null,4,3,2,1,"NR"]
[{"$f":"LP!$A$30","v":"LP2.1"},{"$f":"LP!$C$30","v":"Layered audit"},null,"Layered audit schedule ensures all manufacturing shifts and operations are reviewed.",null,{"$f":"IF(D86=LP!$D$34,\"X\",\"\")","v":"X"},{"$f":"IF(D86=LP!$D$33,\"X\",\"\")","v":""},{"$f":"IF(D86=LP!$D$32,\"X\",\"\")","v":""},{"$f":"IF(D86=LP!$D$31,\"X\",\"\")","v":""},{"$f":"IF(D86=LP!$D$35,\"X\",\"\")","v":""},{"$f":"SUM(V86)","v":4},null,"Layered audit schedule ensures all manufacturing shifts and operations are reviewed.",null,{"$f":"IF(M86=LP!$D$34,\"X\",\"\")","v":"X"},{"$f":"IF(M86=LP!$D$33,\"X\",\"\")","v":""},{"$f":"IF(M86=LP!$D$32,\"X\",\"\")","v":""},{"$f":"IF(M86=LP!$D$31,\"X\",\"\")","v":""},{"$f":"IF(M86=LP!$D$35,\"X\",\"\")","v":""},{"$f":"SUM(W86)","v":4},null,{"$f":"IF(F86=\"x\",4,IF(G86=\"x\",3,IF(H86=\"x\",2,IF(I86=\"x\",1,IF(J86=\"x\",\"NR\",\"\")))))","v":4},{"$f":"IF(O86=\"x\",4,IF(P86=\"x\",3,IF(Q86=\"x\",2,IF(R86=\"x\",1,IF(S86=\"x\",\"NR\",\"\")))))","v":4}]
[" "]
[null,null,null,null,null,null,null,null,null,null,null,null,null,null,null,null,null,null,null,null,"Potential","Self Total","Onsite Total"]
[null,null,null,null,null,null,null,null,null,null,null,null,null,null,null,null,null,null,null,null,{"$f":"COUNT(V82:V87)*4","v":4},{"$f":"SUM(V82,V83,V86)","v":4},{"$f":"SUM(W82,W83,W86)","v":4}]
[]
[]
[]
[" Quest #",{"$f":"RR!B2","v":"Risk Reduction"},null,"Build up Score Assessment"," ","Build up Scoring",null,null,null,null,"Quest Score",null,"Build up Score Assessment"," ","Build up Scoring",null,null,null,null,"Quest Score",null,"Self Score","Onsite Score"]
[{"$f":"RR!$A$4","v":"RR1.0"},{"$f":"RR!$B$4","v":"PFMEA developed and maintained"},null,"Element Guidance",null,4,3,2,1,"NR",null,null,"Element Guidance",null,4,3,2,1,"NR"]
[{"$f":"RR!$A$11","v":"RR1.2"},{"$f":"RR!$C$11","v":"PFMEA available for all part numbers and operations"},null,"All PFMEA line item details are subjectively comprehensive in detail.",null,{"$f":"IF(D95=RR!$D$15,\"X\",\"\")","v":"X"},{"$f":"IF(D95=RR!$D$14,\"X\",\"\")","v":""},{"$f":"IF(D95=RR!$D$13,\"X\",\"\")","v":""},{"$f":"IF(D95=RR!$D$12,\"X\",\"\")","v":""},{"$f":"IF(D95=RR!$D$16,\"X\",\"\")","v":""},{"$f":"SUM(V95)","v":4},null,"All PFMEA line item details are subjectively comprehensive in detail.",null,{"$f":"IF(M95=RR!$D$15,\"X\",\"\")","v":"X"},{"$f":"IF(M95=RR!$D$14,\"X\",\"\")","v":""},{"$f":"IF(M95=RR!$D$13,\"X\",\"\")","v":""},{"$f":"IF(M95=RR!$D$12,\"X\",\"\")","v":""},{"$f":"IF(M95=RR!$D$16,\"X\",\"\")","v":""},{"$f":"SUM(W95)","v":4},null,{"$f":"IF(F95=\"x\",4,IF(G95=\"x\",3,IF(H95=\"x\",2,IF(I95=\"x\",1,IF(J95=\"x\",\"NR\",\"\")))))","v":4},{"$f":"IF(O95=\"x\",4,IF(P95=\"x\",3,IF(Q95=\"x\",2,IF(R95=\"x\",1,IF(S95=\"x\",\"NR\",\"\")))))","v":4}]
[]
[{"$f":"RR!$A$29","v":"RR2.0"},{"$f":"RR!$B$29","v":"Proactive approach for high risk items"},null,"Element Guidance",null,null,null,null,null,null,null,null,"Element Guidance"]
[{"$f":"RR!$A$42","v":"RR2.3"},{"$f":"RR!$C$42","v":"Recommended actions documented"},null,"Evidence of high risk corrective actions being completed on-time or ahead of schedule.",null,{"$f":"IF(D98=RR!$D$46,\"X\",\"\")","v":"X"},{"$f":"IF(D98=RR!$D$45,\"X\",\"\")","v":""},{"$f":"IF(D98=RR!$D$44,\"X\",\"\")","v":""},{"$f":"IF(D98=RR!$D$43,\"X\",\"\")","v":""},{"$f":"IF(D98=RR!$D$47,\"X\",\"\")","v":""},{"$f":"SUM(V98)","v":4},null,"Evidence of high risk corrective actions being completed on-time or ahead of schedule.",null,{"$f":"IF(M98=RR!$D$46,\"X\",\"\")","v":"X"},{"$f":"IF(M98=RR!$D$45,\"X\",\"\")","v":""},{"$f":"IF(M98=RR!$D$44,\"X\",\"\")","v":""},{"$f":"IF(M98=RR!$D$43,\"X\",\"\")","v":""},{"$f":"IF(M98=RR!$D$47,\"X\",\"\")","v":""},{"$f":"SUM(W98)","v":4},null,{"$f":"IF(F98=\"x\",4,IF(G98=\"x\",3,IF(H98=\"x\",2,IF(I98=\"x\",1,IF(J98=\"x\",\"NR\",\"\")))))","v":4},{"$f":"IF(O98=\"x\",4,IF(P98=\"x\",3,IF(Q98=\"x\",2,IF(R98=\"x\",1,IF(S98=\"x\",\"NR\",\"\")))))","v":4}]
[" "]
[null,null,null,null,null,null,null,null,null,null,null,null,null,null,null,null,null,null,null,null,"Potential","Self Total","Onsite Total"]
[null,null,null,null,null,null,null,null,null,null,null,null,null,null,null,null,null,null,null,null,{"$f":"COUNT(V94:V99)*4","v":8},{"$f":"SUM(V94,V95,V98)","v":8},{"$f":"SUM(W94,W95,W98)","v":8}]
[]
[]
[]
[" Quest #",{"$f":"SC!B2","v":"Supply Chain Management"},null,"Build up Score Assessment"," ","Build up Scoring",null,null,null,null,"Quest Score",null,"Build up Score Assessment"," ","Build up Scoring",null,null,null,null,"Quest Score",null,"Self Score","Onsite Score"]
[{"$f":"SC!$A$4","v":"SC1.0"},{"$f":"SC!$B$4","v":"Procedures to select and evaluate suppliers"},null,"Element Guidance",null,4,3,2,1,"NR",null,null,"Element Guidance",null,4,3,2,1,"NR"]
[{"$f":"SC!$A$17","v":"SC1.3"},{"$f":"SC!$C$17","v":"Supplier Monitoring"},null,"Requirements for IATF 8.4.2.4 are met",null,{"$f":"IF(D107=SC!$D$21,\"X\",\"\")","v":"X"},{"$f":"IF(D107=SC!$D$20,\"X\",\"\")","v":""},{"$f":"IF(D107=SC!$D$19,\"X\",\"\")","v":""},{"$f":"IF(D107=SC!$D$18,\"X\",\"\")","v":""},{"$f":"IF(D107=SC!$D$22,\"X\",\"\")","v":""},{"$f":"SUM(V107)","v":4},null,"Requirements for IATF 8.4.2.4 are met",null,{"$f":"IF(M107=SC!$D$21,\"X\",\"\")","v":"X"},{"$f":"IF(M107=SC!$D$20,\"X\",\"\")","v":""},{"$f":"IF(M107=SC!$D$19,\"X\",\"\")","v":""},{"$f":"IF(M107=SC!$D$18,\"X\",\"\")","v":""},{"$f":"IF(M107=SC!$D$22,\"X\",\"\")","v":""},{"$f":"SUM(W107)","v":4},null,{"$f":"IF(F107=\"x\",4,IF(G107=\"x\",3,IF(H107=\"x\",2,IF(I107=\"x\",1,IF(J107=\"x\",\"NR\",\"\")))))","v":4},{"$f":"IF(O107=\"x\",4,IF(P107=\"x\",3,IF(Q107=\"x\",2,IF(R107=\"x\",1,IF(S107=\"x\",\"NR\",\"\")))))","v":4}]
[]
[{"$f":"SC!$A$29","v":"SC2.0"},{"$f":"SC!$B$29","v":"Customer requirements are cascaded"},null,"Element Guidance",null,null,null,null,null,null,null,null,"Element Guidance"]
[{"$f":"SC!$A$30","v":"SC2.1"},{"$f":"SC!$C$30","v":"Customer specific requirements are implements"},null,"Customer specific requirements are implemented at tier suppliers.",null,{"$f":"IF(D110=SC!$D$34,\"X\",\"\")","v":"X"},{"$f":"IF(D110=SC!$D$33,\"X\",\"\")","v":""},{"$f":"IF(D110=SC!$D$32,\"X\",\"\")","v":""},{"$f":"IF(D110=SC!$D$31,\"X\",\"\")","v":""},{"$f":"IF(D110=SC!$D$35,\"X\",\"\")","v":""},{"$f":"SUM(V110)","v":4},null,"Customer specific requirements are implemented at tier suppliers.",null,{"$f":"IF(M110=SC!$D$34,\"X\",\"\")","v":"X"},{"$f":"IF(M110=SC!$D$33,\"X\",\"\")","v":""},{"$f":"IF(M110=SC!$D$32,\"X\",\"\")","v":""},{"$f":"IF(M110=SC!$D$31,\"X\",\"\")","v":""},{"$f":"IF(M110=SC!$D$35,\"X\",\"\")","v":""},{"$f":"SUM(W110)","v":4},null,{"$f":"IF(F110=\"x\",4,IF(G110=\"x\",3,IF(H110=\"x\",2,IF(I110=\"x\",1,IF(J110=\"x\",\"NR\",\"\")))))","v":4},{"$f":"IF(O110=\"x\",4,IF(P110=\"x\",3,IF(Q110=\"x\",2,IF(R110=\"x\",1,IF(S110=\"x\",\"NR\",\"\")))))","v":4}]
[" "]
[null,null,null,null,null,null,null,null,null,null,null,null,null,null,null,null,null,null,null,null,"Potential","Self Total","Onsite Total"]
[null,null,null,null,null,null,null,null,null,null,null,null,null,null,null,null,null,null,null,null,{"$f":"COUNT(V106:V111)*4","v":8},{"$f":"SUM(V106,V107,V110)","v":8},{"$f":"SUM(W106,W107,W110)","v":8}]
[]
[]
[]
[" Quest #",{"$f":"MC!B2","v":"Managing Change"},null,"Build up Score Assessment"," ","Build up Scoring",null,null,null,null,"Quest Score",null,"Build up Score Assessment"," ","Build up Scoring",null,null,null,null,"Quest Score",null,"Self Score","Onsite Score"]
[{"$f":"MC!$A$4","v":"MC1.0"},{"$f":"MC!$B$4","v":"Changes are controlled"},null,"Element Guidance",null,4,3,2,1,"NR",null,null,"Element Guidance",null,4,3,2,1,"NR"]
[{"$f":"MC!$A$5","v":"MC1.1"},{"$f":"MC!$C$5","v":"Procedure to manage product/process/source changes"},null,"A procedure to manage product/process/source changes is defined and is being applied both for planned and emergency changes.",null,{"$f":"IF(D119=MC!$D$9,\"X\",\"\")","v":"X"},{"$f":"IF(D119=MC!$D$8,\"X\",\"\")","v":""},{"$f":"IF(D119=MC!$D$7,\"X\",\"\")","v":""},{"$f":"IF(D119=MC!$D$6,\"X\",\"\")","v":""},{"$f":"IF(D119=MC!$D$10,\"X\",\"\")","v":""},{"$f":"SUM(V119)","v":4},null,"A procedure to manage product/process/source changes is defined and is being applied both for planned and emergency changes.",null,{"$f":"IF(M119=MC!$D$9,\"X\",\"\")","v":"X"},{"$f":"IF(M119=MC!$D$8,\"X\",\"\")","v":""},{"$f":"IF(M119=MC!$D$7,\"X\",\"\")","v":""},{"$f":"IF(M119=MC!$D$6,\"X\",\"\")","v":""},{"$f":"IF(M119=MC!$D$10,\"X\",\"\")","v":""},{"$f":"SUM(W119)","v":4},null,{"$f":"IF(F119=\"x\",4,IF(G119=\"x\",3,IF(H119=\"x\",2,IF(I119=\"x\",1,IF(J119=\"x\",\"NR\",\"\")))))","v":4},{"$f":"IF(O119=\"x\",4,IF(P119=\"x\",3,IF(Q119=\"x\",2,IF(R119=\"x\",1,IF(S119=\"x\",\"NR\",\"\")))))","v":4}]
[" "]
[null,null,null,null,null,null,null,null,null,null,null,null,null,null,null,null,null,null,null,null,"Potential","Self Total","Onsite Total"]
[null,null,null,null,null,null,null,null,null,null,null,null,null,null,null,null,null,null,null,null,{"$f":"COUNT(V115:V120)*4","v":4},{"$f":"SUM(V115,V116,V119)","v":4},{"$f":"SUM(W115,W116,W119)","v":4}]
[]
[]
[]
[" Quest #",{"$f":"CC!B2","v":"Contamination Control"},null,"Build up Score Assessment"," ","Build up Scoring",null,null,null,null,"Quest Score",null,"Build up Score Assessment"," ","Build up Scoring",null,null,null,null,"Quest Score",null,"Self Score","Onsite Score"]
[{"$f":"CC!$A$4","v":"CC1.0"},{"$f":"CC!$B$4","v":"Risk Identified and Controlled"},null,"Element Guidance",null,4,3,2,1,"NR",null,null,"Element Guidance",null,4,3,2,1,"NR"]
[{"$f":"CC!$A$5","v":"CC1.1"},{"$f":"CC!$C$5","v":"Operations affected by PFMEA"},null,"Most operations that could be affected by contamination are considered in PFMEA.",null,{"$f":"IF(D128=CC!$D$9,\"X\",\"\")","v":"X"},{"$f":"IF(D128=CC!$D$8,\"X\",\"\")","v":""},{"$f":"IF(D128=CC!$D$7,\"X\",\"\")","v":""},{"$f":"IF(D128=CC!$D$6,\"X\",\"\")","v":""},{"$f":"IF(D128=CC!$D$10,\"X\",\"\")","v":""},{"$f":"SUM(V128)","v":4},null,"Most operations that could be affected by contamination are considered in PFMEA.",null,{"$f":"IF(M128=CC!$D$9,\"X\",\"\")","v":"X"},{"$f":"IF(M128=CC!$D$8,\"X\",\"\")","v":""},{"$f":"IF(M128=CC!$D$7,\"X\",\"\")","v":""},{"$f":"IF(M128=CC!$D$6,\"X\",\"\")","v":""},{"$f":"IF(M128=CC!$D$10,\"X\",\"\")","v":""},{"$f":"SUM(W128)","v":4},null,{"$f":"IF(F128=\"x\",4,IF(G128=\"x\",3,IF(H128=\"x\",2,IF(I128=\"x\",1,IF(J128=\"x\",\"NR\",\"\")))))","v":4},{"$f":"IF(O128=\"x\",4,IF(P128=\"x\",3,IF(Q128=\"x\",2,IF(R128=\"x\",1,IF(S128=\"x\",\"NR\",\"\")))))","v":4}]
[" "]
[null,null,null,null,null,null,null,null,null,null,null,null,null,null,null,null,null,null,null,null,"Potential","Self Total","Onsite Total"]
[null,null,null,null,null,null,null,null,null,null,null,null,null,null,null,null,null,null,null,null,{"$f":"COUNT(V124:V129)*4","v":4},{"$f":"SUM(V124,V125,V128)","v":4},{"$f":"SUM(W124,W125,W128)","v":4}]
[]
[]
[]
[" Quest #",{"$f":"MM!B2","v":"Manufacturing & Material Flow "},null,"Build up Score Assessment"," ","Build up Scoring",null,null,null,null,"Quest Score",null,"Build up Score Assessment"," ","Build up Scoring",null,null,null,null,"Quest Score",null,"Self Score","Onsite Score"]
[{"$f":"MM!$A$4","v":"MM1.0"},{"$f":"MM!$B$4","v":"Manufacturing planning & scheduling"},null,"Element Guidance",null,4,3,2,1,"NR",null,null,"Element Guidance",null,4,3,2,1,"NR"]
[{"$f":"MM!$A$17","v":"MM1.3"},{"$f":"MM!$C$17","v":"MPS is reviewed regularly"},null,"The Master Production Schedule & resource plan is clearly visible to the manufacturing team.",null,{"$f":"IF(D137=MM!$D$21,\"X\",\"\")","v":"X"},{"$f":"IF(D137=MM!$D$20,\"X\",\"\")","v":""},{"$f":"IF(D137=MM!$D$19,\"X\",\"\")","v":""},{"$f":"IF(D137=MM!$D$18,\"X\",\"\")","v":""},{"$f":"IF(D137=MM!$D$22,\"X\",\"\")","v":""},{"$f":"SUM(V137)","v":4},null,"The Master Production Schedule & resource plan is clearly visible to the manufacturing team.",null,{"$f":"IF(M137=MM!$D$21,\"X\",\"\")","v":"X"},{"$f":"IF(M137=MM!$D$20,\"X\",\"\")","v":""},{"$f":"IF(M137=MM!$D$19,\"X\",\"\")","v":""},{"$f":"IF(M137=MM!$D$18,\"X\",\"\")","v":""},{"$f":"IF(M137=MM!$D$22,\"X\",\"\")","v":""},{"$f":"SUM(W137)","v":4},null,{"$f":"IF(F137=\"x\",4,IF(G137=\"x\",3,IF(H137=\"x\",2,IF(I137=\"x\",1,IF(J137=\"x\",\"NR\",\"\")))))","v":4},{"$f":"IF(O137=\"x\",4,IF(P137=\"x\",3,IF(Q137=\"x\",2,IF(R137=\"x\",1,IF(S137=\"x\",\"NR\",\"\")))))","v":4}]
[]
[{"$f":"MM!$A$29","v":"MM2.0"},{"$f":"MM!$B$29","v":"Storage controls"},null,"Element Guidance",null,null,null,null,null,null,null,null,"Element Guidance"]
[{"$f":"MM!$A$42","v":"MM2.3"},{"$f":"MM!$C$42","v":"FIFO"},null,"FIFO plans and procedures are effective",null,{"$f":"IF(D140=MM!$D$46,\"X\",\"\")","v":"X"},{"$f":"IF(D140=MM!$D$45,\"X\",\"\")","v":""},{"$f":"IF(D140=MM!$D$44,\"X\",\"\")","v":""},{"$f":"IF(D140=MM!$D$43,\"X\",\"\")","v":""},{"$f":"IF(D140=MM!$D$47,\"X\",\"\")","v":""},{"$f":"SUM(V140)","v":4},null,"FIFO plans and procedures are effective",null,{"$f":"IF(M140=MM!$D$46,\"X\",\"\")","v":"X"},{"$f":"IF(M140=MM!$D$45,\"X\",\"\")","v":""},{"$f":"IF(M140=MM!$D$44,\"X\",\"\")","v":""},{"$f":"IF(M140=MM!$D$43,\"X\",\"\")","v":""},{"$f":"IF(M140=MM!$D$47,\"X\",\"\")","v":""},{"$f":"SUM(W140)","v":4},null,{"$f":"IF(F140=\"x\",4,IF(G140=\"x\",3,IF(H140=\"x\",2,IF(I140=\"x\",1,IF(J140=\"x\",\"NR\",\"\")))))","v":4},{"$f":"IF(O140=\"x\",4,IF(P140=\"x\",3,IF(Q140=\"x\",2,IF(R140=\"x\",1,IF(S140=\"x\",\"NR\",\"\")))))","v":4}]
[" "]
[null,null,null,null,null,null,null,null,null,null,null,null,null,null,null,null,null,null,null,null,"Potential","Self Total","Onsite Total"]
[null,null,null,null,null,null,null,null,null,null,null,null,null,null,null,null,null,null,null,null,{"$f":"COUNT(V136:V141)*4","v":8},{"$f":"SUM(V136,V137,V140)","v":8},{"$f":"SUM(W136,W137,W140)","v":8}]
[]
[]
[]
[" Quest #",{"$f":"EL!B2","v":"External Logistic"},null,"Build up Score Assessment"," ","Build up Scoring",null,null,null,null,"Quest Score",null,"Build up Score Assessment"," ","Build up Scoring",null,null,null,null,"Quest Score",null,"Self Score","Onsite Score"]
[{"$f":"EL!$A$4","v":"EL1.0"},{"$f":"EL!$B$4","v":"Supply process is managed"},null,"Element Guidance",null,4,3,2,1,"NR",null,null,"Element Guidance",null,4,3,2,1,"NR"]
[{"$f":"EL!$A$5","v":"EL1.1"},{"$f":"EL!$C$5","v":"Process to follow deliveries is formalized and applied"},null,"Incoming material process is properly managed and effective.",null,{"$f":"IF(D149=EL!$D$9,\"X\",\"\")","v":"X"},{"$f":"IF(D149=EL!$D$8,\"X\",\"\")","v":""},{"$f":"IF(D149=EL!$D$7,\"X\",\"\")","v":""},{"$f":"IF(D149=EL!$D$6,\"X\",\"\")","v":""},{"$f":"IF(D149=EL!$D$10,\"X\",\"\")","v":""},{"$f":"SUM(V149)","v":4},null,"Incoming material process is properly managed and effective.",null,{"$f":"IF(M149=EL!$D$9,\"X\",\"\")","v":"X"},{"$f":"IF(M149=EL!$D$8,\"X\",\"\")","v":""},{"$f":"IF(M149=EL!$D$7,\"X\",\"\")","v":""},{"$f":"IF(M149=EL!$D$6,\"X\",\"\")","v":""},{"$f":"IF(M149=EL!$D$10,\"X\",\"\")","v":""},{"$f":"SUM(W149)","v":4},null,{"$f":"IF(F149=\"x\",4,IF(G149=\"x\",3,IF(H149=\"x\",2,IF(I149=\"x\",1,IF(J149=\"x\",\"NR\",\"\")))))","v":4},{"$f":"IF(O149=\"x\",4,IF(P149=\"x\",3,IF(Q149=\"x\",2,IF(R149=\"x\",1,IF(S149=\"x\",\"NR\",\"\")))))","v":4}]
[]
[{"$f":"EL!$A$79","v":"ELE"},{"$f":"EL!$B$79","v":"Indicators are defined and tracked to ensure effectiveness and efficiency of external logistic management"},null,"Element Guidance (Place Holder)",null,null,null,null,null,null,null,null,"Element Guidance (Place Holder)"]
[{"$f":"EL!$A$80","v":"ELE.1"},{"$f":"EL!$C$80","v":"Indicators concerning the supply process: Fill rate, Service rate, and Logistics."},null,"Logistic metrics are part of management review",null,{"$f":"IF(D152=EL!$D$84,\"X\",\"\")","v":"X"},{"$f":"IF(D152=EL!$D$83,\"X\",\"\")","v":""},{"$f":"IF(D152=EL!$D$82,\"X\",\"\")","v":""},{"$f":"IF(D152=EL!$D$81,\"X\",\"\")","v":""},{"$f":"IF(D152=EL!$D$85,\"X\",\"\")","v":""},{"$f":"SUM(V152)","v":4},null,"Logistic metrics are part of management review",null,{"$f":"IF(M152=EL!$D$84,\"X\",\"\")","v":"X"},{"$f":"IF(M152=EL!$D$83,\"X\",\"\")","v":""},{"$f":"IF(M152=EL!$D$82,\"X\",\"\")","v":""},{"$f":"IF(M152=EL!$D$81,\"X\",\"\")","v":""},{"$f":"IF(M152=EL!$D$85,\"X\",\"\")","v":""},{"$f":"SUM(W152)","v":4},null,{"$f":"IF(F152=\"x\",4,IF(G152=\"x\",3,IF(H152=\"x\",2,IF(I152=\"x\",1,IF(J152=\"x\",\"NR\",\"\")))))","v":4},{"$f":"IF(O152=\"x\",4,IF(P152=\"x\",3,IF(Q152=\"x\",2,IF(R152=\"x\",1,IF(S152=\"x\",\"NR\",\"\")))))","v":4}]
[" "]
[null,null,null,null,null,null,null,null,null,null,null,null,null,null,null,null,null,null,null,null,"Potential","Self Total","Onsite Total"]
[null,null,null,null,null,null,null,null,null,null,null,null,null,null,null,null,null,null,null,null,{"$f":"COUNT(V148:V153)*4","v":8},{"$f":"SUM(V148,V149,V152)","v":8},{"$f":"SUM(W148,W149,W152)","v":8}]
[]
[]
[]
[" Quest #",{"$f":"AP!B2","v":"Advance Product Quality Planning "},null,"Build up Score Assessment"," ","Build up Scoring",null,null,null,null,"Quest Score",null,"Build up Score Assessment"," ","Build up Scoring",null,null,null,null,"Quest Score",null,"Self Score","Onsite Score"]
[{"$f":"AP!$A$54","v":"AP3.0"},{"$f":"AP!$B$54","v":"Product and Process Validation"},null,"Element Guidance",null,4,3,2,1,"NR",null,null,"Element Guidance",null,4,3,2,1,"NR"]
[{"$f":"AP!$A$67","v":"AP3.3"},{"$f":"AP!$C$67","v":"PPAP approval"},null,"The PPAP meets the AIAG standard.",null,{"$f":"IF(D161=AP!$D$71,\"X\",\"\")","v":"X"},{"$f":"IF(D161=AP!$D$70,\"X\",\"\")","v":""},{"$f":"IF(D161=AP!$D$69,\"X\",\"\")","v":""},{"$f":"IF(D161=AP!$D$68,\"X\",\"\")","v":""},{"$f":"IF(D161=AP!$D$72,\"X\",\"\")","v":""},{"$f":"SUM(V161)","v":4},null,"The PPAP meets the AIAG standard.",null,{"$f":"IF(M161=AP!$D$71,\"X\",\"\")","v":"X"},{"$f":"IF(M161=AP!$D$70,\"X\",\"\")","v":""},{"$f":"IF(M161=AP!$D$69,\"X\",\"\")","v":""},{"$f":"IF(M161=AP!$D$68,\"X\",\"\")","v":""},{"$f":"IF(M161=AP!$D$72,\"X\",\"\")","v":""},{"$f":"SUM(W161)","v":4},null,{"$f":"IF(F161=\"x\",4,IF(G161=\"x\",3,IF(H161=\"x\",2,IF(I161=\"x\",1,IF(J161=\"x\",\"NR\",\"\")))))","v":4},{"$f":"IF(O161=\"x\",4,IF(P161=\"x\",3,IF(Q161=\"x\",2,IF(R161=\"x\",1,IF(S161=\"x\",\"NR\",\"\")))))","v":4}]
[" "]
[null,null,null,null,null,null,null,null,null,null,null,null,null,null,null,null,null,null,null,null,"Potential","Self Total","Onsite Total"]
[null,null,null,null,null,null,null,null,null,null,null,null,null,null,null,null,null,null,null,null,{"$f":"COUNT(V157:V162)*4","v":4},{"$f":"SUM(V157,V158,V161)","v":4},{"$f":"SUM(W157,W158,W161)","v":4}]
[]
[]
[]
[" Quest #",{"$f":"AQ!B2","v":"Automotive Quality Standards"},null,"Build up Score Assessment"," ","Build up Scoring",null,null,null,null,"Quest Score",null,"Build up Score Assessment"," ","Build up Scoring",null,null,null,null,"Quest Score",null,"Self Score","Onsite Score"]
[{"$f":"AQ!$A$79","v":"AQE"},{"$f":"AQ!$B$79","v":"Effectiveness"},null,"Element Guidance",null,4,3,2,1,"NR",null,null,"Element Guidance",null,4,3,2,1,"NR"]
[{"$f":"AQ!$A$80","v":"AQE.1"},{"$f":"AQ!$C$80","v":"IATF 16949 Certification"},null,"The supplier has been certified to the IATF standard via 3rd party",null,{"$f":"IF(D170=AQ!$D$84,\"X\",\"\")","v":"X"},{"$f":"IF(D170=AQ!$D$83,\"X\",\"\")","v":""},{"$f":"IF(D170=AQ!$D$82,\"X\",\"\")","v":""},{"$f":"IF(D170=AQ!$D$81,\"X\",\"\")","v":""},{"$f":"IF(D170=AQ!$D$85,\"X\",\"\")","v":""},{"$f":"SUM(V170)","v":4},null,"The supplier has been certified to the IATF standard via 3rd party",null,{"$f":"IF(M170=AQ!$D$84,\"X\",\"\")","v":"X"},{"$f":"IF(M170=AQ!$D$83,\"X\",\"\")","v":""},{"$f":"IF(M170=AQ!$D$82,\"X\",\"\")","v":""},{"$f":"IF(M170=AQ!$D$81,\"X\",\"\")","v":""},{"$f":"IF(M170=AQ!$D$85,\"X\",\"\")","v":""},{"$f":"SUM(W170)","v":4},null,{"$f":"IF(F170=\"x\",4,IF(G170=\"x\",3,IF(H170=\"x\",2,IF(I170=\"x\",1,IF(J170=\"x\",\"NR\",\"\")))))","v":4},{"$f":"IF(O170=\"x\",4,IF(P170=\"x\",3,IF(Q170=\"x\",2,IF(R170=\"x\",1,IF(S170=\"x\",\"NR\",\"\")))))","v":4}]
[]
[null,null,null,null,null,null,null,null,null,null,null,null,null,null,null,null,null,null,null,null,"Potential","Self Total","Onsite Total"]
[null,null,null,null,null,null,null,null,null,null,null,null,null,null,null,null,null,null,null,null,{"$f":"COUNT(V166:V171)*4","v":4},{"$f":"SUM(V166,V167,V170)","v":4},{"$f":"SUM(W166,W167,W170)","v":4}]
[]
[null,null,null,null,null,null,null,null,null,null,null,null,null,null,null,null,null,null,null,null,"Grand Potential","Self Final","Onsite Final"]
[null,null,null,null,null,null,null,null,null,null,null,null,null,null,null,null,null,null,null,null,{"$f":"SUM(U173,U164,U155,U143,U131,U122,U113,U101,U89,U80,U71,U58,U43,U30,U15)","v":116},{"$f":"(SUM(V173,V164,V155,V143,V131,V122,V113,V101,V89,V80,V71,V58,V43,V30,V15))","v":107},{"$f":"(SUM(W173,W164,W155,W143,W131,W122,W113,W101,W89,W80,W71,W58,W43,W30,W15))","v":116}]
[]
[]
[]
[null,null,null,null,null,null,null,null,null,null,null,null,null,null,null,null,null,null,null,null,null,{"$f":"V176/U176","v":0.92241379310344829},{"$f":"W176/U176","v":1}]

{"sheet":"MCA Level 1 Summary","index":54,"n_rows":75,"n_cols":20,"rows_kept":75,"cut":false,"hidden":true,"merged":[[64,2,65,3],[64,4,65,5],[4,1,4,5],[53,2,53,5],[54,2,54,5],[55,2,55,3],[56,2,56,5],[49,2,49,5],[50,2,50,5],[51,2,51,3],[52,2,52,5],[62,2,63,3],[62,4,63,5],[20,2,20,5],[19,2,19,5],[15,2,15,5],[10,2,10,5],[66,6,66,8],[39,2,39,5],[67,6,67,8],[40,2,40,5],[68,6,68,8],[64,6,64,8],[37,2,37,3],[65,6,65,8],[33,2,33,3],[34,2,34,5],[35,2,35,5],[36,2,36,5],[46,2,46,5],[47,2,47,3],[48,2,48,5],[44,2,44,3],[45,2,45,5],[41,2,41,3],[42,2,42,5],[43,2,43,5],[38,2,38,5],[60,2,60,5],[61,2,61,3],[59,2,59,5],[44,13,44,15],[28,2,28,5],[29,2,29,5],[26,2,26,5],[27,2,27,3],[23,2,23,3],[36,6,36,7],[36,8,36,9],[36,10,36,12],[24,2,24,5],[25,2,25,5],[34,6,34,7],[34,8,34,9],[34,10,34,12],[35,6,35,7],[35,8,35,9],[35,10,35,12],[32,6,32,7],[32,8,32,9],[32,10,32,12],[33,6,33,7],[33,8,33,9],[33,10,33,12],[30,6,30,7],[30,8,30,9],[30,10,30,12],[21,2,21,5],[31,6,31,7],[31,8,31,9],[30,2,30,3],[31,2,31,5],[32,2,32,5],[28,6,28,7],[28,8,28,9],[28,10,28,12],[29,6,29,7],[29,8,29,9],[29,10,29,12],[26,6,26,7],[26,8,26,9],[26,10,26,12],[27,6,27,7],[27,8,27,9],[27,10,27,12],[24,6,24,7],[24,8,24,9],[24,10,24,12],[22,2,22,5],[25,6,25,7],[25,8,25,9],[25,10,25,12],[16,2,16,5],[22,6,22,7],[22,8,22,9],[22,10,22,12],[23,6,23,7],[23,8,23,9],[23,10,23,12],[18,2,18,3],[20,6,20,7],[20,8,20,9],[20,10,20,12],[21,6,21,7],[21,8,21,9],[21,10,21,12],[18,6,18,7],[18,8,18,9],[18,10,18,12],[19,6,19,7],[19,8,19,9],[19,10,19,12],[16,6,16,7],[16,8,16,9],[16,10,16,12],[17,2,17,5],[17,6,17,7],[17,8,17,9],[17,10,17,12],[11,2,11,5],[14,6,14,7],[14,8,14,9],[14,10,14,12],[12,2,12,5],[15,6,15,7],[15,8,15,9],[15,10,15,12],[14,2,14,3],[12,6,12,7],[12,8,12,9],[12,10,12,12],[13,6,13,7],[13,8,13,9],[13,10,13,12],[10,6,10,7],[10,8,10,9],[10,10,10,12],[11,6,11,7],[11,8,11,9],[11,10,11,12],[13,2,13,5],[2,0,2,1],[2,2,2,7],[2,10,2,16],[3,1,3,16],[5,2,5,5],[5,6,9,16],[8,2,8,5],[0,0,0,1],[0,2,0,7],[0,10,0,12],[0,13,0,14],[0,15,0,16],[1,0,1,1],[1,2,1,7],[1,10,1,16],[9,2,9,3]]}
["Supplier:",null,{"$f":"IF(ISBLANK(#REF!),\"\",#REF!)","v":{"$error":"#REF!"}},null,null,null,null,null,null,"Duns Code:",{"$f":"IF(ISBLANK(#REF!),\"\",TEXT(#REF!,\"000000000\"))","v":{"$error":"#REF!"}},null,null,"Date:",null,{"$f":"IF(ISBLANK(#REF!),\"\",#REF!)","v":{"$error":"#REF!"}},null,null,null,"28sep18 - lt -- future release tab to be used for V7"]
["Location:",null,{"$f":"IF(ISBLANK(#REF!),\"\",#REF!)","v":{"$error":"#REF!"}},null,null,null,null,null,null,"SQE/Team Auditors:"]
["Part Desc:",null,null,null,null,null,null,null,null,"Plant / Quality Mgr:"]
["Quest #","Manufacturing Capability Assessment Level 1"]
[null,"NSA Type: Onsite"]
[null,"FR","Fast Response",null,null,null,"Process Specific Audit Instructions\n\nA Process Specific Audit (PSA) must be performed for each process that is targeted to be used by a buyer for part Sourcing.  A Passing score on each PSA is required in addition to the MCA Scoring"]
[2,{"$f":"_xlfn.SWITCH('NSA Level 1'!K6,0,\"*\",IF('NSA Level 1'!W176=0,'NSA Level 1'!V6,'NSA Level 1'!T6))","v":4},{"$f":"FR!$B$29","v":"Fast Response Tracking Board"}]
[3,{"$f":"_xlfn.SWITCH('NSA Level 1'!K9,0,\"*\",IF('NSA Level 1'!W176=0,'NSA Level 1'!V9,'NSA Level 1'!T9))","v":4},{"$f":"FR!$B$54","v":"Problem communication"}]
[4,{"$f":"_xlfn.SWITCH('NSA Level 1'!K12,0,\"*\",IF('NSA Level 1'!W176=0,'NSA Level 1'!V12,'NSA Level 1'!T12))","v":4},{"$f":"FR!$B$79","v":"Problem Solving Process"}]
[null,{"$f":"SUM(B7:B9)","v":12},"Total Potential",null,{"$f":"'NSA Level 1'!U15","v":12},{"$f":"IF(B10=0,0,FLOOR(B10/E10,0.01))","v":1}]
[null,"NC","Control of Non-conforming Product",null,null,null,"REQUIRED",null,"PSA Judgement",null,"Process Specific Audit"]
[1,{"$f":"_xlfn.SWITCH('NSA Level 1'!K21,0,\"*\",IF('NSA Level 1'!W176=0,'NSA Level 1'!V21,'NSA Level 1'!T21))","v":4},{"$f":"NC!$B$4","v":"Traceability rules "},null,null,null,"NO",null,{"$f":"IF(G12=\"No\",\"\",INDIRECT(\"'\"&K12&\"'!F3\"))","v":""},null,"CQI-9 Heat Treat Audit"]
[2,{"$f":"_xlfn.SWITCH('NSA Level 1'!K24,0,\"*\",IF('NSA Level 1'!W176=0,'NSA Level 1'!V24,'NSA Level 1'!T24))","v":4},{"$f":"NC!$B$29","v":"Material Segregation"},null,null,null,"NO",null,"",null,"CQI-11 Plating Audit"]
[4,{"$f":"_xlfn.SWITCH('NSA Level 1'!K27,0,\"*\",IF('NSA Level 1'!W176=0,'NSA Level 1'!V27,'NSA Level 1'!T27))","v":4},{"$f":"NC!$B$79","v":"Containment"},null,null,null,"NO",null,"",null,"CQI-12 Coating Audit"]
[null,{"$f":"SUM(B12:B14)","v":12},"Total Potential",null,{"$f":"'NSA Level 1'!U30","v":12},{"$f":"IF(B15=0,0,FLOOR(B15/E15,0.01))","v":1},"NO",null,"",null,"CQI-15 Welding Audit"]
[null,"VS","Verification & Error Proof",null,null,null,"NO",null,"",null,"CQI-17 Soldering Audit"]
[1,{"$f":"_xlfn.SWITCH('NSA Level 1'!K36,0,\"*\",IF('NSA Level 1'!W176=0,'NSA Level 1'!V36,'NSA Level 1'!T36))","v":8},{"$f":"VS!$B$4","v":"Quality in Station"},null,null,null,"NO",null,"",null,"Aluminum Casting Audit"]
[4,{"$f":"_xlfn.SWITCH('NSA Level 1'!K40,0,\"*\",IF('NSA Level 1'!W176=0,'NSA Level 1'!V40,'NSA Level 1'!T40))","v":4},{"$f":"VS!$B$79","v":"Gages & Error Proofing Devices"},null,null,null,"NO",null,"",null,"Assembly Audit"]
[null,{"$f":"SUM(B17:B18)","v":12},"Total Potential",null,{"$f":"'NSA Level 1'!U43","v":12},{"$f":"IF(B19=0,0,FLOOR(B19/E19,0.01))","v":1},"NO",null,"",null,"Balancer Audit"]
[null,"SW","Standardized work",null,null,null,"NO",null,"",null,"Blow Molding Audit"]
[1,{"$f":"_xlfn.SWITCH('NSA Level 1'!K49,0,\"*\",IF('NSA Level 1'!W176=0,'NSA Level 1'!V49,'NSA Level 1'!T49))","v":4},{"$f":"SW!$B$4","v":"Workplace Safety"},null,null,null,"NO",null,"",null,"Ductile Iron Casting Audit"]
[2,{"$f":"_xlfn.SWITCH('NSA Level 1'!K52,0,\"*\",IF('NSA Level 1'!W176=0,'NSA Level 1'!V52,'NSA Level 1'!T52))","v":4},{"$f":"SW!$B$29","v":"Workplace Organization"},null,null,null,"NO",null,"",null,"Electrical Product Audit"]
[4,{"$f":"_xlfn.SWITCH('NSA Level 1'!K55,0,\"*\",IF('NSA Level 1'!W176=0,'NSA Level 1'!V55,'NSA Level 1'!T55))","v":4},{"$f":"SW!$B$79","v":"Start of Production Validation"},null,null,null,"NO",null,"",null,"ESD Protection Audit"]
[null,{"$f":"SUM(B21:B23)","v":12},"Total Potential",null,{"$f":"'NSA Level 1'!U58","v":12},{"$f":"IF(B24=0,0,FLOOR(B24/E24,0.01))","v":1},"NO",null,"",null,"Extrusion Audit"]
[null,"MA","Maintenance",null,null,null,"NO",null,"",null,"Forgings Audit"]
[1,{"$f":"_xlfn.SWITCH('NSA Level 1'!K64,0,\"*\",IF('NSA Level 1'!W176=0,'NSA Level 1'!V64,'NSA Level 1'!T64))","v":8},{"$f":"MA!$B$4","v":"Maintenance strategy"},null,null,null,"NO",null,"",null,"Grease Application Audit"]
[4,{"$f":"_xlfn.SWITCH('NSA Level 1'!K68,0,\"*\",IF('NSA Level 1'!W176=0,'NSA Level 1'!V68,'NSA Level 1'!T68))","v":4},{"$f":"MA!$B$79","v":"Maintenance materials"},null,null,null,"NO",null,"",null,"Injection Molding Audit"]
[null,{"$f":"SUM(B26:B27)","v":12},"Total Potential",null,{"$f":"'NSA Level 1'!U71","v":12},{"$f":"IF(B28=0,0,FLOOR(B28/E28,0.01))","v":1},"NO",null,"",null,"Machining Audit"]
[null,"TR","Training",null,null,null,"NO",null,"",null,"Painting Audit"]
[2,{"$f":"_xlfn.SWITCH('NSA Level 1'!K77,0,\"*\",IF('NSA Level 1'!W176=0,'NSA Level 1'!V77,'NSA Level 1'!T77))","v":4},{"$f":"TR!$B$29","v":"Training Safety & Corporate Responsibility"},null,null,null,"NO",null,"",null,"Powdered Metal Audit"]
[null,{"$f":"SUM(B30:B30)","v":4},"Total Potential",null,{"$f":"'NSA Level 1'!U80","v":4},{"$f":"IF(B31=0,0,FLOOR(B31/E31,0.01))","v":1},"NO",null,"",null,"Rubber Bonding Audit"]
[null,"LP","Layered Process Audit",null,null,null,"NO",null,"",null,"Semiconductor Assembly Audit"]
[2,{"$f":"_xlfn.SWITCH('NSA Level 1'!K86,0,\"*\",IF('NSA Level 1'!W176=0,'NSA Level 1'!V86,'NSA Level 1'!T86))","v":4},{"$f":"LP!$B$29","v":"LPA covers all operational activities"},null,null,null,"NO",null,"",null,"Stamping Audit"]
[null,{"$f":"SUM(B33)","v":4},"Total Potential",null,{"$f":"'NSA Level 1'!U89","v":4},{"$f":"IF(B34=0,0,FLOOR(B34/E34,0.01))","v":1},"NO",null,{"$f":"IF(G34=\"No\",\"\",IF(INDIRECT(\"'\"&K34&\"'!H3\")=0,\"R - Incomplete\",INDIRECT(\"'\"&K34&\"'!H3\")))","v":""},null,"Steel Mill Audit"]
[null,"RR","Risk Reduction",null,null,null,"NO",null,{"$f":"IF(G35=\"No\",\"\",INDIRECT(\"'\"&K35&\"'!F3\"))","v":""},null,"Threading Tapping Audit"]
[1,{"$f":"_xlfn.SWITCH('NSA Level 1'!K95,0,\"*\",IF('NSA Level 1'!W176=0,'NSA Level 1'!V95,'NSA Level 1'!T95))","v":4},{"$f":"RR!$B$4","v":"PFMEA developed and maintained"},null,null,null,"NO",null,"",null,"Torque Control Audit"]
[2,{"$f":"_xlfn.SWITCH('NSA Level 1'!K98,0,\"*\",IF('NSA Level 1'!W176=0,'NSA Level 1'!V98,'NSA Level 1'!T98))","v":4},{"$f":"RR!$B$29","v":"Proactive approach for high risk items"},null,null,null,"NO",null,"",null,"Wafer Fabrication Audit"]
[null,{"$f":"SUM(B36:B37)","v":8},"Total Potential",null,{"$f":"'NSA Level 1'!U101","v":8},{"$f":"IF(B38=0,0,FLOOR(B38/E38,0.01))","v":1},null,null,null,null,"MCA Questions"]
[null,"SC","Supply Chain Management",null,null,null,null,"%",null,"Supplier Performance Metrics",null,null,"6 Mo. Ave.",null,"Goal"]
[1,{"$f":"_xlfn.SWITCH('NSA Level 1'!K107,0,\"*\",IF('NSA Level 1'!W176=0,'NSA Level 1'!V107,'NSA Level 1'!T107))","v":4},{"$f":"SC!$B$4","v":"Procedures to select and evaluate suppliers"},null,null,null,"SP",{"$f":"#REF!","v":{"$error":"#REF!"}},null,"PPB",null,null,{"$f":"#REF!","v":{"$error":"#REF!"}},null,{"$f":"#REF!","v":{"$error":"#REF!"}}]
[2,{"$f":"_xlfn.SWITCH('NSA Level 1'!K110,0,\"*\",IF('NSA Level 1'!W176=0,'NSA Level 1'!V110,'NSA Level 1'!T110))","v":4},{"$f":"SC!$B$29","v":"Customer requirements are cascaded"},null,null,null,null,{"$f":"#REF!","v":{"$error":"#REF!"}},null,"CPM","MCA Summary",null,{"$f":"#REF!","v":{"$error":"#REF!"}},null,{"$f":"#REF!","v":{"$error":"#REF!"}}]
[null,{"$f":"SUM(B40:B41)","v":8},"Total Potential",null,{"$f":"'NSA Level 1'!U113","v":8},{"$f":"IF(B42=0,0,FLOOR(B42/E42,0.01))","v":1},null,{"$f":"#REF!","v":{"$error":"#REF!"}},null,"% On-Time Delivery",null,null,{"$f":"#REF!","v":{"$error":"#REF!"}},null,{"$f":"#REF!","v":{"$error":"#REF!"}}]
[null,"MC","Managing Change",null,null,null,null,{"$f":"AVERAGE($H$40:$H$42)","v":{"$error":"#REF!"}},null,"Total"]
[1,{"$f":"_xlfn.SWITCH('NSA Level 1'!K119,0,\"*\",IF('NSA Level 1'!W176=0,'NSA Level 1'!V119,'NSA Level 1'!T119))","v":4},{"$f":"MC!$B$4","v":"Changes are controlled"}]
[null,{"$f":"SUM(B44)","v":4},"Total Potential",null,{"$f":"'NSA Level 1'!U122","v":4},{"$f":"IF(B45=0,0,FLOOR(B45/E45,0.01))","v":1},null,null,null,null,null,null,null,"Number of Responses"]
[null,"CC","Contamination Control",null,null,null,null,"%","Pts","NSA Elements Summary",null,null,null,"R","Y","G","Over All"]
[1,{"$f":"_xlfn.SWITCH('NSA Level 1'!K128,0,\"*\",IF('NSA Level 1'!W176=0,'NSA Level 1'!V128,'NSA Level 1'!T128))","v":4},{"$f":"CC!$B$4","v":"Risk Identified and Controlled"},null,null,null,{"$f":"B6","v":"FR"},{"$f":"F10","v":1},{"$f":"B10","v":12},{"$f":"C6","v":"Fast Response"},null,null,null,{"$f":"COUNTIF(#REF!,\"X\")","v":{"$error":"#REF!"}},{"$f":"COUNTIF(#REF!,\"X\")","v":{"$error":"#REF!"}},{"$f":"COUNTIF(#REF!,\"X\")","v":{"$error":"#REF!"}},{"$f":"IF(H47>=0.9,\"GREEN\",IF(H47>=0.75,\"YELLOW\",IF(N47+O47+P47>0,\"RED\",\"Not Reviewed\")))","v":"GREEN"}]
[null,{"$f":"SUM(B47)","v":4},"Total Potential",null,{"$f":"'NSA Level 1'!U131","v":4},{"$f":"IF(B48=0,0,FLOOR(B48/E48,0.01))","v":1},{"$f":"B11","v":"NC"},{"$f":"F15","v":1},{"$f":"B15","v":12},{"$f":"C11","v":"Control of Non-conforming Product"},null,null,null,{"$f":"COUNTIF(#REF!,\"X\")","v":{"$error":"#REF!"}},{"$f":"COUNTIF(#REF!,\"X\")","v":{"$error":"#REF!"}},{"$f":"COUNTIF(#REF!,\"X\")","v":{"$error":"#REF!"}},"GREEN"]
[null,"MM","Manufacturing & Material Flow ",null,null,null,{"$f":"B16","v":"VS"},{"$f":"F19","v":1},{"$f":"B19","v":12},{"$f":"C16","v":"Verification & Error Proof"},null,null,null,{"$f":"COUNTIF(#REF!,\"X\")","v":{"$error":"#REF!"}},{"$f":"COUNTIF(#REF!,\"X\")","v":{"$error":"#REF!"}},{"$f":"COUNTIF(#REF!,\"X\")","v":{"$error":"#REF!"}},"GREEN"]
[1,{"$f":"_xlfn.SWITCH('NSA Level 1'!K137,0,\"*\",IF('NSA Level 1'!W176=0,'NSA Level 1'!V137,'NSA Level 1'!T137))","v":4},{"$f":"MM!$B$4","v":"Manufacturing planning & scheduling"},null,null,null,{"$f":"B20","v":"SW"},{"$f":"F24","v":1},{"$f":"B24","v":12},{"$f":"C20","v":"Standardized work"},null,null,null,{"$f":"COUNTIF(#REF!,\"X\")","v":{"$error":"#REF!"}},{"$f":"COUNTIF(#REF!,\"X\")","v":{"$error":"#REF!"}},{"$f":"COUNTIF(#REF!,\"X\")","v":{"$error":"#REF!"}},"GREEN"]
[2,{"$f":"_xlfn.SWITCH('NSA Level 1'!K140,0,\"*\",IF('NSA Level 1'!W176=0,'NSA Level 1'!V140,'NSA Level 1'!T140))","v":4},{"$f":"MM!$B$29","v":"Storage controls"},null,null,null,{"$f":"B25","v":"MA"},{"$f":"F28","v":1},{"$f":"B28","v":12},{"$f":"C25","v":"Maintenance"},null,null,null,{"$f":"COUNTIF(#REF!,\"X\")","v":{"$error":"#REF!"}},{"$f":"COUNTIF(#REF!,\"X\")","v":{"$error":"#REF!"}},{"$f":"COUNTIF(#REF!,\"X\")","v":{"$error":"#REF!"}},"GREEN"]
[null,{"$f":"SUM(B50:B51)","v":8},"Total Potential",null,{"$f":"'NSA Level 1'!U143","v":8},{"$f":"IF(B52=0,0,FLOOR(B52/E52,0.01))","v":1},{"$f":"B29","v":"TR"},{"$f":"F31","v":1},{"$f":"B31","v":4},{"$f":"C29","v":"Training"},null,null,null,{"$f":"COUNTIF(#REF!,\"X\")","v":{"$error":"#REF!"}},{"$f":"COUNTIF(#REF!,\"X\")","v":{"$error":"#REF!"}},{"$f":"COUNTIF(#REF!,\"X\")","v":{"$error":"#REF!"}},"GREEN"]
[null,"EL","External Logistic",null,null,null,{"$f":"B32","v":"LP"},{"$f":"F34","v":1},{"$f":"B34","v":4},{"$f":"C32","v":"Layered Process Audit"},null,null,null,{"$f":"COUNTIF(#REF!,\"X\")","v":{"$error":"#REF!"}},{"$f":"COUNTIF(#REF!,\"X\")","v":{"$error":"#REF!"}},{"$f":"COUNTIF(#REF!,\"X\")","v":{"$error":"#REF!"}},"GREEN"]
[1,{"$f":"_xlfn.SWITCH('NSA Level 1'!K149,0,\"*\",IF('NSA Level 1'!W176=0,'NSA Level 1'!V149,'NSA Level 1'!T149))","v":4},{"$f":"EL!$B$4","v":"Supply process is managed"},null,null,null,{"$f":"B35","v":"RR"},{"$f":"F38","v":1},{"$f":"B38","v":8},{"$f":"C35","v":"Risk Reduction"},null,null,null,{"$f":"COUNTIF(#REF!,\"X\")","v":{"$error":"#REF!"}},{"$f":"COUNTIF(#REF!,\"X\")","v":{"$error":"#REF!"}},{"$f":"COUNTIF(#REF!,\"X\")","v":{"$error":"#REF!"}},"GREEN"]
["E",{"$f":"_xlfn.SWITCH('NSA Level 1'!K152,0,\"*\",IF('NSA Level 1'!W176=0,'NSA Level 1'!V152,'NSA Level 1'!T152))","v":4},{"$f":"EL!$B$79","v":"Indicators are defined and tracked to ensure effectiveness and efficiency of external logistic management"},null,null,null,{"$f":"B39","v":"SC"},{"$f":"F42","v":1},{"$f":"B42","v":8},{"$f":"C39","v":"Supply Chain Management"},null,null,null,{"$f":"COUNTIF(#REF!,\"X\")","v":{"$error":"#REF!"}},{"$f":"COUNTIF(#REF!,\"X\")","v":{"$error":"#REF!"}},{"$f":"COUNTIF(#REF!,\"X\")","v":{"$error":"#REF!"}},"GREEN"]
[null,{"$f":"SUM(B54:B55)","v":8},"Total Potential",null,{"$f":"'NSA Level 1'!U155","v":8},{"$f":"IF(B56=0,0,FLOOR(B56/E56,0.01))","v":1},{"$f":"B43","v":"MC"},{"$f":"F45","v":1},{"$f":"B45","v":4},{"$f":"C43","v":"Managing Change"},null,null,null,{"$f":"COUNTIF(#REF!,\"X\")","v":{"$error":"#REF!"}},{"$f":"COUNTIF(#REF!,\"X\")","v":{"$error":"#REF!"}},{"$f":"COUNTIF(#REF!,\"X\")","v":{"$error":"#REF!"}},"GREEN"]
[null,"AP","Advance Product Quality Planning ",null,null,null,{"$f":"B46","v":"CC"},{"$f":"F48","v":1},{"$f":"B48","v":4},{"$f":"C46","v":"Contamination Control"},null,null,null,{"$f":"COUNTIF(#REF!,\"X\")","v":{"$error":"#REF!"}},{"$f":"COUNTIF(#REF!,\"X\")","v":{"$error":"#REF!"}},{"$f":"COUNTIF(#REF!,\"X\")","v":{"$error":"#REF!"}},"GREEN"]
[3,{"$f":"_xlfn.SWITCH('NSA Level 1'!K161,0,\"*\",IF('NSA Level 1'!W176=0,'NSA Level 1'!V161,'NSA Level 1'!T161))","v":4},{"$f":"AP!$B$54","v":"Product and Process Validation"},null,null,null,{"$f":"B49","v":"MM"},{"$f":"F52","v":1},{"$f":"B52","v":8},{"$f":"C49","v":"Manufacturing & Material Flow "},null,null,null,{"$f":"COUNTIF(#REF!,\"X\")","v":{"$error":"#REF!"}},{"$f":"COUNTIF(#REF!,\"X\")","v":{"$error":"#REF!"}},{"$f":"COUNTIF(#REF!,\"X\")","v":{"$error":"#REF!"}},"GREEN"]
[null,{"$f":"SUM(B58:B58)","v":4},"Total Potential",null,{"$f":"'NSA Level 1'!U164","v":4},{"$f":"IF(B59=0,0,FLOOR(B59/E59,0.01))","v":1},{"$f":"B53","v":"EL"},{"$f":"F56","v":1},{"$f":"B56","v":8},{"$f":"C53","v":"External Logistic"},null,null,null,{"$f":"COUNTIF(#REF!,\"X\")","v":{"$error":"#REF!"}},{"$f":"COUNTIF(#REF!,\"X\")","v":{"$error":"#REF!"}},{"$f":"COUNTIF(#REF!,\"X\")","v":{"$error":"#REF!"}},"GREEN"]
[null,"AQ","Automotive Quality Standards",null,null,null,{"$f":"B57","v":"AP"},{"$f":"F59","v":1},{"$f":"B59","v":4},{"$f":"C57","v":"Advance Product Quality Planning "},null,null,null,{"$f":"COUNTIF(#REF!,\"X\")","v":{"$error":"#REF!"}},{"$f":"COUNTIF(#REF!,\"X\")","v":{"$error":"#REF!"}},{"$f":"COUNTIF(#REF!,\"X\")","v":{"$error":"#REF!"}},"GREEN"]
["E",{"$f":"_xlfn.SWITCH('NSA Level 1'!K170,0,\"*\",IF('NSA Level 1'!W176=0,'NSA Level 1'!V170,'NSA Level 1'!T170))","v":4},{"$f":"AQ!$B$79","v":"Effectiveness"},null,null,null,{"$f":"B60","v":"AQ"},{"$f":"F62","v":1},{"$f":"B62","v":4},{"$f":"C60","v":"Automotive Quality Standards"},null,null,null,{"$f":"COUNTIF(#REF!,\"X\")","v":{"$error":"#REF!"}},{"$f":"COUNTIF(#REF!,\"X\")","v":{"$error":"#REF!"}},{"$f":"COUNTIF(#REF!,\"X\")","v":{"$error":"#REF!"}},"GREEN"]
[null,{"$f":"SUM(B61)","v":4},"Total Potential",null,{"$f":"'NSA Level 1'!U173","v":4},{"$f":"IF(B62=0,0,FLOOR(B62/E62,0.01))","v":1},null,{"$f":"IF(I62=0,\"0%\",(I62/SUM(E:E)))","v":0.99145299145299148},{"$f":"SUM(I47:I61)","v":116},"Total",null,null,null,{"$f":"SUM(N47:N61)","v":{"$error":"#REF!"}},{"$f":"SUM(O47:O61)","v":{"$error":"#REF!"}},{"$f":"SUM(P47:P61)","v":{"$error":"#REF!"}},{"$f":"IF(I62=0,\"\",IF(H62>=0.9,\"GREEN\",IF(H62>=0.75,\"YELLOW\",IF(N62+O62+P62>0,\"RED\",\"Not Reviewed\"))))","v":"GREEN"}]
[null,null,"Self",null,"Onsite"]
[null,null,null,null,null,null,"Process Audit Results:",null,null,{"$f":"IF(G65=0,\"NONE REQUIRED\",IF(G66/G65=1,\"GREEN\",IF(G69>0,\"INCOMPLETE\",IF(G68>0,\"RED\",\"YELLOW\"))))","v":"NONE REQUIRED"}]
[null,null,{"$f":"'NSA Level 1'!V180","v":0.92241379310344829},null,{"$f":"'NSA Level 1'!W180","v":1},null,{"$f":"COUNTIF($G$12:$H$37,\"YES\")","v":0},null,null,"Number of Required Process Specific Audits"]
[null,null,null,null,null,null,{"$f":"IF(I34=\"Pass\",COUNTIF(I12:J37,\"G - OK\")+1,COUNTIF(I12:J37,\"G - OK\"))","v":0},null,null,"Green Score - Required Process Specific Audits"]
[null,null,null,null,null,null,{"$f":"COUNTIF(I12:J37,\"Y - CA Required\")","v":0},null,null,"Yellow Score - Required Process Specific Audits"]
[null,null,null,null,null,null,{"$f":"IF(I34=\"Fail\",COUNTIF(I12:J37,\"R - Unacceptable\")+1,COUNTIF(I12:J37,\"R - Unacceptable\"))","v":0},null,null,"Red Score - Required Process Specific Audits"]
[null,null,null,null,null,null,{"$f":"COUNTIF(I12:J37,\"R - Incomplete\")","v":0},null,null,"Incomplete Process Specific Audits"]
[]
[null,null,null,null,null,null,null,null,null,null,"% Score","Weight","Pts"]
[null,null,null,null,null,null,null,"Supplier Performance Metrics",null,null,{"$f":"H43*100","v":{"$error":"#REF!"}},0.2,{"$f":"K72*L72","v":{"$error":"#REF!"}},null,null,null,{"$f":"IF(K72>=90,\"GREEN\",IF(K72>=75,\"YELLOW\",IF(K72>0,\"RED\",\"Not Reviewed\")))","v":{"$error":"#REF!"}}]
[null,null,null,null,null,null,null,"MCA Elements",null,null,{"$f":"H62*100","v":99.145299145299148},{"$f":"IF(G65=0,80%,60%)","v":0.8},{"$f":"K73*L73","v":79.316239316239319},null,null,null,{"$f":"IF(K73>=90,\"GREEN\",IF(K73>=75,\"YELLOW\",IF(K73>0,\"RED\",\"Not Reviewed\")))","v":"GREEN"}]
[null,null,null,null,null,null,null,"Process Specific Audit",null,null,{"$f":"IF(G65=0,0,(G66/G65)*100)","v":0},{"$f":"IF(G65=0,0%,20%)","v":0},{"$f":"K74*L74","v":0},null,null,null,{"$f":"IF(K74>=90,\"GREEN\",IF(K74>=66.5,\"YELLOW\",IF(K74>0,\"RED\",\"Not Reviewed\")))","v":"Not Reviewed"}]
[null,null,null,null,null,null,null,"Overall Assessment Score",null,null,{"$f":"M75","v":{"$error":"#REF!"}},{"$f":"SUM(L72:L74)","v":1},{"$f":"SUM(M72:M74)","v":{"$error":"#REF!"}},null,null,null,{"$f":"IF(K75=0,\"\",IF(K75>=90,\"GREEN\",IF(K75>=75,\"YELLOW\",IF(K75>0,\"RED\",\"Not Reviewed\"))))","v":{"$error":"#REF!"}}]

{"sheet":"Blank Sheet","index":55,"n_rows":42,"n_cols":25,"rows_kept":42,"cut":false,"hidden":true,"merged":[[41,0,43,0],[41,1,43,1],[41,2,43,2],[41,4,43,4],[35,0,37,0],[35,1,37,1],[35,2,37,2],[35,4,37,4],[38,0,40,0],[38,1,40,1],[38,2,40,2],[38,4,40,4],[29,0,31,0],[29,1,31,1],[29,2,31,2],[29,4,31,4],[32,0,34,0],[32,1,34,1],[32,2,34,2],[32,4,34,4],[23,0,25,0],[23,1,25,1],[23,2,25,2],[23,4,25,4],[26,0,28,0],[26,1,28,1],[26,2,28,2],[26,4,28,4],[14,0,16,0],[14,1,16,1],[14,2,16,2],[14,4,16,4],[18,0,20,0],[18,1,20,1],[18,2,20,2],[18,4,20,4],[8,0,10,0],[8,1,10,1],[8,2,10,2],[8,4,10,4],[11,0,13,0],[11,1,13,1],[11,2,13,2],[11,4,13,4],[0,3,3,3],[2,4,4,4],[5,0,5,1],[6,0,7,0],[6,1,7,1],[6,2,7,2],[6,3,7,3]]}
["Date: "]
["Supplier Name:                                                                                                               ",null,null,null,"Overall Judgement",null,null,null,null,null,null,null,null,null,null,null,null,null,null,null,null,null,null,null,"YES"]
["Parts Evaluated:                                                                                                              ",null,null,null,"Pass",null,null,null,null,null,null,null,null,null,null,null,null,null,null,null,null,null,null,null,"NO"]
["Program"]
[null,null,null,null,null,null,null,null,null,null,null,null,null,null,null,null,null,null,null,null,null,null,null,null,"G - OK"]
["Process Specific Audit","Stamping",null,null,"JUDGEMENT",null,null,null,null,null,null,null,null,null,null,null,null,null,null,null,null,null,null,null,"Y - CA Required"]
[null,"Question","Verify ","                                                                     ","(G/Y/R or P/F)",null,null,null,null,null,null,null,null,null,null,null,null,null,null,null,null,null,null,null,"R - Unacceptable"]
[null,null,null,null,null,null,null,null,null,null,null,null,null,null,null,null,null,null,null,null,null,null,null,null,"Pass"]
[1,null,null,null,null,null,null,null,null,null,null,null,null,null,null,null,null,null,null,null,null,null,null,null,"Fail"]
[]
[]
[2]
[]
[]
[3]
[]
[]
["4.20.4","Are the die lube nozzles fixed or adjustable? If adjustable how is the placement maintained?","Look at the nozzles to see how the spray pattern is maintained.","Part of Launch Readiness Audit"]
[4]
[]
[]
["4.20.6","Does in-process material handling prevent damage to the coil?","Observe the handling methods to see if they have the potential to damage the coil.","Considered as part of generic questions for material storage in MCA"]
["4.20.8","How is FIFO managed so that each heat of steel is used up prior to starting another one?","Discuss system to manage FIFO.","Considered as part of generic questions for material storage in MCA"]
[5]
[]
[]
[6]
[]
[]
[7]
[]
[]
[8]
[]
[]
[9]
[]
[]
[10]
[]
[]
[11]