Workbook
Name PSAReq: '[1]MCA Summary'!$G$20:$H$49
Name StandCommGage: 'Correlation plan'!$AQ$3:$AQ$8
Name YesNo: 'Correlation plan'!$AR$3:$AR$4
Name YN: [1]Validations!$A$1:$A$2

Sheet Rev History
B1: Current Revisions | G1: {=LOOKUP(2,1/(B:B<>""),B:B)} -> 3
B2: Rev | C2: Date | D2: Changes
B3: 1 | C3: 44225 | D3: Initial Release
B4: 2 | C4: 44659 | D4: Added Exemption Form Updated Gage data to distinguish between global standard gages and custom ones Added notes to help provide direction for filling out Correlation Plan Removed signature lines from Correlation Plan tab. Signatures to occur on Result and/or Exemption Form Added Conditional Formatting to Result tab for Deviation Ratio to provide for a quick review
B5: 3 | C5: 44816 | D5: Minor updates to remove Attributable Gage text

Sheet Correlation plan
A1: SUPPLIER MEASUREMENT CORRELATION PLAN | Q1: ="Rev "&TEXT('Rev History'!G1,"0.0") -> Rev 3.0
A2: Part Info | B2: APQP Record: | D2: Part Number: | F2: Revision: | H2: Part Name: | J2: Program Name: | L2: Supplier Name: | O2: Correlation Scope:
B3: Please Complete CMM Section Below Only (click on this link to access this section) | G3: Sequence No. | H3: 1 | I3: 2 | J3: 3 | K3: 4 | L3: 5 | M3: 6 | N3: 7 | O3: 8 | P3: 9 | Q3: 10 | AQ3: Ruler type | AR3: Yes
G4: Roadmap No. | AQ4: Caplipers | AR4: No
B5: Please Complete Gage Section Below Only (click on this link to access this section) | G5: Dimension | AQ5: Micrometer
G6: Tolerance | AQ6: Height gauge
B7: Complete Both CMM and Gage Sections Below | G7: Class | AQ7: Plug gauge
G8: Inspection Method | AQ8: Film thickness tester
B9: Complete Exemption Form (click to open) | G9: Sample Qty. for Correlation
A10: CMM | B10: CMM Measurement Assessment (Equipment/Program/Fixture) | H10: Part fixed & Probe tip System
B11: 1. Do we use same CMM brand / model with Nexteer receiving plant Model means: - Scan type or Dot type. - Scan type inculding Fix sensor or Rotate sensor. | H11: 1-1. CMM Fixture Design concept picture (3D model or print, with part)
B14: a. If No; What equipment are you planning on using <What is the brand / model of the equipment>?
B15: 2. Do we use the same program Program including: - Software version (Calpso version level for Zeiss). - Software type including Curve / PCM(Parameter Coded Measuring) / Gear Pro.
H17: 1-2. Part Clamping instruction
B18: a. if Yes, i. Who is responsible for them
B19: ii. Timing plan
B20: b. if no, Clarify the reason.
B21: 3. Do we use the same fixtures | H21: 2. Probe tip system (probe tip name/size list, with Probe tip pic)
B22: a. if Yes, i. Who is responsible for them
B23: ii. Timing plan
B24: iii. Design concept approved by Nexteer
B25: iv. Cost Owner
B26: b. if no, i. Clarify the reason.
B27: ii. Design concept approved by Nexteer
B28: CMM Dimension Measurement information
B29: Coordinate system establishment
B30: 1-1. Name of coordinate system
B31: 1-2. Probe tip name/number for this coordinate system. (Choose from "Probe tip system")
B32: 1-3. Measurement description (Use screenshot is preferred; below information should be captured in screen shot) 1). Sampling mode (scan or dot) / sampling area 2). Spatial Rotation 3). Planar Rotation 4). X Origin 5). Y Origin 6). Z Origin 7). Translation / rotation (X,Y,Z) / axis
B39: Remark (if needed)
... B46: CMM dimension correlation study
A47: Gage | B47: Gage Measurement Assessment | H47: Click here to go to the top of this form
B48: 1. What types of measuring gages are used for this dimension?
B49: a. Standard common gage type
B50: 2. Do we use the same gage
B51: a. if Yes, i. Who is responsible for design & build
B52: ii. Cost Owner
B53: iii. Timing Plan (if Nexteer responsible for design & build)
B54: b. if no, i. Timing Plan for Nexteer owned gage
B55: Gage correlation study

Sheet Product Gage Correlation Result
A1: PRODUCT GAGE CORRELATION RESULT | M1: ='Correlation plan'!Q1 -> Rev 3.0
A2: APQP record | B2: =IF('Correlation plan'!C2="","Enter data in other tab",'Correlation plan'!C2) -> Enter data in other tab | C2: Part Number | D2: =IF('Correlation plan'!E2="","Enter data in other tab",'Correlation plan'!E2) -> Enter data in other tab | E2: Revision | F2: =IF('Correlation plan'!G2="","Enter data in other tab",'Correlation plan'!G2) -> Enter data in other tab | G2: Part Name | H2: =IF('Correlation plan'!I2="","Enter data in other tab",'Correlation plan'!I2) -> Enter data in other tab | I2: Program name | J2: =IF('Correlation plan'!K2="","Enter data in other tab",'Correlation plan'!K2) -> Enter data in other tab | K2: Supplier name | L2: =IF('Correlation plan'!M2="","Enter data in other tab",'Correlation plan'!M2) -> Enter data in other tab
A4: Seq NO. | B4: Roadmap NO. | C4: Dimension | D4: Tolerance | E4: Class | F4: Inspection Method | G4: Supplier: | I4: Nexteer: | K4: Supplier Inspection Result | U4: Nexteer Inspection Result | AE4: Deviation Ratio | AO4: Judgement | AR4: Comments
G5: Gage NO. | H5: Variable Gage MSA Values | I5: Gage NO. | J5: Variable Gage MSA values | K5: #1 | L5: #2 | M5: #3 | N5: #4 | O5: #5 | P5: #6 | Q5: #7 | R5: #8 | S5: #9 | T5: #10 | U5: #1 | V5: #2 | W5: #3 | X5: #4 | Y5: #5 | Z5: #6 | AA5: #7 | AB5: #8 | AC5: #9 | AD5: #10 | AE5: Deviation #1 Ratio | AF5: Deviation #2 Ratio | AG5: Deviation #3 Ratio | AH5: Deviation #4 Ratio | AI5: Deviation #5 Ratio | AJ5: Deviation #6 Ratio | AK5: Deviation #7 Ratio | AL5: Deviation #8 Ratio | AM5: Deviation #9 Ratio | AN5: Deviation #10 Ratio | AO5: OK | AP5: Reviewed & approved | AQ5: NG
A6: 1 | B6: =IF('Correlation plan'!H4="","See other tab",'Correlation plan'!H4) -> See other tab | C6: =IF('Correlation plan'!H5="","See other tab",'Correlation plan'!H5) -> See other tab | D6: =IF('Correlation plan'!H6="","See other tab",'Correlation plan'!H6) -> See other tab | E6: =IF('Correlation plan'!H7="","See other tab",'Correlation plan'!H7) -> See other tab | F6: =IF('Correlation plan'!H8="","See other tab",'Correlation plan'!H8) -> See other tab | AE6: =IF(OR($D6="See other tab",K6="",U6=""),"",ABS(U6-K6)/$D6*100%) | AF6: =IF(OR($D6="See other tab",L6="",V6=""),"",ABS(V6-L6)/$D6*100%) | AG6: =IF(OR($D6="See other tab",M6="",W6=""),"",ABS(W6-M6)/$D6*100%) | AH6: =IF(OR($D6="See other tab",N6="",X6=""),"",ABS(X6-N6)/$D6*100%) | AI6: =IF(OR($D6="See other tab",O6="",Y6=""),"",ABS(Y6-O6)/$D6*100%) | AJ6: =IF(OR($D6="See other tab",P6="",Z6=""),"",ABS(Z6-P6)/$D6*100%) | AK6: =IF(OR($D6="See other tab",Q6="",AA6=""),"",ABS(AA6-Q6)/$D6*100%) | AL6: =IF(OR($D6="See other tab",R6="",AB6=""),"",ABS(AB6-R6)/$D6*100%) | ... AN6: =IF(OR($D6="See other tab",T6="",AD6=""),"",ABS(AD6-T6)/$D6*100%) | AO6: x | AP6: x | AQ6: x
A7: 2 | B7: =IF('Correlation plan'!I4="","See other tab",'Correlation plan'!I4) -> See other tab | C7: =IF('Correlation plan'!I5="","See other tab",'Correlation plan'!I5) -> See other tab | D7: =IF('Correlation plan'!I6="","See other tab",'Correlation plan'!I6) -> See other tab | E7: =IF('Correlation plan'!I7="","See other tab",'Correlation plan'!I7) -> See other tab | F7: =IF('Correlation plan'!I8="","See other tab",'Correlation plan'!I8) -> See other tab | AE7: =IF(OR($D7="See other tab",K7="",U7=""),"",ABS(U7-K7)/$D7*100%) | AF7: =IF(OR($D7="See other tab",L7="",V7=""),"",ABS(V7-L7)/$D7*100%) | AG7: =IF(OR($D7="See other tab",M7="",W7=""),"",ABS(W7-M7)/$D7*100%) | AH7: =IF(OR($D7="See other tab",N7="",X7=""),"",ABS(X7-N7)/$D7*100%) | AI7: =IF(OR($D7="See other tab",O7="",Y7=""),"",ABS(Y7-O7)/$D7*100%) | AJ7: =IF(OR($D7="See other tab",P7="",Z7=""),"",ABS(Z7-P7)/$D7*100%) | AK7: =IF(OR($D7="See other tab",Q7="",AA7=""),"",ABS(AA7-Q7)/$D7*100%) | AL7: =IF(OR($D7="See other tab",R7="",AB7=""),"",ABS(AB7-R7)/$D7*100%) | ... AN7: =IF(OR($D7="See other tab",T7="",AD7=""),"",ABS(AD7-T7)/$D7*100%) | AO7: x | AP7: x | AQ7: x
A8: 3 | B8: =IF('Correlation plan'!J4="","See other tab",'Correlation plan'!J4) -> See other tab | C8: =IF('Correlation plan'!J5="","See other tab",'Correlation plan'!J5) -> See other tab | D8: =IF('Correlation plan'!J6="","See other tab",'Correlation plan'!J6) -> See other tab | E8: =IF('Correlation plan'!J7="","See other tab",'Correlation plan'!J7) -> See other tab | F8: =IF('Correlation plan'!J8="","See other tab",'Correlation plan'!J8) -> See other tab | AE8: =IF(OR($D8="See other tab",K8="",U8=""),"",ABS(U8-K8)/$D8*100%) | AF8: =IF(OR($D8="See other tab",L8="",V8=""),"",ABS(V8-L8)/$D8*100%) | AG8: =IF(OR($D8="See other tab",M8="",W8=""),"",ABS(W8-M8)/$D8*100%) | AH8: =IF(OR($D8="See other tab",N8="",X8=""),"",ABS(X8-N8)/$D8*100%) | AI8: =IF(OR($D8="See other tab",O8="",Y8=""),"",ABS(Y8-O8)/$D8*100%) | AJ8: =IF(OR($D8="See other tab",P8="",Z8=""),"",ABS(Z8-P8)/$D8*100%) | AK8: =IF(OR($D8="See other tab",Q8="",AA8=""),"",ABS(AA8-Q8)/$D8*100%) | AL8: =IF(OR($D8="See other tab",R8="",AB8=""),"",ABS(AB8-R8)/$D8*100%) | ... AN8: =IF(OR($D8="See other tab",T8="",AD8=""),"",ABS(AD8-T8)/$D8*100%) | AO8: x | AP8: x | AQ8: x
A9: 4 | B9: =IF('Correlation plan'!K4="","See other tab",'Correlation plan'!K4) -> See other tab | C9: =IF('Correlation plan'!K5="","See other tab",'Correlation plan'!K5) -> See other tab | D9: =IF('Correlation plan'!K6="","See other tab",'Correlation plan'!K6) -> See other tab | E9: =IF('Correlation plan'!K7="","See other tab",'Correlation plan'!K7) -> See other tab | F9: =IF('Correlation plan'!K8="","See other tab",'Correlation plan'!K8) -> See other tab | AE9: =IF(OR($D9="See other tab",K9="",U9=""),"",ABS(U9-K9)/$D9*100%) | AF9: =IF(OR($D9="See other tab",L9="",V9=""),"",ABS(V9-L9)/$D9*100%) | AG9: =IF(OR($D9="See other tab",M9="",W9=""),"",ABS(W9-M9)/$D9*100%) | AH9: =IF(OR($D9="See other tab",N9="",X9=""),"",ABS(X9-N9)/$D9*100%) | AI9: =IF(OR($D9="See other tab",O9="",Y9=""),"",ABS(Y9-O9)/$D9*100%) | AJ9: =IF(OR($D9="See other tab",P9="",Z9=""),"",ABS(Z9-P9)/$D9*100%) | AK9: =IF(OR($D9="See other tab",Q9="",AA9=""),"",ABS(AA9-Q9)/$D9*100%) | AL9: =IF(OR($D9="See other tab",R9="",AB9=""),"",ABS(AB9-R9)/$D9*100%) | ... AN9: =IF(OR($D9="See other tab",T9="",AD9=""),"",ABS(AD9-T9)/$D9*100%) | AO9: x | AP9: x | AQ9: x
A10: 5 | B10: =IF('Correlation plan'!L4="","See other tab",'Correlation plan'!L4) -> See other tab | C10: =IF('Correlation plan'!L5="","See other tab",'Correlation plan'!L5) -> See other tab | D10: =IF('Correlation plan'!L6="","See other tab",'Correlation plan'!L6) -> See other tab | E10: =IF('Correlation plan'!L7="","See other tab",'Correlation plan'!L7) -> See other tab | F10: =IF('Correlation plan'!L8="","See other tab",'Correlation plan'!L8) -> See other tab | AE10: =IF(OR($D10="See other tab",K10="",U10=""),"",ABS(U10-K10)/$D10*100%) | AF10: =IF(OR($D10="See other tab",L10="",V10=""),"",ABS(V10-L10)/$D10*100%) | AG10: =IF(OR($D10="See other tab",M10="",W10=""),"",ABS(W10-M10)/$D10*100%) | AH10: =IF(OR($D10="See other tab",N10="",X10=""),"",ABS(X10-N10)/$D10*100%) | AI10: =IF(OR($D10="See other tab",O10="",Y10=""),"",ABS(Y10-O10)/$D10*100%) | AJ10: =IF(OR($D10="See other tab",P10="",Z10=""),"",ABS(Z10-P10)/$D10*100%) | AK10: =IF(OR($D10="See other tab",Q10="",AA10=""),"",ABS(AA10-Q10)/$D10*100%) | AL10: =IF(OR($D10="See other tab",R10="",AB10=""),"",ABS(AB10-R10)/$D10*100%) | ... AN10: =IF(OR($D10="See other tab",T10="",AD10=""),"",ABS(AD10-T10)/$D10*100%) | AO10: x | AP10: x | AQ10: x
A11: 6 | B11: =IF('Correlation plan'!M4="","See other tab",'Correlation plan'!M4) -> See other tab | C11: =IF('Correlation plan'!M5="","See other tab",'Correlation plan'!M5) -> See other tab | D11: =IF('Correlation plan'!M6="","See other tab",'Correlation plan'!M6) -> See other tab | E11: =IF('Correlation plan'!M7="","See other tab",'Correlation plan'!M7) -> See other tab | F11: =IF('Correlation plan'!M8="","See other tab",'Correlation plan'!M8) -> See other tab | AE11: =IF(OR($D11="See other tab",K11="",U11=""),"",ABS(U11-K11)/$D11*100%) | AF11: =IF(OR($D11="See other tab",L11="",V11=""),"",ABS(V11-L11)/$D11*100%) | AG11: =IF(OR($D11="See other tab",M11="",W11=""),"",ABS(W11-M11)/$D11*100%) | AH11: =IF(OR($D11="See other tab",N11="",X11=""),"",ABS(X11-N11)/$D11*100%) | AI11: =IF(OR($D11="See other tab",O11="",Y11=""),"",ABS(Y11-O11)/$D11*100%) | AJ11: =IF(OR($D11="See other tab",P11="",Z11=""),"",ABS(Z11-P11)/$D11*100%) | AK11: =IF(OR($D11="See other tab",Q11="",AA11=""),"",ABS(AA11-Q11)/$D11*100%) | AL11: =IF(OR($D11="See other tab",R11="",AB11=""),"",ABS(AB11-R11)/$D11*100%) | ... AN11: =IF(OR($D11="See other tab",T11="",AD11=""),"",ABS(AD11-T11)/$D11*100%) | AO11: x | AP11: x | AQ11: x
A12: 7 | B12: =IF('Correlation plan'!N4="","See other tab",'Correlation plan'!N4) -> See other tab | C12: =IF('Correlation plan'!N5="","See other tab",'Correlation plan'!N5) -> See other tab | D12: =IF('Correlation plan'!N6="","See other tab",'Correlation plan'!N6) -> See other tab | E12: =IF('Correlation plan'!N7="","See other tab",'Correlation plan'!N7) -> See other tab | F12: =IF('Correlation plan'!N8="","See other tab",'Correlation plan'!N8) -> See other tab | AE12: =IF(OR($D12="See other tab",K12="",U12=""),"",ABS(U12-K12)/$D12*100%) | AF12: =IF(OR($D12="See other tab",L12="",V12=""),"",ABS(V12-L12)/$D12*100%) | AG12: =IF(OR($D12="See other tab",M12="",W12=""),"",ABS(W12-M12)/$D12*100%) | AH12: =IF(OR($D12="See other tab",N12="",X12=""),"",ABS(X12-N12)/$D12*100%) | AI12: =IF(OR($D12="See other tab",O12="",Y12=""),"",ABS(Y12-O12)/$D12*100%) | AJ12: =IF(OR($D12="See other tab",P12="",Z12=""),"",ABS(Z12-P12)/$D12*100%) | AK12: =IF(OR($D12="See other tab",Q12="",AA12=""),"",ABS(AA12-Q12)/$D12*100%) | AL12: =IF(OR($D12="See other tab",R12="",AB12=""),"",ABS(AB12-R12)/$D12*100%) | ... AN12: =IF(OR($D12="See other tab",T12="",AD12=""),"",ABS(AD12-T12)/$D12*100%) | AO12: x | AP12: x | AQ12: x
A13: 8 | B13: =IF('Correlation plan'!O4="","See other tab",'Correlation plan'!O4) -> See other tab | C13: =IF('Correlation plan'!O5="","See other tab",'Correlation plan'!O5) -> See other tab | D13: =IF('Correlation plan'!O6="","See other tab",'Correlation plan'!O6) -> See other tab | E13: =IF('Correlation plan'!O7="","See other tab",'Correlation plan'!O7) -> See other tab | F13: =IF('Correlation plan'!O8="","See other tab",'Correlation plan'!O8) -> See other tab | AE13: =IF(OR($D13="See other tab",K13="",U13=""),"",ABS(U13-K13)/$D13*100%) | AF13: =IF(OR($D13="See other tab",L13="",V13=""),"",ABS(V13-L13)/$D13*100%) | AG13: =IF(OR($D13="See other tab",M13="",W13=""),"",ABS(W13-M13)/$D13*100%) | AH13: =IF(OR($D13="See other tab",N13="",X13=""),"",ABS(X13-N13)/$D13*100%) | AI13: =IF(OR($D13="See other tab",O13="",Y13=""),"",ABS(Y13-O13)/$D13*100%) | AJ13: =IF(OR($D13="See other tab",P13="",Z13=""),"",ABS(Z13-P13)/$D13*100%) | AK13: =IF(OR($D13="See other tab",Q13="",AA13=""),"",ABS(AA13-Q13)/$D13*100%) | AL13: =IF(OR($D13="See other tab",R13="",AB13=""),"",ABS(AB13-R13)/$D13*100%) | ... AN13: =IF(OR($D13="See other tab",T13="",AD13=""),"",ABS(AD13-T13)/$D13*100%) | AO13: x | AP13: x | AQ13: x
A14: 9 | B14: =IF('Correlation plan'!P4="","See other tab",'Correlation plan'!P4) -> See other tab | C14: =IF('Correlation plan'!P5="","See other tab",'Correlation plan'!P5) -> See other tab | D14: =IF('Correlation plan'!P6="","See other tab",'Correlation plan'!P6) -> See other tab | E14: =IF('Correlation plan'!P7="","See other tab",'Correlation plan'!P7) -> See other tab | F14: =IF('Correlation plan'!P8="","See other tab",'Correlation plan'!P8) -> See other tab | AE14: =IF(OR($D14="See other tab",K14="",U14=""),"",ABS(U14-K14)/$D14*100%) | AF14: =IF(OR($D14="See other tab",L14="",V14=""),"",ABS(V14-L14)/$D14*100%) | AG14: =IF(OR($D14="See other tab",M14="",W14=""),"",ABS(W14-M14)/$D14*100%) | AH14: =IF(OR($D14="See other tab",N14="",X14=""),"",ABS(X14-N14)/$D14*100%) | AI14: =IF(OR($D14="See other tab",O14="",Y14=""),"",ABS(Y14-O14)/$D14*100%) | AJ14: =IF(OR($D14="See other tab",P14="",Z14=""),"",ABS(Z14-P14)/$D14*100%) | AK14: =IF(OR($D14="See other tab",Q14="",AA14=""),"",ABS(AA14-Q14)/$D14*100%) | AL14: =IF(OR($D14="See other tab",R14="",AB14=""),"",ABS(AB14-R14)/$D14*100%) | ... AN14: =IF(OR($D14="See other tab",T14="",AD14=""),"",ABS(AD14-T14)/$D14*100%) | AO14: x | AP14: x | AQ14: x
A15: 10 | B15: =IF('Correlation plan'!Q4="","See other tab",'Correlation plan'!Q4) -> See other tab | C15: =IF('Correlation plan'!Q5="","See other tab",'Correlation plan'!Q5) -> See other tab | D15: =IF('Correlation plan'!Q6="","See other tab",'Correlation plan'!Q6) -> See other tab | E15: =IF('Correlation plan'!Q7="","See other tab",'Correlation plan'!Q7) -> See other tab | F15: =IF('Correlation plan'!Q8="","See other tab",'Correlation plan'!Q8) -> See other tab | AE15: =IF(OR($D15="See other tab",K15="",U15=""),"",ABS(U15-K15)/$D15*100%) | AF15: =IF(OR($D15="See other tab",L15="",V15=""),"",ABS(V15-L15)/$D15*100%) | AG15: =IF(OR($D15="See other tab",M15="",W15=""),"",ABS(W15-M15)/$D15*100%) | AH15: =IF(OR($D15="See other tab",N15="",X15=""),"",ABS(X15-N15)/$D15*100%) | AI15: =IF(OR($D15="See other tab",O15="",Y15=""),"",ABS(Y15-O15)/$D15*100%) | AJ15: =IF(OR($D15="See other tab",P15="",Z15=""),"",ABS(Z15-P15)/$D15*100%) | AK15: =IF(OR($D15="See other tab",Q15="",AA15=""),"",ABS(AA15-Q15)/$D15*100%) | AL15: =IF(OR($D15="See other tab",R15="",AB15=""),"",ABS(AB15-R15)/$D15*100%) | ... AN15: =IF(OR($D15="See other tab",T15="",AD15=""),"",ABS(AD15-T15)/$D15*100%) | AO15: x | AP15: x | AQ15: x
A16: Responsibility | C16: Name | E16: Signature | G16: Date | H16: Correlation acceptance criteria:
A17: Supplier Representative | H17: Variable gage MSA and Correlation acceptance criteria: 1: Deviation ratio ≤10%: Pass 2: 10%＜Deviation ratio≤30%: Need peer review by PQ/PE/CMM Representative 3: Deviation ratio ＞30%: Fail Note: For True position, if deviation result more than 10%,---need study the individual deviation result on each coordinate direction
A18: Nexteer_PE
A19: Nexteer_PQ
A20: Nexteer_AQE

Sheet Exemption Form
A1: F1041 Product Gage correlation Exemption Form | N1: ='Correlation plan'!Q1 -> Rev 3.0
A2: APQP record | C2: =IF('Correlation plan'!C2="","Enter data in other tab",'Correlation plan'!C2) -> Enter data in other tab | D2: Part Number | E2: =IF('Correlation plan'!E2="","Enter data in other tab",'Correlation plan'!E2) -> Enter data in other tab | F2: Revision | G2: =IF('Correlation plan'!G2="","Enter data in other tab",'Correlation plan'!G2) -> Enter data in other tab | H2: Part Name | I2: =IF('Correlation plan'!I2="","Enter data in other tab",'Correlation plan'!I2) -> Enter data in other tab | J2: Program name | K2: =IF('Correlation plan'!K2="","Enter data in other tab",'Correlation plan'!K2) -> Enter data in other tab | L2: Supplier name | M2: =IF('Correlation plan'!M2="","Enter data in other tab",'Correlation plan'!M2) -> Enter data in other tab
A3: Exemption Reason：
A4: (Choose the correct reason of exemption)
A6: Choose one: | C6: 1. Dimension measurment need special device, Nexteer doesn't have this measurement device. Nexteer accept supplier inspection result.
C7: 2. Black box design part with no dimension showing on Nexteer print.
C8: 3. Aligned with PE, PQ, AQE, supplier that no measurement correlation needed (like, supplier use attribute gage checking)
A10: Supplier comment:
A15: Responsibility | D15: Name | G15: Signature | J15: Date
A16: Supplier Representative
A17: Nexteer_PE
A18: Nexteer_PQ
A19: Nexteer_AQE
