Workbook
Name Judgement: '[1]Check Sheet Expanded'!$O$2:$O$5
Name MCASustain: '[3]MCA Summary'!$O$76
Name MCASustain: '[2]MCA Summary'!$O$76
Name PSAReq: '[3]MCA Summary'!$G$20:$H$49
Name PSAReq: '[2]MCA Summary'!$G$20:$H$49
Name YN: [3]Validations!$A$1:$A$2
Name YN: [2]Validations!$A$1:$A$2

Sheet Rev History
B1: Current Revisions
B2: Rev | C2: Date | D2: Changes
B3: V1.0 | C3: 44225 | D3: Initial Release. Form number 1036
B4: V2.0 | C4: 46050 | D4: Minor Formatting changes Added question regarding Quarantine/Rework to the "Fail/Pass" Evaluation. Added tab for Quarantine/Rework documents to support the new question added to "Fail/Pass" evaluation section Added Instruction tab

Sheet Instructions
A1: Main Summary Instructions
B31: Balloon 1 | C31: These four items are Required and should be filled out by the AQE/SQE when sending the Fire Drill to the supplier | T31: Balloon 2 | U31: These items should be filled in by the end of the Fire Drill and can be filled out by either the supplier or the AQE/SQE. | AM31: Balloon 4 | AN31: Section 3 is required to be filled out by the supplier. This data should start from the data in Section 1 and go back to the incoming raw material. Scrap/Set-up and Quarantine/Rework must be accounted. | BD31: Balloon 6 | BE31: This column in Section 4 is to record when each operation was set-up for the production identified in Section 1 | BT31: Balloon 8 | BU31: This column in Section 4 is for the last preventative maintance for each piece of equipment in the process operations.
T34: Balloon 3 | U34: These two item must be filled in by the Supplier as the date they submitted the completed Fire Drill to Nexteer and if they completed the form within the 24 hour target window. | AM34: Balloon 5 | AN34: This area can be used for any notes and is not linked to the lines on the other side of the thick black line. | BD34: Balloon 7 | BE34: This column in Section 4 is to record the Last major repair was completed for each operation. This is NOT for normal maintenance items. | BT34: Balloon 9 | BU34: This column in Section 4 is for any tooling like stamping, die casting, injection molding or other non-perishable tooling
T37: Balloon 4 | U37: If single part process is allocated over 50%, must do an extended Run @ Rate. If bulk part process is allocated over 50%, may be asked to do an extended Run @ Rate. | BT37: Balloon 10 | BU37: In Section 5 all shipments linked to the detail in Section 1 need to be listed with how many were shipped and when they arrived at Nexteer. | CI37: Balloon 11 | CJ37: Once all of the sections on the Main Summary are filled in and all of the required supporting documents are attached to the correct tabs, the AQE/SQE will review all of the data and record comments and give an evaluation here. Comments (more than yes or no) and an Evaluation are required.
A42: Fire Drill Sub Asm Process | CI42: Balloon 12 | CJ42: The Pass or Fail of the Traceability Fire Drill is auto calculated based upon that review Evaluations. The supplier representative and the AQE/SQE need to Type their names and the date of the review.
B95: Balloon 1 | C95: The Fire Drill Sub Asm Process tabs are to be used only for those parts that are purchase by Nexteer as assemblies like; motors, circuit boards, Tie Rods, ect. These tabs are filled out almost exactly like the Main Summary tab. | AA95: Balloon 2 | AB95: This is the bottom half of the Fire Drill Sub Asm tab, you can see that each of these tabs also require the Supplier and AQE/SQE to type their names and dates of the review.
A107: Component Traceability Instructions
C139: Balloon 1 | D139: The Components Traceability tab is to be used only for those parts purchased as assemblies by Nexteer. These tabs are to be filled in by the supplier giving all of the Component part names and their individual traceabilty to the Sub-suppliers.
A153: Supporting Document Tabs Instructions
B184: Balloon 1 | C184: On the Supporting tabs like PFEMA, Control Plan, Final Inspection, ect. the supplier can attached digital files by using the "Insert Object" action in Excel. | U184: Balloon 2 | V184: The supplier could also attach images of their supprting documents.

Sheet Main Summary
A1: Traceability Fire Drill Summary Sheet
A2: Part Number | E2: Supplier Name | J2: Date
A3: Revision | E3: Supplier Location( address) | J3: Target time (hr) | L3: 24
A4: Part Description | E4: Program (optional) | J4: Nexteer Plants
A5: Section 1: Traceability Fire Drill Scenario ( This information should be filled out with Nexteer AQE/SQE)
A6: Traceability information from shipping label and/or individual part marking.
A7: Section 2: Traceability Fire Drill Results
A8: Date Fire Drill Started | B8: Date Fire Drill Ended | C8: Meet Target time? (Yes/No) | E8: Remarks/Comments on items that took the longest to assemble
A10: Section 3: Piece Quantity Count by Location and Condition | H10: Notes for added detail on any item on this page.
A11: Location of part | B11: How Many Parts Made | C11: Scrap/Set-up | E11: Quarantine / Rework | F11: To Print Parts
A12: Raw Material
A13: Manufacturing Cell
A14: Work In Process
A15: Outside Processes
A16: Final Inspection
A17: Shipping Dock
A18: In Transit
A19: At Nexteer
A20: Other
A21: Other
A22: Section 4: Production History Key Dates | H22: Section 5: Shipment details from this lot/group
A23: Production Operation | B23: Set-up date | C23: Preventative Maintenance Date | E23: Machine Repair Date | F23: Tool Number Used (If any) | H23: Shipment number | I23: Date of Shipment | J23: Quantity Shipped | L23: Date of Arrival
A24: Operation 10 | G24: 1
A25: Operation 20
A26: Operation 30 | G26: 2
A27: Operation 40
A28: Operation 50 | G28: 3
A29: Operation 60
A30: Operation 70 | G30: 4
A31: Operation 80
A32: Operation 90 | G32: 5
A33: Operation 100
A34: Operation 110 | G34: 6
A35: Operation 120
A36: Requirement | H36: Evaluator Comments | L36: Evaluation
A37: Is the part an Assembly? | AB37: No | AC37: Yes
A38: Are the raw material lot certifications attached? | AB38: Pass | AC38: N/A
A39: Is inspection data matching the Control Plan, from each operation, attached? | AB39: Fail
A40: Is Final inspection data matching the Control Plan attached?
A41: Is the reconciliation data in Section 3 clear and does it account for all reject/re-work/non-conforming parts?
...

Sheet Fire Drill Checklist
A1: Date: | B1: 2019﹣9﹣12
A2: Supplier Name: | B2: ABC CO Ltd
A3: Parts Evaluated: | B3: 26145001
A4: Program | B4: NA
I7: When
B8: Question | C8: Verify | D8: Evidence | E8: Pass/Fail | F8: Temporary Corrective Action Plan | G8: Permanent Corrective Action Plan | H8: Responsible (Name) | I8: Temp CA Date | J8: Perm CA Date
A9: 1 | B9: Is lot number on label or serial number on parts linked to process data ? | C9: Packing Label, Direct Marking, Lot Traveler card, Shipping list etc. | D9: Directly 2D code on the housing | E9: Pass | F9: NA | G9: Covered in eAPQP section 3-4,
A10: 2 | B10: Is lot number on label or direct marking serial nubmer linked to sub components /out-sourced process ? | C10: Packing Label, Direct marking, incoming, Lot Traveler card inspection STD and report, Mill sheet, etc. | D10: NA . No sub components or out-sourced process | E10: NA | G10: Covered in eAPQP section 3-4,
A11: 3 | B11: Does the lot number in any type record match with actual label and quality documentation(Certificate of compliance, Certificate of Analysis, mill sheet etc.) ? | C11: Packing label, Part marking, Lot traveler card, log book, Traceability database, Inspection Report | D11: The MES syster can can trace back each part information . | E11: Pass | G11: This question is not clearly worded to let me know what is being asked for, if the lot number did not match the label or documentation then the supplier cannot supply the data needed for this firedrill.
A12: 4 | B12: Is FIFO effective to maintain traceability at workplace(production line, warehouse) ? | C12: Packing label, Part marking, Lot traveler card, log book, Traceability database, Floor Layout, layered audit results. | D12: The information for each step can be traced out from the MES system | E12: Pass | G12: Move to 1st tab
A13: 5 | B13: Is the lot size acceptable ? | C13: Packing label, Part marking, Lot traveler card, log book, Traceability database, NSR | D13: Each part's information can be traced out based on 2D code . | E13: Pass | G13: Moved to 1st tab, "Does lot size meet the requirements called out in Nexteer Supplier Requirements."
A14: 6 | B14: Has serialization traceability information been verified legibility at the verification process? ( barcode scanning vision, Etc.) ? | C14: Label, Direct part marking, Scanning system, Visual check | D14: Scanning of the 2D code in the Xray inspection ,the machining process and before packing . | E14: Pass | G14: Moved to the 1st tab and the quesiton should be "Is there a system or method in place to verify that individual traceablity and/or label traceablity meets the specifications as called out on the print and in Nexteer's Labeling Specifications?"
A15: 7 | B15: Is error proofing system effective to correctly mark and screen any type of non conforming traceability information on part or label? | C15: PFMEA, Control plan, Work instruction, error proofing device, E/P Instruction | D15: The PFMEA and CP has taken into consideration of this . If the operator do not scan the 2D code in the machining process , the production can not be startted . | E15: Pass | G15: Moved to the 1st tab and the question should be "Iis there any error proofing to make sure that the individaul part marking or shipping labels are correctly marked with the correct data?"
A16: 8 | B16: Is the reconciliation information for rework/repair traceable, if applied ? | C16: PFMEA, Control plan, Work instruction, Inspection Report, Daily Report, Rework/Repair Record, Scrap Report | D16: The MES systerm can segreated the suspected parts on the systme . The | E16: Pass | G16: Move to 1st tab
A17: 9 | B17: Are key process parameters and inspection results traceable with the Lot /serial number, as intended? | C17: Supplier Traceability plan | D17: Yes | E17: Pass | G17: already on 1st page
A18: 10 | B18: Are all data from manual/automatic scanner properly saved in traceability data base as intended? | C18: Scanner Data reconciliation (Any duplicate, missing S/N justification) | D18: Yes | E18: Pass | G18: already on 1st page
A19: 11 | B19: Is the target time available to determine the production history and suspect window? Production history includes manufacturing date, shift, time, line of suspect product, process data such as, inspection results, key equipment's parameter settings, and purchased parts/raw material information as well. | C19: Fire drill process, results | D19: Based on the 2D code we can determine the production history and suspected window in 2 hours. | E19: Pass | G19: Covered by new questoins and document tabs.
A20: 12 | B20: Is role and responsibilities clearly defined for the traceability? Are employees properly trained to accomplish the result as intended? | C20: Fire drill process, results | D20: Yes | E20: Pass | G20: already on 1st page
A21: 13 | B21: Is the computerized database is utilized to easily obtain traceability information, if applicable ? | C21: Fire drill process, results | D21: Yes MES systme and ERP system are used . | E21: Pass | G21: already on 1st page
... A23: 15 | B23: Did you timely contact your supplier and get back the feed back in time, if supplier were involved ? | C23: Fire drill process, results | D23: Yes | E23: Pass | G23: already on 1st page

Sheet Fire Drill Sub Asm Process 1
A1: Sub-Assembly 1 Summary
A2: Part Number | B2: =IF(ISBLANK('Main Summary'!B2),"",'Main Summary'!B2) | E2: Supplier Name | H2: =IF(ISBLANK('Main Summary'!H2),"",'Main Summary'!H2) | J2: Date | L2: =IF(ISBLANK('Main Summary'!L2),"",'Main Summary'!L2)
A3: Revision | B3: =IF(ISBLANK('Main Summary'!B3),"",'Main Summary'!B3) | E3: Supplier Location( address) | H3: =IF(ISBLANK('Main Summary'!H3),"",'Main Summary'!H3) | J3: Target time (hr) | L3: =IF(ISBLANK('Main Summary'!L3),"",'Main Summary'!L3) -> 24
A4: Part Description | B4: =IF(ISBLANK('Main Summary'!B4),"",'Main Summary'!B4) | E4: Program (optional) | H4: =IF(ISBLANK('Main Summary'!H4),"",'Main Summary'!H4) | J4: Nexteer Plants | L4: =IF(ISBLANK('Main Summary'!L4),"",'Main Summary'!L4)
A5: Section 1: Piece Quantity Count by Location and Condition | H5: Notes for added detail on any item on this page.
A6: Location of part | B6: How Many Made | C6: Scrap/Set-up | E6: Quarantine / Rework | F6: To Print Parts
A7: Raw Major Component 1
A8: Raw Major Component 2
A9: Raw Major Component 3
A10: Raw Major Component 4
A11: Manufacturing Cell
A12: Work in Process
A13: Staged for Main Assembly
A14: other
A15: other
A16: other
A17: Section 2: Production History Key Dates | H17: Section 3: Shipment details from this lot/group
A18: Production Operation | B18: Set-up date | C18: Preventative Maintenance Date | E18: Machine Repair Date | F18: Tool Number Used (If any) | H18: Shipment number | I18: Date of Shipment | J18: Quantity Shipped | L18: Date of Arrival
A19: Operation 10 | G19: 1
A20: Operation 20
A21: Operation 30 | G21: 2
A22: Operation 40
A23: Operation 50 | G23: 3
A24: Operation 60
A25: Operation 70 | G25: 4
A26: Operation 80
A27: Operation 90 | G27: 5
A28: Operation 100
A29: Operation 110 | G29: 6
A30: Operation 120
A31: Section 4: Detail Question for Sub-assembly Traceability Methods
A32: Is there a traceability for all sub assemblies? Singular or lot?
A33: If the supplier uses lot traceability, how many hours or parts have been produced during a shift?
A36: Supplier Representative | E36: Date | H36: Name of Nexteer SQ Representative | L36: Date

Sheet Fire Drill Sub Asm Process 2
A1: Sub-Assembly 2 Summary
A2: Part Number | B2: =IF(ISBLANK('Main Summary'!B2),"",'Main Summary'!B2) | E2: Supplier Name | H2: =IF(ISBLANK('Main Summary'!H2),"",'Main Summary'!H2) | J2: Date | L2: =IF(ISBLANK('Main Summary'!L2),"",'Main Summary'!L2)
A3: Revision | B3: =IF(ISBLANK('Main Summary'!B3),"",'Main Summary'!B3) | E3: Supplier Location( address) | H3: =IF(ISBLANK('Main Summary'!H3),"",'Main Summary'!H3) | J3: Target time (hr) | L3: =IF(ISBLANK('Main Summary'!L3),"",'Main Summary'!L3) -> 24
A4: Part Description | B4: =IF(ISBLANK('Main Summary'!B4),"",'Main Summary'!B4) | E4: Program (optional) | H4: =IF(ISBLANK('Main Summary'!H4),"",'Main Summary'!H4) | J4: Nexteer Plants | L4: =IF(ISBLANK('Main Summary'!L4),"",'Main Summary'!L4)
A5: Section 1: Piece Quantity Count by Location and Condition | H5: Notes for added detail on any item on this page.
A6: Location of part | B6: How Many Made | C6: Scrap/Set-up | E6: Quarantine / Rework | F6: To Print Parts
A7: Raw Major Component 1
A8: Raw Major Component 2
A9: Raw Major Component 3
A10: Raw Major Component 4
A11: Manufacturing Cell
A12: Work in Process
A13: Staged for Main Assembly
A14: other
A15: other
A16: other
A17: Section 2: Production History Key Dates | H17: Section 3: Shipment details from this lot/group
A18: Production Operation | B18: Set-up date | C18: Preventative Maintenance Date | E18: Machine Repair Date | F18: Tool Number Used (If any) | H18: Shipment number | I18: Date of Shipment | J18: Quantity Shipped | L18: Date of Arrival
A19: Operation 10 | G19: 1
A20: Operation 20
A21: Operation 30 | G21: 2
A22: Operation 40
A23: Operation 50 | G23: 3
A24: Operation 60
A25: Operation 70 | G25: 4
A26: Operation 80
A27: Operation 90 | G27: 5
A28: Operation 100
A29: Operation 110 | G29: 6
A30: Operation 120
A31: Section 4: Detail Question for Sub-assembly Traceability Methods
A32: Is there a traceability for all sub assemblies? Singular or lot?
A33: If the supplier uses lot traceability, how many hours or parts have been produced during a shift?
A36: Supplier Representative | E36: Date | H36: Name of Nexteer SQ Representative | L36: Date

Sheet Fire Drill Sub Asm Process 3
A1: Sub-Assembly 3 Summary
A2: Part Number | B2: =IF(ISBLANK('Main Summary'!B2),"",'Main Summary'!B2) | E2: Supplier Name | H2: =IF(ISBLANK('Main Summary'!H2),"",'Main Summary'!H2) | J2: Date | L2: =IF(ISBLANK('Main Summary'!L2),"",'Main Summary'!L2)
A3: Revision | B3: =IF(ISBLANK('Main Summary'!B3),"",'Main Summary'!B3) | E3: Supplier Location( address) | H3: =IF(ISBLANK('Main Summary'!H3),"",'Main Summary'!H3) | J3: Target time (hr) | L3: =IF(ISBLANK('Main Summary'!L3),"",'Main Summary'!L3) -> 24
A4: Part Description | B4: =IF(ISBLANK('Main Summary'!B4),"",'Main Summary'!B4) | E4: Program (optional) | H4: =IF(ISBLANK('Main Summary'!H4),"",'Main Summary'!H4) | J4: Nexteer Plants | L4: =IF(ISBLANK('Main Summary'!L4),"",'Main Summary'!L4)
A5: Section 1: Piece Quantity Count by Location and Condition | H5: Notes for added detail on any item on this page.
A6: Location of part | B6: How Many Made | C6: Scrap/Set-up | E6: Quarantine / Rework | F6: To Print Parts
A7: Raw Major Component 1
A8: Raw Major Component 2
A9: Raw Major Component 3
A10: Raw Major Component 4
A11: Manufacturing Cell
A12: Work in Process
A13: Staged for Main Assembly
A14: other
A15: other
A16: other
A17: Section 2: Production History Key Dates | H17: Section 3: Shipment details from this lot/group
A18: Production Operation | B18: Set-up date | C18: Preventative Maintenance Date | E18: Machine Repair Date | F18: Tool Number Used (If any) | H18: Shipment number | I18: Date of Shipment | J18: Quantity Shipped | L18: Date of Arrival
A19: Operation 10 | G19: 1
A20: Operation 20
A21: Operation 30 | G21: 2
A22: Operation 40
A23: Operation 50 | G23: 3
A24: Operation 60
A25: Operation 70 | G25: 4
A26: Operation 80
A27: Operation 90 | G27: 5
A28: Operation 100
A29: Operation 110 | G29: 6
A30: Operation 120
A31: Section 4: Detail Question for Sub-assembly Traceability Methods
A32: Is there a traceability for all sub assemblies? Singular or lot?
A33: If the supplier uses lot traceability, how many hours or parts have been produced during a shift?
A36: Supplier Representative | E36: Date | H36: Name of Nexteer SQ Representative | L36: Date

Sheet Components Traceability
A1: Fire Drill Date | F1: Fire Drill Date | K1: Fire Drill Date
A2: Part Description | F2: Part Description | K2: Part Description
A4: Components Name | B4: Sub assembly 1 | C4: Traceability type | D4: Lot Size /Lot # | F4: Components Name | G4: Sub assembly 2 | H4: Traceability type | I4: Lot Size /Lot # | K4: Components Name | L4: Sub assembly 3 | M4: Traceability type | N4: Lot Size /Lot #

Sheet Process Flow Diagram
A7: Attach your Most Recent Process Flow Diagram (PFD) here. Images and PDFs are acceptable.

Sheet PFMEA
A7: Attach your Most Recent PFMEA here. Images and PDFs are acceptable.

Sheet Control Plan
A7: Attach your Most Recent Production Control Plan (PCP) here. Images and PDFs are acceptable.

Sheet Maintenance and Production Note
A7: Attach any Preventative or Repair Maintenance notes. Attach any Production Notes from Supervisors or Shift change. Images and PDFs are acceptable.

Sheet Raw Material Cert
A7: Attach your Raw Material Cert for the traceability data on the summary sheet here. Images and PDFs are acceptable.

Sheet OP Inspection data
A7: Attach your In process Inspection Data for all operations for the traceability data on the summary sheet here. (Should match PCP that you attached) Images and PDFs are acceptable.

Sheet Quarantine-Rework
A4: OPTIONAL: Only for those with a Rework process in their Control Plan or if they have items that were Quarantine.
A7: Attach your Quarantine/Rework work instuctions and images for those items listed in Section 3 on the this Fire Drill. Load the Work Instuctions and images of the good and bad parts. Images and PDFs are acceptable.

Sheet Heat treat data
A4: OPTIONAL: Only for those with a Heat treatment process
A7: Attach your Heat Treatment control graphs for this Fire Drill for the traceability data on the summary sheet here. Images and PDFs are acceptable.

Sheet Plating Coating Paint Data
A4: OPTIONAL: Only for those with a Plating or Coating or Painting process
A7: Attach your In process Inspection Data for this Fire Drill for the traceability data on the summary sheet here. Images and PDFs are acceptable.

Sheet Sub-supplier data
A4: OPTIONAL: Only for those with a Plating or Coating or Painting process
A7: Attach your Sub-Supplier In process Inspection Data for the traceability data on the summary sheet here. (Should match PCP that you attached) Images and PDFs are acceptable.

Sheet Final inspection data
A7: Attach your Final Inspection Data for the traceability data on the summary sheet here. (Should match PCP that you attached) Images and PDFs are acceptable.
