Workbook

Sheet Rev History
A2: Date | B2: Revision | C2: Changes
A3: 42810 | B3: 1 | C3: Updated Production Days at Nexteer Automotive from 235 to 240
A4: 43314 | B4: 2 | C4: Updated Form Number from Appendix 15 to F1019 Run at Rate
A5: 43643 | B5: 3 | C5: Added Navigational Buttons and hid extra tabs to organize the document
A6: 43644 | B6: 4 | C6: Changed name of column to "Daily QTC" to make it easier to understand
A7: 43644 | B7: 5 | C7: Added a color key so the person filling it out can understand what the colors mean
A8: 7/1/12019 | B8: 6 | C8: Added the column "Operators" because knowing how many operators there are can be useful
A9: 43648 | B9: 7 | C9: Added the columns "Op Number" and "Number of Identical Machines" because they provide important information
A10: 43649 | B10: 8 | C10: Updated formula for "Constraint on QTC?" to =IF(J21="","",IF(AC21<1,"NO","YES")) from =IF(J21="","",IF(Z21>AD21,"NO","YES")) because it needed to be changed to fit with the new formulas
A11: 43649 | B11: 9 | C11: Added extra rows to the capacity plan to allow the person filling it out to have enough room for their different machines (30)
A12: 43654 | B12: 10 | C12: Changed the description on the column "Machine Loading Allocated For Other Parts" to make it flow smoother
A13: 43655 | B13: 11 | C13: Reformatted the "Key Items to Consider" box to organize it
A14: 43656 | B14: 12 | C14: Set up a color scheme to trigger the column "Daily QTC" to turn orange when there are 2 or more repeating tools/machines
A15: 43661 | B15: 13 | C15: Changed formula for "Production time used for QTC (hrs/wk)" to =Z21*AC21 from =IF(G21="",0,(($AA21/$AH21)/(1-$U21))) to make it more simple
A16: 43662 | B16: 14 | C16: Added a formula to hide/unhide the tab "Extended R@R" which helps with organization
A17: 43662 | B17: 15 | C17: Changed the description on "Duration" to make it easier to understand
A18: 43662 | B18: 16 | C18: Created formula to count number of identical operations =COUNTIF($B$21:$B$50,B21) because this number factors into other formulas
A19: 43663 | B19: 17 | C19: Deleted both volumes and changed the cell to "Quoted Tool Capacity" to make it less confusing for the person filling it out
A20: 43663 | B20: 18 | C20: Added a note to remind the supplier to double check the volume from the nomination letter so they don't forget
... A22: 43663 | B22: 20 | C22: Changed formula for column "Production time used for 15% above QTC (hrs/wk)" to =Z21*AC21*1.15 from =IF(I21="",0,(($AF21)/$AI21/A21))/(1-$V21) to make it more simple
A23: 43663 | B23: 21 | C23: Changed color key into an image to avoid problems with changing cells and altering the text. If you need to change or update the color key do so here and then put the new image in the capacity plan. Directions: Directly to the right of this cell is the color key. After making your changes highlight the color key and under the home tab on the far left click the copy button dropdown and select "copy as picture" then click "ok". Click over to the capacity plan and paste the image in the same spot it originally was. | E23: Color Key
A24: 43664 | B24: 22 | C24: Added iferror formulas into columns to eliminate them from looking sloppy (#Div/0!) | E24: Yellow | F24: Filled out by supplier
A25: 43664 | B25: 23 | C25: Added the column "Overall required OEE" because it is necessry for calculations and shows how efficent they are being with their machines | E25: White | F25: Calculated automatically
A26: 43671 | B26: 24 | C26: Changed the formula for "Planned % Up Time" to =((J21*60)-SUM(O21:S21))/(J21*60) from =IF(J48="","",1-((P48+Q48+S48)/((J48*60)-O48-R48))) because the previous forumla was incorrect | E26: Light Blue | F26: This column determines if there is a constraint on the MSV
A27: 43671 | B27: 25 | C27: Added the column "Total Daily Material with time losses" with the formula =(((J21*60*60)/(L21/M21))*T21)*I21 | E27: Orange | F27: Shows the user that this row is part of a duplicate machine
A28: 43671 | B28: 26 | C28: Changed the column "Sum all down stream operations scrap rate %'s" from a manual entry to a formula so the supplier can't enter it wrong | E28: Green | F28: The operation or process will be able to meet the MSV (pass)
A29: 43671 | B29: 27 | C29: Added the column "Percentage of total parts that are good for operation" because it is necessary for calculations | E29: Red | F29: The operation or process will not be able to meet the MSV and/or the 15% MSV (fail)
A30: 43671 | B30: 28 | C30: Added the column "Amount of parts required to make the quota including scrap" because it is necessary for calculations | E30: Light Pink | F30: If "Machine loading allocated for other parts" is greater than 50% the extended R@R needs to be completed. Batch processes like heat treatment, plating, etc. do not need the extended R&R.
A31: 43676 | B31: 29 | C31: Added questions to the status form tab | E31: Purple | F31: If production time used for 15% MSV is above 100 and less than 120 hours (High Risk / HR)
A32: 43676 | B32: 30 | C32: Made a formula to change the actual scrap percentage red if it is greater than the planned percentage | E32: Salmon | F32: This color indicates that the actual downtime is higher than the planned.
A33: 43677 | B33: 31 | C33: Made a formula to calculate the lower and upper constraints for OEE
A34: 43678 | B34: 32 | C34: The Code for hidding and unhiding the Extended R@R is: (Column AA is hidden) Private Sub Worksheet_Change(ByVal Target As Range) If [AA17] = "Yes" Then Sheets("Extended R@R").Visible = True Else Sheets("Extended R@R").Visible = False End If End Sub
A35: 43679 | B35: 33 | C35: The Code for a button is: Sub Process1() ' ' Process1 Macro ' Sheets("Process 1 - Actual Run Data").Visible = True Sheets("Process 1 - Actual Run Data").Select End Sub
A36: 43690 | B36: 34 | C36: Added Hyperlinks to replace the buttons
A37: 43691 | B37: 35 | C37: Added an Instructions tab
A38: 43704 | B38: 36 | C38: Deleted the formula to hide/unhide the Extended R@R
A39: 43704 | B39: 37 | C39: Added the column "calculation column" to help calculate downstream scrap
A40: 43704 | B40: 38 | C40: Added the column "% scrap parts per operation" to help calculate downstream scrap
A41: 43704 | B41: 39 | C41: Added the columns "K and L" to the status tab to hide/undide the questions
A42: 43812 | B42: 40 | C42: Added instructions tab
...

Sheet Instructions
A2: Capacity Plan Instructions
B32: Balloon 1 | C32: On the "Capacity Plan" tab, at the top, under "Production Capacity Plan" fill out all sections highlighted in Yellow | T32: Balloon 2 | U32: In the same "Capacity Plan" tab, under the "Run @ Rate Summary Data" section, in Row 21, start to fill out all yellow fields
T34: NOTE: | U34: Each individual machine needs to be on its own row, even if multiple machines perform the same job. If multiple machines that perform the same job are listed, they have to have the same "Op Number" for Balloon 3a
B35: Balloon 1a | C35: 1. When filling in the Max Scheduled Volume (MSV) you must review and look for all Nomination Letters for the part(s) in the Run-at-Rate. 2. When reviewing the Nomination Letters and MSV the Run-at-Rate must be for the full volume of the correct highest volume (refer to Run-at-Rate training 101 and 102) 3. Run-at-Rates must be a minimum of 1 days production of parts at Nexteer. This is at the highest volume (see training). a. The only exception is if the Nomination letter has specific details for staged capacity: date, quanity and when the full capacity will be in place.
T37: Balloon 3a | U37: When filling out the "Op Number" column, create numbers in order of smallest to largest. REMINDER: See note above; if multiple machines that perform the same job are listed, they have to have the same "Op Number"
T40: Balloon 3b | U40: You can click the blue hyperlinks in the "Op Number" column to easily navigate between sheets
T43: Balloon 4 | U43: White columns are calculated automatically. Blue columns indicate if Quoted Tool Capacity constraints are present. NO ACTION required here
T46: Balloon 5 | U46: In the "Machine loading allocated for other parts" column, if a single part process is allocated over 50%, it should be reviewed to determine if it is a bulk process such as Heat Treat or Plating. If NOT a bulk process, it's recommended that an Extended Run @ Rate be completed. If Extended R@R is necessary, fill out the "Extended R@R" tab. See instructions below.
A51: Process # - Actual Run Data Tabs Instructions
A55: NOTE: | C55: There are multiple tabs with this title. Please follow these instructions for ALL of those tabs.
CW71: Repeat these instructions for ALL "Process #-Actual Run Data" tabs
AL82: Balloon 3 | AM82: In the same section, the arrow above is pointing to information that will automatically fill out from other sheets
B83: Balloon 1 | C83: On the selected "Process #- Actual Run Data" tab, at the top under the "Actual Run Data" title, fill in all 3 sections highlighted in yellow, next to "Completed By:". Click on the red flag next to this section for further instructions if needed. | T83: Balloon 2 | U83: In the same section, you can click the blue hyperlinks shown by the arrow above to easily navigate to the summary sheet or the capacity plan sheet | BD83: Balloon 4 | BE83: As you move down the page, you will see 4 more sections highlighted in yellow. Fill out these 4 sections. | BU83: Balloon 5 | BV83: Below the section from Balloon 4, there are 5 boxes with red flags next to them. These 5 values will be automatically calculated based off input from yellow columns. | CI83: Balloon 6 | CJ83: Below the section from Balloon 5, there is a yellow "Comments" section. Please add detailed comments regarding scrap/rework and downtime in this yellow area.
AL84: Note: | AM84: There is NO ACTION needed for this balloon
BU85: Note: | BV85: There is NO ACTION needed here.
BD86: Balloon 4a | BE86: 1. Use 24 hour time units, NOT AM and PM. 2. The Stop Time in one row become the Start Time in the Row below it. 3. Due to calculation errors, Run @ Rates cannot be conducted over midnight
B87: NOTE: Run @ Rate data sheet cannot run over midnight because it breaks the calculations.
BD89: Balloon 4b | BE89: When the machine is down, or stopped, use an X to define what type of downtime it is. Use the code on the left, by the green star, to tell you what each letter means.
A92: Run @ Rate Summary Data Tab Instructions | BD92: Balloon 4c | BE92: Fill in the "Total # of Pcs. Run" column with the number of pieces run in that specific time period. This is NOT cumulative.
BD95: Balloon 4d | BE95: In the "Rework Total" and "Scrap Total" columns, fill in the totals for that specific time period. This is NOT cumulative.
BD97: Note: | BE97: All white columns will be calculated based off input from yellow columns. NO ACTION needed in white sections.
B129: Balloon 1 | C129: This summary sheet will automatically pull in all data and perform calculations to fill the table. For downtimes, the form will pull the greatest value from either the "Capacity Plan" or "Process #- Actual Run Data" tabs.
B131: Note: | C131: There is NO ACTION needed for this tab
A136: Run @ Rate Status Form Tab Instructions
AY147: Failed Run-at-rate Actions:
AY149: If the Run-at-rate is a Failure then a review of possible risks and possible escalations inside Supplier Quality, Program Team, and Buyer team. Some examples of these risks and suggeted actions are listed here. These are not all of the risks or all of the actions it is important that the AQE/SQE to know this and to understand that if there is any question of risk to the program then escalation to the AQE/SQE supervisor is required at a minimum.
AY158: 1. Is the failed run-at-rate 8 weeks or less to SOP?
AY159: A. This needs daily meetings until there is a Pass. The AQE manager needs to be informed of this issue.
AY162: 2. Is the supplier supporting activities to improve the run-at-rate?
AY163: A. This will require notification of AQE Manager and the Buyer.
AY165: 3. Was the failure over 100 but under 120 for the MSV?
AY166: A. This will require added attention in weekly APQP meetings.
AY168: 4. Were any of the down times or questions on the Status Page not completed.
AY169: A. This will require extra meeting and details from the supplier.
AY171: Other reasons for the failure need to follow a similar review action plan
B178: Balloon 1 | C178: NO ACTION needed here. At the tope of the "Run @ Rate Status Form" tab, all the white sections automatically pull in the information needed. | T178: Balloon 2a | U178: Scroll down to the next yellow sections. Use the drop down to select "Yes" or "No" to answer the questions. | AL178: Balloon 3 | AM178: This area calculates a form of Overall Equipment Efficiency (OEE) to help draw attention to high and low values in order to avoid potential issues in the manufacturing process.
T180: Note: | U180: NO ACTION for the questions with white answer boxes. Only yellow boxes need to be filled in.
B181: Balloon 1a | C181: You can click on the blue hyperlink to take you back to the "Capacity Plan" tab | AL181: Note: | AM181: NO ACTION needed in these white boxes
T183: Balloon 2b | U183: In order to have the "PASS" option appera, these items need to be met: 1. The actual run data tabs must be filled out for each process. 2. Questions in rowse 45, 46, and 52 must be answered 3. Questions in rows 47, 48, 50, 51 must be a Yes. 4. Questions in rows 49 and 55 must be a Yes or N/A If all 4 are true, please check the box next to Pass. If they are not, check the box next to Fail.
AL184: Balloon 3a | AM184: If the question with regards to "planned scrap %", is autocalculated as a "Yes", an additional question will need to be answered. It will show up as yellow. Please select one of the dropdown options to answer these questions
...

Sheet Capacity Plan
B1: Production Capacity Plan
B3: Supplier Name: | L3: Nexteer Part Number:
B4: Supplier Duns Code: | L4: Nexteer Part Name:
B5: Plant (Mfg) Location: | L5: Nexteer Revision Level:
L6: Nexteer Program Name(s):
B7: Supplier Contact:
B8: Phone:
L9: Production days at Nexteer (days/yr): | S9: 240
B10: Nexteer Monitored: | L10: Production days at Supplier (days/yr):
B11: Supplier Monitored:
B12: Duration: | O12: Maximum Scheduled Volumes (MSV):
B14: Planned Run@Rate Completion Date:
B16: Run @ Rate Summary Data
AA17: =IF(SUM(AA21:AA50)>=1,"Yes","")
A18: Number of Identical Machines | B18: Op Number | C18: Process Name: List each separate production line or machine | H18: Operators per shift | I18: shifts / day | J18: hours / shift | K18: days / wk | L18: Planned Cycle Time (sec) | M18: parts / cycle | N18: Daily Process Capacity | O18: Scheduled breaks & lunch per shift (min) | P18: Planned Tool change time per shift (min) | Q18: Planned Changeover time per shift (min) | R18: Other planned downtime per shift (min) | S18: Historical unscheduled downtime per shift (min) | T18: Planned % up time | U18: Planned % scrap at this process operation | V18: % scrap parts per operation | W18: Calculation Colum | X18: Sum of all down stream operations scrap rate %'s | Y18: Planned Daily Capacity | Z18: Machine loading allocated for other parts | AA18: Column for Opening Extended R@R | AB18: Hours per week allocated for this part | AC18: Planned Daily Capacity with allocation | AD18: Daily MSV | AE18: Overall required OEE | AF18: Daily Quoted Tool Capacity | AG18: Planned Weekly Capacity Allocated to this Part | AH18: Annual Capacity | AI18: Weekly MSV | AJ18: Annual MSV | AK18: Constraint on MSV? | AL18: OEE For 15% Above MSV | AM18: 15% above Daily MSV | AN18: 15% above Weekly MSV | AO18: 15% above Yearly MSV | AP18: Constraint on 15% above MSV? | AQ18: Net Good Parts / hour | AR18: Production time used for MSV (hrs/wk) | AS18: Production time used for 15% above MSV (hrs/wk)
A21: =COUNTIF($B$21:$B$50,B21) -> 0 | C21: 1 | N21: =IFERROR(((I21*(J21-((O21+R21)/60))*3600)/L21)*M21,"") | T21: =IFERROR(1-(P21+Q21+S21)/(J21*60-(O21+R21)),"") | V21: =IFERROR(SUMIF(B$21:B$50,B21,U$21:U$50)/A21,"") | W21: =IF(B22=0,V21,IF(B21<B22,(SUMIF(B$21:B$50,B21,V$21:V$50)/A21)+W22,W22)) | X21: =$W21 | Y21: =IF(T21="","",ROUNDUP(N21*(1-X21)*T21,0)) | AA21: =IF(A21=1,IF(Z21>=0.5,1,0),0) -> 0 | AB21: =IF(H21="","",I21*(1-Z21)*K21*(J21-((O21+R21)/60))) | AC21: =IFERROR(IF(Y21*(1-Z21)=0,"",ROUNDUP(Y21*(1-Z21),0)),"") | AD21: =(IFERROR(ROUNDUP(AC21/SUMIF($B$21:$B$50,B21,$AC$21:$AC$50)*$AF21,),"")) | AE21: =IFERROR(ROUNDUP(AD21/AC21,4),"") | AF21: =IF(K21="","",$S$12/$S$9) | AG21: =IFERROR(IF(K21="","",AC21*K21),"") | AH21: =IF(J21="","",$S$10*AD21) | AI21: =IFERROR(IF(K21="","",AD21*K21),"") | AJ21: =IFERROR(IF(A21=1,S$12,AD21*240),"") | AK21: =IF(J21="","",IF(AE21<1,"NO","YES")) | AL21: =IFERROR(AM21/AC21,"") | AM21: =IFERROR(IF(AD21*1.15=0,"",ROUNDUP(AD21*1.15,0)),"") | AN21: =IFERROR(IF(K21="","",AM21*K21),"") | AO21: =IF(AJ21="","",AJ21*1.15) | AP21: =IF(J21="","",IF(AL21>1.2,"YES",IF(AL21>1,"HR",IF(AL21<1,"No",IF(AL21=1.001,"","NO"))))) | AQ21: =IF(J21="","",(3600/L21)*M21*(1-X21)*T21) | AR21: =IFERROR(AE21*AB21,"") | AS21: =IFERROR(AB21*AE21*1.15,"")
A22: =COUNTIF($B$21:$B$50,B22) -> 0 | C22: 2 | N22: =IFERROR(((I22*(J22-((O22+R22)/60))*3600)/L22)*M22,"") | T22: =IFERROR(1-(P22+Q22+S22)/(J22*60-(O22+R22)),"") | V22: =IFERROR(SUMIF(B$21:B$50,B22,U$21:U$50)/A22,"") | W22: =IF(B23=0,V22,IF(B22<B23,(SUMIF(B$21:B$50,B22,V$21:V$50)/A22)+W23,W23)) | X22: =$W22 | Y22: =IF(T22="","",ROUNDUP(N22*(1-X22)*T22,0)) | AA22: =IF(A22=1,IF(Z22>=0.5,1,0),0) -> 0 | AB22: =IF(H22="","",I22*(1-Z22)*K22*(J22-((O22+R22)/60))) | AC22: =IFERROR(IF(Y22*(1-Z22)=0,"",ROUNDUP(Y22*(1-Z22),0)),"") | AD22: =(IFERROR(ROUNDUP(AC22/SUMIF($B$21:$B$50,B22,$AC$21:$AC$50)*$AF22,),"")) | AE22: =IFERROR(ROUNDUP(AD22/AC22,4),"") | AF22: =IF(K22="","",$S$12/$S$9) | AG22: =IFERROR(IF(K22="","",AC22*K22),"") | AH22: =IF(J22="","",$S$10*AD22) | AI22: =IFERROR(IF(K22="","",AD22*K22),"") | AJ22: =IFERROR(IF(A22=1,S$12,AD22*240),"") | AK22: =IF(J22="","",IF(AE22<1,"NO","YES")) | AL22: =IFERROR(AM22/AC22,"") | AM22: =IFERROR(IF(AD22*1.15=0,"",ROUNDUP(AD22*1.15,0)),"") | AN22: =IFERROR(IF(K22="","",AM22*K22),"") | AO22: =IF(AJ22="","",AJ22*1.15) | AP22: =IF(J22="","",IF(AL22>1.2,"YES",IF(AL22>1,"HR",IF(AL22<1,"No",IF(AL22=1.001,"","NO"))))) | AQ22: =IF(J22="","",(3600/L22)*M22*(1-X22)*T22) | AR22: =IFERROR(AE22*AB22,"") | AS22: =IFERROR(AB22*AE22*1.15,"")
A23: =COUNTIF($B$21:$B$50,B23) -> 0 | C23: 3 | N23: =IFERROR(((I23*(J23-((O23+R23)/60))*3600)/L23)*M23,"") | T23: =IFERROR(1-(P23+Q23+S23)/(J23*60-(O23+R23)),"") | V23: =IFERROR(SUMIF(B$21:B$50,B23,U$21:U$50)/A23,"") | W23: =IF(B24=0,V23,IF(B23<B24,(SUMIF(B$21:B$50,B23,V$21:V$50)/A23)+W24,W24)) | X23: =$W23 | Y23: =IF(T23="","",ROUNDUP(N23*(1-X23)*T23,0)) | AA23: =IF(A23=1,IF(Z23>=0.5,1,0),0) -> 0 | AB23: =IF(H23="","",I23*(1-Z23)*K23*(J23-((O23+R23)/60))) | AC23: =IFERROR(IF(Y23*(1-Z23)=0,"",ROUNDUP(Y23*(1-Z23),0)),"") | AD23: =(IFERROR(ROUNDUP(AC23/SUMIF($B$21:$B$50,B23,$AC$21:$AC$50)*$AF23,),"")) | AE23: =IFERROR(ROUNDUP(AD23/AC23,4),"") | AF23: =IF(K23="","",$S$12/$S$9) | AG23: =IFERROR(IF(K23="","",AC23*K23),"") | AH23: =IF(J23="","",$S$10*AD23) | AI23: =IFERROR(IF(K23="","",AD23*K23),"") | AJ23: =IFERROR(IF(A23=1,S$12,AD23*240),"") | AK23: =IF(J23="","",IF(AE23<1,"NO","YES")) | AL23: =IFERROR(AM23/AC23,"") | AM23: =IFERROR(IF(AD23*1.15=0,"",ROUNDUP(AD23*1.15,0)),"") | AN23: =IFERROR(IF(K23="","",AM23*K23),"") | AO23: =IF(AJ23="","",AJ23*1.15) | AP23: =IF(J23="","",IF(AL23>1.2,"YES",IF(AL23>1,"HR",IF(AL23<1,"No",IF(AL23=1.001,"","NO"))))) | AQ23: =IF(J23="","",(3600/L23)*M23*(1-X23)*T23) | AR23: =IFERROR(AE23*AB23,"") | AS23: =IFERROR(AB23*AE23*1.15,"")
A24: =COUNTIF($B$21:$B$50,B24) -> 0 | C24: 4 | N24: =IFERROR(((I24*(J24-((O24+R24)/60))*3600)/L24)*M24,"") | T24: =IFERROR(1-(P24+Q24+S24)/(J24*60-(O24+R24)),"") | V24: =IFERROR(SUMIF(B$21:B$50,B24,U$21:U$50)/A24,"") | W24: =IF(B25=0,V24,IF(B24<B25,(SUMIF(B$21:B$50,B24,V$21:V$50)/A24)+W25,W25)) | X24: =$W24 | Y24: =IF(T24="","",ROUNDUP(N24*(1-X24)*T24,0)) | AA24: =IF(A24=1,IF(Z24>=0.5,1,0),0) -> 0 | AB24: =IF(H24="","",I24*(1-Z24)*K24*(J24-((O24+R24)/60))) | AC24: =IFERROR(IF(Y24*(1-Z24)=0,"",ROUNDUP(Y24*(1-Z24),0)),"") | AD24: =(IFERROR(ROUNDUP(AC24/SUMIF($B$21:$B$50,B24,$AC$21:$AC$50)*$AF24,),"")) | AE24: =IFERROR(ROUNDUP(AD24/AC24,4),"") | AF24: =IF(K24="","",$S$12/$S$9) | AG24: =IFERROR(IF(K24="","",AC24*K24),"") | AH24: =IF(J24="","",$S$10*AD24) | AI24: =IFERROR(IF(K24="","",AD24*K24),"") | AJ24: =IFERROR(IF(A24=1,S$12,AD24*240),"") | AK24: =IF(J24="","",IF(AE24<1,"NO","YES")) | AL24: =IFERROR(AM24/AC24,"") | AM24: =IFERROR(IF(AD24*1.15=0,"",ROUNDUP(AD24*1.15,0)),"") | AN24: =IFERROR(IF(K24="","",AM24*K24),"") | AO24: =IF(AJ24="","",AJ24*1.15) | AP24: =IF(J24="","",IF(AL24>1.2,"YES",IF(AL24>1,"HR",IF(AL24<1,"No",IF(AL24=1.001,"","NO"))))) | AQ24: =IF(J24="","",(3600/L24)*M24*(1-X24)*T24) | AR24: =IFERROR(AE24*AB24,"") | AS24: =IFERROR(AB24*AE24*1.15,"")
A25: =COUNTIF($B$21:$B$50,B25) -> 0 | C25: 5 | N25: =IFERROR(((I25*(J25-((O25+R25)/60))*3600)/L25)*M25,"") | T25: =IFERROR(1-(P25+Q25+S25)/(J25*60-(O25+R25)),"") | V25: =IFERROR(SUMIF(B$21:B$50,B25,U$21:U$50)/A25,"") | W25: =IF(B26=0,V25,IF(B25<B26,(SUMIF(B$21:B$50,B25,V$21:V$50)/A25)+W26,W26)) | X25: =$W25 | Y25: =IF(T25="","",ROUNDUP(N25*(1-X25)*T25,0)) | AA25: =IF(A25=1,IF(Z25>=0.5,1,0),0) -> 0 | AB25: =IF(H25="","",I25*(1-Z25)*K25*(J25-((O25+R25)/60))) | AC25: =IFERROR(IF(Y25*(1-Z25)=0,"",ROUNDUP(Y25*(1-Z25),0)),"") | AD25: =(IFERROR(ROUNDUP(AC25/SUMIF($B$21:$B$50,B25,$AC$21:$AC$50)*$AF25,),"")) | AE25: =IFERROR(ROUNDUP(AD25/AC25,4),"") | AF25: =IF(K25="","",$S$12/$S$9) | AG25: =IFERROR(IF(K25="","",AC25*K25),"") | AH25: =IF(J25="","",$S$10*AD25) | AI25: =IFERROR(IF(K25="","",AD25*K25),"") | AJ25: =IFERROR(IF(A25=1,S$12,AD25*240),"") | AK25: =IF(J25="","",IF(AE25<1,"NO","YES")) | AL25: =IFERROR(AM25/AC25,"") | AM25: =IFERROR(IF(AD25*1.15=0,"",ROUNDUP(AD25*1.15,0)),"") | AN25: =IFERROR(IF(K25="","",AM25*K25),"") | AO25: =IF(AJ25="","",AJ25*1.15) | AP25: =IF(J25="","",IF(AL25>1.2,"YES",IF(AL25>1,"HR",IF(AL25<1,"No",IF(AL25=1.001,"","NO"))))) | AQ25: =IF(J25="","",(3600/L25)*M25*(1-X25)*T25) | AR25: =IFERROR(AE25*AB25,"") | AS25: =IFERROR(AB25*AE25*1.15,"")
A26: =COUNTIF($B$21:$B$50,B26) -> 0 | C26: 6 | N26: =IFERROR(((I26*(J26-((O26+R26)/60))*3600)/L26)*M26,"") | T26: =IFERROR(1-(P26+Q26+S26)/(J26*60-(O26+R26)),"") | V26: =IFERROR(SUMIF(B$21:B$50,B26,U$21:U$50)/A26,"") | W26: =IF(B27=0,V26,IF(B26<B27,(SUMIF(B$21:B$50,B26,V$21:V$50)/A26)+W27,W27)) | X26: =$W26 | Y26: =IF(T26="","",ROUNDUP(N26*(1-X26)*T26,0)) | AA26: =IF(A26=1,IF(Z26>=0.5,1,0),0) -> 0 | AB26: =IF(H26="","",I26*(1-Z26)*K26*(J26-((O26+R26)/60))) | AC26: =IFERROR(IF(Y26*(1-Z26)=0,"",ROUNDUP(Y26*(1-Z26),0)),"") | AD26: =(IFERROR(ROUNDUP(AC26/SUMIF($B$21:$B$50,B26,$AC$21:$AC$50)*$AF26,),"")) | AE26: =IFERROR(ROUNDUP(AD26/AC26,4),"") | AF26: =IF(K26="","",$S$12/$S$9) | AG26: =IFERROR(IF(K26="","",AC26*K26),"") | AH26: =IF(J26="","",$S$10*AD26) | AI26: =IFERROR(IF(K26="","",AD26*K26),"") | AJ26: =IFERROR(IF(A26=1,S$12,AD26*240),"") | AK26: =IF(J26="","",IF(AE26<1,"NO","YES")) | AL26: =IFERROR(AM26/AC26,"") | AM26: =IFERROR(IF(AD26*1.15=0,"",ROUNDUP(AD26*1.15,0)),"") | AN26: =IFERROR(IF(K26="","",AM26*K26),"") | AO26: =IF(AJ26="","",AJ26*1.15) | AP26: =IF(J26="","",IF(AL26>1.2,"YES",IF(AL26>1,"HR",IF(AL26<1,"No",IF(AL26=1.001,"","NO"))))) | AQ26: =IF(J26="","",(3600/L26)*M26*(1-X26)*T26) | AR26: =IFERROR(AE26*AB26,"") | AS26: =IFERROR(AB26*AE26*1.15,"")
A27: =COUNTIF($B$21:$B$50,B27) -> 0 | C27: 7 | N27: =IFERROR(((I27*(J27-((O27+R27)/60))*3600)/L27)*M27,"") | T27: =IFERROR(1-(P27+Q27+S27)/(J27*60-(O27+R27)),"") | V27: =IFERROR(SUMIF(B$21:B$50,B27,U$21:U$50)/A27,"") | W27: =IF(B28=0,V27,IF(B27<B28,(SUMIF(B$21:B$50,B27,V$21:V$50)/A27)+W28,W28)) | X27: =$W27 | Y27: =IF(T27="","",ROUNDUP(N27*(1-X27)*T27,0)) | AA27: =IF(A27=1,IF(Z27>=0.5,1,0),0) -> 0 | AB27: =IF(H27="","",I27*(1-Z27)*K27*(J27-((O27+R27)/60))) | AC27: =IFERROR(IF(Y27*(1-Z27)=0,"",ROUNDUP(Y27*(1-Z27),0)),"") | AD27: =(IFERROR(ROUNDUP(AC27/SUMIF($B$21:$B$50,B27,$AC$21:$AC$50)*$AF27,),"")) | AE27: =IFERROR(ROUNDUP(AD27/AC27,4),"") | AF27: =IF(K27="","",$S$12/$S$9) | AG27: =IFERROR(IF(K27="","",AC27*K27),"") | AH27: =IF(J27="","",$S$10*AD27) | AI27: =IFERROR(IF(K27="","",AD27*K27),"") | AJ27: =IFERROR(IF(A27=1,S$12,AD27*240),"") | AK27: =IF(J27="","",IF(AE27<1,"NO","YES")) | AL27: =IFERROR(AM27/AC27,"") | AM27: =IFERROR(IF(AD27*1.15=0,"",ROUNDUP(AD27*1.15,0)),"") | AN27: =IFERROR(IF(K27="","",AM27*K27),"") | AO27: =IF(AJ27="","",AJ27*1.15) | AP27: =IF(J27="","",IF(AL27>1.2,"YES",IF(AL27>1,"HR",IF(AL27<1,"No",IF(AL27=1.001,"","NO"))))) | AQ27: =IF(J27="","",(3600/L27)*M27*(1-X27)*T27) | AR27: =IFERROR(AE27*AB27,"") | AS27: =IFERROR(AB27*AE27*1.15,"")
A28: =COUNTIF($B$21:$B$50,B28) -> 0 | C28: 8 | N28: =IFERROR(((I28*(J28-((O28+R28)/60))*3600)/L28)*M28,"") | T28: =IFERROR(1-(P28+Q28+S28)/(J28*60-(O28+R28)),"") | V28: =IFERROR(SUMIF(B$21:B$50,B28,U$21:U$50)/A28,"") | W28: =IF(B29=0,V28,IF(B28<B29,(SUMIF(B$21:B$50,B28,V$21:V$50)/A28)+W29,W29)) | X28: =$W28 | Y28: =IF(T28="","",ROUNDUP(N28*(1-X28)*T28,0)) | AA28: =IF(A28=1,IF(Z28>=0.5,1,0),0) -> 0 | AB28: =IF(H28="","",I28*(1-Z28)*K28*(J28-((O28+R28)/60))) | AC28: =IFERROR(IF(Y28*(1-Z28)=0,"",ROUNDUP(Y28*(1-Z28),0)),"") | AD28: =(IFERROR(ROUNDUP(AC28/SUMIF($B$21:$B$50,B28,$AC$21:$AC$50)*$AF28,),"")) | AE28: =IFERROR(ROUNDUP(AD28/AC28,4),"") | AF28: =IF(K28="","",$S$12/$S$9) | AG28: =IFERROR(IF(K28="","",AC28*K28),"") | AH28: =IF(J28="","",$S$10*AD28) | AI28: =IFERROR(IF(K28="","",AD28*K28),"") | AJ28: =IFERROR(IF(A28=1,S$12,AD28*240),"") | AK28: =IF(J28="","",IF(AE28<1,"NO","YES")) | AL28: =IFERROR(AM28/AC28,"") | AM28: =IFERROR(IF(AD28*1.15=0,"",ROUNDUP(AD28*1.15,0)),"") | AN28: =IFERROR(IF(K28="","",AM28*K28),"") | AO28: =IF(AJ28="","",AJ28*1.15) | AP28: =IF(J28="","",IF(AL28>1.2,"YES",IF(AL28>1,"HR",IF(AL28<1,"No",IF(AL28=1.001,"","NO"))))) | AQ28: =IF(J28="","",(3600/L28)*M28*(1-X28)*T28) | AR28: =IFERROR(AE28*AB28,"") | AS28: =IFERROR(AB28*AE28*1.15,"")
A29: =COUNTIF($B$21:$B$50,B29) -> 0 | C29: 9 | N29: =IFERROR(((I29*(J29-((O29+R29)/60))*3600)/L29)*M29,"") | T29: =IFERROR(1-(P29+Q29+S29)/(J29*60-(O29+R29)),"") | V29: =IFERROR(SUMIF(B$21:B$50,B29,U$21:U$50)/A29,"") | W29: =IF(B30=0,V29,IF(B29<B30,(SUMIF(B$21:B$50,B29,V$21:V$50)/A29)+W30,W30)) | X29: =$W29 | Y29: =IF(T29="","",ROUNDUP(N29*(1-X29)*T29,0)) | AA29: =IF(A29=1,IF(Z29>=0.5,1,0),0) -> 0 | AB29: =IF(H29="","",I29*(1-Z29)*K29*(J29-((O29+R29)/60))) | AC29: =IFERROR(IF(Y29*(1-Z29)=0,"",ROUNDUP(Y29*(1-Z29),0)),"") | AD29: =(IFERROR(ROUNDUP(AC29/SUMIF($B$21:$B$50,B29,$AC$21:$AC$50)*$AF29,),"")) | AE29: =IFERROR(ROUNDUP(AD29/AC29,4),"") | AF29: =IF(K29="","",$S$12/$S$9) | AG29: =IFERROR(IF(K29="","",AC29*K29),"") | AH29: =IF(J29="","",$S$10*AD29) | AI29: =IFERROR(IF(K29="","",AD29*K29),"") | AJ29: =IFERROR(IF(A29=1,S$12,AD29*240),"") | AK29: =IF(J29="","",IF(AE29<1,"NO","YES")) | AL29: =IFERROR(AM29/AC29,"") | AM29: =IFERROR(IF(AD29*1.15=0,"",ROUNDUP(AD29*1.15,0)),"") | AN29: =IFERROR(IF(K29="","",AM29*K29),"") | AO29: =IF(AJ29="","",AJ29*1.15) | AP29: =IF(J29="","",IF(AL29>1.2,"YES",IF(AL29>1,"HR",IF(AL29<1,"No",IF(AL29=1.001,"","NO"))))) | AQ29: =IF(J29="","",(3600/L29)*M29*(1-X29)*T29) | AR29: =IFERROR(AE29*AB29,"") | AS29: =IFERROR(AB29*AE29*1.15,"")
A30: =COUNTIF($B$21:$B$50,B30) -> 0 | C30: 10 | N30: =IFERROR(((I30*(J30-((O30+R30)/60))*3600)/L30)*M30,"") | T30: =IFERROR(1-(P30+Q30+S30)/(J30*60-(O30+R30)),"") | V30: =IFERROR(SUMIF(B$21:B$50,B30,U$21:U$50)/A30,"") | W30: =IF(B31=0,V30,IF(B30<B31,(SUMIF(B$21:B$50,B30,V$21:V$50)/A30)+W31,W31)) | X30: =$W30 | Y30: =IF(T30="","",ROUNDUP(N30*(1-X30)*T30,0)) | AA30: =IF(A30=1,IF(Z30>=0.5,1,0),0) -> 0 | AB30: =IF(H30="","",I30*(1-Z30)*K30*(J30-((O30+R30)/60))) | AC30: =IFERROR(IF(Y30*(1-Z30)=0,"",ROUNDUP(Y30*(1-Z30),0)),"") | AD30: =(IFERROR(ROUNDUP(AC30/SUMIF($B$21:$B$50,B30,$AC$21:$AC$50)*$AF30,),"")) | AE30: =IFERROR(ROUNDUP(AD30/AC30,4),"") | AF30: =IF(K30="","",$S$12/$S$9) | AG30: =IFERROR(IF(K30="","",AC30*K30),"") | AH30: =IF(J30="","",$S$10*AD30) | AI30: =IFERROR(IF(K30="","",AD30*K30),"") | AJ30: =IFERROR(IF(A30=1,S$12,AD30*240),"") | AK30: =IF(J30="","",IF(AE30<1,"NO","YES")) | AL30: =IFERROR(AM30/AC30,"") | AM30: =IFERROR(IF(AD30*1.15=0,"",ROUNDUP(AD30*1.15,0)),"") | AN30: =IFERROR(IF(K30="","",AM30*K30),"") | AO30: =IF(AJ30="","",AJ30*1.15) | AP30: =IF(J30="","",IF(AL30>1.2,"YES",IF(AL30>1,"HR",IF(AL30<1,"No",IF(AL30=1.001,"","NO"))))) | AQ30: =IF(J30="","",(3600/L30)*M30*(1-X30)*T30) | AR30: =IFERROR(AE30*AB30,"") | AS30: =IFERROR(AB30*AE30*1.15,"")
A31: =COUNTIF($B$21:$B$50,B31) -> 0 | C31: 11 | N31: =IFERROR(((I31*(J31-((O31+R31)/60))*3600)/L31)*M31,"") | T31: =IFERROR(1-(P31+Q31+S31)/(J31*60-(O31+R31)),"") | V31: =IFERROR(SUMIF(B$21:B$50,B31,U$21:U$50)/A31,"") | W31: =IF(B32=0,V31,IF(B31<B32,(SUMIF(B$21:B$50,B31,V$21:V$50)/A31)+W32,W32)) | X31: =$W31 | Y31: =IF(T31="","",ROUNDUP(N31*(1-X31)*T31,0)) | AA31: =IF(A31=1,IF(Z31>=0.5,1,0),0) -> 0 | AB31: =IF(H31="","",I31*(1-Z31)*K31*(J31-((O31+R31)/60))) | AC31: =IFERROR(IF(Y31*(1-Z31)=0,"",ROUNDUP(Y31*(1-Z31),0)),"") | AD31: =(IFERROR(ROUNDUP(AC31/SUMIF($B$21:$B$50,B31,$AC$21:$AC$50)*$AF31,),"")) | AE31: =IFERROR(ROUNDUP(AD31/AC31,4),"") | AF31: =IF(K31="","",$S$12/$S$9) | AG31: =IFERROR(IF(K31="","",AC31*K31),"") | AH31: =IF(J31="","",$S$10*AD31) | AI31: =IFERROR(IF(K31="","",AD31*K31),"") | AJ31: =IFERROR(IF(A31=1,S$12,AD31*240),"") | AK31: =IF(J31="","",IF(AE31<1,"NO","YES")) | AL31: =IFERROR(AM31/AC31,"") | AM31: =IFERROR(IF(AD31*1.15=0,"",ROUNDUP(AD31*1.15,0)),"") | AN31: =IFERROR(IF(K31="","",AM31*K31),"") | AO31: =IF(AJ31="","",AJ31*1.15) | AP31: =IF(J31="","",IF(AL31>1.2,"YES",IF(AL31>1,"HR",IF(AL31<1,"No",IF(AL31=1.001,"","NO"))))) | AQ31: =IF(J31="","",(3600/L31)*M31*(1-X31)*T31) | AR31: =IFERROR(AE31*AB31,"") | AS31: =IFERROR(AB31*AE31*1.15,"")
A32: =COUNTIF($B$21:$B$50,B32) -> 0 | C32: 12 | N32: =IFERROR(((I32*(J32-((O32+R32)/60))*3600)/L32)*M32,"") | T32: =IFERROR(1-(P32+Q32+S32)/(J32*60-(O32+R32)),"") | V32: =IFERROR(SUMIF(B$21:B$50,B32,U$21:U$50)/A32,"") | W32: =IF(B33=0,V32,IF(B32<B33,(SUMIF(B$21:B$50,B32,V$21:V$50)/A32)+W33,W33)) | X32: =$W32 | Y32: =IF(T32="","",ROUNDUP(N32*(1-X32)*T32,0)) | AA32: =IF(A32=1,IF(Z32>=0.5,1,0),0) -> 0 | AB32: =IF(H32="","",I32*(1-Z32)*K32*(J32-((O32+R32)/60))) | AC32: =IFERROR(IF(Y32*(1-Z32)=0,"",ROUNDUP(Y32*(1-Z32),0)),"") | AD32: =(IFERROR(ROUNDUP(AC32/SUMIF($B$21:$B$50,B32,$AC$21:$AC$50)*$AF32,),"")) | AE32: =IFERROR(ROUNDUP(AD32/AC32,4),"") | AF32: =IF(K32="","",$S$12/$S$9) | AG32: =IFERROR(IF(K32="","",AC32*K32),"") | AH32: =IF(J32="","",$S$10*AD32) | AI32: =IFERROR(IF(K32="","",AD32*K32),"") | AJ32: =IFERROR(IF(A32=1,S$12,AD32*240),"") | AK32: =IF(J32="","",IF(AE32<1,"NO","YES")) | AL32: =IFERROR(AM32/AC32,"") | AM32: =IFERROR(IF(AD32*1.15=0,"",ROUNDUP(AD32*1.15,0)),"") | AN32: =IFERROR(IF(K32="","",AM32*K32),"") | AO32: =IF(AJ32="","",AJ32*1.15) | AP32: =IF(J32="","",IF(AL32>1.2,"YES",IF(AL32>1,"HR",IF(AL32<1,"No",IF(AL32=1.001,"","NO"))))) | AQ32: =IF(J32="","",(3600/L32)*M32*(1-X32)*T32) | AR32: =IFERROR(AE32*AB32,"") | AS32: =IFERROR(AB32*AE32*1.15,"")
... A50: =COUNTIF($B$21:$B$50,B50) -> 0 | C50: 30 | N50: =IFERROR(((I50*(J50-((O50+R50)/60))*3600)/L50)*M50,"") | T50: =IFERROR(1-(P50+Q50+S50)/(J50*60-(O50+R50)),"") | V50: =IFERROR(SUMIF(B$21:B$50,B50,U$21:U$50)/A50,"") | W50: =IF(B51=0,V50,IF(B50<B51,(SUMIF(B$21:B$50,B50,V$21:V$50)/A50)+W51,W51)) | X50: =$W50 | Y50: =IF(T50="","",ROUNDUP(N50*(1-X50)*T50,0)) | AA50: =IF(A50=1,IF(Z50>=0.5,1,0),0) -> 0 | AB50: =IF(H50="","",I50*(1-Z50)*K50*(J50-((O50+R50)/60))) | AC50: =IFERROR(IF(Y50*(1-Z50)=0,"",ROUNDUP(Y50*(1-Z50),0)),"") | AD50: =(IFERROR(ROUNDUP(AC50/SUMIF($B$21:$B$50,B50,$AC$21:$AC$50)*$AF50,),"")) | AE50: =IFERROR(ROUNDUP(AD50/AC50,4),"") | AF50: =IF(K50="","",$S$12/$S$9) | AG50: =IFERROR(IF(K50="","",AC50*K50),"") | AH50: =IF(J50="","",$S$10*AD50) | AI50: =IFERROR(IF(K50="","",AD50*K50),"") | AJ50: =IFERROR(IF(A50=1,S$12,AD50*240),"") | AK50: =IF(J50="","",IF(AE50<1,"NO","YES")) | AL50: =IFERROR(AM50/AC50,"") | AM50: =IFERROR(IF(AD50*1.15=0,"",ROUNDUP(AD50*1.15,0)),"") | AN50: =IFERROR(IF(K50="","",AM50*K50),"") | AO50: =IF(AJ50="","",AJ50*1.15) | AP50: =IF(J50="","",IF(AL50>1.2,"YES",IF(AL50>1,"HR",IF(AL50<1,"No",IF(AL50=1.001,"","NO"))))) | AQ50: =IF(J50="","",(3600/L50)*M50*(1-X50)*T50) | AR50: =IFERROR(AE50*AB50,"") | AS50: =IFERROR(AB50*AE50*1.15,"")
V53: Comments:

Sheet Condensed
B1: Production Capacity Plan
B3: Supplier Name: | L3: Nexteer Part Number:
B4: Supplier Duns Code: | L4: Nexteer Part Name:
B5: Plant (Mfg) Location: | L5: Nexteer Revision Level:
L6: Nexteer Program Name(s):
B7: Supplier Contact:
B8: Phone:
L9: Production days at Nexteer (days/yr): | S9: 240
B10: Nexteer Monitored: | L10: Production days at Supplier (days/yr): | S10: 240
B11: Supplier Monitored:
B12: Duration: | P12: Quoted Tool Capacity (QTC): | S12: 1000000 | V12: *Match volume to nomination letter(s)
C14: Planned Run@Rate Completion Date: | U14: =ROUNDUP(IF(B21<>B20,$AG21/PRODUCT(Z21:Z$50),AG21/(AG20/AF20)),0) -> 1399
Y17: System Effects | AC17: =IF(SUM(AC21:AC50)>=1,"Yes","")
A18: Number of Identical Machines | B18: Op Number | C18: Process Name: List each separate production line or machine | H18: Operators | I18: shifts / day | J18: hours / shift | K18: days / wk | L18: Planned Cycle Time (sec) | M18: parts / cycle | N18: Daily Process Capacity | O18: Scheduled breaks & lunch per shift (min) | P18: Planned Tool change time per shift (min) | Q18: Planned Changeover time per shift (min) | R18: Other planned downtime per shift (min) | S18: Historical unscheduled downtime per shift (min) | T18: Planned % up time | U18: Total Daily Material with time losses | V18: Planned % scrap at this process operation | W18: Planned Scrap Product per day | X18: % scrap parts per operation | Y18: Sum of all down stream operations scrap rate %'s | Z18: Percentage of total parts that are good for operation | AA18: Planned Daily Capacity | AB18: Machine loading allocated for other parts | AC18: Column for Opening Extended R@R | AD18: Hours per week allocated for this part | AE18: Planned Daily Capacity allocated to this part | AF18: Amount of parts required to reach QTC including scrap | AG18: Daily QTC not including scrap | AH18: Overall required OEE | AI18: Daily Quoted Tool Capacity | AJ18: Planned Weekly Capacity Allocated to this Part | AK18: Annual Capacity | AL18: Weekly QTC | AM18: QTC | AN18: Constraint on QTC? | AO18: Total good and bad parts that can be made daily at above 15% | AP18: Scrap compensation at 15% above QTC | AQ18: 15% above Daily QTC | AR18: 15% above Weekly QTC | AS18: 15% above Yearly QTC | AT18: Constraint on 15% above QTC? | AU18: Net Good Parts / hour | AV18: Production time used for QTC (hrs/wk) | AW18: Production time used for 15% above QTC (hrs/wk)
A21: =COUNTIF($B$21:$B$50,B21) -> 3 | B21: 10 | C21: 1 | D21: Lathe | H21: 1 | I21: 3 | J21: 8 | K21: 5 | L21: 40 | M21: 1 | N21: =((I21*(J21-((O21+R21)/60))*3600)/L21)*M21 -> 1980 | O21: 30 | P21: 10 | Q21: 10 | R21: 10 | S21: 10 | T21: =IFERROR(((J21*60)-SUM(O21:S21))/(J21*60),"") -> 0.85416667 | U21: =(((J21*60*60)/(L21/M21))*T21)*I21 -> 1845 | V21: 0 | W21: =U21*V21 -> 0 | X21: =SUMIF(B$21:B$50,B21,V$21:V$50)/A21 -> 0.0066666667 | Y21: =IF(B21<B22,(SUMIF(B$21:B$50,B21,X$21:X$50)/A21)+Y22,Y22) -> 0.0066666667 | Z21: =(1-SUMIF($B$21:$B$50,B21,$V$21:$V$50)/A21^2) -> 0.99777778 | AA21: =IF(T21="","",U21*(1-Y21)) -> 1832.7 | AB21: 0 | AC21: =IF(AB21>=0.5,1,0) -> 0 | AD21: =IF(J21="","",I21*K21*(1-AB21)*(J21-((O21+R21)/60))) -> 110 | AE21: =IFERROR(IF(AA21*(1-AB21)=0,"",AA21*(1-AB21)),"") -> 1832.7 | AF21: =IFERROR(ROUNDUP($AG21/(PRODUCT(INDIRECT("Z"&MATCH(B21,B:B,0)&":Z50"))),0),"") -> 1399 | AG21: =(IFERROR(ROUNDUP(AE21/SUMIF($B$21:$B$50,B21,$AE$21:$AE$50)*$AI$21,),"")) -> 1389 | AH21: =IFERROR(ROUNDUP(AG21/AE21,4),"") -> 0.7579 | AI21: =IF(K21="","",S12/S9) -> 4166.6667 | AJ21: =IF(K21="","",AG21*K21) -> 6945 | AK21: =IF(J21="","",#REF!*#REF!) -> #REF! | AL21: =IF(K21="","",AG21*5) -> 6945 | AM21: =IF(J21="","",AG21*240) -> 333360 | AN21: =IF(J21="","",IF(AH21<1,"NO","YES")) -> NO | AO21: =IFERROR(ROUNDUP(AE21*1.15,0),"") -> 2108 | AP21: =IFERROR(ROUNDUP(AF21*1.15,0),"") -> 1609 | AQ21: =IFERROR(IF(AG21*1.15=0,"",(AG21*1.15)),"") -> 1597.35 | AR21: =IF(K21="","",AQ21*5) -> 7986.75 | AS21: =IF(AM21="","",AM21*1.15) -> 383364 | AT21: =IF(J21="","",IF(AO21>AP21,"NO","YES")) -> NO | AU21: =IF(J21="","",(3600/L21)*M21*(1-Y21)*T21) -> 76.3625 | AV21: =IFERROR(AD21*AH21,"") -> 83.369 | AW21: =IFERROR(AD21*AH21*1.15,"") -> 95.87435
A22: =COUNTIF($B$21:$B$50,B22) -> 3 | B22: 10 | C22: 2 | D22: Lathe | H22: 1 | I22: 3 | J22: 8 | K22: 5 | L22: 40 | M22: 1 | N22: =((I22*(J22-((O22+R22)/60))*3600)/L22)*M22 -> 1980 | O22: 30 | P22: 10 | Q22: 10 | R22: 10 | S22: 10 | T22: =IFERROR(((J22*60)-SUM(O22:S22))/(J22*60),"") -> 0.85416667 | U22: =(((J22*60*60)/(L22/M22))*T22)*I22 -> 1845 | V22: 0.02 | W22: =U22*V22 -> 36.9 | X22: =SUMIF(B$21:B$50,B22,V$21:V$50)/A22 -> 0.0066666667 | Y22: =IF(B22<B23,(SUMIF(B$21:B$50,B22,X$21:X$50)/A22)+Y23,Y23) -> 0.0066666667 | Z22: =(1-SUMIF($B$21:$B$50,B22,$V$21:$V$50)/A22^2) -> 0.99777778 | AA22: =IF(T22="","",U22*(1-Y22)) -> 1832.7 | AB22: 0 | AC22: =IF(AB22>=0.5,1,0) -> 0 | AD22: =IF(J22="","",I22*K22*(1-AB22)*(J22-((O22+R22)/60))) -> 110 | AE22: =IFERROR(IF(AA22*(1-AB22)=0,"",AA22*(1-AB22)),"") -> 1832.7 | AF22: =IFERROR(ROUNDUP($AG22/(PRODUCT(INDIRECT("Z"&MATCH(B22,B:B,0)&":Z50"))),0),"") -> 1399 | AG22: =(IFERROR(ROUNDUP(AE22/SUMIF($B$21:$B$50,B22,$AE$21:$AE$50)*$AI$21,),"")) -> 1389 | AH22: =IFERROR(ROUNDUP(AG22/AE22,4),"") -> 0.7579 | AI22: =IF(K22="","",S12/S9) -> 4166.6667 | AJ22: =IF(K22="","",AG22*K22) -> 6945 | AK22: =IF(J22="","",#REF!*#REF!) -> #REF! | AL22: =IF(K22="","",AG22*5) -> 6945 | AM22: =IF(J22="","",AG22*240) -> 333360 | AN22: =IF(J22="","",IF(AH22<1,"NO","YES")) -> NO | AO22: =IFERROR(ROUNDUP(AE22*1.15,0),"") -> 2108 | AP22: =IFERROR(ROUNDUP(AF22*1.15,0),"") -> 1609 | AQ22: =IFERROR(IF(AG22*1.15=0,"",(AG22*1.15)),"") -> 1597.35 | AR22: =IF(K22="","",AQ22*5) -> 7986.75 | AS22: =IF(AM22="","",AM22*1.15) -> 383364 | AT22: =IF(J22="","",IF(AO22>AP22,"NO","YES")) -> NO | AU22: =IF(J22="","",(3600/L22)*M22*(1-Y22)*T22) -> 76.3625 | AV22: =IFERROR(AD22*AH22,"") -> 83.369 | AW22: =IFERROR(AD22*AH22*1.15,"") -> 95.87435
A23: =COUNTIF($B$21:$B$50,B23) -> 3 | B23: 10 | C23: 3 | D23: Lathe | H23: 1 | I23: 3 | J23: 8 | K23: 5 | L23: 40 | M23: 1 | N23: =((I23*(J23-((O23+R23)/60))*3600)/L23)*M23 -> 1980 | O23: 30 | P23: 10 | Q23: 10 | R23: 10 | S23: 10 | T23: =IFERROR(((J23*60)-SUM(O23:S23))/(J23*60),"") -> 0.85416667 | U23: =(((J23*60*60)/(L23/M23))*T23)*I23 -> 1845 | V23: 0 | W23: =U23*V23 -> 0 | X23: =SUMIF(B$21:B$50,B23,V$21:V$50)/A23 -> 0.0066666667 | Y23: =IF(B23<B24,(SUMIF(B$21:B$50,B23,X$21:X$50)/A23)+Y24,Y24) -> 0.0066666667 | Z23: =(1-SUMIF($B$21:$B$50,B23,$V$21:$V$50)/A23^2) -> 0.99777778 | AA23: =IF(T23="","",U23*(1-Y23)) -> 1832.7 | AB23: 0 | AC23: =IF(AB23>=0.5,1,0) -> 0 | AD23: =IF(J23="","",I23*K23*(1-AB23)*(J23-((O23+R23)/60))) -> 110 | AE23: =IFERROR(IF(AA23*(1-AB23)=0,"",AA23*(1-AB23)),"") -> 1832.7 | AF23: =IFERROR(ROUNDUP($AG23/(PRODUCT(INDIRECT("Z"&MATCH(B23,B:B,0)&":Z50"))),0),"") -> 1399 | AG23: =(IFERROR(ROUNDUP(AE23/SUMIF($B$21:$B$50,B23,$AE$21:$AE$50)*$AI$21,),"")) -> 1389 | AH23: =IFERROR(ROUNDUP(AG23/AE23,4),"") -> 0.7579 | AI23: =IF(K23="","",S12/S9) -> 4166.6667 | AJ23: =IF(K23="","",AG23*K23) -> 6945 | AK23: =IF(J23="","",#REF!*#REF!) -> #REF! | AL23: =IF(K23="","",AG23*5) -> 6945 | AM23: =IF(J23="","",AG23*240) -> 333360 | AN23: =IF(J23="","",IF(AH23<1,"NO","YES")) -> NO | AO23: =IFERROR(ROUNDUP(AE23*1.15,0),"") -> 2108 | AP23: =IFERROR(ROUNDUP(AF23*1.15,0),"") -> 1609 | AQ23: =IFERROR(IF(AG23*1.15=0,"",(AG23*1.15)),"") -> 1597.35 | AR23: =IF(K23="","",AQ23*5) -> 7986.75 | AS23: =IF(AM23="","",AM23*1.15) -> 383364 | AT23: =IF(J23="","",IF(AO23>AP23,"NO","YES")) -> NO | AU23: =IF(J23="","",(3600/L23)*M23*(1-Y23)*T23) -> 76.3625 | AV23: =IFERROR(AD23*AH23,"") -> 83.369 | AW23: =IFERROR(AD23*AH23*1.15,"") -> 95.87435
A24: =COUNTIF($B$21:$B$50,B24) -> 2 | B24: 20 | C24: 4 | D24: Saw | H24: 1 | I24: 3 | J24: 8 | K24: 5 | L24: 50 | M24: 2 | N24: =((I24*(J24-((O24+R24)/60))*3600)/L24)*M24 -> 3168 | O24: 30 | P24: 10 | Q24: 10 | R24: 10 | S24: 10 | T24: =IFERROR(((J24*60)-SUM(O24:S24))/(J24*60),"") -> 0.85416667 | U24: =(((J24*60*60)/(L24/M24))*T24)*I24 -> 2952 | V24: 0 | W24: =U24*V24 -> 0 | X24: =SUMIF(B$21:B$50,B24,V$21:V$50)/A24 -> 0 | Y24: =IF(B24<B25,(SUMIF(B$21:B$50,B24,X$21:X$50)/A24)+Y25,Y25) -> 0 | Z24: =ROUNDDOWN(1-SUMIF($B$21:$B$50,B24,$V$21:$V$50)/A24^2,3) -> 1 | AA24: =IF(T24="","",U24*(1-Y24)) -> 2952 | AB24: 0 | AC24: =IF(AB24>=0.5,1,0) -> 0 | AD24: =IF(J24="","",I24*K24*(1-AB24)*(J24-((O24+R24)/60))) -> 110 | AE24: =IFERROR(IF(AA24*(1-AB24)=0,"",AA24*(1-AB24)),"") -> 2952 | AF24: =IFERROR(ROUNDUP($AG24/(PRODUCT(INDIRECT("Z"&MATCH(B24,B:B,0)&":Z50"))),0),"") -> 2084 | AG24: =(IFERROR(ROUNDUP(AE24/SUMIF($B$21:$B$50,B24,$AE$21:$AE$50)*$AI$21,),"")) -> 2084 | AH24: =IFERROR(ROUNDUP(AG24/AE24,4),"") -> 0.706 | AI24: =IF(K24="","",S12/S9) -> 4166.6667 | AJ24: =IF(K24="","",AG24*K24) -> 10420 | AK24: =IF(J24="","",#REF!*#REF!) -> #REF! | AL24: =IF(K24="","",AG24*5) -> 10420 | AM24: =IF(J24="","",AG24*240) -> 500160 | AN24: =IF(J24="","",IF(AH24<1,"NO","YES")) -> NO | AO24: =IFERROR(ROUNDUP(AE24*1.15,0),"") -> 3395 | AP24: =IFERROR(ROUNDUP(AF24*1.15,0),"") -> 2397 | AQ24: =IFERROR(IF(AG24*1.15=0,"",(AG24*1.15)),"") -> 2396.6 | AR24: =IF(K24="","",AQ24*5) -> 11983 | AS24: =IF(AM24="","",AM24*1.15) -> 575184 | AT24: =IF(J24="","",IF(AO24>AP24,"NO","YES")) -> NO | AU24: =IF(J24="","",(3600/L24)*M24*(1-Y24)*T24) -> 123 | AV24: =IFERROR(AD24*AH24,"") -> 77.66 | AW24: =IFERROR(AD24*AH24*1.15,"") -> 89.309
A25: =COUNTIF($B$21:$B$50,B25) -> 2 | B25: 20 | C25: 5 | D25: Saw | H25: 1 | I25: 3 | J25: 8 | K25: 5 | L25: 50 | M25: 2 | N25: =((I25*(J25-((O25+R25)/60))*3600)/L25)*M25 -> 3168 | O25: 30 | P25: 10 | Q25: 10 | R25: 10 | S25: 10 | T25: =IFERROR(((J25*60)-SUM(O25:S25))/(J25*60),"") -> 0.85416667 | U25: =(((J25*60*60)/(L25/M25))*T25)*I25 -> 2952 | V25: 0 | W25: =U25*V25 -> 0 | X25: =SUMIF(B$21:B$50,B25,V$21:V$50)/A25 -> 0 | Y25: =IF(B25<B26,(SUMIF(B$21:B$50,B25,X$21:X$50)/A25)+Y26,Y26) -> 0 | Z25: =ROUNDDOWN(1-SUMIF($B$21:$B$50,B25,$V$21:$V$50)/A25^2,3) -> 1 | AA25: =IF(T25="","",U25*(1-Y25)) -> 2952 | AB25: 0 | AC25: =IF(AB25>=0.5,1,0) -> 0 | AD25: =IF(J25="","",I25*K25*(1-AB25)*(J25-((O25+R25)/60))) -> 110 | AE25: =IFERROR(IF(AA25*(1-AB25)=0,"",AA25*(1-AB25)),"") -> 2952 | AF25: =IFERROR(ROUNDUP($AG25/(PRODUCT(INDIRECT("Z"&MATCH(B25,B:B,0)&":Z50"))),0),"") -> 2084 | AG25: =(IFERROR(ROUNDUP(AE25/SUMIF($B$21:$B$50,B25,$AE$21:$AE$50)*$AI$21,),"")) -> 2084 | AH25: =IFERROR(ROUNDUP(AG25/AE25,4),"") -> 0.706 | AI25: =IF(K25="","",S12/S9) -> 4166.6667 | AJ25: =IF(K25="","",AG25*K25) -> 10420 | AK25: =IF(J25="","",#REF!*#REF!) -> #REF! | AL25: =IF(K25="","",AG25*5) -> 10420 | AM25: =IF(J25="","",AG25*240) -> 500160 | AN25: =IF(J25="","",IF(AH25<1,"NO","YES")) -> NO | AO25: =IFERROR(ROUNDUP(AE25*1.15,0),"") -> 3395 | AP25: =IFERROR(ROUNDUP(AF25*1.15,0),"") -> 2397 | AQ25: =IFERROR(IF(AG25*1.15=0,"",(AG25*1.15)),"") -> 2396.6 | AR25: =IF(K25="","",AQ25*5) -> 11983 | AS25: =IF(AM25="","",AM25*1.15) -> 575184 | AT25: =IF(J25="","",IF(AO25>AP25,"NO","YES")) -> NO | AU25: =IF(J25="","",(3600/L25)*M25*(1-Y25)*T25) -> 123 | AV25: =IFERROR(AD25*AH25,"") -> 77.66 | AW25: =IFERROR(AD25*AH25*1.15,"") -> 89.309
A26: =COUNTIF($B$21:$B$50,B26) -> 1 | B26: 30 | C26: 6 | D26: Mill | H26: 1 | I26: 3 | J26: 8 | K26: 5 | L26: 29 | M26: 12 | N26: =((I26*(J26-((O26+R26)/60))*3600)/L26)*M26 -> 32772.414 | O26: 30 | P26: 10 | Q26: 10 | R26: 10 | S26: 10 | T26: =IFERROR(((J26*60)-SUM(O26:S26))/(J26*60),"") -> 0.85416667 | U26: =(((J26*60*60)/(L26/M26))*T26)*I26 -> 30537.931 | V26: 0 | W26: =U26*V26 -> 0 | X26: =SUMIF(B$21:B$50,B26,V$21:V$50)/A26 -> 0 | Y26: =IF(B26<B27,(SUMIF(B$21:B$50,B26,X$21:X$50)/A26)+Y27,Y27) -> 0 | Z26: =ROUNDDOWN(1-SUMIF($B$21:$B$50,B26,$V$21:$V$50)/A26^2,3) -> 1 | AA26: =IF(T26="","",U26*(1-Y26)) -> 30537.931 | AB26: 0 | AC26: =IF(AB26>=0.5,1,0) -> 0 | AD26: =IF(J26="","",I26*K26*(1-AB26)*(J26-((O26+R26)/60))) -> 110 | AE26: =IFERROR(IF(AA26*(1-AB26)=0,"",AA26*(1-AB26)),"") -> 30537.931 | AF26: =IFERROR(ROUNDUP($AG26/(PRODUCT(INDIRECT("Z"&MATCH(B26,B:B,0)&":Z50"))),0),"") -> 4167 | AG26: =(IFERROR(ROUNDUP(AE26/SUMIF($B$21:$B$50,B26,$AE$21:$AE$50)*$AI$21,),"")) -> 4167 | AH26: =IFERROR(ROUNDUP(AG26/AE26,4),"") -> 0.1365 | AI26: =IF(K26="","",S12/S9) -> 4166.6667 | AJ26: =IF(K26="","",AG26*K26) -> 20835 | AK26: =IF(J26="","",#REF!*#REF!) -> #REF! | AL26: =IF(K26="","",AG26*5) -> 20835 | AM26: =IF(J26="","",AG26*240) -> 1000080 | AN26: =IF(J26="","",IF(AH26<1,"NO","YES")) -> NO | AO26: =IFERROR(ROUNDUP(AE26*1.15,0),"") -> 35119 | AP26: =IFERROR(ROUNDUP(AF26*1.15,0),"") -> 4793 | AQ26: =IFERROR(IF(AG26*1.15=0,"",(AG26*1.15)),"") -> 4792.05 | AR26: =IF(K26="","",AQ26*5) -> 23960.25 | AS26: =IF(AM26="","",AM26*1.15) -> 1150092 | AT26: =IF(J26="","",IF(AO26>AP26,"NO","YES")) -> NO | AU26: =IF(J26="","",(3600/L26)*M26*(1-Y26)*T26) -> 1272.4138 | AV26: =IFERROR(AD26*AH26,"") -> 15.015 | AW26: =IFERROR(AD26*AH26*1.15,"") -> 17.26725
A27: =COUNTIF($B$21:$B$50,B27) -> 1 | B27: 40 | C27: 7 | N27: =((I27*(J27-((O27+R27)/60))*3600)/L27)*M27 -> #DIV/0! | T27: =IFERROR(((J27*60)-SUM(O27:S27))/(J27*60),"") | AE27: =IFERROR(IF(AA27*(1-AB27)=0,"",AA27*(1-AB27)),"") | AF27: =IFERROR(ROUNDUP($AG27/(PRODUCT(INDIRECT("Z"&MATCH(B27,B:B,0)&":Z50"))),0),"") | AG27: =(IFERROR(ROUNDUP(AE27/SUMIF($B$21:$B$50,B27,$AE$21:$AE$50)*$AI$21,),"")) | AH27: =IFERROR(ROUNDUP(AG27/AE27,4),"") | AI27: =IF(K27="","",S12/S9) | AJ27: =IF(K27="","",AG27*K27) | AK27: =IF(J27="","",#REF!*#REF!) | AL27: =IF(K27="","",AG27*5) | AM27: =IF(J27="","",AG27*240) | AN27: =IF(J27="","",IF(AH27<1,"NO","YES")) | AO27: =IFERROR(ROUNDUP(AE27*1.15,0),"") | AP27: =IFERROR(ROUNDUP(AF27*1.15,0),"") | AQ27: =IFERROR(IF(AG27*1.15=0,"",(AG27*1.15)),"") | AR27: =IF(K27="","",AQ27*5) | AS27: =IF(AM27="","",AM27*1.15) | AT27: =IF(J27="","",IF(AG27>AQ27,"NO","YES")) | AU27: =IF(J27="","",(3600/L27)*M27*(1-Y27)*T27) | AV27: =IFERROR(AD27*AH27,"") | AW27: =IFERROR(AD27*AH27*1.15,"")
A28: =COUNTIF($B$21:$B$50,B28) -> 1 | B28: 50 | C28: 8 | N28: =((I28*(J28-((O28+R28)/60))*3600)/L28)*M28 -> #DIV/0! | T28: =IFERROR(((J28*60)-SUM(O28:S28))/(J28*60),"") | AE28: =IFERROR(IF(AA28*(1-AB28)=0,"",AA28*(1-AB28)),"") | AF28: =IFERROR(ROUNDUP($AG28/(PRODUCT(INDIRECT("Z"&MATCH(B28,B:B,0)&":Z50"))),0),"") | AG28: =(IFERROR(ROUNDUP(AE28/SUMIF($B$21:$B$50,B28,$AE$21:$AE$50)*$AI$21,),"")) | AH28: =IFERROR(ROUNDUP(AG28/AE28,4),"") | AI28: =IF(K28="","",S12/S9) | AJ28: =IF(K28="","",AG28*K28) | AK28: =IF(J28="","",#REF!*#REF!) | AL28: =IF(K28="","",AG28*5) | AM28: =IF(J28="","",AG28*240) | AN28: =IF(J28="","",IF(AH28<1,"NO","YES")) | AO28: =IFERROR(ROUNDUP(AE28*1.15,0),"") | AP28: =IFERROR(ROUNDUP(AF28*1.15,0),"") | AQ28: =IFERROR(IF(AG28*1.15=0,"",(AG28*1.15)),"") | AR28: =IF(K28="","",AQ28*5) | AS28: =IF(AM28="","",AM28*1.15) | AT28: =IF(J28="","",IF(AG28>AQ28,"NO","YES")) | AU28: =IF(J28="","",(3600/L28)*M28*(1-Y28)*T28) | AV28: =IFERROR(AD28*AH28,"") | AW28: =IFERROR(AD28*AH28*1.15,"")
A29: =COUNTIF($B$21:$B$50,B29) -> 1 | B29: 60 | C29: 9 | T29: =IFERROR(((J29*60)-SUM(O29:S29))/(J29*60),"") | AE29: =IFERROR(IF(AA29*(1-AB29)=0,"",AA29*(1-AB29)),"") | AF29: =IFERROR(ROUNDUP($AG29/(PRODUCT(INDIRECT("Z"&MATCH(B29,B:B,0)&":Z50"))),0),"") | AG29: =(IFERROR(ROUNDUP(AE29/SUMIF($B$21:$B$50,B29,$AE$21:$AE$50)*$AI$21,),"")) | AH29: =IFERROR(ROUNDUP(AG29/AE29,4),"") | AI29: =IF(K29="","",S12/S9) | AJ29: =IF(K29="","",AG29*K29) | AK29: =IF(J29="","",#REF!*#REF!) | AL29: =IF(K29="","",AG29*5) | AM29: =IF(J29="","",AG29*240) | AN29: =IF(J29="","",IF(AH29<1,"NO","YES")) | AO29: =IFERROR(ROUNDUP(AE29*1.15,0),"") | AP29: =IFERROR(ROUNDUP(AF29*1.15,0),"") | AQ29: =IFERROR(IF(AG29*1.15=0,"",(AG29*1.15)),"") | AR29: =IF(K29="","",AQ29*5) | AS29: =IF(AM29="","",AM29*1.15) | AT29: =IF(J29="","",IF(AG29>AQ29,"NO","YES")) | AU29: =IF(J29="","",(3600/L29)*M29*(1-Y29)*T29) | AV29: =IFERROR(AD29*AH29,"") | AW29: =IFERROR(AD29*AH29*1.15,"")
A30: =COUNTIF($B$21:$B$50,B30) -> 1 | B30: 70 | C30: 10 | N30: =((I30*(J30-((O30+R30)/60))*3600)/L30)*M30 -> #DIV/0! | T30: =IFERROR(((J30*60)-SUM(O30:S30))/(J30*60),"") | AE30: =IFERROR(IF(AA30*(1-AB30)=0,"",AA30*(1-AB30)),"") | AF30: =IFERROR(ROUNDUP($AG30/(PRODUCT(INDIRECT("Z"&MATCH(B30,B:B,0)&":Z50"))),0),"") | AG30: =(IFERROR(ROUNDUP(AE30/SUMIF($B$21:$B$50,B30,$AE$21:$AE$50)*$AI$21,),"")) | AH30: =IFERROR(ROUNDUP(AG30/AE30,4),"") | AI30: =IF(K30="","",S12/S9) | AJ30: =IF(K30="","",AG30*K30) | AK30: =IF(J30="","",#REF!*#REF!) | AL30: =IF(K30="","",AG30*5) | AM30: =IF(J30="","",AG30*240) | AN30: =IF(J30="","",IF(AH30<1,"NO","YES")) | AO30: =IFERROR(ROUNDUP(AE30*1.15,0),"") | AP30: =IFERROR(ROUNDUP(AF30*1.15,0),"") | AQ30: =IFERROR(IF(AG30*1.15=0,"",(AG30*1.15)),"") | AR30: =IF(K30="","",AQ30*5) | AS30: =IF(AM30="","",AM30*1.15) | AT30: =IF(J30="","",IF(AG30>AQ30,"NO","YES")) | AU30: =IF(J30="","",(3600/L30)*M30*(1-Y30)*T30) | AV30: =IFERROR(AD30*AH30,"") | AW30: =IFERROR(AD30*AH30*1.15,"")
A31: =COUNTIF($B$21:$B$50,B31) -> 1 | B31: 80 | C31: 11 | N31: =((I31*(J31-((O31+R31)/60))*3600)/L31)*M31 -> #DIV/0! | T31: =IFERROR(((J31*60)-SUM(O31:S31))/(J31*60),"") | AE31: =IFERROR(IF(AA31*(1-AB31)=0,"",AA31*(1-AB31)),"") | AF31: =IFERROR(ROUNDUP($AG31/(PRODUCT(INDIRECT("Z"&MATCH(B31,B:B,0)&":Z50"))),0),"") | AG31: =(IFERROR(ROUNDUP(AE31/SUMIF($B$21:$B$50,B31,$AE$21:$AE$50)*$AI$21,),"")) | AH31: =IFERROR(ROUNDUP(AG31/AE31,4),"") | AI31: =IF(K31="","",S12/S9) | AJ31: =IF(K31="","",AG31*K31) | AK31: =IF(J31="","",#REF!*#REF!) | AL31: =IF(K31="","",AG31*5) | AM31: =IF(J31="","",AG31*240) | AN31: =IF(J31="","",IF(AH31<1,"NO","YES")) | AO31: =IFERROR(ROUNDUP(AE31*1.15,0),"") | AP31: =IFERROR(ROUNDUP(AF31*1.15,0),"") | AQ31: =IFERROR(IF(AG31*1.15=0,"",(AG31*1.15)),"") | AR31: =IF(K31="","",AQ31*5) | AS31: =IF(AM31="","",AM31*1.15) | AT31: =IF(J31="","",IF(AG31>AQ31,"NO","YES")) | AU31: =IF(J31="","",(3600/L31)*M31*(1-Y31)*T31) | AV31: =IFERROR(AD31*AH31,"") | AW31: =IFERROR(AD31*AH31*1.15,"")
A32: =COUNTIF($B$21:$B$50,B32) -> 1 | B32: 90 | C32: 12 | N32: =((I32*(J32-((O32+R32)/60))*3600)/L32)*M32 -> #DIV/0! | T32: =IFERROR(((J32*60)-SUM(O32:S32))/(J32*60),"") | AE32: =IFERROR(IF(AA32*(1-AB32)=0,"",AA32*(1-AB32)),"") | AF32: =IFERROR(ROUNDUP($AG32/(PRODUCT(INDIRECT("Z"&MATCH(B32,B:B,0)&":Z50"))),0),"") | AG32: =(IFERROR(ROUNDUP(AE32/SUMIF($B$21:$B$50,B32,$AE$21:$AE$50)*$AI$21,),"")) | AH32: =IFERROR(ROUNDUP(AG32/AE32,4),"") | AI32: =IF(K32="","",S12/S9) | AJ32: =IF(K32="","",AG32*K32) | AK32: =IF(J32="","",#REF!*#REF!) | AL32: =IF(K32="","",AG32*5) | AM32: =IF(J32="","",AG32*240) | AN32: =IF(J32="","",IF(AH32<1,"NO","YES")) | AO32: =IFERROR(ROUNDUP(AE32*1.15,0),"") | AP32: =IFERROR(ROUNDUP(AF32*1.15,0),"") | AQ32: =IFERROR(IF(AG32*1.15=0,"",(AG32*1.15)),"") | AR32: =IF(K32="","",AQ32*5) | AS32: =IF(AM32="","",AM32*1.15) | AT32: =IF(J32="","",IF(AG32>AQ32,"NO","YES")) | AU32: =IF(J32="","",(3600/L32)*M32*(1-Y32)*T32) | AV32: =IFERROR(AD32*AH32,"") | AW32: =IFERROR(AD32*AH32*1.15,"")
A33: =COUNTIF($B$21:$B$50,B33) -> 1 | B33: 100 | C33: 13 | N33: =((I33*(J33-((O33+R33)/60))*3600)/L33)*M33 -> #DIV/0! | T33: =IFERROR(((J33*60)-SUM(O33:S33))/(J33*60),"") | AE33: =IFERROR(IF(AA33*(1-AB33)=0,"",AA33*(1-AB33)),"") | AF33: =IFERROR(ROUNDUP($AG33/(PRODUCT(INDIRECT("Z"&MATCH(B33,B:B,0)&":Z50"))),0),"") | AG33: =(IFERROR(ROUNDUP(AE33/SUMIF($B$21:$B$50,B33,$AE$21:$AE$50)*$AI$21,),"")) | AH33: =IFERROR(ROUNDUP(AG33/AE33,4),"") | AI33: =IF(K33="","",S12/S9) | AJ33: =IF(K33="","",AG33*K33) | AK33: =IF(J33="","",#REF!*#REF!) | AL33: =IF(K33="","",AG33*5) | AM33: =IF(J33="","",AG33*240) | AN33: =IF(J33="","",IF(AH33<1,"NO","YES")) | AO33: =IFERROR(ROUNDUP(AE33*1.15,0),"") | AP33: =IFERROR(ROUNDUP(AF33*1.15,0),"") | AQ33: =IFERROR(IF(AG33*1.15=0,"",(AG33*1.15)),"") | AR33: =IF(K33="","",AQ33*5) | AS33: =IF(AM33="","",AM33*1.15) | AT33: =IF(J33="","",IF(AG33>AQ33,"NO","YES")) | AU33: =IF(J33="","",(3600/L33)*M33*(1-Y33)*T33) | AV33: =IFERROR(AD33*AH33,"") | AW33: =IFERROR(AD33*AH33*1.15,"")
A34: =COUNTIF($B$21:$B$50,B34) -> 1 | B34: 110 | C34: 14 | N34: =((I34*(J34-((O34+R34)/60))*3600)/L34)*M34 -> #DIV/0! | T34: =IFERROR(((J34*60)-SUM(O34:S34))/(J34*60),"") | AE34: =IFERROR(IF(AA34*(1-AB34)=0,"",AA34*(1-AB34)),"") | AF34: =IFERROR(ROUNDUP($AG34/(PRODUCT(INDIRECT("Z"&MATCH(B34,B:B,0)&":Z50"))),0),"") | AG34: =(IFERROR(ROUNDUP(AE34/SUMIF($B$21:$B$50,B34,$AE$21:$AE$50)*$AI$21,),"")) | AH34: =IFERROR(ROUNDUP(AG34/AE34,4),"") | AI34: =IF(K34="","",S12/S9) | AJ34: =IF(K34="","",AG34*K34) | AK34: =IF(J34="","",#REF!*#REF!) | AL34: =IF(K34="","",AG34*5) | AM34: =IF(J34="","",AG34*240) | AN34: =IF(J34="","",IF(AH34<1,"NO","YES")) | AO34: =IFERROR(ROUNDUP(AE34*1.15,0),"") | AP34: =IFERROR(ROUNDUP(AF34*1.15,0),"") | AQ34: =IFERROR(IF(AG34*1.15=0,"",(AG34*1.15)),"") | AR34: =IF(K34="","",AQ34*5) | AS34: =IF(AM34="","",AM34*1.15) | AT34: =IF(J34="","",IF(AG34>AQ34,"NO","YES")) | AU34: =IF(J34="","",(3600/L34)*M34*(1-Y34)*T34) | AV34: =IFERROR(AD34*AH34,"") | AW34: =IFERROR(AD34*AH34*1.15,"")
A35: =COUNTIF($B$21:$B$50,B35) -> 1 | B35: 120 | C35: 15 | N35: =((I35*(J35-((O35+R35)/60))*3600)/L35)*M35 -> #DIV/0! | T35: =IFERROR(((J35*60)-SUM(O35:S35))/(J35*60),"") | AE35: =IFERROR(IF(AA35*(1-AB35)=0,"",AA35*(1-AB35)),"") | AF35: =IFERROR(ROUNDUP($AG35/(PRODUCT(INDIRECT("Z"&MATCH(B35,B:B,0)&":Z50"))),0),"") | AG35: =(IFERROR(ROUNDUP(AE35/SUMIF($B$21:$B$50,B35,$AE$21:$AE$50)*$AI$21,),"")) | AH35: =IFERROR(ROUNDUP(AG35/AE35,4),"") | AI35: =IF(K35="","",S12/S9) | AJ35: =IF(K35="","",AG35*K35) | AK35: =IF(J35="","",#REF!*#REF!) | AL35: =IF(K35="","",AG35*5) | AM35: =IF(J35="","",AG35*240) | AN35: =IF(J35="","",IF(AH35<1,"NO","YES")) | AO35: =IFERROR(ROUNDUP(AE35*1.15,0),"") | AP35: =IFERROR(ROUNDUP(AF35*1.15,0),"") | AQ35: =IFERROR(IF(AG35*1.15=0,"",(AG35*1.15)),"") | AR35: =IF(K35="","",AQ35*5) | AS35: =IF(AM35="","",AM35*1.15) | AT35: =IF(J35="","",IF(AG35>AQ35,"NO","YES")) | AU35: =IF(J35="","",(3600/L35)*M35*(1-Y35)*T35) | AV35: =IFERROR(AD35*AH35,"") | AW35: =IFERROR(AD35*AH35*1.15,"")
A36: =COUNTIF($B$21:$B$50,B36) -> 1 | B36: 130 | C36: 16 | N36: =((I36*(J36-((O36+R36)/60))*3600)/L36)*M36 -> #DIV/0! | T36: =IFERROR(((J36*60)-SUM(O36:S36))/(J36*60),"") | Z36: =IF(1-SUMIF($B$21:$B$50,B36,$V$21:$V$50)/A36^2=1,"",1-SUMIF($B$21:$B$50,B36,$V$21:$V$50)/A36^2=1) | AA36: =IF(T36="","",N36*T36*(1-#REF!)) | AC36: =IF(AB36>=0.5,1,0) -> 0 | AD36: =IF(J36="","",I36*K36*(1-AB36)*(J36-((O36+R36)/60))) | AE36: =IFERROR(IF(AA36*(1-AB36)=0,"",AA36*(1-AB36)),"") | AF36: =IFERROR(ROUNDUP($AG36/(PRODUCT(INDIRECT("Z"&MATCH(B36,B:B,0)&":Z50"))),0),"") | AG36: =(IFERROR(ROUNDUP(AE36/SUMIF($B$21:$B$50,B36,$AE$21:$AE$50)*$AI$21,),"")) | AH36: =IFERROR(ROUNDUP(AG36/AE36,4),"") | AI36: =IF(K36="","",S12/S9) | AJ36: =IF(K36="","",AG36*K36) | AK36: =IF(J36="","",#REF!*#REF!) | AL36: =IF(K36="","",AG36*5) | AM36: =IF(J36="","",AG36*240) | AN36: =IF(J36="","",IF(AH36<1,"NO","YES")) | AO36: =IFERROR(ROUNDUP(AE36*1.15,0),"") | AP36: =IFERROR(ROUNDUP(AF36*1.15,0),"") | AQ36: =IFERROR(IF(AG36*1.15=0,"",(AG36*1.15)),"") | AR36: =IF(K36="","",AQ36*5) | AS36: =IF(AM36="","",AM36*1.15) | AT36: =IF(J36="","",IF(AG36>AQ36,"NO","YES")) | AU36: =IF(J36="","",(3600/L36)*M36*(1-Y36)*T36) | AV36: =IFERROR(AD36*AH36,"") | AW36: =IFERROR(AD36*AH36*1.15,"")
A37: =COUNTIF($B$21:$B$50,B37) -> 1 | B37: 140 | C37: 17 | N37: =((I37*(J37-((O37+R37)/60))*3600)/L37)*M37 -> #DIV/0! | T37: =IFERROR(((J37*60)-SUM(O37:S37))/(J37*60),"") | Z37: =IF(1-SUMIF($B$21:$B$50,B37,$V$21:$V$50)/A37^2=1,"",1-SUMIF($B$21:$B$50,B37,$V$21:$V$50)/A37^2=1) | AA37: =IF(T37="","",N37*T37*(1-#REF!)) | AC37: =IF(AB37>=0.5,1,0) -> 0 | AD37: =IF(J37="","",I37*K37*(1-AB37)*(J37-((O37+R37)/60))) | AE37: =IFERROR(IF(AA37*(1-AB37)=0,"",AA37*(1-AB37)),"") | AF37: =IFERROR(ROUNDUP($AG37/(PRODUCT(INDIRECT("Z"&MATCH(B37,B:B,0)&":Z50"))),0),"") | AG37: =(IFERROR(ROUNDUP(AE37/SUMIF($B$21:$B$50,B37,$AE$21:$AE$50)*$AI$21,),"")) | AH37: =IFERROR(ROUNDUP(AG37/AE37,4),"") | AI37: =IF(K37="","",S12/S9) | AJ37: =IF(K37="","",AG37*K37) | AK37: =IF(J37="","",#REF!*#REF!) | AL37: =IF(K37="","",AG37*5) | AM37: =IF(J37="","",AG37*240) | AN37: =IF(J37="","",IF(AH37<1,"NO","YES")) | AO37: =IFERROR(ROUNDUP(AE37*1.15,0),"") | AP37: =IFERROR(ROUNDUP(AF37*1.15,0),"") | AQ37: =IFERROR(IF(AG37*1.15=0,"",(AG37*1.15)),"") | AR37: =IF(K37="","",AQ37*5) | AS37: =IF(AM37="","",AM37*1.15) | AT37: =IF(J37="","",IF(AG37>AQ37,"NO","YES")) | AU37: =IF(J37="","",(3600/L37)*M37*(1-Y37)*T37) | AV37: =IFERROR(AD37*AH37,"") | AW37: =IFERROR(AD37*AH37*1.15,"")
A38: 1 | B38: 150 | C38: 18 | N38: =((I38*(J38-((O38+R38)/60))*3600)/L38)*M38 -> #DIV/0! | T38: =IFERROR(((J38*60)-SUM(O38:S38))/(J38*60),"") | Z38: =IF(1-SUMIF($B$21:$B$50,B38,$V$21:$V$50)/A38^2=1,"",1-SUMIF($B$21:$B$50,B38,$V$21:$V$50)/A38^2=1) | AA38: =IF(T38="","",N38*T38*(1-#REF!)) | AC38: =IF(AB38>=0.5,1,0) -> 0 | AD38: =IF(J38="","",I38*K38*(1-AB38)*(J38-((O38+R38)/60))) | AE38: =IFERROR(IF(AA38*(1-AB38)=0,"",AA38*(1-AB38)),"") | AF38: =IFERROR(ROUNDUP($AG38/(PRODUCT(INDIRECT("Z"&MATCH(B38,B:B,0)&":Z50"))),0),"") | AG38: =(IFERROR(ROUNDUP(AE38/SUMIF($B$21:$B$50,B38,$AE$21:$AE$50)*$AI$21,),"")) | AH38: =IFERROR(ROUNDUP(AG38/AE38,4),"") | AI38: =IF(K38="","",S12/S9) | AJ38: =IF(K38="","",AG38*K38) | AK38: =IF(J38="","",#REF!*#REF!) | AL38: =IF(K38="","",AG38*5) | AM38: =IF(J38="","",AG38*240) | AN38: =IF(J38="","",IF(AH38<1,"NO","YES")) | AO38: =IFERROR(ROUNDUP(AE38*1.15,0),"") | AP38: =IFERROR(ROUNDUP(AF38*1.15,0),"") | AQ38: =IFERROR(IF(AG38*1.15=0,"",(AG38*1.15)),"") | AR38: =IF(K38="","",AQ38*5) | AS38: =IF(AM38="","",AM38*1.15) | AT38: =IF(J38="","",IF(AG38>AQ38,"NO","YES")) | AU38: =IF(J38="","",(3600/L38)*M38*(1-Y38)*T38) | AV38: =IFERROR(AD38*AH38,"") | AW38: =IFERROR(AD38*AH38*1.15,"")
A39: 1 | B39: 160 | C39: 19 | N39: =((I39*(J39-((O39+R39)/60))*3600)/L39)*M39 -> #DIV/0! | T39: =IFERROR(((J39*60)-SUM(O39:S39))/(J39*60),"") | Z39: =IF(1-SUMIF($B$21:$B$50,B39,$V$21:$V$50)/A39^2=1,"",1-SUMIF($B$21:$B$50,B39,$V$21:$V$50)/A39^2=1) | AA39: =IF(T39="","",N39*T39*(1-#REF!)) | AC39: =IF(AB39>=0.5,1,0) -> 0 | AD39: =IF(J39="","",I39*K39*(1-AB39)*(J39-((O39+R39)/60))) | AE39: =IFERROR(IF(AA39*(1-AB39)=0,"",AA39*(1-AB39)),"") | AF39: =IFERROR(ROUNDUP($AG39/(PRODUCT(INDIRECT("Z"&MATCH(B39,B:B,0)&":Z50"))),0),"") | AG39: =(IFERROR(ROUNDUP(AE39/SUMIF($B$21:$B$50,B39,$AE$21:$AE$50)*$AI$21,),"")) | AH39: =IFERROR(ROUNDUP(AG39/AE39,4),"") | AI39: =IF(K39="","",S12/S9) | AJ39: =IF(K39="","",AG39*K39) | AK39: =IF(J39="","",#REF!*#REF!) | AL39: =IF(K39="","",AG39*5) | AM39: =IF(J39="","",AG39*240) | AN39: =IF(J39="","",IF(AH39<1,"NO","YES")) | AO39: =IFERROR(ROUNDUP(AE39*1.15,0),"") | AP39: =IFERROR(ROUNDUP(AF39*1.15,0),"") | AQ39: =IFERROR(IF(AG39*1.15=0,"",(AG39*1.15)),"") | AR39: =IF(K39="","",AQ39*5) | AS39: =IF(AM39="","",AM39*1.15) | AT39: =IF(J39="","",IF(AG39>AQ39,"NO","YES")) | AU39: =IF(J39="","",(3600/L39)*M39*(1-Y39)*T39) | AV39: =IFERROR(AD39*AH39,"") | AW39: =IFERROR(AD39*AH39*1.15,"")
