{"text_format":"1","workbook":"xlsx","n_sheets":40,"sheets":["Rev History","Instructions","Capacity Plan","Condensed","Capacity Plan Option 2 ","Process 1 - Actual Run Data","Process 2 - Actual Run Data","Process 3 - Actual Run Data","Process 4 - Actual Run Data","Process 5 - Actual Run Data","Process 6 - Actual Run Data","Process 7 - Actual Run Data","Process 8 - Actual Run Data","Process 9 - Actual Run Data","Process 10 - Actual Run Data","Process 11 - Actual Run Data","Process 12 - Actual Run Data","Process 13 - Actual Run Data","Process 14 - Actual Run Data","Process 15 - Actual Run Data","Process 16 - Actual Run Data","Process 17 - Actual Run Data","Process 18 - Actual Run Data","Process 19 - Actual Run Data","Process 20 - Actual Run Data","Process 21 - Actual Run Data","Process 22 - Actual Run Data","Process 23 - Actual Run Data","Process 24 - Actual Run Data","Process 25 - Actual Run Data","Process 26 - Actual Run Data","Process 27 - Actual Run Data","Process 28 - Actual Run Data","Process 29 - Actual Run Data","Process 30 - Actual Run Data","Run @ Rate Summary Old","Run @ Rate Summary Data","Run @ Rate Status Form","Extended R@R","R @ R Exemption Form"],"not_rendered":{"charts":0,"images":17,"macros":1,"external_links":0,"defined_names":8,"comments":37,"pivot_tables":0},"unopened":[],"bounds":{"document_bytes":16777216,"sheet_cells":100000,"rows_first":2000,"rows_last":500,"rows_between":2000,"halvings":0,"cell_chars":16384,"cell_head_chars":4096},"cells_cut":0,"cells_raw":0,"read":"row_number_cap","date_system":"1900"}

{"sheet":"Rev History","index":0,"n_rows":79,"n_cols":6,"rows_kept":79,"cut":false,"hidden":false,"merged":[[31,5,31,6],[28,5,28,7],[22,4,22,7],[23,5,23,7],[24,5,24,7],[25,5,25,7],[26,5,26,7],[27,5,27,7],[29,5,29,6],[30,5,30,7]]}
[]
["Date","Revision","Changes"]
["2017-03-16",1,"Updated Production Days at Nexteer Automotive from 235 to 240"]
["2018-08-02",2,"Updated Form Number from Appendix 15 to F1019 Run at Rate"]
["2019-06-27",3,"Added Navigational Buttons and hid extra tabs to organize the document"]
["2019-06-28",4,"Changed name of column to \"Daily QTC\" to make it easier to understand "]
["2019-06-28",5,"Added a color key so the person filling it out can understand what the colors mean"]
["7/1/12019",6,"Added the column \"Operators\" because knowing how many operators there are can be useful"]
["2019-07-02",7,"Added the columns \"Op Number\" and \"Number of Identical Machines\" because they provide important information"]
["2019-07-03",8,"Updated formula for \"Constraint on QTC?\" to =IF(J21=\"\",\"\",IF(AC21<1,\"NO\",\"YES\")) from =IF(J21=\"\",\"\",IF(Z21>AD21,\"NO\",\"YES\")) because it needed to be changed to fit with the new formulas"]
["2019-07-03",9,"Added extra rows to the capacity plan to allow the person filling it out to have enough room for their different machines (30)"]
["2019-07-08",10,"Changed the description on the column \"Machine Loading Allocated For Other Parts\" to make it flow smoother"]
["2019-07-09",11,"Reformatted the \"Key Items to Consider\" box to organize it"]
["2019-07-10",12,"Set up a color scheme to trigger the column \"Daily QTC\" to turn orange when there are 2 or more repeating tools/machines"]
["2019-07-15",13,"Changed formula for \"Production time used for QTC (hrs/wk)\" to =Z21*AC21 from =IF(G21=\"\",0,(($AA21/$AH21)/(1-$U21))) to make it more simple"]
["2019-07-16",14,"Added a formula to hide/unhide the tab \"Extended R@R\" which helps with organization"]
["2019-07-16",15,"Changed the description on \"Duration\" to make it easier to understand"]
["2019-07-16",16,"Created formula to count number of identical operations =COUNTIF($B$21:$B$50,B21) because this number factors into other formulas"]
["2019-07-17",17,"Deleted both volumes and changed the cell to \"Quoted Tool Capacity\" to make it less confusing for the person filling it out"]
["2019-07-17",18,"Added a note to remind the supplier to double check the volume from the nomination letter so they don't forget"]
["2019-07-17",19,"Changed formula for column \"Daily QTC\" to =(IFERROR(ROUNDUP(AA21/SUMIF($B$21:$B$50,B21,$AA$21:$AA$50)*$AD$21,),\"\")) from =IF(H21=\"\",\"\",(AC21/AH$12/A21)) to fix the issue of getting the wrong numbers for duplicate machines"]
["2019-07-17",20,"Changed formula for column \"Production time used for 15% above QTC (hrs/wk)\" to =Z21*AC21*1.15 from =IF(I21=\"\",0,(($AF21)/$AI21/A21))/(1-$V21) to make it more simple"]
["2019-07-17",21,"Changed color key into an image to avoid problems with changing cells and altering the text.  If you need to change or update the color key do so here and then put the new image in the capacity plan.  \nDirections: Directly to the right of this cell is the color key.  After making your changes highlight the color key and under the home tab on the far left click the copy button dropdown and select \"copy as picture\" then click \"ok\".  Click over to the capacity plan and paste the image in the same spot it originally was.",null,"Color Key"]
["2019-07-18",22,"Added iferror formulas into columns to eliminate them from looking sloppy (#Div/0!)",null,"Yellow","Filled out by supplier"]
["2019-07-18",23,"Added the column \"Overall required OEE\" because it is necessry for calculations and shows how efficent they are being with their machines",null,"White ","Calculated automatically"]
["2019-07-25",24,"Changed the formula for \"Planned % Up Time\" to =((J21*60)-SUM(O21:S21))/(J21*60) from =IF(J48=\"\",\"\",1-((P48+Q48+S48)/((J48*60)-O48-R48))) because the previous forumla was incorrect",null,"Light Blue","This column determines if there is a constraint on the MSV"]
["2019-07-25",25,"Added the column \"Total Daily Material with time losses\" with the formula =(((J21*60*60)/(L21/M21))*T21)*I21",null,"Orange","Shows the user that this row is part of a duplicate machine"]
["2019-07-25",26,"Changed the column \"Sum all down stream operations scrap rate %'s\" from a manual entry to a formula so the supplier can't enter it wrong",null,"Green","The operation or process will be able to meet the MSV (pass)"]
["2019-07-25",27,"Added the column \"Percentage of total parts that are good for operation\" because it is necessary for calculations",null,"Red","The operation or process will not be able to meet the MSV and/or the 15% MSV (fail)"]
["2019-07-25",28,"Added the column \"Amount of parts required to make the quota including scrap\" because it is necessary for calculations",null,"Light Pink","If \"Machine loading allocated for other parts\" is greater than 50% the extended R@R needs to be completed.  Batch processes like heat treatment, plating, etc. do not need the extended R&R."]
["2019-07-30",29,"Added questions to the status form tab",null,"Purple","If production time used for 15% MSV is above 100 and less than 120 hours (High Risk / HR)"]
["2019-07-30",30,"Made a formula to change the actual scrap percentage red if it is greater than the planned percentage",null,"Salmon","This color indicates that the actual downtime is higher than the planned. "]
["2019-07-31",31,"Made a formula to calculate the lower and upper constraints for OEE"]
["2019-08-01",32,"The Code for hidding and unhiding the Extended R@R is:    (Column AA is hidden)\nPrivate Sub Worksheet_Change(ByVal Target As Range)\nIf [AA17] = \"Yes\" Then\n    Sheets(\"Extended R@R\").Visible = True\nElse\n    Sheets(\"Extended R@R\").Visible = False\nEnd If\n\n\nEnd Sub"]
["2019-08-02",33,"The Code for a button is: \n Sub Process1()\n'\n' Process1 Macro\n'\n\n    Sheets(\"Process 1 - Actual Run Data\").Visible = True\n    Sheets(\"Process 1 - Actual Run Data\").Select\nEnd Sub"]
["2019-08-13",34,"Added Hyperlinks to replace the buttons"]
["2019-08-14",35,"Added an Instructions tab"]
["2019-08-27",36,"Deleted the formula to hide/unhide the Extended R@R "]
["2019-08-27",37,"Added the column \"calculation column\" to help calculate downstream scrap"]
["2019-08-27",38,"Added the column \"% scrap parts per operation\" to help calculate downstream scrap"]
["2019-08-27",39,"Added the columns \"K and L\" to the status tab to hide/undide the questions"]
["2019-12-13",40,"Added instructions tab "]
["2020-02-08",41,"Corrected calculation issue when Run at Rate is completed over more than one shift."]
["2020-02-08",42,"Corrected process 2 actual run data which was missing some calculations that other sheets had."]
["2020-02-08",43,"Added HR for High Risk when calculating the +15% over QTC, this is now the Purple color."]
["2020-02-08",44,"Adjusted calculation for both \"Constraint on QTC?\" and \"Constraint on 15% above QTC?\" to reflect % allocated."]
["2020-02-08",45,"Adjusted Color Code block wording and Color."]
["2020-02-08",46,"Added note that for those Batch Processes like heat treat, plating, etc. do not need to complete the Extended R&R."]
["2020-02-08",47,"Removed \"Old Instructions\" from file."]
["2020-03-04",48,"Update page sizes for printing"]
["2020-11-11",49,"Updated date format on Run@Rate Summary Data Tab and Run@Rate Status Form Tab."]
[null,50]
[null,51]
[null,52]
[null,53]
[null,54]
[null,55]
[null,56]
[null,57]
[null,58]
[null,59]
[null,60]
[null,61]
[null,62]
[null,63]
[null,64]
[null,65]
[null,66]
[null,67]
[null,68]
[null,69]
[null,70]
[null,71]
[null,72]
[null,73]
[null,74]
[null,75]
[null,76]
[null,77]

{"sheet":"Instructions","index":1,"n_rows":233,"n_cols":92,"rows_kept":233,"cut":false,"hidden":false,"merged":[[232,18,233,24],[159,43,160,43],[159,44,160,48],[190,4,194,11],[196,0,200,15],[201,0,202,15],[232,3,233,3],[232,4,233,10],[232,17,233,17],[159,24,160,24],[159,25,160,29],[159,34,160,34],[159,35,160,39],[165,0,169,15],[170,0,171,15],[159,5,160,5],[159,6,160,9],[159,14,160,14],[159,15,160,19],[73,60,74,60],[73,61,74,72],[77,1,79,16],[82,0,85,17],[120,2,121,2],[120,3,121,15],[128,0,132,15],[73,77,74,77],[73,78,74,85],[73,90,74,90],[73,91,74,100],[36,19,37,19],[36,20,37,42],[73,40,74,40],[73,41,74,54],[41,0,44,17],[73,1,74,1],[73,2,74,15],[73,20,74,20],[73,21,74,34],[33,19,34,19],[33,20,34,42],[0,0,3,15],[30,1,31,1],[30,2,31,14],[30,19,31,19],[30,20,31,42]]}
["Capacity Plan Instructions"]
[]
[]
[]
[]
[]
[]
[]
[]
[]
[]
[]
[]
[]
[]
[]
[]
[]
[]
[]
[]
[]
[]
[]
[]
[]
[]
[]
[]
[]
[null,"Balloon 1","Fill out details on top of Capacity Plan sheet",null,null,null,null,null,null,null,null,null,null,null,null,null,null,null,null,"Balloon 2","Fill out all yellow fields in the Capacity Plan sheet. When filling out the Op Number column, create numbers in ascending order and put duplicate numbers next to each other (10,10). White columns are calculated and blue columns let you know if QTC constraints are present."]
[]
[]
[null,null,null,null,null,null,null,null,null,null,null,null,null,null,null,null,null,null,null,"Balloon 3","Use the hyperlinks in the Op Number column to easily navigate between sheets."]
[]
[]
[null,null,null,null,null,null,null,null,null,null,null,null,null,null,null,null,null,null,null,"Balloon 4","If single part process is allocated over 50%, must do an extended Run @ Rate.\nIf bulk part process is allocated over 50%, may be asked to do an extended Run @ Rate."]
[]
[]
[]
[]
["Actual Run Data Sheet Instructions"]
[]
[]
[]
[]
[]
[]
[]
[]
[]
[]
[]
[]
[]
[]
[]
[]
[]
[]
[]
[]
[]
[]
[]
[]
[]
[]
[]
[]
[]
[]
[]
[null,"Balloon 1","Fill out highlighted areas for who completed the Run at Rate. Other fields will be filled out automatically from the other sheets",null,null,null,null,null,null,null,null,null,null,null,null,null,null,null,null,null,"Balloon 2","Use the hyperlinks to easily navigate to the summary sheet or the capacity plan sheet",null,null,null,null,null,null,null,null,null,null,null,null,null,null,null,null,null,null,"Balloon 3","Time per part and pieces per hour will be filled out automatically from other sheets",null,null,null,null,null,null,null,null,null,null,null,null,null,null,null,null,null,null,"Balloon 4","Fill out columns highlighted in yellow. All white columns will be calculated based off input form yellow columns.",null,null,null,null,null,null,null,null,null,null,null,null,null,null,null,"Balloon 5","Values below table will be calculated based off input from yellow columns.",null,null,null,null,null,null,null,null,null,null,null,"Balloon 6","Place detailed comments regarding scrap/rework and downtime in specified area."]
[]
[]
[]
[null,"NOTE:  Run @ Rate data sheet cannot run over midnight because it breaks the calculations."]
[]
[]
[]
[]
["Summary Sheet Instructions"]
[]
[]
[]
[]
[]
[]
[]
[]
[]
[]
[]
[]
[]
[]
[]
[]
[]
[]
[]
[]
[]
[]
[]
[]
[]
[]
[]
[]
[]
[]
[]
[]
[]
[]
[]
[]
[]
[null,null,"Balloon 1","Summary Sheet will automatically pull in all data and perform calculations to fill the table."]
[]
[]
[]
[]
[]
[]
[]
["Status Form Sheet Instructions"]
[]
[]
[]
[]
[]
[]
[]
[]
[]
[]
[]
[]
[]
[]
[]
[]
[]
[]
[]
[]
[]
[]
[]
[]
[]
[]
[]
[]
[]
[]
[null,null,null,null,null,"Balloon 1","All fields except highlighted ones will be pulled in automatically",null,null,null,null,null,null,null,"Balloon 2","Fill out type of Run@Rate field",null,null,null,null,null,null,null,null,"Balloon 3","Fill out highlighted fields and remaining white fields will be calculated/filled out automatically",null,null,null,null,null,null,null,null,"Balloon 4","Enter detailed comments in comments section",null,null,null,null,null,null,null,"Balloon 5","These items are to help flag possible issues that have been hidden by part specific run-at-rates"]
[]
[]
[]
[]
[]
["Extended Run at Rate Sheet Instructions"]
[]
[]
[]
[]
["To be used when needed, when a process is 50% or over allocated to another part/supplier (Unless it is a Batch Process like Heat Treat, Plating, etc.)."]
[]
[]
[]
[]
[]
[]
[]
[]
[]
[]
[]
[]
[]
[]
[]
[]
[]
[]
[]
[null,null,null,null,"Extended Run at Rate sheet will only be used if machine loading allocation is greater than 50%.\nBatch operations such as Heat Treat and Planting do not need to complete Extended Run at Rate."]
[]
[]
[]
[]
[]
["Run at Rate Exemption Sheet Instructions"]
[]
[]
[]
[]
["Can be used when the Quoted Tooling Capacity is only 40% or less of the over all Supplier Tooling Capacity available."]
[]
[]
[]
[]
[]
[]
[]
[]
[]
[]
[]
[]
[]
[]
[]
[]
[]
[]
[]
[]
[]
[]
[]
[]
[]
[]
[]
[]
[]
[]
[null,null,null,"Balloon 1","Fill in highlighted reason for exemption section. Other fields will be filled automatically.",null,null,null,null,null,null,null,null,null,null,null,null,"Balloon 2","Fill in highlighted comment and other sections. Non-highlighted fields will be filled automatically."]

{"sheet":"Capacity Plan","index":2,"n_rows":53,"n_cols":45,"rows_kept":53,"cut":false,"hidden":false,"merged":[[52,21,63,44],[59,2,59,4],[52,1,52,4],[8,11,8,17],[9,11,9,17],[48,3,48,6],[49,3,49,6],[58,2,58,4],[57,2,57,4],[56,2,56,4],[54,2,54,4],[55,2,55,4],[30,3,30,6],[31,3,31,6],[17,2,17,6],[20,3,20,6],[21,3,21,6],[11,18,11,19],[11,14,11,17],[46,3,46,6],[47,3,47,6],[39,3,39,6],[45,3,45,6],[34,3,34,6],[35,3,35,6],[36,3,36,6],[37,3,37,6],[38,3,38,6],[15,1,16,6],[13,1,13,7],[6,5,6,9],[2,16,2,24],[3,16,3,24],[4,16,4,24],[5,16,5,24],[2,5,2,9],[3,5,3,9],[4,5,4,9],[2,11,2,15],[3,11,3,15],[4,11,4,15],[53,2,53,4],[22,3,22,6],[23,3,23,6],[24,3,24,6],[25,3,25,6],[44,3,44,6],[33,3,33,6],[40,3,40,6],[41,3,41,6],[42,3,42,6],[43,3,43,6],[26,3,26,6],[32,3,32,6],[27,3,27,6],[28,3,28,6],[29,3,29,6],[0,1,0,44],[13,8,13,9],[7,1,7,4],[9,1,9,4],[10,1,10,4],[11,1,11,4],[7,5,7,9],[9,5,9,7],[10,5,10,7],[11,5,11,9],[11,20,11,29],[2,1,2,4],[3,1,3,4],[4,1,4,4],[6,1,6,4],[5,11,5,15]]}
[null,"Production Capacity Plan"]
[]
[null,"Supplier Name:  ",null,null,null,null,null,null,null,null,null,"Nexteer Part Number:  "]
[null,"Supplier Duns Code:  ",null,null,null,null,null,null,null,null,null,"Nexteer Part Name:  "]
[null,"Plant (Mfg) Location:  ",null,null,null,null,null,null,null,null,null,"Nexteer Revision Level:  "]
[null,null,null,null,null,null,null,null,null,null,null,"Nexteer Program Name(s):  "]
[null,"Supplier Contact:  "]
[null,"Phone:  "]
[null,null,null,null,null,null,null,null,null,null,null,"Production days at Nexteer (days/yr):  ",null,null,null,null,null,null,240]
[null,"Nexteer Monitored:",null,null,null,null,null,null,null,null,null,"Production days at Supplier (days/yr):  "]
[null,"Supplier Monitored:"]
[null,"Duration:",null,null,null,null,null,null,null,null,null,null,null,null,"Maximum Scheduled Volumes (MSV):"]
[]
[null,"Planned Run@Rate Completion Date:  "]
[]
[null,"Run @ Rate Summary Data"]
[null,null,null,null,null,null,null,null,null,null,null,null,null,null,null,null,null,null,null,null,null,null,null,null,null,null,{"$f":"IF(SUM(AA21:AA50)>=1,\"Yes\",\"\")","v":""}]
["Number of Identical Machines","Op Number","Process Name:  List each separate production line or machine",null,null,null,null,"Operators per shift","shifts / day","hours / shift","days / wk","Planned Cycle Time (sec)","parts / cycle","Daily Process Capacity","Scheduled breaks & lunch per shift (min)","Planned Tool change time per shift (min)","Planned Changeover time per shift (min)","Other planned downtime per shift (min)","Historical unscheduled downtime per shift (min)","Planned % up time","Planned % scrap at this process operation","% scrap parts per operation ","Calculation Colum","Sum of all down stream operations scrap rate %'s","Planned Daily Capacity","Machine loading allocated for other parts","Column for Opening Extended R@R","Hours per week allocated for this part","Planned Daily Capacity with allocation","Daily MSV ","Overall required OEE","Daily Quoted Tool Capacity","Planned Weekly Capacity Allocated to this Part","Annual Capacity","Weekly MSV","Annual MSV","Constraint on MSV?","OEE For 15% Above MSV","15% above Daily MSV","15% above Weekly MSV","15% above Yearly MSV","Constraint on 15% above MSV?","Net Good Parts / hour","Production time used for MSV (hrs/wk)","Production time used for 15% above MSV (hrs/wk)"]
[]
[]
[{"$f":"COUNTIF($B$21:$B$50,B21)","v":0},null,1,null,null,null,null,null,null,null,null,null,null,{"$f":"IFERROR(((I21*(J21-((O21+R21)/60))*3600)/L21)*M21,\"\")","v":""},null,null,null,null,null,{"$f":"IFERROR(1-(P21+Q21+S21)/(J21*60-(O21+R21)),\"\")","v":""},null,{"$f":"IFERROR(SUMIF(B$21:B$50,B21,U$21:U$50)/A21,\"\")","v":""},{"$f":"IF(B22=0,V21,IF(B21<B22,(SUMIF(B$21:B$50,B21,V$21:V$50)/A21)+W22,W22))","v":""},{"$f":"$W21","v":""},{"$f":"IF(T21=\"\",\"\",ROUNDUP(N21*(1-X21)*T21,0))","v":""},null,{"$f":"IF(A21=1,IF(Z21>=0.5,1,0),0)","v":0},{"$f":"IF(H21=\"\",\"\",I21*(1-Z21)*K21*(J21-((O21+R21)/60)))","v":""},{"$f":"IFERROR(IF(Y21*(1-Z21)=0,\"\",ROUNDUP(Y21*(1-Z21),0)),\"\")","v":""},{"$f":"(IFERROR(ROUNDUP(AC21/SUMIF($B$21:$B$50,B21,$AC$21:$AC$50)*$AF$21,),\"\"))","v":""},{"$f":"IFERROR(ROUNDUP(AD21/AC21,4),\"\")","v":""},{"$f":"IF(K21=\"\",\"\",S12/S9)","v":""},{"$f":"IFERROR(IF(K21=\"\",\"\",AC21*K21),\"\")","v":""},{"$f":"IF(J21=\"\",\"\",$S$10*AD21)","v":""},{"$f":"IFERROR(IF(K21=\"\",\"\",AD21*K21),\"\")","v":""},{"$f":"IFERROR(IF(A21=1,S$12,AD21*240),\"\")","v":""},{"$f":"IF(J21=\"\",\"\",IF(AE21<1,\"NO\",\"YES\"))","v":""},{"$f":"IFERROR(AM21/AC21,\"\")","v":""},{"$f":"IFERROR(IF(AD21*1.15=0,\"\",ROUNDUP(AD21*1.15,0)),\"\")","v":""},{"$f":"IFERROR(IF(K21=\"\",\"\",AM21*K21),\"\")","v":""},{"$f":"IF(AJ21=\"\",\"\",AJ21*1.15)","v":""},{"$f":"IF(J21=\"\",\"\",IF(AL21>1.2,\"YES\",IF(AL21>1,\"HR\",IF(AL21<1,\"No\",IF(AL21=1.001,\"\",\"NO\")))))","v":""},{"$f":"IF(J21=\"\",\"\",(3600/L21)*M21*(1-X21)*T21)","v":""},{"$f":"IFERROR(AE21*AB21,\"\")","v":""},{"$f":"IFERROR(AB21*AE21*1.15,\"\")","v":""}]
[0,null,2,null,null,null,null,null,null,null,null,null,null,{"$f":"IFERROR(((I22*(J22-((O22+R22)/60))*3600)/L22)*M22,\"\")","v":""},null,null,null,null,null,{"$f":"IFERROR(1-(P22+Q22+S22)/(J22*60-(O22+R22)),\"\")","v":""},null,{"$f":"IFERROR(SUMIF(B$21:B$50,B22,U$21:U$50)/A22,\"\")","v":""},{"$f":"IF(B23=0,V22,IF(B22<B23,(SUMIF(B$21:B$50,B22,V$21:V$50)/A22)+W23,W23))","v":""},"",{"$f":"IF(T22=\"\",\"\",ROUNDUP(N22*(1-X22)*T22,0))","v":""},null,{"$f":"IF(A22=1,IF(Z22>=0.5,1,0),0)","v":0},{"$f":"IF(H22=\"\",\"\",I22*(1-Z22)*K22*(J22-((O22+R22)/60)))","v":""},{"$f":"IFERROR(IF(Y22*(1-Z22)=0,\"\",ROUNDUP(Y22*(1-Z22),0)),\"\")","v":""},{"$f":"(IFERROR(ROUNDUP(AC22/SUMIF($B$21:$B$50,B22,$AC$21:$AC$50)*$AF$21,),\"\"))","v":""},{"$f":"IFERROR(ROUNDUP(AD22/AC22,4),\"\")","v":""},{"$f":"IF(K22=\"\",\"\",S13/S10)","v":""},{"$f":"IFERROR(IF(K22=\"\",\"\",AC22*K22),\"\")","v":""},{"$f":"IF(J22=\"\",\"\",$S$10*AD22)","v":""},{"$f":"IFERROR(IF(K22=\"\",\"\",AD22*K22),\"\")","v":""},{"$f":"IFERROR(IF(A22=1,S$12,AD22*240),\"\")","v":""},{"$f":"IF(J22=\"\",\"\",IF(AE22<1,\"NO\",\"YES\"))","v":""},{"$f":"IFERROR(AM22/AC22,\"\")","v":""},{"$f":"IFERROR(IF(AD22*1.15=0,\"\",ROUNDUP(AD22*1.15,0)),\"\")","v":""},{"$f":"IFERROR(IF(K22=\"\",\"\",AM22*K22),\"\")","v":""},{"$f":"IF(AJ22=\"\",\"\",AJ22*1.15)","v":""},{"$f":"IF(J22=\"\",\"\",IF(AL22>1.2,\"YES\",IF(AL22>1,\"HR\",IF(AL22<1,\"No\",IF(AL22=1.001,\"\",\"NO\")))))","v":""},{"$f":"IF(J22=\"\",\"\",(3600/L22)*M22*(1-X22)*T22)","v":""},{"$f":"IFERROR(AE22*AB22,\"\")","v":""},{"$f":"IFERROR(AB22*AE22*1.15,\"\")","v":""}]
[0,null,3,null,null,null,null,null,null,null,null,null,null,"",null,null,null,null,null,"",null,"","","","",null,0,"","","","","","","","","","","","","","","","","",""]
[0,null,4,null,null,null,null,null,null,null,null,null,null,"",null,null,null,null,null,"",null,"","","","",null,0,"","","","","","","","","","","","","","","","","",""]
[0,null,5,null,null,null,null,null,null,null,null,null,null,"",null,null,null,null,null,"",null,"","","","",null,0,"","","","","","","","","","","","","","","","","",""]
[0,null,6,null,null,null,null,null,null,null,null,null,null,"",null,null,null,null,null,"",null,"","","","",null,0,"","","","","","","","","","","","","","","","","",""]
[0,null,7,null,null,null,null,null,null,null,null,null,null,"",null,null,null,null,null,"",null,"","","","",null,0,"","","","","","","","","","","","","","","","","",""]
[0,null,8,null,null,null,null,null,null,null,null,null,null,"",null,null,null,null,null,"",null,"","","","",null,0,"","","","","","","","","","","","","","","","","",""]
[0,null,9,null,null,null,null,null,null,null,null,null,null,"",null,null,null,null,null,"",null,"","","","",null,0,"","","","","","","","","","","","","","","","","",""]
[0,null,10,null,null,null,null,null,null,null,null,null,null,"",null,null,null,null,null,"",null,"","","","",null,0,"","","","","","","","","","","","","","","","","",""]
[0,null,11,null,null,null,null,null,null,null,null,null,null,"",null,null,null,null,null,"",null,"","","","",null,0,"","","","","","","","","","","","","","","","","",""]
[0,null,12,null,null,null,null,null,null,null,null,null,null,"",null,null,null,null,null,"",null,"","","","",null,0,"","","","","","","","","","","","","","","","","",""]
[0,null,13,null,null,null,null,null,null,null,null,null,null,"",null,null,null,null,null,"",null,"","","","",null,0,"","","","","","","","","","","","","","","","","",""]
[0,null,14,null,null,null,null,null,null,null,null,null,null,"",null,null,null,null,null,"",null,"","","","",null,0,"","","","","","","","","","","","","","","","","",""]
[0,null,15,null,null,null,null,null,null,null,null,null,null,"",null,null,null,null,null,"",null,"","","","",null,0,"","","","","","","","","","","","","","","","","",""]
[0,null,16,null,null,null,null,null,null,null,null,null,null,"",null,null,null,null,null,"",null,"","","","",null,0,"","","","","","","","","","","","","","","","","",""]
[0,null,17,null,null,null,null,null,null,null,null,null,null,"",null,null,null,null,null,"",null,"","","","",null,0,"","","","","","","","","","","","","","","","","",""]
[0,null,18,null,null,null,null,null,null,null,null,null,null,"",null,null,null,null,null,"",null,"","","","",null,0,"","","","","","","","","","","","","","","","","",""]
[0,null,19,null,null,null,null,null,null,null,null,null,null,"",null,null,null,null,null,"",null,"","","","",null,0,"","","","","","","","","","","","","","","","","",""]
[0,null,20,null,null,null,null,null,null,null,null,null,null,"",null,null,null,null,null,"",null,"","","","",null,0,"","","","","","","","","","","","","","","","","",""]
[0,null,21,null,null,null,null,null,null,null,null,null,null,"",null,null,null,null,null,"",null,"","","","",null,0,"","","","","","","","","","","","","","","","","",""]
[0,null,22,null,null,null,null,null,null,null,null,null,null,"",null,null,null,null,null,"",null,"","","","",null,0,"","","","","","","","","","","","","","","","","",""]
[0,null,23,null,null,null,null,null,null,null,null,null,null,"",null,null,null,null,null,"",null,"","","","",null,0,"","","","","","","","","","","","","","","","","",""]
[0,null,24,null,null,null,null,null,null,null,null,null,null,"",null,null,null,null,null,"",null,"","","","",null,0,"","","","","","","","","","","","","","","","","",""]
[0,null,25,null,null,null,null,null,null,null,null,null,null,"",null,null,null,null,null,"",null,"","","","",null,0,"","","","","","","","","","","","","","","","","",""]
[0,null,26,null,null,null,null,null,null,null,null,null,null,"",null,null,null,null,null,"",null,"","","","",null,0,"","","","","","","","","","","","","","","","","",""]
[0,null,27,null,null,null,null,null,null,null,null,null,null,"",null,null,null,null,null,"",null,"","","","",null,0,"","","","","","","","","","","","","","","","","",""]
[0,null,28,null,null,null,null,null,null,null,null,null,null,"",null,null,null,null,null,"",null,"","","","",null,0,"","","","","","","","","","","","","","","","","",""]
[0,null,29,null,null,null,null,null,null,null,null,null,null,"",null,null,null,null,null,"",null,"","","","",null,0,"","","","","","","","","","","","","","","","","",""]
[0,null,30,null,null,null,null,null,null,null,null,null,null,"",null,null,null,null,null,"",null,"","","","",null,0,"","","","","","","","","","","","","","","","","",""]
[]
[]
[null,null,null,null,null,null,null,null,null,null,null,null,null,null,null,null,null,null,null,null,null,"Comments:"]

{"sheet":"Condensed","index":3,"n_rows":50,"n_cols":49,"rows_kept":50,"cut":false,"hidden":true,"merged":[[3,1,3,4],[3,5,3,9],[3,11,3,15],[3,16,3,21],[0,1,0,48],[2,1,2,4],[2,5,2,9],[2,11,2,15],[2,16,2,21],[9,1,9,4],[9,5,9,7],[9,11,9,17],[4,1,4,4],[4,5,4,9],[4,11,4,15],[4,16,4,21],[5,11,5,15],[5,16,5,21],[6,1,6,4],[6,5,6,9],[7,1,7,4],[7,5,7,9],[8,11,8,17],[21,3,21,6],[10,1,10,4],[10,5,10,7],[11,1,11,4],[11,5,11,9],[11,21,11,32],[13,2,13,7],[13,8,13,9],[17,2,17,6],[20,3,20,6],[11,15,11,17],[11,18,11,19],[33,3,33,6],[22,3,22,6],[23,3,23,6],[24,3,24,6],[25,3,25,6],[26,3,26,6],[27,3,27,6],[28,3,28,6],[29,3,29,6],[30,3,30,6],[31,3,31,6],[32,3,32,6],[45,3,45,6],[34,3,34,6],[35,3,35,6],[36,3,36,6],[37,3,37,6],[38,3,38,6],[39,3,39,6],[40,3,40,6],[41,3,41,6],[42,3,42,6],[43,3,43,6],[44,3,44,6],[59,2,59,4],[46,3,46,6],[47,3,47,6],[48,3,48,6],[49,3,49,6],[52,1,52,4],[53,2,53,4],[54,2,54,4],[55,2,55,4],[56,2,56,4],[57,2,57,4],[58,2,58,4]]}
[null,"Production Capacity Plan"]
[]
[null,"Supplier Name:  ",null,null,null,null,null,null,null,null,null,"Nexteer Part Number:  "]
[null,"Supplier Duns Code:  ",null,null,null,null,null,null,null,null,null,"Nexteer Part Name:  "]
[null,"Plant (Mfg) Location:  ",null,null,null,null,null,null,null,null,null,"Nexteer Revision Level:  "]
[null,null,null,null,null,null,null,null,null,null,null,"Nexteer Program Name(s):  "]
[null,"Supplier Contact:  "]
[null,"Phone:  "]
[null,null,null,null,null,null,null,null,null,null,null,"Production days at Nexteer (days/yr):  ",null,null,null,null,null,null,240]
[null,"Nexteer Monitored:",null,null,null,null,null,null,null,null,null,"Production days at Supplier (days/yr):  ",null,null,null,null,null,null,240]
[null,"Supplier Monitored:"]
[null,"Duration:",null,null,null,null,null,null,null,null,null,null,null,null,null,"Quoted Tool Capacity (QTC):  ",null,null,1000000,null,null,"*Match volume to nomination letter(s)"]
[]
[null,null,"Planned Run@Rate Completion Date:  ",null,null,null,null,null,null,null,null,null,null,null,null,null,null,null,null,null,{"$f":"ROUNDUP(IF(B21<>B20,$AG21/PRODUCT(Z21:Z$50),AG21/(AG20/AF20)),0)","v":1399}]
[]
[]
[null,null,null,null,null,null,null,null,null,null,null,null,null,null,null,null,null,null,null,null,null,null,null,null,"System Effects",null,null,null,{"$f":"IF(SUM(AC21:AC50)>=1,\"Yes\",\"\")","v":""}]
["Number of Identical Machines","Op Number","Process Name:  List each separate production line or machine",null,null,null,null,"Operators","shifts / day","hours / shift","days / wk","Planned Cycle Time (sec)","parts / cycle","Daily Process Capacity","Scheduled breaks & lunch per shift (min)","Planned Tool change time per shift (min)","Planned Changeover time per shift (min)","Other planned downtime per shift (min)","Historical unscheduled downtime per shift (min)","Planned % up time","Total Daily Material with time losses","Planned % scrap at this process operation","Planned Scrap Product per day","% scrap parts per operation ","Sum of all down stream operations scrap rate %'s","Percentage of total parts that are good for operation ","Planned Daily Capacity","Machine loading allocated for other parts","Column for Opening Extended R@R","Hours per week allocated for this part","Planned Daily Capacity allocated to this part","Amount of parts required to reach QTC including scrap","Daily QTC not including scrap","Overall required OEE","Daily Quoted Tool Capacity","Planned Weekly Capacity Allocated to this Part","Annual Capacity","Weekly QTC","QTC","Constraint on QTC?","Total good and bad parts that can be made daily at above 15%","Scrap compensation at 15% above QTC","15% above Daily QTC","15% above Weekly QTC","15% above Yearly QTC","Constraint on 15% above QTC?","Net Good Parts / hour","Production time used for QTC (hrs/wk)","Production time used for 15% above QTC (hrs/wk)"]
[]
[]
[{"$f":"COUNTIF($B$21:$B$50,B21)","v":3},10,"1","Lathe",null,null,null,1,3,8,5,40,1,{"$f":"((I21*(J21-((O21+R21)/60))*3600)/L21)*M21","v":1980},30,10,10,10,10,{"$f":"IFERROR(((J21*60)-SUM(O21:S21))/(J21*60),\"\")","v":0.85416666666666663},{"$f":"(((J21*60*60)/(L21/M21))*T21)*I21","v":1845},0,{"$f":"U21*V21","v":0},{"$f":"SUMIF(B$21:B$50,B21,V$21:V$50)/A21","v":6.6666666666666671E-3},{"$f":"IF(B21<B22,(SUMIF(B$21:B$50,B21,X$21:X$50)/A21)+Y22,Y22)","v":6.6666666666666671E-3},{"$f":"(1-SUMIF($B$21:$B$50,B21,$V$21:$V$50)/A21^2)","v":0.99777777777777776},{"$f":"IF(T21=\"\",\"\",U21*(1-Y21))","v":1832.6999999999998},0,{"$f":"IF(AB21>=0.5,1,0)","v":0},{"$f":"IF(J21=\"\",\"\",I21*K21*(1-AB21)*(J21-((O21+R21)/60)))","v":110},{"$f":"IFERROR(IF(AA21*(1-AB21)=0,\"\",AA21*(1-AB21)),\"\")","v":1832.6999999999998},{"$f":"IFERROR(ROUNDUP($AG21/(PRODUCT(INDIRECT(\"Z\"&MATCH(B21,B:B,0)&\":Z50\"))),0),\"\")","v":1399},{"$f":"(IFERROR(ROUNDUP(AE21/SUMIF($B$21:$B$50,B21,$AE$21:$AE$50)*$AI$21,),\"\"))","v":1389},{"$f":"IFERROR(ROUNDUP(AG21/AE21,4),\"\")","v":0.75790000000000002},{"$f":"IF(K21=\"\",\"\",S12/S9)","v":4166.666666666667},{"$f":"IF(K21=\"\",\"\",AG21*K21)","v":6945},{"$f":"IF(J21=\"\",\"\",#REF!*#REF!)","v":{"$error":"#REF!"}},{"$f":"IF(K21=\"\",\"\",AG21*5)","v":6945},{"$f":"IF(J21=\"\",\"\",AG21*240)","v":333360},{"$f":"IF(J21=\"\",\"\",IF(AH21<1,\"NO\",\"YES\"))","v":"NO"},{"$f":"IFERROR(ROUNDUP(AE21*1.15,0),\"\")","v":2108},{"$f":"IFERROR(ROUNDUP(AF21*1.15,0),\"\")","v":1609},{"$f":"IFERROR(IF(AG21*1.15=0,\"\",(AG21*1.15)),\"\")","v":1597.35},{"$f":"IF(K21=\"\",\"\",AQ21*5)","v":7986.75},{"$f":"IF(AM21=\"\",\"\",AM21*1.15)","v":383363.99999999994},{"$f":"IF(J21=\"\",\"\",IF(AO21>AP21,\"NO\",\"YES\"))","v":"NO"},{"$f":"IF(J21=\"\",\"\",(3600/L21)*M21*(1-Y21)*T21)","v":76.362499999999983},{"$f":"IFERROR(AD21*AH21,\"\")","v":83.369},{"$f":"IFERROR(AD21*AH21*1.15,\"\")","v":95.874349999999993}]
[3,10,"2","Lathe",null,null,null,1,3,8,5,40,1,{"$f":"((I22*(J22-((O22+R22)/60))*3600)/L22)*M22","v":1980},30,10,10,10,10,{"$f":"IFERROR(((J22*60)-SUM(O22:S22))/(J22*60),\"\")","v":0.85416666666666663},1845,0.02,36.9,6.6666666666666671E-3,6.6666666666666671E-3,{"$f":"(1-SUMIF($B$21:$B$50,B22,$V$21:$V$50)/A22^2)","v":0.99777777777777776},1832.6999999999998,0,{"$f":"IF(AB22>=0.5,1,0)","v":0},110,{"$f":"IFERROR(IF(AA22*(1-AB22)=0,\"\",AA22*(1-AB22)),\"\")","v":1832.6999999999998},1399,1389,{"$f":"IFERROR(ROUNDUP(AG22/AE22,4),\"\")","v":0.75790000000000002},{"$f":"IF(K22=\"\",\"\",S12/S9)","v":4166.666666666667},6945,{"$f":"IF(J22=\"\",\"\",#REF!*#REF!)","v":{"$error":"#REF!"}},6945,333360,"NO",{"$f":"IFERROR(ROUNDUP(AE22*1.15,0),\"\")","v":2108},1609,1597.35,7986.75,383363.99999999994,"NO",76.362499999999983,83.369,95.874349999999993]
[{"$f":"COUNTIF($B$21:$B$50,B23)","v":3},10,"3","Lathe",null,null,null,1,3,8,5,40,1,1980,30,10,10,10,10,0.85416666666666663,1845,0,{"$f":"U23*V23","v":0},6.6666666666666671E-3,6.6666666666666671E-3,{"$f":"(1-SUMIF($B$21:$B$50,B23,$V$21:$V$50)/A23^2)","v":0.99777777777777776},1832.6999999999998,0,0,110,1832.6999999999998,1399,1389,{"$f":"IFERROR(ROUNDUP(AG23/AE23,4),\"\")","v":0.75790000000000002},{"$f":"IF(K23=\"\",\"\",S12/S9)","v":4166.666666666667},6945,{"$f":"IF(J23=\"\",\"\",#REF!*#REF!)","v":{"$error":"#REF!"}},6945,333360,"NO",2108,1609,1597.35,7986.75,383363.99999999994,"NO",76.362499999999983,83.369,95.874349999999993]
[2,20,"4","Saw",null,null,null,1,3,8,5,50,2,3168,30,10,10,10,10,0.85416666666666663,2952,0,0,0,0,{"$f":"ROUNDDOWN(1-SUMIF($B$21:$B$50,B24,$V$21:$V$50)/A24^2,3)","v":1},2952,0,0,110,2952,2084,2084,0.70599999999999996,{"$f":"IF(K24=\"\",\"\",S12/S9)","v":4166.666666666667},10420,{"$f":"IF(J24=\"\",\"\",#REF!*#REF!)","v":{"$error":"#REF!"}},10420,500160,"NO",3395,2397,2396.6,11983,575184,"NO",123,77.66,89.308999999999983]
[2,20,"5","Saw",null,null,null,1,3,8,5,50,2,3168,30,10,10,10,10,0.85416666666666663,2952,0,0,0,0,{"$f":"ROUNDDOWN(1-SUMIF($B$21:$B$50,B25,$V$21:$V$50)/A25^2,3)","v":1},2952,0,0,110,2952,2084,2084,{"$f":"IFERROR(ROUNDUP(AG25/AE25,4),\"\")","v":0.70599999999999996},{"$f":"IF(K25=\"\",\"\",S12/S9)","v":4166.666666666667},10420,{"$f":"IF(J25=\"\",\"\",#REF!*#REF!)","v":{"$error":"#REF!"}},10420,500160,"NO",3395,2397,2396.6,11983,575184,"NO",123,77.66,89.308999999999983]
[1,30,"6","Mill",null,null,null,1,3,8,5,29,12,32772.413793103449,30,10,10,10,10,0.85416666666666663,30537.931034482761,0,0,0,0,{"$f":"ROUNDDOWN(1-SUMIF($B$21:$B$50,B26,$V$21:$V$50)/A26^2,3)","v":1},30537.931034482761,0,0,110,30537.931034482761,4167,4167,0.13649999999999998,{"$f":"IF(K26=\"\",\"\",S12/S9)","v":4166.666666666667},20835,{"$f":"IF(J26=\"\",\"\",#REF!*#REF!)","v":{"$error":"#REF!"}},20835,1000080,"NO",35119,4793,4792.0499999999993,23960.249999999996,1150092,"NO",1272.4137931034481,15.014999999999999,17.267249999999997]
[1,40,"7",null,null,null,null,null,null,null,null,null,null,{"$error":"#DIV/0!"},null,null,null,null,null,"",null,null,null,null,null,null,null,null,null,null,"","",{"$f":"(IFERROR(ROUNDUP(AE27/SUMIF($B$21:$B$50,B27,$AE$21:$AE$50)*$AI$21,),\"\"))","v":""},"",{"$f":"IF(K27=\"\",\"\",S12/S9)","v":""},"",{"$f":"IF(J27=\"\",\"\",#REF!*#REF!)","v":""},"",{"$f":"IF(J27=\"\",\"\",AG27*240)","v":""},"","","",{"$f":"IFERROR(IF(AG27*1.15=0,\"\",(AG27*1.15)),\"\")","v":""},"","",{"$f":"IF(J27=\"\",\"\",IF(AG27>AQ27,\"NO\",\"YES\"))","v":""},"","",""]
[1,50,"8",null,null,null,null,null,null,null,null,null,null,{"$error":"#DIV/0!"},null,null,null,null,null,"",null,null,null,null,null,null,null,null,null,null,"","","","",{"$f":"IF(K28=\"\",\"\",S12/S9)","v":""},"",{"$f":"IF(J28=\"\",\"\",#REF!*#REF!)","v":""},"","","","","",{"$f":"IFERROR(IF(AG28*1.15=0,\"\",(AG28*1.15)),\"\")","v":""},"","","","",{"$f":"IFERROR(AD28*AH28,\"\")","v":""},""]
[1,60,"9",null,null,null,null,null,null,null,null,null,null,null,null,null,null,null,null,"",null,null,null,null,null,null,null,null,null,null,"","","","",{"$f":"IF(K29=\"\",\"\",S12/S9)","v":""},"",{"$f":"IF(J29=\"\",\"\",#REF!*#REF!)","v":""},"","","","","","","","","","","",""]
[1,70,"10",null,null,null,null,null,null,null,null,null,null,{"$error":"#DIV/0!"},null,null,null,null,null,"",null,null,null,null,null,null,null,null,null,null,"","","","",{"$f":"IF(K30=\"\",\"\",S12/S9)","v":""},"",{"$f":"IF(J30=\"\",\"\",#REF!*#REF!)","v":""},"","","","","","","","","","","",""]
[1,80,"11",null,null,null,null,null,null,null,null,null,null,{"$error":"#DIV/0!"},null,null,null,null,null,"",null,null,null,null,null,null,null,null,null,null,"","","","",{"$f":"IF(K31=\"\",\"\",S12/S9)","v":""},"",{"$f":"IF(J31=\"\",\"\",#REF!*#REF!)","v":""},"","","","","","","","","","","",""]
[1,90,"12",null,null,null,null,null,null,null,null,null,null,{"$error":"#DIV/0!"},null,null,null,null,null,"",null,null,null,null,null,null,null,null,null,null,"","","","",{"$f":"IF(K32=\"\",\"\",S12/S9)","v":""},"",{"$f":"IF(J32=\"\",\"\",#REF!*#REF!)","v":""},"","","","","","","","","","","",""]
[1,100,"13",null,null,null,null,null,null,null,null,null,null,{"$error":"#DIV/0!"},null,null,null,null,null,"",null,null,null,null,null,null,null,null,null,null,"","","","",{"$f":"IF(K33=\"\",\"\",S12/S9)","v":""},"",{"$f":"IF(J33=\"\",\"\",#REF!*#REF!)","v":""},"","","","","","","","","","","",""]
[1,110,"14",null,null,null,null,null,null,null,null,null,null,{"$error":"#DIV/0!"},null,null,null,null,null,"",null,null,null,null,null,null,null,null,null,null,"","","","",{"$f":"IF(K34=\"\",\"\",S12/S9)","v":""},"",{"$f":"IF(J34=\"\",\"\",#REF!*#REF!)","v":""},"","","","","","","","","","","",""]
[1,120,"15",null,null,null,null,null,null,null,null,null,null,{"$error":"#DIV/0!"},null,null,null,null,null,"",null,null,null,null,null,null,null,null,null,null,"","","","",{"$f":"IF(K35=\"\",\"\",S12/S9)","v":""},"",{"$f":"IF(J35=\"\",\"\",#REF!*#REF!)","v":""},"","","","","","","","","","","",""]
[1,130,"16",null,null,null,null,null,null,null,null,null,null,{"$error":"#DIV/0!"},null,null,null,null,null,"",null,null,null,null,null,{"$f":"IF(1-SUMIF($B$21:$B$50,B36,$V$21:$V$50)/A36^2=1,\"\",1-SUMIF($B$21:$B$50,B36,$V$21:$V$50)/A36^2=1)","v":""},{"$f":"IF(T36=\"\",\"\",N36*T36*(1-#REF!))","v":""},null,0,{"$f":"IF(J36=\"\",\"\",I36*K36*(1-AB36)*(J36-((O36+R36)/60)))","v":""},"","","","",{"$f":"IF(K36=\"\",\"\",S12/S9)","v":""},"",{"$f":"IF(J36=\"\",\"\",#REF!*#REF!)","v":""},"","","","","","","","","","",{"$f":"IFERROR(AD36*AH36,\"\")","v":""},""]
[1,140,"17",null,null,null,null,null,null,null,null,null,null,{"$error":"#DIV/0!"},null,null,null,null,null,"",null,null,null,null,null,"",{"$f":"IF(T37=\"\",\"\",N37*T37*(1-#REF!))","v":""},null,0,"","","","","",{"$f":"IF(K37=\"\",\"\",S12/S9)","v":""},"",{"$f":"IF(J37=\"\",\"\",#REF!*#REF!)","v":""},"","","","","","","","","","","",""]
[1,150,"18",null,null,null,null,null,null,null,null,null,null,{"$error":"#DIV/0!"},null,null,null,null,null,"",null,null,null,null,null,"",{"$f":"IF(T38=\"\",\"\",N38*T38*(1-#REF!))","v":""},null,0,"","","","","",{"$f":"IF(K38=\"\",\"\",S12/S9)","v":""},"",{"$f":"IF(J38=\"\",\"\",#REF!*#REF!)","v":""},"","","","","","","","","","","",""]
[1,160,"19",null,null,null,null,null,null,null,null,null,null,{"$error":"#DIV/0!"},null,null,null,null,null,"",null,null,null,null,null,"",{"$f":"IF(T39=\"\",\"\",N39*T39*(1-#REF!))","v":""},null,0,"","","","","",{"$f":"IF(K39=\"\",\"\",S12/S9)","v":""},"",{"$f":"IF(J39=\"\",\"\",#REF!*#REF!)","v":""},"","","","","","","","","","","",""]
[1,170,"20",null,null,null,null,null,null,null,null,null,null,{"$error":"#DIV/0!"},null,null,null,null,null,"",null,null,null,null,null,"",{"$f":"IF(T40=\"\",\"\",N40*T40*(1-#REF!))","v":""},null,0,"","","","","",{"$f":"IF(K40=\"\",\"\",S12/S9)","v":""},"",{"$f":"IF(J40=\"\",\"\",#REF!*#REF!)","v":""},"","","","","","","","","","","",""]
[1,180,"21",null,null,null,null,null,null,null,null,null,null,{"$error":"#DIV/0!"},null,null,null,null,null,"",null,null,null,null,null,"",{"$f":"IF(T41=\"\",\"\",N41*T41*(1-#REF!))","v":""},null,0,"","","","","",{"$f":"IF(K41=\"\",\"\",S12/S9)","v":""},"",{"$f":"IF(J41=\"\",\"\",#REF!*#REF!)","v":""},"","","","","","","","","","","",""]
[1,190,"22",null,null,null,null,null,null,null,null,null,null,{"$error":"#DIV/0!"},null,null,null,null,null,"",null,null,null,null,null,"",{"$f":"IF(T42=\"\",\"\",N42*T42*(1-#REF!))","v":""},null,0,"","","","","",{"$f":"IF(K42=\"\",\"\",S12/S9)","v":""},"",{"$f":"IF(J42=\"\",\"\",#REF!*#REF!)","v":""},"","","","","","","","","","","",""]
[1,200,"23",null,null,null,null,null,null,null,null,null,null,{"$error":"#DIV/0!"},null,null,null,null,null,"",null,null,null,null,null,"",{"$f":"IF(T43=\"\",\"\",N43*T43*(1-#REF!))","v":""},null,0,"","","","","",{"$f":"IF(K43=\"\",\"\",S12/S9)","v":""},"",{"$f":"IF(J43=\"\",\"\",#REF!*#REF!)","v":""},"","","","","","","","","","","",""]
[1,210,"24",null,null,null,null,null,null,null,null,null,null,{"$error":"#DIV/0!"},null,null,null,null,null,"",null,null,null,null,null,"",{"$f":"IF(T44=\"\",\"\",N44*T44*(1-#REF!))","v":""},null,0,"","","","","",{"$f":"IF(K44=\"\",\"\",S12/S9)","v":""},"",{"$f":"IF(J44=\"\",\"\",#REF!*#REF!)","v":""},"","","","","","","","","","","",""]
[1,220,"25",null,null,null,null,null,null,null,null,null,null,{"$error":"#DIV/0!"},null,null,null,null,null,"",null,null,null,null,null,"",{"$f":"IF(T45=\"\",\"\",N45*T45*(1-#REF!))","v":""},null,0,"","","","","",{"$f":"IF(K45=\"\",\"\",S12/S9)","v":""},"",{"$f":"IF(J45=\"\",\"\",#REF!*#REF!)","v":""},"","","","","","","","","","","",""]
[1,230,"26",null,null,null,null,null,null,null,null,null,null,{"$error":"#DIV/0!"},null,null,null,null,null,"",null,null,null,null,null,"",{"$f":"IF(T46=\"\",\"\",N46*T46*(1-#REF!))","v":""},null,0,"","","","","",{"$f":"IF(K46=\"\",\"\",S12/S9)","v":""},"",{"$f":"IF(J46=\"\",\"\",#REF!*#REF!)","v":""},"","","","","","","","","","","",""]
[1,240,"27",null,null,null,null,null,null,null,null,null,null,{"$error":"#DIV/0!"},null,null,null,null,null,"",null,null,null,null,null,"",{"$f":"IF(T47=\"\",\"\",N47*T47*(1-#REF!))","v":""},null,0,"","","","","",{"$f":"IF(K47=\"\",\"\",S12/S9)","v":""},"",{"$f":"IF(J47=\"\",\"\",#REF!*#REF!)","v":""},"","","","","","","","","","","",""]
[1,250,"28",null,null,null,null,null,null,null,null,null,null,{"$error":"#DIV/0!"},null,null,null,null,null,"",null,null,null,null,null,"",{"$f":"IF(T48=\"\",\"\",N48*T48*(1-#REF!))","v":""},null,0,"","","","","",{"$f":"IF(K48=\"\",\"\",S12/S9)","v":""},"",{"$f":"IF(J48=\"\",\"\",#REF!*#REF!)","v":""},"","","","","","","","","","","",""]
[1,260,"29",null,null,null,null,null,null,null,null,null,null,{"$error":"#DIV/0!"},null,null,null,null,null,"",null,null,null,null,null,"",{"$f":"IF(T49=\"\",\"\",N49*T49*(1-#REF!))","v":""},null,0,"","","","","",{"$f":"IF(K49=\"\",\"\",S12/S9)","v":""},"",{"$f":"IF(J49=\"\",\"\",#REF!*#REF!)","v":""},"","","","","","","","","","","",""]
[1,270,"30",null,null,null,null,null,null,null,null,null,null,{"$error":"#DIV/0!"},null,null,null,null,null,"",null,null,null,null,null,"",{"$f":"IF(T50=\"\",\"\",N50*T50*(1-Y50))","v":""},null,0,"","","","","",{"$f":"IF(K50=\"\",\"\",S12/S9)","v":""},"",{"$f":"IF(J50=\"\",\"\",#REF!*#REF!)","v":""},"","","","","","","","","","","",""]

{"sheet":"Capacity Plan Option 2 ","index":4,"n_rows":67,"n_cols":42,"rows_kept":67,"cut":false,"hidden":true,"merged":[[6,1,6,2],[0,2,0,41],[2,1,2,2],[2,11,2,15],[3,1,3,2],[3,11,3,15],[3,16,3,22],[4,1,4,2],[4,11,4,15],[4,16,4,22],[5,11,5,15],[5,16,5,22],[7,1,7,2],[8,11,8,17],[9,11,9,17],[11,18,11,19],[11,20,13,22],[13,7,13,8],[30,3,30,6],[17,2,17,6],[20,3,20,6],[21,3,21,6],[22,3,22,6],[23,3,23,6],[24,3,24,6],[25,3,25,6],[26,3,26,6],[27,3,27,6],[28,3,28,6],[29,3,29,6],[42,3,42,6],[31,3,31,6],[32,3,32,6],[33,3,33,6],[34,3,34,6],[35,3,35,6],[36,3,36,6],[37,3,37,6],[38,3,38,6],[39,3,39,6],[40,3,40,6],[41,3,41,6],[56,2,56,4],[43,3,43,6],[44,3,44,6],[45,3,45,6],[46,3,46,6],[47,3,47,6],[48,3,48,6],[49,3,49,6],[52,1,52,4],[53,2,53,4],[54,2,54,4],[55,2,55,4],[57,2,57,4],[58,2,58,4],[59,2,59,4],[62,1,63,4],[65,1,67,6]]}
[null,null,"Production Capacity Plan"]
[]
[null,"Supplier Name:  ",null,null,null,null,null,null,null,null,null,"Nexteer Automotive Part Number:  "]
[null,"Supplier Duns Code:  ",null,null,null,null,null,null,null,null,null,"Nexteer Part Name:  "]
[null,"Plant (Mfg) Location:  ",null,null,null,null,null,null,null,null,null,"Revision Level:  "]
[null,null,null,null,null,null,null,null,null,null,null,"Nexteer Automotive Program:  "]
[null,"Supplier Contact:  "]
[null,"Phone:  "]
[null,null,null,null,null,null,null,null,null,null,null,"Production days at Nexteer Automotive (days/yr):  ",null,null,null,null,null,null,240]
[null,"Planned Type of Run@Rate:",null,"Nexteer Monitored:",null,null,null,null,null,null,null,"Production days at Supplier (days/yr):  ",null,null,null,null,null,null,240]
[null,null,null,"Supplier Monitored:"]
[null,null,null,"Duration:",null,null,null,null,null,null,null,null,null,null,null,null,null,"Quoted Tool Capacity (QTC):  ",1000000,null,"*Make sure to verify this volume with what is listed on the nomination letters"]
[]
[null,null,null,null,null,null,"Planned Run@Rate Completion Date:  "]
[]
[]
[null,null,null,null,null,null,null,null,null,null,null,null,null,null,null,null,null,null,null,null,null,null,null,null,{"$f":"IF(SUM(Y21:Y50)>=1,\"Yes\",\"\")","v":"Yes"}]
["Number of Identical Machines","Op Number","Process Name:  List each separate production line or machine",null,null,null,null,"Operators","shifts / day","hours / shift","days / wk","Planned Cycle Time (sec)","parts / cycle","Daily Process Capacity","Scheduled breaks & lunch per shift (min)","Planned Tool change time per shift (min)","Planned Changeover time per shift (min)","Other planned downtime per shift (min)","Historical unscheduled downtime per shift (min)","Planned % up time","Planned % scrap at this process operation","% scrap at this process & Downstream Processes","Planned Daily Capacity","Machine loading allocated for other parts","Number","Hours per week allocated for this part","Planned Daily Capacity allocated to this part","Daily QTC","% of machine usage after allocation of other parts","Daily Quoted Tool Capacity","Planned Weekly Capacity Allocated to this Part","Annual Capacity","Weekly QTC","QTC","Constraint on QTC?","15% above Daily QTC","15% above Weekly QTC","15% above QTC","Constraint on 15% above QTC?","Net Good Parts / hour","Production time used for QTC (hrs/wk)","Production time used for 15% above QTC (hrs/wk)"]
[]
[]
[{"$f":"COUNTIF($B$21:$B$50,B21)","v":3},10,"1","Lathe",null,null,null,1,3,8,5,45,1,{"$f":"((I21*(J21-((O21+R21)/60))*3600)/L21)*M21","v":1760},30,10,10,10,10,{"$f":"IF(J21=\"\",\"\",1-((P21+Q21+S21)/((J21*60)-O21-R21)))","v":0.93181818181818188},0.01,0.01,{"$f":"IF(T21=\"\",\"\",N21*T21*(1-V21))","v":1623.6},0.55000000000000004,{"$f":"IF(A21=1,IF(X21>=0.5,1,0),0)","v":0},{"$f":"IF(J21=\"\",\"\",I21*K21*(1-X21)*(J21-((O21+R21)/60)))","v":49.499999999999993},{"$f":"IFERROR(W21*(1-X21),\"\")","v":730.61999999999989},{"$f":"(IFERROR(ROUNDUP(AA21/SUMIF($B$21:$B$50,B21,$AA$21:$AA$50)*$AD$21,),\"\"))","v":766},{"$f":"IFERROR(ROUNDUP(AB21/AA21,4),\"\")","v":1.0485},{"$f":"IF(K21=\"\",\"\",S12/S9)","v":4166.666666666667},{"$f":"IF(K21=\"\",\"\",AB21*K21)","v":3830},{"$f":"IF(J21=\"\",\"\",#REF!*#REF!)","v":{"$error":"#REF!"}},{"$f":"IF(K21=\"\",\"\",AB21*5)","v":3830},{"$f":"IF(J21=\"\",\"\",S$12)","v":1000000},{"$f":"IF(J21=\"\",\"\",IF(AC21<1,\"NO\",\"YES\"))","v":"YES"},{"$f":"IF(AH21=\"\",\"\",(AL21/S$10*(AB21/AD21)))","v":880.9},{"$f":"IF(K21=\"\",\"\",AJ21*5)","v":4404.5},{"$f":"IF(AH21=\"\",\"\",AH21*1.15)","v":1150000},{"$f":"IF(J21=\"\",\"\",IF(AB21>AJ21,\"NO\",\"YES\"))","v":"YES"},{"$f":"IF(J21=\"\",\"\",(3600/L21)*M21*(1-V21)*T21)","v":73.800000000000011},{"$f":"Z21*AC21","v":51.900749999999995},{"$f":"Z21*AC21*1.15","v":59.685862499999992}]
[3,10,"2","Lathe",null,null,null,1,3,8,5,45,1,1760,30,10,10,10,10,0.93181818181818188,0.01,0.01,1623.6,0,0,110,1623.6,1701,{"$f":"IFERROR(ROUNDUP(AB22/AA22,4),\"\")","v":1.0477000000000001},{"$f":"IF(K22=\"\",\"\",S12/S9)","v":4166.666666666667},{"$f":"IF(K22=\"\",\"\",AB22*K22)","v":8505},{"$f":"IF(J22=\"\",\"\",#REF!*#REF!)","v":{"$error":"#REF!"}},{"$f":"IF(K22=\"\",\"\",AB22*5)","v":8505},1000000,"YES",1956.15,9780.75,{"$f":"IF(AH22=\"\",\"\",AH22*1.15)","v":1150000},"YES",73.800000000000011,115.24700000000001,132.53405000000001]
[3,10,"3","Lathe",null,null,null,1,3,8,5,45,1,1760,30,10,10,10,10,0.93181818181818188,0.01,0.01,1623.6,0,0,110,1623.6,1701,1.0477000000000001,{"$f":"IF(K23=\"\",\"\",S12/S9)","v":4166.666666666667},8505,{"$f":"IF(J23=\"\",\"\",#REF!*#REF!)","v":{"$error":"#REF!"}},8505,1000000,"YES",1956.15,9780.75,{"$f":"IF(AH23=\"\",\"\",AH23*1.15)","v":1150000},"YES",73.800000000000011,115.24700000000001,132.53405000000001]
[2,20,"4","Saw",null,null,null,1,3,8,5,50,2,3168,30,10,10,10,10,0.93181818181818188,0.02,0.01,2922.48,0,0,110,2922.48,2084,0.71309999999999996,{"$f":"IF(K24=\"\",\"\",S12/S9)","v":4166.666666666667},10420,{"$f":"IF(J24=\"\",\"\",#REF!*#REF!)","v":{"$error":"#REF!"}},10420,1000000,"NO",2396.6,11983,1150000,"YES",132.84,78.440999999999988,90.207149999999984]
[2,20,"5","Saw",null,null,null,1,3,8,5,50,2,3168,30,10,10,10,10,0.93181818181818188,0.02,0.01,2922.48,0,0,110,2922.48,2084,0.71309999999999996,{"$f":"IF(K25=\"\",\"\",S12/S9)","v":4166.666666666667},10420,{"$f":"IF(J25=\"\",\"\",#REF!*#REF!)","v":{"$error":"#REF!"}},10420,1000000,"NO",2396.6,11983,1150000,"YES",132.84,78.440999999999988,90.207149999999984]
[1,30,"6","Mill",null,null,null,1,3,8,5,30,12,31680,30,10,10,10,10,0.93181818181818188,0.05,0.02,28929.600000000002,0.55000000000000004,1,49.499999999999993,13018.32,4167,0.3201,{"$f":"IF(K26=\"\",\"\",S12/S9)","v":4166.666666666667},20835,{"$f":"IF(J26=\"\",\"\",#REF!*#REF!)","v":{"$error":"#REF!"}},20835,1000000,"NO",4792.0499999999993,23960.249999999996,1150000,"YES",1314.9818181818182,15.844949999999997,18.221692499999996]
[1,40,"7",null,null,null,null,null,null,null,null,null,null,{"$error":"#DIV/0!"},null,null,null,null,null,"",null,null,"",null,{"$f":"IF(X27>=0.5,1,0)","v":0},"","",null,"",{"$f":"IF(K27=\"\",\"\",S12/S9)","v":""},"",{"$f":"IF(J27=\"\",\"\",#REF!*#REF!)","v":""},"","","",{"$f":"IF(AH27=\"\",\"\",(AL27/S$10/A27))","v":""},"","",{"$f":"IF(J27=\"\",\"\",IF(AB27>AJ27,\"NO\",\"YES\"))","v":""},""]
[1,50,"8",null,null,null,null,null,null,null,null,null,null,{"$error":"#DIV/0!"},null,null,null,null,null,"",null,null,"",null,0,"","",null,"",{"$f":"IF(K28=\"\",\"\",S12/S9)","v":""},"",{"$f":"IF(J28=\"\",\"\",#REF!*#REF!)","v":""},"","","","","","","",""]
[1,60,"9",null,null,null,null,null,null,null,null,null,null,null,null,null,null,null,null,"",null,null,"",null,0,"","",{"$f":"IF(E29=\"\",\"\",(AD29/N$9/#REF!))","v":""},"",{"$f":"IF(K29=\"\",\"\",S12/S9)","v":""},"",{"$f":"IF(J29=\"\",\"\",#REF!*#REF!)","v":""},"","","","","","","",""]
[1,70,"10",null,null,null,null,null,null,null,null,null,null,{"$error":"#DIV/0!"},null,null,null,null,null,"",null,null,"",null,0,"","",{"$f":"IF(E30=\"\",\"\",(AD30/N$9/#REF!))","v":""},"",{"$f":"IF(K30=\"\",\"\",S12/S9)","v":""},"",{"$f":"IF(J30=\"\",\"\",#REF!*#REF!)","v":""},"","","","","","","",""]
[1,80,"11",null,null,null,null,null,null,null,null,null,null,{"$error":"#DIV/0!"},null,null,null,null,null,"",null,null,"",null,0,"","",{"$f":"IF(E31=\"\",\"\",(AD31/N$9/#REF!))","v":""},"",{"$f":"IF(K31=\"\",\"\",S12/S9)","v":""},"",{"$f":"IF(J31=\"\",\"\",#REF!*#REF!)","v":""},"","","","","","","",""]
[1,90,"12",null,null,null,null,null,null,null,null,null,null,{"$error":"#DIV/0!"},null,null,null,null,null,"",null,null,"",null,0,"","",{"$f":"IF(E32=\"\",\"\",(AD32/N$9/#REF!))","v":""},"",{"$f":"IF(K32=\"\",\"\",S12/S9)","v":""},"",{"$f":"IF(J32=\"\",\"\",#REF!*#REF!)","v":""},"","","","","","","",""]
[1,100,"13",null,null,null,null,null,null,null,null,null,null,{"$error":"#DIV/0!"},null,null,null,null,null,"",null,null,"",null,0,"","",{"$f":"IF(E33=\"\",\"\",(AD33/N$9/#REF!))","v":""},"",{"$f":"IF(K33=\"\",\"\",S12/S9)","v":""},"",{"$f":"IF(J33=\"\",\"\",#REF!*#REF!)","v":""},"","","","","","","",""]
[1,110,"14",null,null,null,null,null,null,null,null,null,null,{"$error":"#DIV/0!"},null,null,null,null,null,"",null,null,"",null,0,"","",{"$f":"IF(E34=\"\",\"\",(AD34/N$9/#REF!))","v":""},"",{"$f":"IF(K34=\"\",\"\",S12/S9)","v":""},"",{"$f":"IF(J34=\"\",\"\",#REF!*#REF!)","v":""},"","","","","","","",""]
[1,120,"15",null,null,null,null,null,null,null,null,null,null,{"$error":"#DIV/0!"},null,null,null,null,null,"",null,null,"",null,0,"","",{"$f":"IF(E35=\"\",\"\",(AD35/N$9/#REF!))","v":""},"",{"$f":"IF(K35=\"\",\"\",S12/S9)","v":""},"",{"$f":"IF(J35=\"\",\"\",#REF!*#REF!)","v":""},"","","","","","","",""]
[1,130,"16",null,null,null,null,null,null,null,null,null,null,{"$error":"#DIV/0!"},null,null,null,null,null,"",null,null,"",null,0,"","",{"$f":"IF(E36=\"\",\"\",(AD36/N$9/#REF!))","v":""},"",{"$f":"IF(K36=\"\",\"\",S12/S9)","v":""},"",{"$f":"IF(J36=\"\",\"\",#REF!*#REF!)","v":""},"","","","","","","",""]
[1,140,"17",null,null,null,null,null,null,null,null,null,null,{"$error":"#DIV/0!"},null,null,null,null,null,"",null,null,"",null,0,"","",{"$f":"IF(E37=\"\",\"\",(AD37/N$9/#REF!))","v":""},"",{"$f":"IF(K37=\"\",\"\",S12/S9)","v":""},"",{"$f":"IF(J37=\"\",\"\",#REF!*#REF!)","v":""},"","","","","","","",""]
[1,150,"18",null,null,null,null,null,null,null,null,null,null,{"$error":"#DIV/0!"},null,null,null,null,null,"",null,null,"",null,0,"","",{"$f":"IF(E38=\"\",\"\",(AD38/N$9/#REF!))","v":""},"",{"$f":"IF(K38=\"\",\"\",S12/S9)","v":""},"",{"$f":"IF(J38=\"\",\"\",#REF!*#REF!)","v":""},"","","","","","","",""]
[1,160,"19",null,null,null,null,null,null,null,null,null,null,{"$error":"#DIV/0!"},null,null,null,null,null,"",null,null,"",null,0,"","",{"$f":"IF(E39=\"\",\"\",(AD39/N$9/#REF!))","v":""},"",{"$f":"IF(K39=\"\",\"\",S12/S9)","v":""},"",{"$f":"IF(J39=\"\",\"\",#REF!*#REF!)","v":""},"","","","","","","",""]
[1,170,"20",null,null,null,null,null,null,null,null,null,null,{"$error":"#DIV/0!"},null,null,null,null,null,"",null,null,"",null,0,"","",{"$f":"IF(E40=\"\",\"\",(AD40/N$9/#REF!))","v":""},"",{"$f":"IF(K40=\"\",\"\",S12/S9)","v":""},"",{"$f":"IF(J40=\"\",\"\",#REF!*#REF!)","v":""},"","","","","","","",""]
[1,180,"21",null,null,null,null,null,null,null,null,null,null,{"$error":"#DIV/0!"},null,null,null,null,null,"",null,null,"",null,0,"","",{"$f":"IF(E41=\"\",\"\",(AD41/N$9/#REF!))","v":""},"",{"$f":"IF(K41=\"\",\"\",S12/S9)","v":""},"",{"$f":"IF(J41=\"\",\"\",#REF!*#REF!)","v":""},"","","","","","","",""]
[1,190,"22",null,null,null,null,null,null,null,null,null,null,{"$error":"#DIV/0!"},null,null,null,null,null,"",null,null,"",null,0,"","",{"$f":"IF(E42=\"\",\"\",(AD42/N$9/#REF!))","v":""},"",{"$f":"IF(K42=\"\",\"\",S12/S9)","v":""},"",{"$f":"IF(J42=\"\",\"\",#REF!*#REF!)","v":""},"","","","","","","",""]
[1,200,"23",null,null,null,null,null,null,null,null,null,null,{"$error":"#DIV/0!"},null,null,null,null,null,"",null,null,"",null,0,"","",{"$f":"IF(E43=\"\",\"\",(AD43/N$9/#REF!))","v":""},"",{"$f":"IF(K43=\"\",\"\",S12/S9)","v":""},"",{"$f":"IF(J43=\"\",\"\",#REF!*#REF!)","v":""},"","","","","","","",""]
[1,210,"24",null,null,null,null,null,null,null,null,null,null,{"$error":"#DIV/0!"},null,null,null,null,null,"",null,null,"",null,0,"","",{"$f":"IF(E44=\"\",\"\",(AD44/N$9/#REF!))","v":""},"",{"$f":"IF(K44=\"\",\"\",S12/S9)","v":""},"",{"$f":"IF(J44=\"\",\"\",#REF!*#REF!)","v":""},"","","","","","","",""]
[1,220,"25",null,null,null,null,null,null,null,null,null,null,{"$error":"#DIV/0!"},null,null,null,null,null,"",null,null,"",null,0,"","",{"$f":"IF(E45=\"\",\"\",(AD45/N$9/#REF!))","v":""},"",{"$f":"IF(K45=\"\",\"\",S12/S9)","v":""},"",{"$f":"IF(J45=\"\",\"\",#REF!*#REF!)","v":""},"","","","","","","",""]
[1,230,"26",null,null,null,null,null,null,null,null,null,null,{"$error":"#DIV/0!"},null,null,null,null,null,"",null,null,"",null,0,"","",{"$f":"IF(E46=\"\",\"\",(AD46/N$9/#REF!))","v":""},"",{"$f":"IF(K46=\"\",\"\",S12/S9)","v":""},"",{"$f":"IF(J46=\"\",\"\",#REF!*#REF!)","v":""},"","","","","","","",""]
[1,240,"27",null,null,null,null,null,null,null,null,null,null,{"$error":"#DIV/0!"},null,null,null,null,null,"",null,null,"",null,0,"","",{"$f":"IF(E47=\"\",\"\",(AD47/N$9/#REF!))","v":""},"",{"$f":"IF(K47=\"\",\"\",S12/S9)","v":""},"",{"$f":"IF(J47=\"\",\"\",#REF!*#REF!)","v":""},"","","","","","","",""]
[1,250,"28",null,null,null,null,null,null,null,null,null,null,{"$error":"#DIV/0!"},null,null,null,null,null,"",null,null,"",null,0,"","",{"$f":"IF(E48=\"\",\"\",(AD48/N$9/#REF!))","v":""},"",{"$f":"IF(K48=\"\",\"\",S12/S9)","v":""},"",{"$f":"IF(J48=\"\",\"\",#REF!*#REF!)","v":""},"","","","","","","",""]
[1,260,"29",null,null,null,null,null,null,null,null,null,null,{"$error":"#DIV/0!"},null,null,null,null,null,"",null,null,"",null,0,"","",{"$f":"IF(E49=\"\",\"\",(AD49/N$9/#REF!))","v":""},"",{"$f":"IF(K49=\"\",\"\",S12/S9)","v":""},"",{"$f":"IF(J49=\"\",\"\",#REF!*#REF!)","v":""},"","","","","","","",""]
[1,270,"30",null,null,null,null,null,null,null,null,null,null,{"$error":"#DIV/0!"},null,null,null,null,null,"",null,null,"",null,0,"","",{"$f":"IF(E50=\"\",\"\",(AD50/N$9/#REF!))","v":""},"",{"$f":"IF(K50=\"\",\"\",S12/S9)","v":""},"",{"$f":"IF(J50=\"\",\"\",#REF!*#REF!)","v":""},"","","","","","","",""]
[]
[]
[null,"Color Key",null,null,null,null,null,null,null,"**Note:  A \"pink\" cell does not necessarily indicate a failure to the R@R, it is to alert the AQE/SQE to investigate further.",null,null,null,null,null,null,null,null,null,null,null,null,null,null,null,"Comments:"]
[null,"Vanilla","Filled out by supplier",null,null,null,null,null,null,"            A \"red\" cell must be addressed before a R@R can be closed."]
[null,"White ","Calculated automatically"]
[null,"Light Blue","This column determines if there is a constraint on the QTC",null,null,null,null,null,null,"Key items to consider:  ",null,"Verify that the planned %scrap is acceptable based on the supplier's experience and industry"]
[null,"Orange","Shows the user that this row is part of a duplicate machine",null,null,null,null,null,null,null,null,null,"standards for similar products."]
[null,"Green","Means there is no constraint on the QTC (good)"]
[null,"Red","Means there is a constraint on the QTC (bad)",null,null,null,null,null,null,null,null,"Verify that the capacity the supplier is allocating meets the requirements for both daily QTC & 15% > QTC"]
[null,"Purple","If production time used for QTC is above 100 and less than 169 hours and/or requirements can't be met for 15% QTC (bad)"]
[null,null,null,null,null,null,null,null,null,null,null,"Verify that the supplier's production time used to meet QTC requirements are not expected to exceed"]
[null,null,null,null,null,null,null,null,null,null,null,null,"a 100 hour workweek"]
[null,"Terminology Key\nQTC = LCR            MSV = MCR"]
[null,null,null,null,null,null,null,null,null,null,null,"Identify any other potential issues with the capacity plan, such as ensuring all process steps are"]
[null,null,null,null,null,null,null,null,null,null,null,null,"identified, downtime isn't excessive, etc."]
[null,"The closer \"% of machine usage after allocation of other parts\" column is to 100% the more efficent the machines are"]
[null,null,null,null,null,null,null,null,null,null,null,"Identify potential opportunities for improvement."]

{"sheet":"Process 1 - Actual Run Data","index":5,"n_rows":44,"n_cols":26,"rows_kept":44,"cut":false,"hidden":false,"merged":[[15,0,15,3],[43,11,43,21],[44,11,51,25],[6,2,6,6],[6,23,6,25],[8,21,10,25],[9,9,9,15],[10,9,10,15],[12,7,12,16],[9,1,11,1],[5,2,5,6],[5,23,5,25],[0,0,0,25],[2,20,2,22],[3,22,3,24],[4,2,4,6],[4,23,4,25]]}
["Actual Run Data"]
[]
[]
[]
[null,"Supplier Name:  ",{"$f":"IF('Capacity Plan'!$F$3=\"\",\"\",'Capacity Plan'!$F$3)","v":""},null,null,null,null,null,null,null,null,null,null,null,null,null,null,null,null,null,null,null,"Completed By:  "]
[null,"Process Name:  ",{"$f":"IF('Capacity Plan'!$D$21=\"\",\"\",'Capacity Plan'!$D$21)","v":""}]
[null,"Part Number:  ",{"$f":"IF('Capacity Plan'!$Q$3=\"\",\"\",'Capacity Plan'!$Q$3)","v":""}]
[]
[null,null,null,null,null,null,null,null,null,null,null,null,null,null,null,null,null,"Target","Actual","Difference",null,"PLEASE PRINT HARD COPY FOR USE DURING RUN@RATE.  COMPLETE BY FILLING IN THE HIGHLIGHTED COLUMNS ONLY.  USE MILITARY (24:00 HR) TIME FORMAT."]
[null,"Run @ Rate Summary Data",null,null,null,null,null,null,null,"Time/part",null,null,null,null,null,null,null,{"$f":"IFERROR(IF(F15=\"\",\"\",'Capacity Plan'!L21/'Capacity Plan'!M21),\"\")","v":""},{"$f":"IFERROR(IF(F15=\"\",\"\",3600/S11),\"\")","v":""},{"$f":"IFERROR(IF(F15=\"\",\"\",R10-S10),\"\")","v":""}]
[null,null,null,null,null,null,null,null,null,"Pcs/Hour",null,null,null,null,null,null,null,{"$f":"IFERROR(IF(F15=\"\",\"\",60*60/R10),\"\")","v":""},{"$f":"IFERROR(IF(F15=\"\",\"\",(S40*60/R41)),\"\")","v":""},{"$f":"IFERROR(IF(F15=\"\",\"\",S11-R11),\"\")","v":""}]
[]
[null,"Capacity Plan",null,null,null,"Start Time (hh:mm)","Stop Time (hh:mm)","Downtime Description",null,null,null,null,null,null,null,null,null,"Total Time","Total # of Pcs. Run","Pieces/ Hour","Good Pieces","Good Pcs/Hour","Rework Total","Scrap Total","% Scrap","Net Pcs/Hr (Good + Rework)"]
[null,null,null,null,null,null,null,"B",null,"T",null,"C",null,"O",null,"U",null,null,null,{"$f":"IFERROR(IF(S14=\"\",\"\",((S14/R14))*60),\"\")","v":""},null,{"$f":"IFERROR(IF(S14=\"\",\"\",((U14/S14))*T14),\"\")","v":""},null,null,{"$f":"IFERROR(IF(S14=\"\",\"\",X14/S14),\"\")","v":""},{"$f":"IFERROR(IF(S14=\"\",\"\",(1-(Y14/1000000))*T14),\"\")","v":""}]
[null,null,null,null,null,null,null,null,{"$f":"IF(H15=\"x\",(G15-F15)*1440,0)","v":0},null,{"$f":"IF(J15=\"x\",(G15-F15)*1440,0)","v":0},null,{"$f":"IF(L15=\"x\",(G15-F15)*1440,0)","v":0},null,{"$f":"IF(N15=\"x\",(G15-F15)*1440,0)","v":0},null,{"$f":"IF(P15=\"x\",(G15-F15)*1440,0)","v":0},{"$f":"IF(ISBLANK(F15),\"\",IF(G15>=F15,(G15-F15)*1440,(1+G15-F15)*1440))","v":""},null,{"$f":"IFERROR(IF(S15=\"\",\"\",((S15/R15))*60),\"\")","v":""},{"$f":"IF(S15=\"\",\"\",S15-(W15+X15))","v":""},{"$f":"IFERROR(IF(S15=\"\",\"\",((U15/S15))*T15),\"\")","v":""},null,null,{"$f":"IFERROR(IF(S15=\"\",\"\",X15/S15),\"\")","v":""},{"$f":"IFERROR(IF(S15=\"\",\"\",(1-(Y15/1000000))*T15),\"\")","v":""}]
["Description of Downtime:",null,null,null,null,null,null,null,0,null,0,null,0,null,0,null,{"$f":"IF(P16=\"x\",(G16-F16)*1440,0)","v":0},{"$f":"IF(ISBLANK(F16),\"\",IF(G16>=F16,(G16-F16)*1440,(1+G16-F16)*1440))","v":""},null,{"$f":"IFERROR(IF(S16=\"\",\"\",((S16/R16))*60),\"\")","v":""},{"$f":"IF(S16=\"\",\"\",S16-(W16+X16))","v":""},{"$f":"IFERROR(IF(S16=\"\",\"\",((U16/S16))*T16),\"\")","v":""},null,null,{"$f":"IFERROR(IF(S16=\"\",\"\",X16/S16),\"\")","v":""},{"$f":"IFERROR(IF(S16=\"\",\"\",(1-(Y16/1000000))*T16),\"\")","v":""}]
[null,null,null,null,null,null,null,null,0,null,0,null,0,null,0,null,0,"",null,"","","",null,null,"",""]
[null,null,null,"Downtime",null,null,null,null,{"$f":"IF(H18=\"x\",(G18-F18)*1440,0)","v":0},null,{"$f":"IF(J18=\"x\",(G18-F18)*1440,0)","v":0},null,{"$f":"IF(L18=\"x\",(G18-F18)*1440,0)","v":0},null,{"$f":"IF(N18=\"x\",(G18-F18)*1440,0)","v":0},null,0,"",null,"","","",null,null,"",""]
["B","breaks/lunch",null,{"$f":"I39","v":0},null,null,null,null,{"$f":"IF(H19=\"x\",(G19-F19)*1440,0)","v":0},null,{"$f":"IF(J19=\"x\",(G19-F19)*1440,0)","v":0},null,{"$f":"IF(L19=\"x\",(G19-F19)*1440,0)","v":0},null,{"$f":"IF(N19=\"x\",(G19-F19)*1440,0)","v":0},null,0,"",null,"","","",null,null,"",""]
["T","tool change",null,{"$f":"K39","v":0},null,null,null,null,0,null,0,null,0,null,0,null,0,"",null,"","","",null,null,"",""]
["C","changeover",null,{"$f":"M39","v":0},null,null,null,null,0,null,0,null,0,null,0,null,0,"",null,"","","",null,null,"",""]
["O","other planned dntm",null,{"$f":"O39","v":0},null,null,null,null,0,null,0,null,0,null,0,null,0,"",null,"","","",null,null,"",""]
["U","unplanned dntm",null,{"$f":"Q39","v":0},null,null,null,null,0,null,0,null,0,null,0,null,0,"",null,"","","",null,null,"",""]
[null,null,null,null,null,null,null,null,{"$f":"IF(H24=\"x\",(G24-F24)*1440,0)","v":0},null,{"$f":"IF(J24=\"x\",(G24-F24)*1440,0)","v":0},null,{"$f":"IF(L24=\"x\",(G24-F24)*1440,0)","v":0},null,{"$f":"IF(N24=\"x\",(G24-F24)*1440,0)","v":0},null,0,"",null,"","","",null,null,"",""]
[null,null,null,null,null,null,null,null,0,null,0,null,0,null,0,null,0,"",null,"","","",null,null,"",""]
[null,null,null,null,null,null,null,null,0,null,0,null,0,null,0,null,0,"",null,"","","",null,null,"",""]
[null,null,null,null,null,null,null,null,0,null,0,null,0,null,0,null,0,"",null,"","","",null,null,"",""]
[null,null,null,null,null,null,null,null,0,null,0,null,0,null,0,null,0,"",null,"","","",null,null,"",""]
[null,null,null,null,null,null,null,null,0,null,0,null,0,null,0,null,0,"",null,"","","",null,null,"",""]
[null,null,null,null,null,null,null,null,0,null,0,null,0,null,0,null,0,"",null,"","","",null,null,"",""]
[null,null,null,null,null,null,null,null,0,null,0,null,0,null,0,null,0,"",null,"","","",null,null,"",""]
[null,null,null,null,null,null,null,null,0,null,0,null,0,null,0,null,0,"",null,"","","",null,null,"",""]
[null,null,null,null,null,null,null,null,0,null,0,null,0,null,0,null,0,"",null,"","","",null,null,"",""]
[null,null,null,null,null,null,null,null,0,null,0,null,0,null,0,null,0,"",null,"","","",null,null,"",""]
[null,null,null,null,null,null,null,null,0,null,0,null,0,null,0,null,0,"",null,"","","",null,null,"",""]
[null,null,null,null,null,null,null,null,0,null,0,null,0,null,0,null,0,"",null,"","","",null,null,"",""]
[null,null,null,null,null,null,null,null,0,null,0,null,0,null,0,null,0,"",null,"","","",null,null,"",""]
[null,null,null,null,null,null,null,null,0,null,0,null,0,null,0,null,0,"",null,"","","",null,null,"",""]
[null,null,null,null,null,null,null,null,{"$f":"SUM(I15:I38)","v":0},null,{"$f":"SUM(K15:K38)","v":0},null,{"$f":"SUM(M15:M38)","v":0},null,{"$f":"SUM(O15:O38)","v":0},null,{"$f":"SUM(Q15:Q38)","v":0},{"$f":"(G39-F39)*1440","v":0},null,{"$f":"((S39/R39))*60/1440","v":{"$error":"#DIV/0!"}},{"$f":"S39-(W39+X39)","v":0},{"$f":"((U39/S39))*T39","v":{"$error":"#DIV/0!"}},null,null,{"$f":"(X39/S39)*1000000","v":{"$error":"#DIV/0!"}},{"$f":"(1-(Y39/1000000))*T39","v":{"$error":"#DIV/0!"}}]
[null,null,null,null,null,null,null,null,null,null,null,null,null,null,null,null,null,null,{"$f":"SUM(S15:S39)","v":0},null,{"$f":"SUM(U15:U39)","v":0},null,{"$f":"SUM(W15:W39)","v":0}]
[null,null,null,null,null,null,null,null,null,null,null,null,null,null,null,"# of minutes uptime:  ",null,{"$f":"R42-(D20+D21+D23)","v":0},null,"% uptime:  ",{"$f":"IFERROR(R41/R42,\"\")","v":""},null,"FTQ:  ",{"$f":"IFERROR(IF(F15=\"\",\"\",((S40-U40)/S40)*1000000),\"\")","v":""}]
[null,null,null,null,null,null,null,null,null,null,null,null,null,null,null,"Total Run Time:  ",null,{"$f":"SUM(R15:R38)-(D19+D22)","v":0},null,null,null,null,"% Scrap:  ",{"$f":"IFERROR(IF(F15=\"\",\"\",((S40-(U40+W40))/S40)),\"\")","v":""}]
[]
[null,null,null,null,null,null,null,null,null,null,null,"Comments:  Document scrap/rework and downtime here"]

{"sheet":"Process 2 - Actual Run Data","index":6,"n_rows":44,"n_cols":26,"rows_kept":44,"cut":false,"hidden":false,"merged":[[5,2,5,6],[5,23,5,25],[0,0,0,25],[2,20,2,22],[3,22,3,24],[4,2,4,6],[4,23,4,25],[15,0,15,3],[43,11,43,21],[44,11,51,25],[6,2,6,6],[6,23,6,25],[8,21,10,25],[9,9,9,15],[10,9,10,15],[12,7,12,16],[9,1,11,1]]}
["Actual Run Data"]
[]
[]
[]
[null,"Supplier Name:  ",{"$f":"IF('Capacity Plan'!$F$3=\"\",\"\",'Capacity Plan'!$F$3)","v":""},null,null,null,null,null,null,null,null,null,null,null,null,null,null,null,null,null,null,null,"Completed By:  "]
[null,"Process Name:  ",{"$f":"IF('Capacity Plan'!$D$22=\"\",\"\",'Capacity Plan'!$D$22)","v":""}]
[null,"Part Number:  ",{"$f":"IF('Capacity Plan'!$Q$3=\"\",\"\",'Capacity Plan'!$Q$3)","v":""}]
[]
[null,null,null,null,null,null,null,null,null,null,null,null,null,null,null,null,null,"Target","Actual","Difference",null,"PLEASE PRINT HARD COPY FOR USE DURING RUN@RATE.  COMPLETE BY FILLING IN THE HIGHLIGHTED COLUMNS ONLY.  USE MILITARY (24:00 HR) TIME FORMAT."]
[null,"Run @ Rate Summary Data",null,null,null,null,null,null,null,"Time/part",null,null,null,null,null,null,null,{"$f":"IFERROR(IF(F15=\"\",\"\",'Capacity Plan'!L22/'Capacity Plan'!M22),\"\")","v":""},{"$f":"IFERROR(IF(F15=\"\",\"\",3600/S11),\"\")","v":""},{"$f":"IFERROR(IF(F15=\"\",\"\",R10-S10),\"\")","v":""}]
[null,null,null,null,null,null,null,null,null,"Pcs/Hour",null,null,null,null,null,null,null,{"$f":"IFERROR(IF(F15=\"\",\"\",60*60/R10),\"\")","v":""},{"$f":"IFERROR(IF(F15=\"\",\"\",(S40*60/R41)),\"\")","v":""},{"$f":"IFERROR(IF(F15=\"\",\"\",S11-R11),\"\")","v":""}]
[]
[null,"Capacity Plan",null,null,null,"Start Time (hh:mm)","Stop Time (hh:mm)","Downtime Description",null,null,null,null,null,null,null,null,null,"Total Time","Total # of Pcs. Run","Pieces/ Hour","Good Pieces","Good Pcs/Hour","Rework Total","Scrap Total","% Scrap","Net Pcs/Hr (Good + Rework)"]
[null,null,null,null,null,null,null,"B",null,"T",null,"C",null,"O",null,"U",null,null,null,{"$f":"IFERROR(IF(S14=\"\",\"\",((S14/R14))*60),\"\")","v":""},null,{"$f":"IFERROR(IF(S14=\"\",\"\",((U14/S14))*T14),\"\")","v":""},null,null,{"$f":"IFERROR(IF(S14=\"\",\"\",X14/S14),\"\")","v":""},{"$f":"IFERROR(IF(S14=\"\",\"\",(1-(Y14/1000000))*T14),\"\")","v":""}]
[null,null,null,null,null,null,null,null,{"$f":"IF(H15=\"x\",(G15-F15)*1440,0)","v":0},null,{"$f":"IF(J15=\"x\",(G15-F15)*1440,0)","v":0},null,{"$f":"IF(L15=\"x\",(G15-F15)*1440,0)","v":0},null,{"$f":"IF(N15=\"x\",(G15-F15)*1440,0)","v":0},null,{"$f":"IF(P15=\"x\",(G15-F15)*1440,0)","v":0},{"$f":"IF(ISBLANK(F15),\"\",IF(G15>=F15,(G15-F15)*1440,(1+G15-F15)*1440))","v":""},null,{"$f":"IFERROR(IF(S15=\"\",\"\",((S15/R15))*60),\"\")","v":""},{"$f":"IF(S15=\"\",\"\",S15-(W15+X15))","v":""},{"$f":"IFERROR(IF(S15=\"\",\"\",((U15/S15))*T15),\"\")","v":""},null,null,{"$f":"IFERROR(IF(S15=\"\",\"\",X15/S15),\"\")","v":""},{"$f":"IFERROR(IF(S15=\"\",\"\",(1-(Y15/1000000))*T15),\"\")","v":""}]
["Description of Downtime:",null,null,null,null,null,null,null,0,null,0,null,0,null,0,null,{"$f":"IF(P16=\"x\",(G16-F16)*1440,0)","v":0},{"$f":"IF(ISBLANK(F16),\"\",IF(G16>=F16,(G16-F16)*1440,(1+G16-F16)*1440))","v":""},null,{"$f":"IFERROR(IF(S16=\"\",\"\",((S16/R16))*60),\"\")","v":""},{"$f":"IF(S16=\"\",\"\",S16-(W16+X16))","v":""},{"$f":"IFERROR(IF(S16=\"\",\"\",((U16/S16))*T16),\"\")","v":""},null,null,{"$f":"IFERROR(IF(S16=\"\",\"\",X16/S16),\"\")","v":""},{"$f":"IFERROR(IF(S16=\"\",\"\",(1-(Y16/1000000))*T16),\"\")","v":""}]
[null,null,null,null,null,null,null,null,0,null,0,null,0,null,0,null,0,"",null,"","","",null,null,"",""]
[null,null,null,"Downtime",null,null,null,null,{"$f":"IF(H18=\"x\",(G18-F18)*1440,0)","v":0},null,{"$f":"IF(J18=\"x\",(G18-F18)*1440,0)","v":0},null,{"$f":"IF(L18=\"x\",(G18-F18)*1440,0)","v":0},null,{"$f":"IF(N18=\"x\",(G18-F18)*1440,0)","v":0},null,0,"",null,"","","",null,null,"",""]
["B","breaks/lunch",null,{"$f":"I39","v":0},null,null,null,null,{"$f":"IF(H19=\"x\",(G19-F19)*1440,0)","v":0},null,{"$f":"IF(J19=\"x\",(G19-F19)*1440,0)","v":0},null,{"$f":"IF(L19=\"x\",(G19-F19)*1440,0)","v":0},null,{"$f":"IF(N19=\"x\",(G19-F19)*1440,0)","v":0},null,0,"",null,"","","",null,null,"",""]
["T","tool change",null,{"$f":"K39","v":0},null,null,null,null,0,null,0,null,0,null,0,null,0,"",null,"","","",null,null,"",""]
["C","changeover",null,{"$f":"M39","v":0},null,null,null,null,0,null,0,null,0,null,0,null,0,"",null,"","","",null,null,"",""]
["O","other planned dntm",null,{"$f":"O39","v":0},null,null,null,null,0,null,0,null,0,null,0,null,0,"",null,"","","",null,null,"",""]
["U","unplanned dntm",null,{"$f":"Q39","v":0},null,null,null,null,0,null,0,null,0,null,0,null,0,"",null,"","","",null,null,"",""]
[null,null,null,null,null,null,null,null,{"$f":"IF(H24=\"x\",(G24-F24)*1440,0)","v":0},null,{"$f":"IF(J24=\"x\",(G24-F24)*1440,0)","v":0},null,{"$f":"IF(L24=\"x\",(G24-F24)*1440,0)","v":0},null,{"$f":"IF(N24=\"x\",(G24-F24)*1440,0)","v":0},null,0,"",null,"","","",null,null,"",""]
[null,null,null,null,null,null,null,null,0,null,0,null,0,null,0,null,0,"",null,"","","",null,null,"",""]
[null,null,null,null,null,null,null,null,0,null,0,null,0,null,0,null,0,"",null,"","","",null,null,"",""]
[null,null,null,null,null,null,null,null,0,null,0,null,0,null,0,null,0,"",null,"","","",null,null,"",""]
[null,null,null,null,null,null,null,null,0,null,0,null,0,null,0,null,0,"",null,"","","",null,null,"",""]
[null,null,null,null,null,null,null,null,0,null,0,null,0,null,0,null,0,"",null,"","","",null,null,"",""]
[null,null,null,null,null,null,null,null,0,null,0,null,0,null,0,null,0,"",null,"","","",null,null,"",""]
[null,null,null,null,null,null,null,null,0,null,0,null,0,null,0,null,0,"",null,"","","",null,null,"",""]
[null,null,null,null,null,null,null,null,0,null,0,null,0,null,0,null,0,"",null,"","","",null,null,"",""]
[null,null,null,null,null,null,null,null,0,null,0,null,0,null,0,null,0,"",null,"","","",null,null,"",""]
[null,null,null,null,null,null,null,null,0,null,0,null,0,null,0,null,0,"",null,"","","",null,null,"",""]
[null,null,null,null,null,null,null,null,0,null,0,null,0,null,0,null,0,"",null,"","","",null,null,"",""]
[null,null,null,null,null,null,null,null,0,null,0,null,0,null,0,null,0,"",null,"","","",null,null,"",""]
[null,null,null,null,null,null,null,null,0,null,0,null,0,null,0,null,0,"",null,"","","",null,null,"",""]
[null,null,null,null,null,null,null,null,0,null,0,null,0,null,0,null,0,"",null,"","","",null,null,"",""]
[null,null,null,null,null,null,null,null,{"$f":"SUM(I15:I38)","v":0},null,{"$f":"SUM(K15:K38)","v":0},null,{"$f":"SUM(M15:M38)","v":0},null,{"$f":"SUM(O15:O38)","v":0},null,{"$f":"SUM(Q15:Q38)","v":0},{"$f":"(G39-F39)*1440","v":0},null,{"$f":"((S39/R39))*60/1440","v":{"$error":"#DIV/0!"}},{"$f":"S39-(W39+X39)","v":0},{"$f":"((U39/S39))*T39","v":{"$error":"#DIV/0!"}},null,null,{"$f":"(X39/S39)*1000000","v":{"$error":"#DIV/0!"}},{"$f":"(1-(Y39/1000000))*T39","v":{"$error":"#DIV/0!"}}]
[null,{"$f":"60*60","v":3600},null,null,null,null,null,null,null,null,null,null,null,null,null,null,null,null,{"$f":"SUM(S15:S39)","v":0},null,{"$f":"SUM(U15:U39)","v":0},null,{"$f":"SUM(W15:W39)","v":0}]
[null,null,null,null,null,null,null,null,null,null,null,null,null,null,null,"# of minutes uptime:  ",null,{"$f":"R42-(D20+D21+D23)","v":0},null,"% uptime:  ",{"$f":"IFERROR(R41/R42,\"\")","v":""},null,"FTQ:  ",{"$f":"IFERROR(IF(F15=\"\",\"\",((S40-U40)/S40)*1000000),\"\")","v":""}]
[null,null,null,null,null,null,null,null,null,null,null,null,null,null,null,"Total Run Time:  ",null,{"$f":"SUM(R15:R38)-(D19+D22)","v":0},null,null,null,null,"% Scrap:  ",{"$f":"IFERROR(IF(F15=\"\",\"\",((S40-(U40+W40))/S40)),\"\")","v":""}]
[]
[null,null,null,null,null,null,null,null,null,null,null,"Comments:  Document scrap/rework and downtime here"]

{"sheet":"Process 3 - Actual Run Data","index":7,"n_rows":44,"n_cols":26,"rows_kept":44,"cut":false,"hidden":false,"merged":[[5,2,5,6],[5,23,5,25],[0,0,0,25],[2,20,2,22],[3,22,3,24],[4,2,4,6],[4,23,4,25],[15,0,15,3],[43,11,43,21],[44,11,51,25],[6,2,6,6],[6,23,6,25],[8,21,10,25],[9,9,9,15],[10,9,10,15],[12,7,12,16],[9,1,11,1]]}
["Actual Run Data"]
[]
[]
[]
[null,"Supplier Name:  ",{"$f":"IF('Capacity Plan'!$F$3=\"\",\"\",'Capacity Plan'!$F$3)","v":""},null,null,null,null,null,null,null,null,null,null,null,null,null,null,null,null,null,null,null,"Completed By:  "]
[null,"Process Name:  ",{"$f":"IF('Capacity Plan'!$D$23=\"\",\"\",'Capacity Plan'!$D$23)","v":""}]
[null,"Part Number:  ",{"$f":"IF('Capacity Plan'!$Q$3=\"\",\"\",'Capacity Plan'!$Q$3)","v":""}]
[]
[null,null,null,null,null,null,null,null,null,null,null,null,null,null,null,null,null,"Target","Actual","Difference",null,"PLEASE PRINT HARD COPY FOR USE DURING RUN@RATE.  COMPLETE BY FILLING IN THE HIGHLIGHTED COLUMNS ONLY.  USE MILITARY (24:00 HR) TIME FORMAT."]
[null,"Run @ Rate Summary Data",null,null,null,null,null,null,null,"Time/part",null,null,null,null,null,null,null,{"$f":"IFERROR(IF(F15=\"\",\"\",'Capacity Plan'!L23/'Capacity Plan'!M23),\"\")","v":""},{"$f":"IFERROR(IF(F15=\"\",\"\",3600/S11),\"\")","v":""},{"$f":"IFERROR(IF(F15=\"\",\"\",R10-S10),\"\")","v":""}]
[null,null,null,null,null,null,null,null,null,"Pcs/Hour",null,null,null,null,null,null,null,{"$f":"IFERROR(IF(F15=\"\",\"\",60*60/R10),\"\")","v":""},{"$f":"IFERROR(IF(F15=\"\",\"\",(S40*60/R41)),\"\")","v":""},{"$f":"IFERROR(IF(F15=\"\",\"\",S11-R11),\"\")","v":""}]
[]
[null,"Capacity Plan",null,null,null,"Start Time (hh:mm)","Stop Time (hh:mm)","Downtime Description",null,null,null,null,null,null,null,null,null,"Total Time","Total # of Pcs. Run","Pieces/ Hour","Good Pieces","Good Pcs/Hour","Rework Total","Scrap Total","% Scrap","Net Pcs/Hr (Good + Rework)"]
[null,null,null,null,null,null,null,"B",null,"T",null,"C",null,"O",null,"U",null,null,null,{"$f":"IFERROR(IF(S14=\"\",\"\",((S14/R14))*60),\"\")","v":""},null,{"$f":"IFERROR(IF(S14=\"\",\"\",((U14/S14))*T14),\"\")","v":""},null,null,{"$f":"IFERROR(IF(S14=\"\",\"\",X14/S14),\"\")","v":""},{"$f":"IFERROR(IF(S14=\"\",\"\",(1-(Y14/1000000))*T14),\"\")","v":""}]
[null,null,null,null,null,null,null,null,{"$f":"IF(H15=\"x\",(G15-F15)*1440,0)","v":0},null,{"$f":"IF(J15=\"x\",(G15-F15)*1440,0)","v":0},null,{"$f":"IF(L15=\"x\",(G15-F15)*1440,0)","v":0},null,{"$f":"IF(N15=\"x\",(G15-F15)*1440,0)","v":0},null,{"$f":"IF(P15=\"x\",(G15-F15)*1440,0)","v":0},{"$f":"IF(ISBLANK(F15),\"\",IF(G15>=F15,(G15-F15)*1440,(1+G15-F15)*1440))","v":""},null,{"$f":"IFERROR(IF(S15=\"\",\"\",((S15/R15))*60),\"\")","v":""},{"$f":"IF(S15=\"\",\"\",S15-(W15+X15))","v":""},{"$f":"IFERROR(IF(S15=\"\",\"\",((U15/S15))*T15),\"\")","v":""},null,null,{"$f":"IFERROR(IF(S15=\"\",\"\",X15/S15),\"\")","v":""},{"$f":"IFERROR(IF(S15=\"\",\"\",(1-(Y15/1000000))*T15),\"\")","v":""}]
["Description of Downtime:",null,null,null,null,null,null,null,0,null,0,null,0,null,0,null,{"$f":"IF(P16=\"x\",(G16-F16)*1440,0)","v":0},{"$f":"IF(ISBLANK(F16),\"\",IF(G16>=F16,(G16-F16)*1440,(1+G16-F16)*1440))","v":""},null,{"$f":"IFERROR(IF(S16=\"\",\"\",((S16/R16))*60),\"\")","v":""},{"$f":"IF(S16=\"\",\"\",S16-(W16+X16))","v":""},{"$f":"IFERROR(IF(S16=\"\",\"\",((U16/S16))*T16),\"\")","v":""},null,null,{"$f":"IFERROR(IF(S16=\"\",\"\",X16/S16),\"\")","v":""},{"$f":"IFERROR(IF(S16=\"\",\"\",(1-(Y16/1000000))*T16),\"\")","v":""}]
[null,null,null,null,null,null,null,null,0,null,0,null,0,null,0,null,0,"",null,"","","",null,null,"",""]
[null,null,null,"Downtime",null,null,null,null,{"$f":"IF(H18=\"x\",(G18-F18)*1440,0)","v":0},null,{"$f":"IF(J18=\"x\",(G18-F18)*1440,0)","v":0},null,{"$f":"IF(L18=\"x\",(G18-F18)*1440,0)","v":0},null,{"$f":"IF(N18=\"x\",(G18-F18)*1440,0)","v":0},null,0,"",null,"","","",null,null,"",""]
["B","breaks/lunch",null,{"$f":"I39","v":0},null,null,null,null,{"$f":"IF(H19=\"x\",(G19-F19)*1440,0)","v":0},null,{"$f":"IF(J19=\"x\",(G19-F19)*1440,0)","v":0},null,{"$f":"IF(L19=\"x\",(G19-F19)*1440,0)","v":0},null,{"$f":"IF(N19=\"x\",(G19-F19)*1440,0)","v":0},null,0,"",null,"","","",null,null,"",""]
["T","tool change",null,{"$f":"K39","v":0},null,null,null,null,0,null,0,null,0,null,0,null,0,"",null,"","","",null,null,"",""]
["C","changeover",null,{"$f":"M39","v":0},null,null,null,null,0,null,0,null,0,null,0,null,0,"",null,"","","",null,null,"",""]
["O","other planned dntm",null,{"$f":"O39","v":0},null,null,null,null,0,null,0,null,0,null,0,null,0,"",null,"","","",null,null,"",""]
["U","unplanned dntm",null,{"$f":"Q39","v":0},null,null,null,null,0,null,0,null,0,null,0,null,0,"",null,"","","",null,null,"",""]
[null,null,null,null,null,null,null,null,{"$f":"IF(H24=\"x\",(G24-F24)*1440,0)","v":0},null,{"$f":"IF(J24=\"x\",(G24-F24)*1440,0)","v":0},null,{"$f":"IF(L24=\"x\",(G24-F24)*1440,0)","v":0},null,{"$f":"IF(N24=\"x\",(G24-F24)*1440,0)","v":0},null,0,"",null,"","","",null,null,"",""]
[null,null,null,null,null,null,null,null,0,null,0,null,0,null,0,null,0,"",null,"","","",null,null,"",""]
[null,null,null,null,null,null,null,null,0,null,0,null,0,null,0,null,0,"",null,"","","",null,null,"",""]
[null,null,null,null,null,null,null,null,0,null,0,null,0,null,0,null,0,"",null,"","","",null,null,"",""]
[null,null,null,null,null,null,null,null,0,null,0,null,0,null,0,null,0,"",null,"","","",null,null,"",""]
[null,null,null,null,null,null,null,null,0,null,0,null,0,null,0,null,0,"",null,"","","",null,null,"",""]
[null,null,null,null,null,null,null,null,0,null,0,null,0,null,0,null,0,"",null,"","","",null,null,"",""]
[null,null,null,null,null,null,null,null,0,null,0,null,0,null,0,null,0,"",null,"","","",null,null,"",""]
[null,null,null,null,null,null,null,null,0,null,0,null,0,null,0,null,0,"",null,"","","",null,null,"",""]
[null,null,null,null,null,null,null,null,0,null,0,null,0,null,0,null,0,"",null,"","","",null,null,"",""]
[null,null,null,null,null,null,null,null,0,null,0,null,0,null,0,null,0,"",null,"","","",null,null,"",""]
[null,null,null,null,null,null,null,null,0,null,0,null,0,null,0,null,0,"",null,"","","",null,null,"",""]
[null,null,null,null,null,null,null,null,0,null,0,null,0,null,0,null,0,"",null,"","","",null,null,"",""]
[null,null,null,null,null,null,null,null,0,null,0,null,0,null,0,null,0,"",null,"","","",null,null,"",""]
[null,null,null,null,null,null,null,null,0,null,0,null,0,null,0,null,0,"",null,"","","",null,null,"",""]
[null,null,null,null,null,null,null,null,{"$f":"SUM(I15:I38)","v":0},null,{"$f":"SUM(K15:K38)","v":0},null,{"$f":"SUM(M15:M38)","v":0},null,{"$f":"SUM(O15:O38)","v":0},null,{"$f":"SUM(Q15:Q38)","v":0},{"$f":"(G39-F39)*1440","v":0},null,{"$f":"((S39/R39))*60/1440","v":{"$error":"#DIV/0!"}},{"$f":"S39-(W39+X39)","v":0},{"$f":"((U39/S39))*T39","v":{"$error":"#DIV/0!"}},null,null,{"$f":"(X39/S39)*1000000","v":{"$error":"#DIV/0!"}},{"$f":"(1-(Y39/1000000))*T39","v":{"$error":"#DIV/0!"}}]
[null,null,null,null,null,null,null,null,null,null,null,null,null,null,null,null,null,null,{"$f":"SUM(S15:S39)","v":0},null,{"$f":"SUM(U15:U39)","v":0},null,{"$f":"SUM(W15:W39)","v":0}]
[null,null,null,null,null,null,null,null,null,null,null,null,null,null,null,"# of minutes uptime:  ",null,{"$f":"R42-(D20+D21+D23)","v":0},null,"% uptime:  ",{"$f":"IFERROR(R41/R42,\"\")","v":""},null,"FTQ:  ",{"$f":"IFERROR(IF(F15=\"\",\"\",((S40-U40)/S40)*1000000),\"\")","v":""}]
[null,null,null,null,null,null,null,null,null,null,null,null,null,null,null,"Total Run Time:  ",null,{"$f":"SUM(R15:R38)-(D19+D22)","v":0},null,null,null,null,"% Scrap:  ",{"$f":"IFERROR(IF(F15=\"\",\"\",((S40-(U40+W40))/S40)),\"\")","v":""}]
[]
[null,null,null,null,null,null,null,null,null,null,null,"Comments:  Document scrap/rework and downtime here"]

{"sheet":"Process 4 - Actual Run Data","index":8,"n_rows":44,"n_cols":26,"rows_kept":44,"cut":false,"hidden":false,"merged":[[5,2,5,6],[5,23,5,25],[0,0,0,25],[2,20,2,22],[3,22,3,24],[4,2,4,6],[4,23,4,25],[15,0,15,3],[43,11,43,21],[44,11,51,25],[6,2,6,6],[6,23,6,25],[8,21,10,25],[9,9,9,15],[10,9,10,15],[12,7,12,16],[9,1,11,1]]}
["Actual Run Data"]
[]
[]
[]
[null,"Supplier Name:  ",{"$f":"IF('Capacity Plan'!$F$3=\"\",\"\",'Capacity Plan'!$F$3)","v":""},null,null,null,null,null,null,null,null,null,null,null,null,null,null,null,null,null,null,null,"Completed By:  "]
[null,"Process Name:  ",{"$f":"IF('Capacity Plan'!$D$24=\"\",\"\",'Capacity Plan'!$D$24)","v":""}]
[null,"Part Number:  ",{"$f":"IF('Capacity Plan'!$Q$3=\"\",\"\",'Capacity Plan'!$Q$3)","v":""}]
[]
[null,null,null,null,null,null,null,null,null,null,null,null,null,null,null,null,null,"Target","Actual","Difference",null,"PLEASE PRINT HARD COPY FOR USE DURING RUN@RATE.  COMPLETE BY FILLING IN THE HIGHLIGHTED COLUMNS ONLY.  USE MILITARY (24:00 HR) TIME FORMAT."]
[null,"Run @ Rate Summary Data",null,null,null,null,null,null,null,"Time/part",null,null,null,null,null,null,null,{"$f":"IFERROR(IF(F15=\"\",\"\",'Capacity Plan'!L24/'Capacity Plan'!M24),\"\")","v":""},{"$f":"IFERROR(IF(F15=\"\",\"\",3600/S11),\"\")","v":""},{"$f":"IFERROR(IF(F15=\"\",\"\",R10-S10),\"\")","v":""}]
[null,null,null,null,null,null,null,null,null,"Pcs/Hour",null,null,null,null,null,null,null,{"$f":"IFERROR(IF(F15=\"\",\"\",60*60/R10),\"\")","v":""},{"$f":"IFERROR(IF(F15=\"\",\"\",(S40*60/R41)),\"\")","v":""},{"$f":"IFERROR(IF(F15=\"\",\"\",S11-R11),\"\")","v":""}]
[]
[null,"Capacity Plan",null,null,null,"Start Time (hh:mm)","Stop Time (hh:mm)","Downtime Description",null,null,null,null,null,null,null,null,null,"Total Time","Total # of Pcs. Run","Pieces/ Hour","Good Pieces","Good Pcs/Hour","Rework Total","Scrap Total","% Scrap","Net Pcs/Hr (Good + Rework)"]
[null,null,null,null,null,null,null,"B",null,"T",null,"C",null,"O",null,"U",null,null,null,{"$f":"IFERROR(IF(S14=\"\",\"\",((S14/R14))*60),\"\")","v":""},null,{"$f":"IFERROR(IF(S14=\"\",\"\",((U14/S14))*T14),\"\")","v":""},null,null,{"$f":"IFERROR(IF(S14=\"\",\"\",X14/S14),\"\")","v":""},{"$f":"IFERROR(IF(S14=\"\",\"\",(1-(Y14/1000000))*T14),\"\")","v":""}]
[null,null,null,null,null,null,null,null,{"$f":"IF(H15=\"x\",(G15-F15)*1440,0)","v":0},null,{"$f":"IF(J15=\"x\",(G15-F15)*1440,0)","v":0},null,{"$f":"IF(L15=\"x\",(G15-F15)*1440,0)","v":0},null,{"$f":"IF(N15=\"x\",(G15-F15)*1440,0)","v":0},null,{"$f":"IF(P15=\"x\",(G15-F15)*1440,0)","v":0},{"$f":"IF(ISBLANK(F15),\"\",IF(G15>=F15,(G15-F15)*1440,(1+G15-F15)*1440))","v":""},null,{"$f":"IFERROR(IF(S15=\"\",\"\",((S15/R15))*60),\"\")","v":""},{"$f":"IF(S15=\"\",\"\",S15-(W15+X15))","v":""},{"$f":"IFERROR(IF(S15=\"\",\"\",((U15/S15))*T15),\"\")","v":""},null,null,{"$f":"IFERROR(IF(S15=\"\",\"\",X15/S15),\"\")","v":""},{"$f":"IFERROR(IF(S15=\"\",\"\",(1-(Y15/1000000))*T15),\"\")","v":""}]
["Description of Downtime:",null,null,null,null,null,null,null,0,null,0,null,0,null,0,null,{"$f":"IF(P16=\"x\",(G16-F16)*1440,0)","v":0},{"$f":"IF(ISBLANK(F16),\"\",IF(G16>=F16,(G16-F16)*1440,(1+G16-F16)*1440))","v":""},null,{"$f":"IFERROR(IF(S16=\"\",\"\",((S16/R16))*60),\"\")","v":""},{"$f":"IF(S16=\"\",\"\",S16-(W16+X16))","v":""},{"$f":"IFERROR(IF(S16=\"\",\"\",((U16/S16))*T16),\"\")","v":""},null,null,{"$f":"IFERROR(IF(S16=\"\",\"\",X16/S16),\"\")","v":""},{"$f":"IFERROR(IF(S16=\"\",\"\",(1-(Y16/1000000))*T16),\"\")","v":""}]
[null,null,null,null,null,null,null,null,0,null,0,null,0,null,0,null,{"$f":"IF(P17=\"x\",(G17-F17)*1440,0)","v":0},{"$f":"IF(ISBLANK(F17),\"\",IF(G17>=F17,(G17-F17)*1440,(1+G17-F17)*1440))","v":""},null,{"$f":"IFERROR(IF(S17=\"\",\"\",((S17/R17))*60),\"\")","v":""},{"$f":"IF(S17=\"\",\"\",S17-(W17+X17))","v":""},{"$f":"IFERROR(IF(S17=\"\",\"\",((U17/S17))*T17),\"\")","v":""},null,null,{"$f":"IFERROR(IF(S17=\"\",\"\",X17/S17),\"\")","v":""},{"$f":"IFERROR(IF(S17=\"\",\"\",(1-(Y17/1000000))*T17),\"\")","v":""}]
[null,null,null,"Downtime",null,null,null,null,{"$f":"IF(H18=\"x\",(G18-F18)*1440,0)","v":0},null,{"$f":"IF(J18=\"x\",(G18-F18)*1440,0)","v":0},null,{"$f":"IF(L18=\"x\",(G18-F18)*1440,0)","v":0},null,{"$f":"IF(N18=\"x\",(G18-F18)*1440,0)","v":0},null,{"$f":"IF(P18=\"x\",(G18-F18)*1440,0)","v":0},{"$f":"IF(ISBLANK(F18),\"\",IF(G18>=F18,(G18-F18)*1440,(1+G18-F18)*1440))","v":""},null,{"$f":"IFERROR(IF(S18=\"\",\"\",((S18/R18))*60),\"\")","v":""},{"$f":"IF(S18=\"\",\"\",S18-(W18+X18))","v":""},{"$f":"IFERROR(IF(S18=\"\",\"\",((U18/S18))*T18),\"\")","v":""},null,null,{"$f":"IFERROR(IF(S18=\"\",\"\",X18/S18),\"\")","v":""},{"$f":"IFERROR(IF(S18=\"\",\"\",(1-(Y18/1000000))*T18),\"\")","v":""}]
["B","breaks/lunch",null,{"$f":"I39","v":0},null,null,null,null,{"$f":"IF(H19=\"x\",(G19-F19)*1440,0)","v":0},null,{"$f":"IF(J19=\"x\",(G19-F19)*1440,0)","v":0},null,{"$f":"IF(L19=\"x\",(G19-F19)*1440,0)","v":0},null,{"$f":"IF(N19=\"x\",(G19-F19)*1440,0)","v":0},null,{"$f":"IF(P19=\"x\",(G19-F19)*1440,0)","v":0},{"$f":"IF(ISBLANK(F19),\"\",IF(G19>=F19,(G19-F19)*1440,(1+G19-F19)*1440))","v":""},null,{"$f":"IFERROR(IF(S19=\"\",\"\",((S19/R19))*60),\"\")","v":""},{"$f":"IF(S19=\"\",\"\",S19-(W19+X19))","v":""},{"$f":"IFERROR(IF(S19=\"\",\"\",((U19/S19))*T19),\"\")","v":""},null,null,{"$f":"IFERROR(IF(S19=\"\",\"\",X19/S19),\"\")","v":""},{"$f":"IFERROR(IF(S19=\"\",\"\",(1-(Y19/1000000))*T19),\"\")","v":""}]
["T","tool change",null,{"$f":"K39","v":0},null,null,null,null,0,null,0,null,0,null,0,null,0,"",null,"","","",null,null,"",""]
["C","changeover",null,{"$f":"M39","v":0},null,null,null,null,0,null,0,null,0,null,0,null,0,"",null,"","","",null,null,"",""]
["O","other planned dntm",null,{"$f":"O39","v":0},null,null,null,null,0,null,0,null,0,null,0,null,0,"",null,"","","",null,null,"",""]
["U","unplanned dntm",null,{"$f":"Q39","v":0},null,null,null,null,0,null,0,null,0,null,0,null,0,"",null,"","","",null,null,"",""]
[null,null,null,null,null,null,null,null,{"$f":"IF(H24=\"x\",(G24-F24)*1440,0)","v":0},null,{"$f":"IF(J24=\"x\",(G24-F24)*1440,0)","v":0},null,{"$f":"IF(L24=\"x\",(G24-F24)*1440,0)","v":0},null,{"$f":"IF(N24=\"x\",(G24-F24)*1440,0)","v":0},null,0,"",null,"","","",null,null,"",""]
[null,null,null,null,null,null,null,null,0,null,0,null,0,null,0,null,0,"",null,"","","",null,null,"",""]
[null,null,null,null,null,null,null,null,0,null,0,null,0,null,0,null,0,"",null,"","","",null,null,"",""]
[null,null,null,null,null,null,null,null,0,null,0,null,0,null,0,null,0,"",null,"","","",null,null,"",""]
[null,null,null,null,null,null,null,null,0,null,0,null,0,null,0,null,0,"",null,"","","",null,null,"",""]
[null,null,null,null,null,null,null,null,0,null,0,null,0,null,0,null,0,"",null,"","","",null,null,"",""]
[null,null,null,null,null,null,null,null,0,null,0,null,0,null,0,null,0,"",null,"","","",null,null,"",""]
[null,null,null,null,null,null,null,null,0,null,0,null,0,null,0,null,0,"",null,"","","",null,null,"",""]
[null,null,null,null,null,null,null,null,0,null,0,null,0,null,0,null,0,"",null,"","","",null,null,"",""]
[null,null,null,null,null,null,null,null,0,null,0,null,0,null,0,null,0,"",null,"","","",null,null,"",""]
[null,null,null,null,null,null,null,null,0,null,0,null,0,null,0,null,0,"",null,"","","",null,null,"",""]
[null,null,null,null,null,null,null,null,0,null,0,null,0,null,0,null,0,"",null,"","","",null,null,"",""]
[null,null,null,null,null,null,null,null,0,null,0,null,0,null,0,null,0,"",null,"","","",null,null,"",""]
[null,null,null,null,null,null,null,null,0,null,0,null,0,null,0,null,0,"",null,"","","",null,null,"",""]
[null,null,null,null,null,null,null,null,0,null,0,null,0,null,0,null,0,"",null,"","","",null,null,"",""]
[null,null,null,null,null,null,null,null,{"$f":"SUM(I15:I38)","v":0},null,{"$f":"SUM(K15:K38)","v":0},null,{"$f":"SUM(M15:M38)","v":0},null,{"$f":"SUM(O15:O38)","v":0},null,{"$f":"SUM(Q15:Q38)","v":0},{"$f":"(G39-F39)*1440","v":0},null,{"$f":"((S39/R39))*60/1440","v":{"$error":"#DIV/0!"}},{"$f":"S39-(W39+X39)","v":0},{"$f":"((U39/S39))*T39","v":{"$error":"#DIV/0!"}},null,null,{"$f":"(X39/S39)*1000000","v":{"$error":"#DIV/0!"}},{"$f":"(1-(Y39/1000000))*T39","v":{"$error":"#DIV/0!"}}]
[null,null,null,null,null,null,null,null,null,null,null,null,null,null,null,null,null,null,{"$f":"SUM(S15:S39)","v":0},null,{"$f":"SUM(U15:U39)","v":0},null,{"$f":"SUM(W15:W39)","v":0}]
[null,null,null,null,null,null,null,null,null,null,null,null,null,null,null,"# of minutes uptime:  ",null,{"$f":"R42-(D20+D21+D23)","v":0},null,"% uptime:  ",{"$f":"IFERROR(R41/R42,\"\")","v":""},null,"FTQ:  ",{"$f":"IFERROR(IF(F15=\"\",\"\",((S40-U40)/S40)*1000000),\"\")","v":""}]
[null,null,null,null,null,null,null,null,null,null,null,null,null,null,null,"Total Run Time:  ",null,{"$f":"SUM(R15:R38)-(D19+D22)","v":0},null,null,null,null,"% Scrap:  ",{"$f":"IFERROR(IF(F15=\"\",\"\",((S40-(U40+W40))/S40)),\"\")","v":""}]
[]
[null,null,null,null,null,null,null,null,null,null,null,"Comments:  Document scrap/rework and downtime here"]

{"sheet":"Process 5 - Actual Run Data","index":9,"n_rows":44,"n_cols":26,"rows_kept":44,"cut":false,"hidden":false,"merged":[[5,2,5,6],[5,23,5,25],[0,0,0,25],[2,20,2,22],[3,22,3,24],[4,2,4,6],[4,23,4,25],[15,0,15,3],[43,11,43,21],[44,11,51,25],[6,2,6,6],[6,23,6,25],[8,21,10,25],[9,9,9,15],[10,9,10,15],[12,7,12,16],[9,1,11,1]]}
["Actual Run Data"]
[]
[]
[]
[null,"Supplier Name:  ",{"$f":"IF('Capacity Plan'!$F$3=\"\",\"\",'Capacity Plan'!$F$3)","v":""},null,null,null,null,null,null,null,null,null,null,null,null,null,null,null,null,null,null,null,"Completed By:  "]
[null,"Process Name:  ",{"$f":"IF('Capacity Plan'!$D$25=\"\",\"\",'Capacity Plan'!$D$25)","v":""}]
[null,"Part Number:  ",{"$f":"IF('Capacity Plan'!$Q$3=\"\",\"\",'Capacity Plan'!$Q$3)","v":""}]
[]
[null,null,null,null,null,null,null,null,null,null,null,null,null,null,null,null,null,"Target","Actual","Difference",null,"PLEASE PRINT HARD COPY FOR USE DURING RUN@RATE.  COMPLETE BY FILLING IN THE HIGHLIGHTED COLUMNS ONLY.  USE MILITARY (24:00 HR) TIME FORMAT."]
[null,"Run @ Rate Summary Data",null,null,null,null,null,null,null,"Time/part",null,null,null,null,null,null,null,{"$f":"IFERROR(IF(F15=\"\",\"\",'Capacity Plan'!L25/'Capacity Plan'!M25),\"\")","v":""},{"$f":"IFERROR(IF(F15=\"\",\"\",3600/S11),\"\")","v":""},{"$f":"IFERROR(IF(F15=\"\",\"\",R10-S10),\"\")","v":""}]
[null,null,null,null,null,null,null,null,null,"Pcs/Hour",null,null,null,null,null,null,null,{"$f":"IFERROR(IF(F15=\"\",\"\",60*60/R10),\"\")","v":""},{"$f":"IFERROR(IF(F15=\"\",\"\",(S40*60/R41)),\"\")","v":""},{"$f":"IFERROR(IF(F15=\"\",\"\",S11-R11),\"\")","v":""}]
[]
[null,"Capacity Plan",null,null,null,"Start Time (hh:mm)","Stop Time (hh:mm)","Downtime Description",null,null,null,null,null,null,null,null,null,"Total Time","Total # of Pcs. Run","Pieces/ Hour","Good Pieces","Good Pcs/Hour","Rework Total","Scrap Total","% Scrap","Net Pcs/Hr (Good + Rework)"]
[null,null,null,null,null,null,null,"B",null,"T",null,"C",null,"O",null,"U",null,null,null,{"$f":"IFERROR(IF(S14=\"\",\"\",((S14/R14))*60),\"\")","v":""},null,{"$f":"IFERROR(IF(S14=\"\",\"\",((U14/S14))*T14),\"\")","v":""},null,null,{"$f":"IFERROR(IF(S14=\"\",\"\",X14/S14),\"\")","v":""},{"$f":"IFERROR(IF(S14=\"\",\"\",(1-(Y14/1000000))*T14),\"\")","v":""}]
[null,null,null,null,null,null,null,null,{"$f":"IF(H15=\"x\",(G15-F15)*1440,0)","v":0},null,{"$f":"IF(J15=\"x\",(G15-F15)*1440,0)","v":0},null,{"$f":"IF(L15=\"x\",(G15-F15)*1440,0)","v":0},null,{"$f":"IF(N15=\"x\",(G15-F15)*1440,0)","v":0},null,{"$f":"IF(P15=\"x\",(G15-F15)*1440,0)","v":0},{"$f":"IF(ISBLANK(F15),\"\",IF(G15>=F15,(G15-F15)*1440,(1+G15-F15)*1440))","v":""},null,{"$f":"IFERROR(IF(S15=\"\",\"\",((S15/R15))*60),\"\")","v":""},{"$f":"IF(S15=\"\",\"\",S15-(W15+X15))","v":""},{"$f":"IFERROR(IF(S15=\"\",\"\",((U15/S15))*T15),\"\")","v":""},null,null,{"$f":"IFERROR(IF(S15=\"\",\"\",X15/S15),\"\")","v":""},{"$f":"IFERROR(IF(S15=\"\",\"\",(1-(Y15/1000000))*T15),\"\")","v":""}]
["Description of Downtime:",null,null,null,null,null,null,null,0,null,0,null,{"$f":"IF(L16=\"x\",(G16-F16)*1440,0)","v":0},null,{"$f":"IF(N16=\"x\",(G16-F16)*1440,0)","v":0},null,{"$f":"IF(P16=\"x\",(G16-F16)*1440,0)","v":0},{"$f":"IF(ISBLANK(F16),\"\",IF(G16>=F16,(G16-F16)*1440,(1+G16-F16)*1440))","v":""},null,{"$f":"IFERROR(IF(S16=\"\",\"\",((S16/R16))*60),\"\")","v":""},{"$f":"IF(S16=\"\",\"\",S16-(W16+X16))","v":""},{"$f":"IFERROR(IF(S16=\"\",\"\",((U16/S16))*T16),\"\")","v":""},null,null,{"$f":"IFERROR(IF(S16=\"\",\"\",X16/S16),\"\")","v":""},{"$f":"IFERROR(IF(S16=\"\",\"\",(1-(Y16/1000000))*T16),\"\")","v":""}]
[null,null,null,null,null,null,null,null,0,null,0,null,0,null,0,null,0,"",null,"","","",null,null,"",""]
[null,null,null,"Downtime",null,null,null,null,0,null,0,null,0,null,0,null,0,"",null,"","","",null,null,"",""]
["B","breaks/lunch",null,{"$f":"I39","v":0},null,null,null,null,0,null,0,null,0,null,0,null,0,"",null,"","","",null,null,"",""]
["T","tool change",null,{"$f":"K39","v":0},null,null,null,null,0,null,0,null,0,null,0,null,0,"",null,"","","",null,null,"",""]
["C","changeover",null,{"$f":"M39","v":0},null,null,null,null,0,null,0,null,0,null,0,null,0,"",null,"","","",null,null,"",""]
["O","other planned dntm",null,{"$f":"O39","v":0},null,null,null,null,0,null,0,null,0,null,0,null,0,"",null,"","","",null,null,"",""]
["U","unplanned dntm",null,{"$f":"Q39","v":0},null,null,null,null,0,null,0,null,0,null,0,null,0,"",null,"","","",null,null,"",""]
[null,null,null,null,null,null,null,null,{"$f":"IF(H24=\"x\",(G24-F24)*1440,0)","v":0},null,{"$f":"IF(J24=\"x\",(G24-F24)*1440,0)","v":0},null,{"$f":"IF(L24=\"x\",(G24-F24)*1440,0)","v":0},null,{"$f":"IF(N24=\"x\",(G24-F24)*1440,0)","v":0},null,0,"",null,"","","",null,null,"",""]
[null,null,null,null,null,null,null,null,0,null,0,null,0,null,0,null,0,"",null,"","","",null,null,"",""]
[null,null,null,null,null,null,null,null,0,null,0,null,0,null,0,null,0,"",null,"","","",null,null,"",""]
[null,null,null,null,null,null,null,null,0,null,0,null,0,null,0,null,0,"",null,"","","",null,null,"",""]
[null,null,null,null,null,null,null,null,0,null,0,null,0,null,0,null,0,"",null,"","","",null,null,"",""]
[null,null,null,null,null,null,null,null,0,null,0,null,0,null,0,null,0,"",null,"","","",null,null,"",""]
[null,null,null,null,null,null,null,null,0,null,0,null,0,null,0,null,0,"",null,"","","",null,null,"",""]
[null,null,null,null,null,null,null,null,0,null,0,null,0,null,0,null,0,"",null,"","","",null,null,"",""]
[null,null,null,null,null,null,null,null,0,null,0,null,0,null,0,null,0,"",null,"","","",null,null,"",""]
[null,null,null,null,null,null,null,null,0,null,0,null,0,null,0,null,0,"",null,"","","",null,null,"",""]
[null,null,null,null,null,null,null,null,0,null,0,null,0,null,0,null,0,"",null,"","","",null,null,"",""]
[null,null,null,null,null,null,null,null,0,null,0,null,0,null,0,null,0,"",null,"","","",null,null,"",""]
[null,null,null,null,null,null,null,null,0,null,0,null,0,null,0,null,0,"",null,"","","",null,null,"",""]
[null,null,null,null,null,null,null,null,0,null,0,null,0,null,0,null,0,"",null,"","","",null,null,"",""]
[null,null,null,null,null,null,null,null,0,null,0,null,0,null,0,null,0,{"$f":"IF(ISBLANK(F38),\"\",IF(G38>=F38,(G38-F38)*1440,(1+G38-F38)*1440))","v":""},null,"","","",null,null,"",""]
[null,null,null,null,null,null,null,null,{"$f":"SUM(I15:I38)","v":0},null,{"$f":"SUM(K15:K38)","v":0},null,{"$f":"SUM(M15:M38)","v":0},null,{"$f":"SUM(O15:O38)","v":0},null,{"$f":"SUM(Q15:Q38)","v":0},{"$f":"(G39-F39)*1440","v":0},null,{"$f":"((S39/R39))*60/1440","v":{"$error":"#DIV/0!"}},{"$f":"S39-(W39+X39)","v":0},{"$f":"((U39/S39))*T39","v":{"$error":"#DIV/0!"}},null,null,{"$f":"(X39/S39)*1000000","v":{"$error":"#DIV/0!"}},{"$f":"(1-(Y39/1000000))*T39","v":{"$error":"#DIV/0!"}}]
[null,null,null,null,null,null,null,null,null,null,null,null,null,null,null,null,null,null,{"$f":"SUM(S15:S39)","v":0},null,{"$f":"SUM(U15:U39)","v":0},null,{"$f":"SUM(W15:W39)","v":0}]
[null,null,null,null,null,null,null,null,null,null,null,null,null,null,null,"# of minutes uptime:  ",null,{"$f":"R42-(D20+D21+D23)","v":0},null,"% uptime:  ",{"$f":"IFERROR(R41/R42,\"\")","v":""},null,"FTQ:  ",{"$f":"IFERROR(IF(F15=\"\",\"\",((S40-U40)/S40)*1000000),\"\")","v":""}]
[null,null,null,null,null,null,null,null,null,null,null,null,null,null,null,"Total Run Time:  ",null,{"$f":"SUM(R15:R38)-(D19+D22)","v":0},null,null,null,null,"% Scrap:  ",{"$f":"IFERROR(IF(F15=\"\",\"\",((S40-(U40+W40))/S40)),\"\")","v":""}]
[]
[null,null,null,null,null,null,null,null,null,null,null,"Comments:  Document scrap/rework and downtime here"]

{"sheet":"Process 6 - Actual Run Data","index":10,"n_rows":44,"n_cols":26,"rows_kept":44,"cut":false,"hidden":false,"merged":[[5,2,5,6],[5,23,5,25],[0,0,0,25],[2,20,2,22],[3,22,3,24],[4,2,4,6],[4,23,4,25],[15,0,15,3],[43,11,43,21],[44,11,51,25],[6,2,6,6],[6,23,6,25],[8,21,10,25],[9,9,9,15],[10,9,10,15],[12,7,12,16],[9,1,11,1]]}
["Actual Run Data"]
[]
[]
[]
[null,"Supplier Name:  ",{"$f":"IF('Capacity Plan'!$F$3=\"\",\"\",'Capacity Plan'!$F$3)","v":""},null,null,null,null,null,null,null,null,null,null,null,null,null,null,null,null,null,null,null,"Completed By:  "]
[null,"Process Name:  ",{"$f":"IF('Capacity Plan'!$D$26=\"\",\"\",'Capacity Plan'!$D$26)","v":""}]
[null,"Part Number:  ",{"$f":"IF('Capacity Plan'!$Q$3=\"\",\"\",'Capacity Plan'!$Q$3)","v":""}]
[]
[null,null,null,null,null,null,null,null,null,null,null,null,null,null,null,null,null,"Target","Actual","Difference",null,"PLEASE PRINT HARD COPY FOR USE DURING RUN@RATE.  COMPLETE BY FILLING IN THE HIGHLIGHTED COLUMNS ONLY.  USE MILITARY (24:00 HR) TIME FORMAT."]
[null,"Run @ Rate Summary Data",null,null,null,null,null,null,null,"Time/part",null,null,null,null,null,null,null,{"$f":"IFERROR(IF(F15=\"\",\"\",'Capacity Plan'!L26/'Capacity Plan'!M26),\"\")","v":""},{"$f":"IFERROR(IF(F15=\"\",\"\",3600/S11),\"\")","v":""},{"$f":"IFERROR(IF(F15=\"\",\"\",R10-S10),\"\")","v":""}]
[null,null,null,null,null,null,null,null,null,"Pcs/Hour",null,null,null,null,null,null,null,{"$f":"IFERROR(IF(F15=\"\",\"\",60*60/R10),\"\")","v":""},{"$f":"IFERROR(IF(F15=\"\",\"\",(S40*60/R41)),\"\")","v":""},{"$f":"IFERROR(IF(F15=\"\",\"\",S11-R11),\"\")","v":""}]
[]
[null,"Capacity Plan",null,null,null,"Start Time (hh:mm)","Stop Time (hh:mm)","Downtime Description",null,null,null,null,null,null,null,null,null,"Total Time","Total # of Pcs. Run","Pieces/ Hour","Good Pieces","Good Pcs/Hour","Rework Total","Scrap Total","% Scrap","Net Pcs/Hr (Good + Rework)"]
[null,null,null,null,null,null,null,"B",null,"T",null,"C",null,"O",null,"U",null,null,null,{"$f":"IFERROR(IF(S14=\"\",\"\",((S14/R14))*60),\"\")","v":""},null,{"$f":"IFERROR(IF(S14=\"\",\"\",((U14/S14))*T14),\"\")","v":""},null,null,{"$f":"IFERROR(IF(S14=\"\",\"\",X14/S14),\"\")","v":""},{"$f":"IFERROR(IF(S14=\"\",\"\",(1-(Y14/1000000))*T14),\"\")","v":""}]
[null,null,null,null,null,null,null,null,{"$f":"IF(H15=\"x\",(G15-F15)*1440,0)","v":0},null,{"$f":"IF(J15=\"x\",(G15-F15)*1440,0)","v":0},null,{"$f":"IF(L15=\"x\",(G15-F15)*1440,0)","v":0},null,{"$f":"IF(N15=\"x\",(G15-F15)*1440,0)","v":0},null,{"$f":"IF(P15=\"x\",(G15-F15)*1440,0)","v":0},{"$f":"IF(ISBLANK(F15),\"\",IF(G15>=F15,(G15-F15)*1440,(1+G15-F15)*1440))","v":""},null,{"$f":"IFERROR(IF(S15=\"\",\"\",((S15/R15))*60),\"\")","v":""},{"$f":"IF(S15=\"\",\"\",S15-(W15+X15))","v":""},{"$f":"IFERROR(IF(S15=\"\",\"\",((U15/S15))*T15),\"\")","v":""},null,null,{"$f":"IFERROR(IF(S15=\"\",\"\",X15/S15),\"\")","v":""},{"$f":"IFERROR(IF(S15=\"\",\"\",(1-(Y15/1000000))*T15),\"\")","v":""}]
["Description of Downtime:",null,null,null,null,null,null,null,0,null,0,null,0,null,0,null,{"$f":"IF(P16=\"x\",(G16-F16)*1440,0)","v":0},{"$f":"IF(ISBLANK(F16),\"\",IF(G16>=F16,(G16-F16)*1440,(1+G16-F16)*1440))","v":""},null,{"$f":"IFERROR(IF(S16=\"\",\"\",((S16/R16))*60),\"\")","v":""},{"$f":"IF(S16=\"\",\"\",S16-(W16+X16))","v":""},{"$f":"IFERROR(IF(S16=\"\",\"\",((U16/S16))*T16),\"\")","v":""},null,null,{"$f":"IFERROR(IF(S16=\"\",\"\",X16/S16),\"\")","v":""},{"$f":"IFERROR(IF(S16=\"\",\"\",(1-(Y16/1000000))*T16),\"\")","v":""}]
[null,null,null,null,null,null,null,null,0,null,0,null,0,null,0,null,0,"",null,"","","",null,null,"",""]
[null,null,null,"Downtime",null,null,null,null,0,null,0,null,0,null,0,null,0,"",null,"","","",null,null,"",""]
["B","breaks/lunch",null,{"$f":"I39","v":0},null,null,null,null,0,null,0,null,0,null,0,null,0,"",null,"","","",null,null,"",""]
["T","tool change",null,{"$f":"K39","v":0},null,null,null,null,0,null,0,null,0,null,0,null,0,"",null,"","","",null,null,"",""]
["C","changeover",null,{"$f":"M39","v":0},null,null,null,null,0,null,0,null,0,null,0,null,0,"",null,"","","",null,null,"",""]
["O","other planned dntm",null,{"$f":"O39","v":0},null,null,null,null,0,null,0,null,0,null,0,null,0,"",null,"","","",null,null,"",""]
["U","unplanned dntm",null,{"$f":"Q39","v":0},null,null,null,null,0,null,0,null,0,null,0,null,0,"",null,"","","",null,null,"",""]
[null,null,null,null,null,null,null,null,{"$f":"IF(H24=\"x\",(G24-F24)*1440,0)","v":0},null,{"$f":"IF(J24=\"x\",(G24-F24)*1440,0)","v":0},null,{"$f":"IF(L24=\"x\",(G24-F24)*1440,0)","v":0},null,{"$f":"IF(N24=\"x\",(G24-F24)*1440,0)","v":0},null,0,"",null,"","","",null,null,"",""]
[null,null,null,null,null,null,null,null,0,null,0,null,0,null,0,null,0,"",null,"","","",null,null,"",""]
[null,null,null,null,null,null,null,null,0,null,0,null,0,null,0,null,0,"",null,"","","",null,null,"",""]
[null,null,null,null,null,null,null,null,0,null,0,null,0,null,0,null,0,"",null,"","","",null,null,"",""]
[null,null,null,null,null,null,null,null,0,null,0,null,0,null,0,null,0,"",null,"","","",null,null,"",""]
[null,null,null,null,null,null,null,null,0,null,0,null,0,null,0,null,0,"",null,"","","",null,null,"",""]
[null,null,null,null,null,null,null,null,0,null,0,null,0,null,0,null,0,"",null,"","","",null,null,"",""]
[null,null,null,null,null,null,null,null,0,null,0,null,0,null,0,null,0,"",null,"","","",null,null,"",""]
[null,null,null,null,null,null,null,null,0,null,0,null,0,null,0,null,0,"",null,"","","",null,null,"",""]
[null,null,null,null,null,null,null,null,0,null,0,null,0,null,0,null,0,"",null,"","","",null,null,"",""]
[null,null,null,null,null,null,null,null,0,null,0,null,0,null,0,null,0,"",null,"","","",null,null,"",""]
[null,null,null,null,null,null,null,null,0,null,0,null,0,null,0,null,0,"",null,"","","",null,null,"",""]
[null,null,null,null,null,null,null,null,0,null,0,null,0,null,0,null,0,"",null,"","","",null,null,"",""]
[null,null,null,null,null,null,null,null,0,null,0,null,0,null,0,null,0,"",null,"","","",null,null,"",""]
[null,null,null,null,null,null,null,null,0,null,0,null,0,null,0,null,0,"",null,"","","",null,null,"",""]
[null,null,null,null,null,null,null,null,{"$f":"SUM(I15:I38)","v":0},null,{"$f":"SUM(K15:K38)","v":0},null,{"$f":"SUM(M15:M38)","v":0},null,{"$f":"SUM(O15:O38)","v":0},null,{"$f":"SUM(Q15:Q38)","v":0},{"$f":"(G39-F39)*1440","v":0},null,{"$f":"((S39/R39))*60/1440","v":{"$error":"#DIV/0!"}},{"$f":"S39-(W39+X39)","v":0},{"$f":"((U39/S39))*T39","v":{"$error":"#DIV/0!"}},null,null,{"$f":"(X39/S39)*1000000","v":{"$error":"#DIV/0!"}},{"$f":"(1-(Y39/1000000))*T39","v":{"$error":"#DIV/0!"}}]
[null,null,null,null,null,null,null,null,null,null,null,null,null,null,null,null,null,null,{"$f":"SUM(S15:S39)","v":0},null,{"$f":"SUM(U15:U39)","v":0},null,{"$f":"SUM(W15:W39)","v":0}]
[null,null,null,null,null,null,null,null,null,null,null,null,null,null,null,"# of minutes uptime:  ",null,{"$f":"R42-(D20+D21+D23)","v":0},null,"% uptime:  ",{"$f":"IFERROR(R41/R42,\"\")","v":""},null,"FTQ:  ",{"$f":"IFERROR(IF(F15=\"\",\"\",((S40-U40)/S40)*1000000),\"\")","v":""}]
[null,null,null,null,null,null,null,null,null,null,null,null,null,null,null,"Total Run Time:  ",null,{"$f":"SUM(R15:R38)-(D19+D22)","v":0},null,null,null,null,"% Scrap:  ",{"$f":"IFERROR(IF(F15=\"\",\"\",((S40-(U40+W40))/S40)),\"\")","v":""}]
[]
[null,null,null,null,null,null,null,null,null,null,null,"Comments:  Document scrap/rework and downtime here"]

{"sheet":"Process 7 - Actual Run Data","index":11,"n_rows":44,"n_cols":26,"rows_kept":44,"cut":false,"hidden":false,"merged":[[5,2,5,6],[5,23,5,25],[0,0,0,25],[2,20,2,22],[3,22,3,24],[4,2,4,6],[4,23,4,25],[15,0,15,3],[43,11,43,21],[44,11,51,25],[6,2,6,6],[6,23,6,25],[8,21,10,25],[9,9,9,15],[10,9,10,15],[12,7,12,16],[9,1,11,1]]}
["Actual Run Data"]
[]
[]
[]
[null,"Supplier Name:  ",{"$f":"IF('Capacity Plan'!$F$3=\"\",\"\",'Capacity Plan'!$F$3)","v":""},null,null,null,null,null,null,null,null,null,null,null,null,null,null,null,null,null,null,null,"Completed By:  "]
[null,"Process Name:  ",{"$f":"IF('Capacity Plan'!$D$27=\"\",\"\",'Capacity Plan'!$D$27)","v":""}]
[null,"Part Number:  ",{"$f":"IF('Capacity Plan'!$Q$3=\"\",\"\",'Capacity Plan'!$Q$3)","v":""}]
[]
[null,null,null,null,null,null,null,null,null,null,null,null,null,null,null,null,null,"Target","Actual","Difference",null,"PLEASE PRINT HARD COPY FOR USE DURING RUN@RATE.  COMPLETE BY FILLING IN THE HIGHLIGHTED COLUMNS ONLY.  USE MILITARY (24:00 HR) TIME FORMAT."]
[null,"Run @ Rate Summary Data",null,null,null,null,null,null,null,"Time/part",null,null,null,null,null,null,null,{"$f":"IFERROR(IF(F15=\"\",\"\",'Capacity Plan'!L27/'Capacity Plan'!M27),\"\")","v":""},{"$f":"IFERROR(IF(F15=\"\",\"\",3600/S11),\"\")","v":""},{"$f":"IFERROR(IF(F15=\"\",\"\",R10-S10),\"\")","v":""}]
[null,null,null,null,null,null,null,null,null,"Pcs/Hour",null,null,null,null,null,null,null,{"$f":"IFERROR(IF(F15=\"\",\"\",60*60/R10),\"\")","v":""},{"$f":"IFERROR(IF(F15=\"\",\"\",(S40*60/R41)),\"\")","v":""},{"$f":"IFERROR(IF(F15=\"\",\"\",S11-R11),\"\")","v":""}]
[]
[null,"Capacity Plan",null,null,null,"Start Time (hh:mm)","Stop Time (hh:mm)","Downtime Description",null,null,null,null,null,null,null,null,null,"Total Time","Total # of Pcs. Run","Pieces/ Hour","Good Pieces","Good Pcs/Hour","Rework Total","Scrap Total","% Scrap","Net Pcs/Hr (Good + Rework)"]
[null,null,null,null,null,null,null,"B",null,"T",null,"C",null,"O",null,"U",null,null,null,{"$f":"IFERROR(IF(S14=\"\",\"\",((S14/R14))*60),\"\")","v":""},null,{"$f":"IFERROR(IF(S14=\"\",\"\",((U14/S14))*T14),\"\")","v":""},null,null,{"$f":"IFERROR(IF(S14=\"\",\"\",X14/S14),\"\")","v":""},{"$f":"IFERROR(IF(S14=\"\",\"\",(1-(Y14/1000000))*T14),\"\")","v":""}]
[null,null,null,null,null,null,null,null,{"$f":"IF(H15=\"x\",(G15-F15)*1440,0)","v":0},null,{"$f":"IF(J15=\"x\",(G15-F15)*1440,0)","v":0},null,{"$f":"IF(L15=\"x\",(G15-F15)*1440,0)","v":0},null,{"$f":"IF(N15=\"x\",(G15-F15)*1440,0)","v":0},null,{"$f":"IF(P15=\"x\",(G15-F15)*1440,0)","v":0},{"$f":"IF(ISBLANK(F15),\"\",IF(G15>=F15,(G15-F15)*1440,(1+G15-F15)*1440))","v":""},null,{"$f":"IFERROR(IF(S15=\"\",\"\",((S15/R15))*60),\"\")","v":""},{"$f":"IF(S15=\"\",\"\",S15-(W15+X15))","v":""},{"$f":"IFERROR(IF(S15=\"\",\"\",((U15/S15))*T15),\"\")","v":""},null,null,{"$f":"IFERROR(IF(S15=\"\",\"\",X15/S15),\"\")","v":""},{"$f":"IFERROR(IF(S15=\"\",\"\",(1-(Y15/1000000))*T15),\"\")","v":""}]
["Description of Downtime:",null,null,null,null,null,null,null,0,null,0,null,0,null,0,null,{"$f":"IF(P16=\"x\",(G16-F16)*1440,0)","v":0},{"$f":"IF(ISBLANK(F16),\"\",IF(G16>=F16,(G16-F16)*1440,(1+G16-F16)*1440))","v":""},null,{"$f":"IFERROR(IF(S16=\"\",\"\",((S16/R16))*60),\"\")","v":""},{"$f":"IF(S16=\"\",\"\",S16-(W16+X16))","v":""},{"$f":"IFERROR(IF(S16=\"\",\"\",((U16/S16))*T16),\"\")","v":""},null,null,{"$f":"IFERROR(IF(S16=\"\",\"\",X16/S16),\"\")","v":""},{"$f":"IFERROR(IF(S16=\"\",\"\",(1-(Y16/1000000))*T16),\"\")","v":""}]
[null,null,null,null,null,null,null,null,0,null,0,null,0,null,0,null,0,"",null,"","","",null,null,"",""]
[null,null,null,"Downtime",null,null,null,null,0,null,0,null,0,null,0,null,0,"",null,"","","",null,null,"",""]
["B","breaks/lunch",null,{"$f":"I39","v":0},null,null,null,null,0,null,0,null,0,null,0,null,0,"",null,"","","",null,null,"",""]
["T","tool change",null,{"$f":"K39","v":0},null,null,null,null,0,null,0,null,0,null,0,null,0,"",null,"","","",null,null,"",""]
["C","changeover",null,{"$f":"M39","v":0},null,null,null,null,0,null,0,null,0,null,0,null,0,"",null,"","","",null,null,"",""]
["O","other planned dntm",null,{"$f":"O39","v":0},null,null,null,null,0,null,0,null,0,null,0,null,0,"",null,"","","",null,null,"",""]
["U","unplanned dntm",null,{"$f":"Q39","v":0},null,null,null,null,0,null,0,null,0,null,0,null,0,"",null,"","","",null,null,"",""]
[null,null,null,null,null,null,null,null,{"$f":"IF(H24=\"x\",(G24-F24)*1440,0)","v":0},null,{"$f":"IF(J24=\"x\",(G24-F24)*1440,0)","v":0},null,{"$f":"IF(L24=\"x\",(G24-F24)*1440,0)","v":0},null,{"$f":"IF(N24=\"x\",(G24-F24)*1440,0)","v":0},null,0,"",null,"","","",null,null,"",""]
[null,null,null,null,null,null,null,null,0,null,0,null,0,null,0,null,0,"",null,"","","",null,null,"",""]
[null,null,null,null,null,null,null,null,0,null,0,null,0,null,0,null,0,"",null,"","","",null,null,"",""]
[null,null,null,null,null,null,null,null,0,null,0,null,0,null,0,null,0,"",null,"","","",null,null,"",""]
[null,null,null,null,null,null,null,null,0,null,0,null,0,null,0,null,0,"",null,"","","",null,null,"",""]
[null,null,null,null,null,null,null,null,0,null,0,null,0,null,0,null,0,"",null,"","","",null,null,"",""]
[null,null,null,null,null,null,null,null,0,null,0,null,0,null,0,null,0,"",null,"","","",null,null,"",""]
[null,null,null,null,null,null,null,null,0,null,0,null,0,null,0,null,0,"",null,"","","",null,null,"",""]
[null,null,null,null,null,null,null,null,0,null,0,null,0,null,0,null,0,"",null,"","","",null,null,"",""]
[null,null,null,null,null,null,null,null,0,null,0,null,0,null,0,null,0,"",null,"","","",null,null,"",""]
[null,null,null,null,null,null,null,null,0,null,0,null,0,null,0,null,0,"",null,"","","",null,null,"",""]
[null,null,null,null,null,null,null,null,0,null,0,null,0,null,0,null,0,"",null,"","","",null,null,"",""]
[null,null,null,null,null,null,null,null,0,null,0,null,0,null,0,null,0,"",null,"","","",null,null,"",""]
[null,null,null,null,null,null,null,null,0,null,0,null,0,null,0,null,0,"",null,"","","",null,null,"",""]
[null,null,null,null,null,null,null,null,0,null,0,null,0,null,0,null,0,"",null,"","","",null,null,"",""]
[null,null,null,null,null,null,null,null,{"$f":"SUM(I15:I38)","v":0},null,{"$f":"SUM(K15:K38)","v":0},null,{"$f":"SUM(M15:M38)","v":0},null,{"$f":"SUM(O15:O38)","v":0},null,{"$f":"SUM(Q15:Q38)","v":0},{"$f":"(G39-F39)*1440","v":0},null,{"$f":"((S39/R39))*60/1440","v":{"$error":"#DIV/0!"}},{"$f":"S39-(W39+X39)","v":0},{"$f":"((U39/S39))*T39","v":{"$error":"#DIV/0!"}},null,null,{"$f":"(X39/S39)*1000000","v":{"$error":"#DIV/0!"}},{"$f":"(1-(Y39/1000000))*T39","v":{"$error":"#DIV/0!"}}]
[null,null,null,null,null,null,null,null,null,null,null,null,null,null,null,null,null,null,{"$f":"SUM(S15:S39)","v":0},null,{"$f":"SUM(U15:U39)","v":0},null,{"$f":"SUM(W15:W39)","v":0}]
[null,null,null,null,null,null,null,null,null,null,null,null,null,null,null,"# of minutes uptime:  ",null,{"$f":"R42-(D20+D21+D23)","v":0},null,"% uptime:  ",{"$f":"IFERROR(R41/R42,\"\")","v":""},null,"FTQ:  ",{"$f":"IFERROR(IF(F15=\"\",\"\",((S40-U40)/S40)*1000000),\"\")","v":""}]
[null,null,null,null,null,null,null,null,null,null,null,null,null,null,null,"Total Run Time:  ",null,{"$f":"SUM(R15:R38)-(D19+D22)","v":0},null,null,null,null,"% Scrap:  ",{"$f":"IFERROR(IF(F15=\"\",\"\",((S40-(U40+W40))/S40)),\"\")","v":""}]
[]
[null,null,null,null,null,null,null,null,null,null,null,"Comments:  Document scrap/rework and downtime here"]

{"sheet":"Process 8 - Actual Run Data","index":12,"n_rows":44,"n_cols":26,"rows_kept":44,"cut":false,"hidden":false,"merged":[[5,2,5,6],[5,23,5,25],[0,0,0,25],[2,20,2,22],[3,22,3,24],[4,2,4,6],[4,23,4,25],[15,0,15,3],[43,11,43,21],[44,11,51,25],[6,2,6,6],[6,23,6,25],[8,21,10,25],[9,9,9,15],[10,9,10,15],[12,7,12,16],[9,1,11,1]]}
["Actual Run Data"]
[]
[]
[]
[null,"Supplier Name:  ",{"$f":"IF('Capacity Plan'!$F$3=\"\",\"\",'Capacity Plan'!$F$3)","v":""},null,null,null,null,null,null,null,null,null,null,null,null,null,null,null,null,null,null,null,"Completed By:  "]
[null,"Process Name:  ",{"$f":"IF('Capacity Plan'!$D$28=\"\",\"\",'Capacity Plan'!$D$28)","v":""}]
[null,"Part Number:  ",{"$f":"IF('Capacity Plan'!$Q$3=\"\",\"\",'Capacity Plan'!$Q$3)","v":""}]
[]
[null,null,null,null,null,null,null,null,null,null,null,null,null,null,null,null,null,"Target","Actual","Difference",null,"PLEASE PRINT HARD COPY FOR USE DURING RUN@RATE.  COMPLETE BY FILLING IN THE HIGHLIGHTED COLUMNS ONLY.  USE MILITARY (24:00 HR) TIME FORMAT."]
[null,"Run @ Rate Summary Data",null,null,null,null,null,null,null,"Time/part",null,null,null,null,null,null,null,{"$f":"IFERROR(IF(F15=\"\",\"\",'Capacity Plan'!L28/'Capacity Plan'!M28),\"\")","v":""},{"$f":"IFERROR(IF(F15=\"\",\"\",3600/S11),\"\")","v":""},{"$f":"IFERROR(IF(F15=\"\",\"\",R10-S10),\"\")","v":""}]
[null,null,null,null,null,null,null,null,null,"Pcs/Hour",null,null,null,null,null,null,null,{"$f":"IFERROR(IF(F15=\"\",\"\",60*60/R10),\"\")","v":""},{"$f":"IFERROR(IF(F15=\"\",\"\",(S40*60/R41)),\"\")","v":""},{"$f":"IFERROR(IF(F15=\"\",\"\",S11-R11),\"\")","v":""}]
[]
[null,"Capacity Plan",null,null,null,"Start Time (hh:mm)","Stop Time (hh:mm)","Downtime Description",null,null,null,null,null,null,null,null,null,"Total Time","Total # of Pcs. Run","Pieces/ Hour","Good Pieces","Good Pcs/Hour","Rework Total","Scrap Total","% Scrap","Net Pcs/Hr (Good + Rework)"]
[null,null,null,null,null,null,null,"B",null,"T",null,"C",null,"O",null,"U",null,null,null,{"$f":"IFERROR(IF(S14=\"\",\"\",((S14/R14))*60),\"\")","v":""},null,{"$f":"IFERROR(IF(S14=\"\",\"\",((U14/S14))*T14),\"\")","v":""},null,null,{"$f":"IFERROR(IF(S14=\"\",\"\",X14/S14),\"\")","v":""},{"$f":"IFERROR(IF(S14=\"\",\"\",(1-(Y14/1000000))*T14),\"\")","v":""}]
[null,null,null,null,null,null,null,null,{"$f":"IF(H15=\"x\",(G15-F15)*1440,0)","v":0},null,{"$f":"IF(J15=\"x\",(G15-F15)*1440,0)","v":0},null,{"$f":"IF(L15=\"x\",(G15-F15)*1440,0)","v":0},null,{"$f":"IF(N15=\"x\",(G15-F15)*1440,0)","v":0},null,{"$f":"IF(P15=\"x\",(G15-F15)*1440,0)","v":0},{"$f":"IF(ISBLANK(F15),\"\",IF(G15>=F15,(G15-F15)*1440,(1+G15-F15)*1440))","v":""},null,{"$f":"IFERROR(IF(S15=\"\",\"\",((S15/R15))*60),\"\")","v":""},{"$f":"IF(S15=\"\",\"\",S15-(W15+X15))","v":""},{"$f":"IFERROR(IF(S15=\"\",\"\",((U15/S15))*T15),\"\")","v":""},null,null,{"$f":"IFERROR(IF(S15=\"\",\"\",X15/S15),\"\")","v":""},{"$f":"IFERROR(IF(S15=\"\",\"\",(1-(Y15/1000000))*T15),\"\")","v":""}]
["Description of Downtime:",null,null,null,null,null,null,null,{"$f":"IF(H16=\"x\",(G16-F16)*1440,0)","v":0},null,{"$f":"IF(J16=\"x\",(G16-F16)*1440,0)","v":0},null,{"$f":"IF(L16=\"x\",(G16-F16)*1440,0)","v":0},null,"`",null,{"$f":"IF(P16=\"x\",(G16-F16)*1440,0)","v":0},{"$f":"IF(ISBLANK(F16),\"\",IF(G16>=F16,(G16-F16)*1440,(1+G16-F16)*1440))","v":""},null,{"$f":"IFERROR(IF(S16=\"\",\"\",((S16/R16))*60),\"\")","v":""},{"$f":"IF(S16=\"\",\"\",S16-(W16+X16))","v":""},{"$f":"IFERROR(IF(S16=\"\",\"\",((U16/S16))*T16),\"\")","v":""},null,null,{"$f":"IFERROR(IF(S16=\"\",\"\",X16/S16),\"\")","v":""},{"$f":"IFERROR(IF(S16=\"\",\"\",(1-(Y16/1000000))*T16),\"\")","v":""}]
[null,null,null,null,null,null,null,null,{"$f":"IF(H17=\"x\",(G17-F17)*1440,0)","v":0},null,{"$f":"IF(J17=\"x\",(G17-F17)*1440,0)","v":0},null,{"$f":"IF(L17=\"x\",(G17-F17)*1440,0)","v":0},null,{"$f":"IF(N17=\"x\",(G17-F17)*1440,0)","v":0},null,{"$f":"IF(P17=\"x\",(G17-F17)*1440,0)","v":0},{"$f":"IF(ISBLANK(F17),\"\",IF(G17>=F17,(G17-F17)*1440,(1+G17-F17)*1440))","v":""},null,{"$f":"IFERROR(IF(S17=\"\",\"\",((S17/R17))*60),\"\")","v":""},{"$f":"IF(S17=\"\",\"\",S17-(W17+X17))","v":""},{"$f":"IFERROR(IF(S17=\"\",\"\",((U17/S17))*T17),\"\")","v":""},null,null,{"$f":"IFERROR(IF(S17=\"\",\"\",X17/S17),\"\")","v":""},{"$f":"IFERROR(IF(S17=\"\",\"\",(1-(Y17/1000000))*T17),\"\")","v":""}]
[null,null,null,"Downtime",null,null,null,null,{"$f":"IF(H18=\"x\",(G18-F18)*1440,0)","v":0},null,{"$f":"IF(J18=\"x\",(G18-F18)*1440,0)","v":0},null,{"$f":"IF(L18=\"x\",(G18-F18)*1440,0)","v":0},null,{"$f":"IF(N18=\"x\",(G18-F18)*1440,0)","v":0},null,{"$f":"IF(P18=\"x\",(G18-F18)*1440,0)","v":0},{"$f":"IF(ISBLANK(F18),\"\",IF(G18>=F18,(G18-F18)*1440,(1+G18-F18)*1440))","v":""},null,{"$f":"IFERROR(IF(S18=\"\",\"\",((S18/R18))*60),\"\")","v":""},{"$f":"IF(S18=\"\",\"\",S18-(W18+X18))","v":""},{"$f":"IFERROR(IF(S18=\"\",\"\",((U18/S18))*T18),\"\")","v":""},null,null,{"$f":"IFERROR(IF(S18=\"\",\"\",X18/S18),\"\")","v":""},{"$f":"IFERROR(IF(S18=\"\",\"\",(1-(Y18/1000000))*T18),\"\")","v":""}]
["B","breaks/lunch",null,{"$f":"I39","v":0},null,null,null,null,{"$f":"IF(H19=\"x\",(G19-F19)*1440,0)","v":0},null,{"$f":"IF(J19=\"x\",(G19-F19)*1440,0)","v":0},null,{"$f":"IF(L19=\"x\",(G19-F19)*1440,0)","v":0},null,{"$f":"IF(N19=\"x\",(G19-F19)*1440,0)","v":0},null,{"$f":"IF(P19=\"x\",(G19-F19)*1440,0)","v":0},{"$f":"IF(ISBLANK(F19),\"\",IF(G19>=F19,(G19-F19)*1440,(1+G19-F19)*1440))","v":""},null,{"$f":"IFERROR(IF(S19=\"\",\"\",((S19/R19))*60),\"\")","v":""},{"$f":"IF(S19=\"\",\"\",S19-(W19+X19))","v":""},{"$f":"IFERROR(IF(S19=\"\",\"\",((U19/S19))*T19),\"\")","v":""},null,null,{"$f":"IFERROR(IF(S19=\"\",\"\",X19/S19),\"\")","v":""},{"$f":"IFERROR(IF(S19=\"\",\"\",(1-(Y19/1000000))*T19),\"\")","v":""}]
["T","tool change",null,{"$f":"K39","v":0},null,null,null,null,0,null,0,null,0,null,0,null,0,"",null,"","","",null,null,"",""]
["C","changeover",null,{"$f":"M39","v":0},null,null,null,null,0,null,0,null,0,null,0,null,0,"",null,"","","",null,null,"",""]
["O","other planned dntm",null,{"$f":"O39","v":0},null,null,null,null,0,null,0,null,0,null,0,null,0,"",null,"","","",null,null,"",""]
["U","unplanned dntm",null,{"$f":"Q39","v":0},null,null,null,null,0,null,0,null,0,null,0,null,0,"",null,"","","",null,null,"",""]
[null,null,null,null,null,null,null,null,{"$f":"IF(H24=\"x\",(G24-F24)*1440,0)","v":0},null,{"$f":"IF(J24=\"x\",(G24-F24)*1440,0)","v":0},null,{"$f":"IF(L24=\"x\",(G24-F24)*1440,0)","v":0},null,{"$f":"IF(N24=\"x\",(G24-F24)*1440,0)","v":0},null,0,"",null,"","","",null,null,"",""]
[null,null,null,null,null,null,null,null,0,null,0,null,0,null,0,null,0,"",null,"","","",null,null,"",""]
[null,null,null,null,null,null,null,null,0,null,0,null,0,null,0,null,0,"",null,"","","",null,null,"",""]
[null,null,null,null,null,null,null,null,0,null,0,null,0,null,0,null,0,"",null,"","","",null,null,"",""]
[null,null,null,null,null,null,null,null,0,null,0,null,0,null,0,null,0,"",null,"","","",null,null,"",""]
[null,null,null,null,null,null,null,null,0,null,0,null,0,null,0,null,0,"",null,"","","",null,null,"",""]
[null,null,null,null,null,null,null,null,0,null,0,null,0,null,0,null,0,"",null,"","","",null,null,"",""]
[null,null,null,null,null,null,null,null,0,null,0,null,0,null,0,null,0,"",null,"","","",null,null,"",""]
[null,null,null,null,null,null,null,null,0,null,0,null,0,null,0,null,0,"",null,"","","",null,null,"",""]
[null,null,null,null,null,null,null,null,0,null,0,null,0,null,0,null,0,"",null,"","","",null,null,"",""]
[null,null,null,null,null,null,null,null,0,null,0,null,0,null,0,null,0,"",null,"","","",null,null,"",""]
[null,null,null,null,null,null,null,null,0,null,0,null,0,null,0,null,0,"",null,"","","",null,null,"",""]
[null,null,null,null,null,null,null,null,0,null,0,null,0,null,0,null,0,"",null,"","","",null,null,"",""]
[null,null,null,null,null,null,null,null,0,null,0,null,0,null,0,null,0,"",null,"","","",null,null,"",""]
[null,null,null,null,null,null,null,null,0,null,0,null,0,null,0,null,0,"",null,"","","",null,null,"",""]
[null,null,null,null,null,null,null,null,{"$f":"SUM(I15:I38)","v":0},null,{"$f":"SUM(K15:K38)","v":0},null,{"$f":"SUM(M15:M38)","v":0},null,{"$f":"SUM(O15:O38)","v":0},null,{"$f":"SUM(Q15:Q38)","v":0},{"$f":"(G39-F39)*1440","v":0},null,{"$f":"((S39/R39))*60/1440","v":{"$error":"#DIV/0!"}},{"$f":"S39-(W39+X39)","v":0},{"$f":"((U39/S39))*T39","v":{"$error":"#DIV/0!"}},null,null,{"$f":"(X39/S39)*1000000","v":{"$error":"#DIV/0!"}},{"$f":"(1-(Y39/1000000))*T39","v":{"$error":"#DIV/0!"}}]
[null,null,null,null,null,null,null,null,null,null,null,null,null,null,null,null,null,null,{"$f":"SUM(S15:S39)","v":0},null,{"$f":"SUM(U15:U39)","v":0},null,{"$f":"SUM(W15:W39)","v":0}]
[null,null,null,null,null,null,null,null,null,null,null,null,null,null,null,"# of minutes uptime:  ",null,{"$f":"R42-(D20+D21+D23)","v":0},null,"% uptime:  ",{"$f":"IFERROR(R41/R42,\"\")","v":""},null,"FTQ:  ",{"$f":"IFERROR(IF(F15=\"\",\"\",((S40-U40)/S40)*1000000),\"\")","v":""}]
[null,null,null,null,null,null,null,null,null,null,null,null,null,null,null,"Total Run Time:  ",null,{"$f":"SUM(R15:R38)-(D19+D22)","v":0},null,null,null,null,"% Scrap:  ",{"$f":"IFERROR(IF(F15=\"\",\"\",((S40-(U40+W40))/S40)),\"\")","v":""}]
[]
[null,null,null,null,null,null,null,null,null,null,null,"Comments:  Document scrap/rework and downtime here"]

{"sheet":"Process 9 - Actual Run Data","index":13,"n_rows":44,"n_cols":26,"rows_kept":44,"cut":false,"hidden":false,"merged":[[5,2,5,6],[5,23,5,25],[0,0,0,25],[2,20,2,22],[3,22,3,24],[4,2,4,6],[4,23,4,25],[15,0,15,3],[43,11,43,21],[44,11,51,25],[6,2,6,6],[6,23,6,25],[8,21,10,25],[9,9,9,15],[10,9,10,15],[12,7,12,16],[9,1,11,1]]}
["Actual Run Data"]
[]
[]
[]
[null,"Supplier Name:  ",{"$f":"IF('Capacity Plan'!$F$3=\"\",\"\",'Capacity Plan'!$F$3)","v":""},null,null,null,null,null,null,null,null,null,null,null,null,null,null,null,null,null,null,null,"Completed By:  "]
[null,"Process Name:  ",{"$f":"IF('Capacity Plan'!$D$29=\"\",\"\",'Capacity Plan'!$D$29)","v":""}]
[null,"Part Number:  ",{"$f":"IF('Capacity Plan'!$Q$3=\"\",\"\",'Capacity Plan'!$Q$3)","v":""}]
[]
[null,null,null,null,null,null,null,null,null,null,null,null,null,null,null,null,null,"Target","Actual","Difference",null,"PLEASE PRINT HARD COPY FOR USE DURING RUN@RATE.  COMPLETE BY FILLING IN THE HIGHLIGHTED COLUMNS ONLY.  USE MILITARY (24:00 HR) TIME FORMAT."]
[null,"Run @ Rate Summary Data",null,null,null,null,null,null,null,"Time/part",null,null,null,null,null,null,null,{"$f":"IFERROR(IF(F15=\"\",\"\",'Capacity Plan'!L29/'Capacity Plan'!M29),\"\")","v":""},{"$f":"IFERROR(IF(F15=\"\",\"\",3600/S11),\"\")","v":""},{"$f":"IFERROR(IF(F15=\"\",\"\",R10-S10),\"\")","v":""}]
[null,null,null,null,null,null,null,null,null,"Pcs/Hour",null,null,null,null,null,null,null,{"$f":"IFERROR(IF(F15=\"\",\"\",60*60/R10),\"\")","v":""},{"$f":"IFERROR(IF(F15=\"\",\"\",(S40*60/R41)),\"\")","v":""},{"$f":"IFERROR(IF(F15=\"\",\"\",S11-R11),\"\")","v":""}]
[]
[null,"Capacity Plan",null,null,null,"Start Time (hh:mm)","Stop Time (hh:mm)","Downtime Description",null,null,null,null,null,null,null,null,null,"Total Time","Total # of Pcs. Run","Pieces/ Hour","Good Pieces","Good Pcs/Hour","Rework Total","Scrap Total","% Scrap","Net Pcs/Hr (Good + Rework)"]
[null,null,null,null,null,null,null,"B",null,"T",null,"C",null,"O",null,"U",null,null,null,{"$f":"IFERROR(IF(S14=\"\",\"\",((S14/R14))*60),\"\")","v":""},null,{"$f":"IFERROR(IF(S14=\"\",\"\",((U14/S14))*T14),\"\")","v":""},null,null,{"$f":"IFERROR(IF(S14=\"\",\"\",X14/S14),\"\")","v":""},{"$f":"IFERROR(IF(S14=\"\",\"\",(1-(Y14/1000000))*T14),\"\")","v":""}]
[null,null,null,null,null,null,null,null,{"$f":"IF(H15=\"x\",(G15-F15)*1440,0)","v":0},null,{"$f":"IF(J15=\"x\",(G15-F15)*1440,0)","v":0},null,{"$f":"IF(L15=\"x\",(G15-F15)*1440,0)","v":0},null,{"$f":"IF(N15=\"x\",(G15-F15)*1440,0)","v":0},null,{"$f":"IF(P15=\"x\",(G15-F15)*1440,0)","v":0},{"$f":"IF(ISBLANK(F15),\"\",IF(G15>=F15,(G15-F15)*1440,(1+G15-F15)*1440))","v":""},null,{"$f":"IFERROR(IF(S15=\"\",\"\",((S15/R15))*60),\"\")","v":""},{"$f":"IF(S15=\"\",\"\",S15-(W15+X15))","v":""},{"$f":"IFERROR(IF(S15=\"\",\"\",((U15/S15))*T15),\"\")","v":""},null,null,{"$f":"IFERROR(IF(S15=\"\",\"\",X15/S15),\"\")","v":""},{"$f":"IFERROR(IF(S15=\"\",\"\",(1-(Y15/1000000))*T15),\"\")","v":""}]
["Description of Downtime:",null,null,null,null,null,null,null,0,null,0,null,0,null,0,null,{"$f":"IF(P16=\"x\",(G16-F16)*1440,0)","v":0},{"$f":"IF(ISBLANK(F16),\"\",IF(G16>=F16,(G16-F16)*1440,(1+G16-F16)*1440))","v":""},null,{"$f":"IFERROR(IF(S16=\"\",\"\",((S16/R16))*60),\"\")","v":""},{"$f":"IF(S16=\"\",\"\",S16-(W16+X16))","v":""},{"$f":"IFERROR(IF(S16=\"\",\"\",((U16/S16))*T16),\"\")","v":""},null,null,{"$f":"IFERROR(IF(S16=\"\",\"\",X16/S16),\"\")","v":""},{"$f":"IFERROR(IF(S16=\"\",\"\",(1-(Y16/1000000))*T16),\"\")","v":""}]
[null,null,null,null,null,null,null,null,0,null,0,null,0,null,0,null,{"$f":"IF(P17=\"x\",(G17-F17)*1440,0)","v":0},{"$f":"IF(ISBLANK(F17),\"\",IF(G17>=F17,(G17-F17)*1440,(1+G17-F17)*1440))","v":""},null,{"$f":"IFERROR(IF(S17=\"\",\"\",((S17/R17))*60),\"\")","v":""},{"$f":"IF(S17=\"\",\"\",S17-(W17+X17))","v":""},{"$f":"IFERROR(IF(S17=\"\",\"\",((U17/S17))*T17),\"\")","v":""},null,null,{"$f":"IFERROR(IF(S17=\"\",\"\",X17/S17),\"\")","v":""},{"$f":"IFERROR(IF(S17=\"\",\"\",(1-(Y17/1000000))*T17),\"\")","v":""}]
[null,null,null,"Downtime",null,null,null,null,0,null,0,null,0,null,0,null,{"$f":"IF(P18=\"x\",(G18-F18)*1440,0)","v":0},{"$f":"IF(ISBLANK(F18),\"\",IF(G18>=F18,(G18-F18)*1440,(1+G18-F18)*1440))","v":""},null,{"$f":"IFERROR(IF(S18=\"\",\"\",((S18/R18))*60),\"\")","v":""},{"$f":"IF(S18=\"\",\"\",S18-(W18+X18))","v":""},{"$f":"IFERROR(IF(S18=\"\",\"\",((U18/S18))*T18),\"\")","v":""},null,null,{"$f":"IFERROR(IF(S18=\"\",\"\",X18/S18),\"\")","v":""},{"$f":"IFERROR(IF(S18=\"\",\"\",(1-(Y18/1000000))*T18),\"\")","v":""}]
["B","breaks/lunch",null,{"$f":"I39","v":0},null,null,null,null,{"$f":"IF(H19=\"x\",(G19-F19)*1440,0)","v":0},null,{"$f":"IF(J19=\"x\",(G19-F19)*1440,0)","v":0},null,{"$f":"IF(L19=\"x\",(G19-F19)*1440,0)","v":0},null,{"$f":"IF(N19=\"x\",(G19-F19)*1440,0)","v":0},null,{"$f":"IF(P19=\"x\",(G19-F19)*1440,0)","v":0},{"$f":"IF(ISBLANK(F19),\"\",IF(G19>=F19,(G19-F19)*1440,(1+G19-F19)*1440))","v":""},null,{"$f":"IFERROR(IF(S19=\"\",\"\",((S19/R19))*60),\"\")","v":""},{"$f":"IF(S19=\"\",\"\",S19-(W19+X19))","v":""},{"$f":"IFERROR(IF(S19=\"\",\"\",((U19/S19))*T19),\"\")","v":""},null,null,{"$f":"IFERROR(IF(S19=\"\",\"\",X19/S19),\"\")","v":""},{"$f":"IFERROR(IF(S19=\"\",\"\",(1-(Y19/1000000))*T19),\"\")","v":""}]
["T","tool change",null,{"$f":"K39","v":0},null,null,null,null,0,null,0,null,0,null,0,null,0,"",null,"","","",null,null,"",""]
["C","changeover",null,{"$f":"M39","v":0},null,null,null,null,0,null,0,null,0,null,0,null,0,"",null,"","","",null,null,"",""]
["O","other planned dntm",null,{"$f":"O39","v":0},null,null,null,null,0,null,0,null,0,null,0,null,0,"",null,"","","",null,null,"",""]
["U","unplanned dntm",null,{"$f":"Q39","v":0},null,null,null,null,0,null,0,null,0,null,0,null,0,"",null,"","","",null,null,"",""]
[null,null,null,null,null,null,null,null,{"$f":"IF(H24=\"x\",(G24-F24)*1440,0)","v":0},null,{"$f":"IF(J24=\"x\",(G24-F24)*1440,0)","v":0},null,{"$f":"IF(L24=\"x\",(G24-F24)*1440,0)","v":0},null,{"$f":"IF(N24=\"x\",(G24-F24)*1440,0)","v":0},null,0,"",null,"","","",null,null,"",""]
[null,null,null,null,null,null,null,null,0,null,0,null,0,null,0,null,0,"",null,"","","",null,null,"",""]
[null,null,null,null,null,null,null,null,0,null,0,null,0,null,0,null,0,"",null,"","","",null,null,"",""]
[null,null,null,null,null,null,null,null,0,null,0,null,0,null,0,null,0,"",null,"","","",null,null,"",""]
[null,null,null,null,null,null,null,null,0,null,0,null,0,null,0,null,0,"",null,"","","",null,null,"",""]
[null,null,null,null,null,null,null,null,0,null,0,null,0,null,0,null,0,"",null,"","","",null,null,"",""]
[null,null,null,null,null,null,null,null,0,null,0,null,0,null,0,null,0,"",null,"","","",null,null,"",""]
[null,null,null,null,null,null,null,null,0,null,0,null,0,null,0,null,0,"",null,"","","",null,null,"",""]
[null,null,null,null,null,null,null,null,0,null,0,null,0,null,0,null,0,"",null,"","","",null,null,"",""]
[null,null,null,null,null,null,null,null,0,null,0,null,0,null,0,null,0,"",null,"","","",null,null,"",""]
[null,null,null,null,null,null,null,null,0,null,0,null,0,null,0,null,0,"",null,"","","",null,null,"",""]
[null,null,null,null,null,null,null,null,0,null,0,null,0,null,0,null,0,"",null,"","","",null,null,"",""]
[null,null,null,null,null,null,null,null,0,null,0,null,0,null,0,null,0,"",null,"","","",null,null,"",""]
[null,null,null,null,null,null,null,null,0,null,0,null,0,null,0,null,0,"",null,"","","",null,null,"",""]
[null,null,null,null,null,null,null,null,0,null,0,null,0,null,0,null,0,"",null,"","","",null,null,"",""]
[null,null,null,null,null,null,null,null,{"$f":"SUM(I15:I38)","v":0},null,{"$f":"SUM(K15:K38)","v":0},null,{"$f":"SUM(M15:M38)","v":0},null,{"$f":"SUM(O15:O38)","v":0},null,{"$f":"SUM(Q15:Q38)","v":0},{"$f":"(G39-F39)*1440","v":0},null,{"$f":"((S39/R39))*60/1440","v":{"$error":"#DIV/0!"}},{"$f":"S39-(W39+X39)","v":0},{"$f":"((U39/S39))*T39","v":{"$error":"#DIV/0!"}},null,null,{"$f":"(X39/S39)*1000000","v":{"$error":"#DIV/0!"}},{"$f":"(1-(Y39/1000000))*T39","v":{"$error":"#DIV/0!"}}]
[null,null,null,null,null,null,null,null,null,null,null,null,null,null,null,null,null,null,{"$f":"SUM(S15:S39)","v":0},null,{"$f":"SUM(U15:U39)","v":0},null,{"$f":"SUM(W15:W39)","v":0}]
[null,null,null,null,null,null,null,null,null,null,null,null,null,null,null,"# of minutes uptime:  ",null,{"$f":"R42-(D20+D21+D23)","v":0},null,"% uptime:  ",{"$f":"IFERROR(R41/R42,\"\")","v":""},null,"FTQ:  ",{"$f":"IFERROR(IF(F15=\"\",\"\",((S40-U40)/S40)*1000000),\"\")","v":""}]
[null,null,null,null,null,null,null,null,null,null,null,null,null,null,null,"Total Run Time:  ",null,{"$f":"SUM(R15:R38)-(D19+D22)","v":0},null,null,null,null,"% Scrap:  ",{"$f":"IFERROR(IF(F15=\"\",\"\",((S40-(U40+W40))/S40)),\"\")","v":""}]
[]
[null,null,null,null,null,null,null,null,null,null,null,"Comments:  Document scrap/rework and downtime here"]

{"sheet":"Process 10 - Actual Run Data","index":14,"n_rows":44,"n_cols":26,"rows_kept":44,"cut":false,"hidden":false,"merged":[[5,2,5,6],[5,23,5,25],[0,0,0,25],[2,20,2,22],[3,22,3,24],[4,2,4,6],[4,23,4,25],[15,0,15,3],[43,11,43,21],[44,11,51,25],[6,2,6,6],[6,23,6,25],[8,21,10,25],[9,9,9,15],[10,9,10,15],[12,7,12,16],[9,1,11,1]]}
["Actual Run Data"]
[]
[]
[]
[null,"Supplier Name:  ",{"$f":"IF('Capacity Plan'!$F$3=\"\",\"\",'Capacity Plan'!$F$3)","v":""},null,null,null,null,null,null,null,null,null,null,null,null,null,null,null,null,null,null,null,"Completed By:  "]
[null,"Process Name:  ",{"$f":"IF('Capacity Plan'!$D$30=\"\",\"\",'Capacity Plan'!$D$30)","v":""}]
[null,"Part Number:  ",{"$f":"IF('Capacity Plan'!$Q$3=\"\",\"\",'Capacity Plan'!$Q$3)","v":""}]
[]
[null,null,null,null,null,null,null,null,null,null,null,null,null,null,null,null,null,"Target","Actual","Difference",null,"PLEASE PRINT HARD COPY FOR USE DURING RUN@RATE.  COMPLETE BY FILLING IN THE HIGHLIGHTED COLUMNS ONLY.  USE MILITARY (24:00 HR) TIME FORMAT."]
[null,"Run @ Rate Summary Data",null,null,null,null,null,null,null,"Time/part",null,null,null,null,null,null,null,{"$f":"IFERROR(IF(F15=\"\",\"\",'Capacity Plan'!L30/'Capacity Plan'!M30),\"\")","v":""},{"$f":"IFERROR(IF(F15=\"\",\"\",3600/S11),\"\")","v":""},{"$f":"IFERROR(IF(F15=\"\",\"\",R10-S10),\"\")","v":""}]
[null,null,null,null,null,null,null,null,null,"Pcs/Hour",null,null,null,null,null,null,null,{"$f":"IFERROR(IF(F15=\"\",\"\",60*60/R10),\"\")","v":""},{"$f":"IFERROR(IF(F15=\"\",\"\",(S40*60/R41)),\"\")","v":""},{"$f":"IFERROR(IF(F15=\"\",\"\",S11-R11),\"\")","v":""}]
[]
[null,"Capacity Plan",null,null,null,"Start Time (hh:mm)","Stop Time (hh:mm)","Downtime Description",null,null,null,null,null,null,null,null,null,"Total Time","Total # of Pcs. Run","Pieces/ Hour","Good Pieces","Good Pcs/Hour","Rework Total","Scrap Total","% Scrap","Net Pcs/Hr (Good + Rework)"]
[null,null,null,null,null,null,null,"B",null,"T",null,"C",null,"O",null,"U",null,null,null,{"$f":"IFERROR(IF(S14=\"\",\"\",((S14/R14))*60),\"\")","v":""},null,{"$f":"IFERROR(IF(S14=\"\",\"\",((U14/S14))*T14),\"\")","v":""},null,null,{"$f":"IFERROR(IF(S14=\"\",\"\",X14/S14),\"\")","v":""},{"$f":"IFERROR(IF(S14=\"\",\"\",(1-(Y14/1000000))*T14),\"\")","v":""}]
[null,null,null,null,null,null,null,null,{"$f":"IF(H15=\"x\",(G15-F15)*1440,0)","v":0},null,{"$f":"IF(J15=\"x\",(G15-F15)*1440,0)","v":0},null,{"$f":"IF(L15=\"x\",(G15-F15)*1440,0)","v":0},null,{"$f":"IF(N15=\"x\",(G15-F15)*1440,0)","v":0},null,{"$f":"IF(P15=\"x\",(G15-F15)*1440,0)","v":0},{"$f":"IF(ISBLANK(F15),\"\",IF(G15>=F15,(G15-F15)*1440,(1+G15-F15)*1440))","v":""},null,{"$f":"IFERROR(IF(S15=\"\",\"\",((S15/R15))*60),\"\")","v":""},{"$f":"IF(S15=\"\",\"\",S15-(W15+X15))","v":""},{"$f":"IFERROR(IF(S15=\"\",\"\",((U15/S15))*T15),\"\")","v":""},null,null,{"$f":"IFERROR(IF(S15=\"\",\"\",X15/S15),\"\")","v":""},{"$f":"IFERROR(IF(S15=\"\",\"\",(1-(Y15/1000000))*T15),\"\")","v":""}]
["Description of Downtime:",null,null,null,null,null,null,null,0,null,0,null,0,null,0,null,{"$f":"IF(P16=\"x\",(G16-F16)*1440,0)","v":0},{"$f":"IF(ISBLANK(F16),\"\",IF(G16>=F16,(G16-F16)*1440,(1+G16-F16)*1440))","v":""},null,{"$f":"IFERROR(IF(S16=\"\",\"\",((S16/R16))*60),\"\")","v":""},{"$f":"IF(S16=\"\",\"\",S16-(W16+X16))","v":""},{"$f":"IFERROR(IF(S16=\"\",\"\",((U16/S16))*T16),\"\")","v":""},null,null,{"$f":"IFERROR(IF(S16=\"\",\"\",X16/S16),\"\")","v":""},{"$f":"IFERROR(IF(S16=\"\",\"\",(1-(Y16/1000000))*T16),\"\")","v":""}]
[null,null,null,null,null,null,null,null,0,null,0,null,0,null,0,null,0,"",null,"","","",null,null,"",""]
[null,null,null,"Downtime",null,null,null,null,0,null,0,null,0,null,0,null,0,"",null,"","","",null,null,"",""]
["B","breaks/lunch",null,{"$f":"I39","v":0},null,null,null,null,0,null,0,null,0,null,0,null,0,"",null,"","","",null,null,"",""]
["T","tool change",null,{"$f":"K39","v":0},null,null,null,null,0,null,0,null,0,null,0,null,0,"",null,"","","",null,null,"",""]
["C","changeover",null,{"$f":"M39","v":0},null,null,null,null,0,null,0,null,0,null,0,null,0,"",null,"","","",null,null,"",""]
["O","other planned dntm",null,{"$f":"O39","v":0},null,null,null,null,0,null,0,null,0,null,0,null,0,"",null,"","","",null,null,"",""]
["U","unplanned dntm",null,{"$f":"Q39","v":0},null,null,null,null,0,null,0,null,0,null,0,null,0,"",null,"","","",null,null,"",""]
[null,null,null,null,null,null,null,null,{"$f":"IF(H24=\"x\",(G24-F24)*1440,0)","v":0},null,{"$f":"IF(J24=\"x\",(G24-F24)*1440,0)","v":0},null,{"$f":"IF(L24=\"x\",(G24-F24)*1440,0)","v":0},null,{"$f":"IF(N24=\"x\",(G24-F24)*1440,0)","v":0},null,0,"",null,"","","",null,null,"",""]
[null,null,null,null,null,null,null,null,0,null,0,null,0,null,0,null,0,"",null,"","","",null,null,"",""]
[null,null,null,null,null,null,null,null,0,null,0,null,0,null,0,null,0,"",null,"","","",null,null,"",""]
[null,null,null,null,null,null,null,null,0,null,0,null,0,null,0,null,0,"",null,"","","",null,null,"",""]
[null,null,null,null,null,null,null,null,0,null,0,null,0,null,0,null,0,"",null,"","","",null,null,"",""]
[null,null,null,null,null,null,null,null,0,null,0,null,0,null,0,null,0,"",null,"","","",null,null,"",""]
[null,null,null,null,null,null,null,null,0,null,0,null,0,null,0,null,0,"",null,"","","",null,null,"",""]
[null,null,null,null,null,null,null,null,0,null,0,null,0,null,0,null,0,"",null,"","","",null,null,"",""]
[null,null,null,null,null,null,null,null,0,null,0,null,0,null,0,null,0,"",null,"","","",null,null,"",""]
[null,null,null,null,null,null,null,null,0,null,0,null,0,null,0,null,0,"",null,"","","",null,null,"",""]
[null,null,null,null,null,null,null,null,0,null,0,null,0,null,0,null,0,"",null,"","","",null,null,"",""]
[null,null,null,null,null,null,null,null,0,null,0,null,0,null,0,null,0,"",null,"","","",null,null,"",""]
[null,null,null,null,null,null,null,null,0,null,0,null,0,null,0,null,0,"",null,"","","",null,null,"",""]
[null,null,null,null,null,null,null,null,0,null,0,null,0,null,0,null,0,"",null,"","","",null,null,"",""]
[null,null,null,null,null,null,null,null,0,null,0,null,0,null,0,null,0,"",null,"","","",null,null,"",""]
[null,null,null,null,null,null,null,null,{"$f":"SUM(I15:I38)","v":0},null,{"$f":"SUM(K15:K38)","v":0},null,{"$f":"SUM(M15:M38)","v":0},null,{"$f":"SUM(O15:O38)","v":0},null,{"$f":"SUM(Q15:Q38)","v":0},{"$f":"(G39-F39)*1440","v":0},null,{"$f":"((S39/R39))*60/1440","v":{"$error":"#DIV/0!"}},{"$f":"S39-(W39+X39)","v":0},{"$f":"((U39/S39))*T39","v":{"$error":"#DIV/0!"}},null,null,{"$f":"(X39/S39)*1000000","v":{"$error":"#DIV/0!"}},{"$f":"(1-(Y39/1000000))*T39","v":{"$error":"#DIV/0!"}}]
[null,null,null,null,null,null,null,null,null,null,null,null,null,null,null,null,null,null,{"$f":"SUM(S15:S39)","v":0},null,{"$f":"SUM(U15:U39)","v":0},null,{"$f":"SUM(W15:W39)","v":0}]
[null,null,null,null,null,null,null,null,null,null,null,null,null,null,null,"# of minutes uptime:  ",null,{"$f":"R42-(D20+D21+D23)","v":0},null,"% uptime:  ",{"$f":"IFERROR(R41/R42,\"\")","v":""},null,"FTQ:  ",{"$f":"IFERROR(IF(F15=\"\",\"\",((S40-U40)/S40)*1000000),\"\")","v":""}]
[null,null,null,null,null,null,null,null,null,null,null,null,null,null,null,"Total Run Time:  ",null,{"$f":"SUM(R15:R38)-(D19+D22)","v":0},null,null,null,null,"% Scrap:  ",{"$f":"IFERROR(IF(F15=\"\",\"\",((S40-(U40+W40))/S40)),\"\")","v":""}]
[]
[null,null,null,null,null,null,null,null,null,null,null,"Comments:  Document scrap/rework and downtime here"]

{"sheet":"Process 11 - Actual Run Data","index":15,"n_rows":44,"n_cols":26,"rows_kept":44,"cut":false,"hidden":false,"merged":[[5,2,5,6],[5,23,5,25],[0,0,0,25],[2,20,2,22],[3,22,3,24],[4,2,4,6],[4,23,4,25],[15,0,15,3],[43,11,43,21],[44,11,51,25],[6,2,6,6],[6,23,6,25],[8,21,10,25],[9,9,9,15],[10,9,10,15],[12,7,12,16],[9,1,11,1]]}
["Actual Run Data"]
[]
[]
[]
[null,"Supplier Name:  ",{"$f":"IF('Capacity Plan'!$F$3=\"\",\"\",'Capacity Plan'!$F$3)","v":""},null,null,null,null,null,null,null,null,null,null,null,null,null,null,null,null,null,null,null,"Completed By:  "]
[null,"Process Name:  ",{"$f":"IF('Capacity Plan'!$D$31=\"\",\"\",'Capacity Plan'!$D$31)","v":""}]
[null,"Part Number:  ",{"$f":"IF('Capacity Plan'!$Q$3=\"\",\"\",'Capacity Plan'!$Q$3)","v":""}]
[]
[null,null,null,null,null,null,null,null,null,null,null,null,null,null,null,null,null,"Target","Actual","Difference",null,"PLEASE PRINT HARD COPY FOR USE DURING RUN@RATE.  COMPLETE BY FILLING IN THE HIGHLIGHTED COLUMNS ONLY.  USE MILITARY (24:00 HR) TIME FORMAT."]
[null,"Run @ Rate Summary Data",null,null,null,null,null,null,null,"Time/part",null,null,null,null,null,null,null,{"$f":"IFERROR(IF(F15=\"\",\"\",'Capacity Plan'!L31/'Capacity Plan'!M31),\"\")","v":""},{"$f":"IFERROR(IF(F15=\"\",\"\",3600/S11),\"\")","v":""},{"$f":"IFERROR(IF(F15=\"\",\"\",R10-S10),\"\")","v":""}]
[null,null,null,null,null,null,null,null,null,"Pcs/Hour",null,null,null,null,null,null,null,{"$f":"IFERROR(IF(F15=\"\",\"\",60*60/R10),\"\")","v":""},{"$f":"IFERROR(IF(F15=\"\",\"\",(S40*60/R41)),\"\")","v":""},{"$f":"IFERROR(IF(F15=\"\",\"\",S11-R11),\"\")","v":""}]
[]
[null,"Capacity Plan",null,null,null,"Start Time (hh:mm)","Stop Time (hh:mm)","Downtime Description",null,null,null,null,null,null,null,null,null,"Total Time","Total # of Pcs. Run","Pieces/ Hour","Good Pieces","Good Pcs/Hour","Rework Total","Scrap Total","% Scrap","Net Pcs/Hr (Good + Rework)"]
[null,null,null,null,null,null,null,"B",null,"T",null,"C",null,"O",null,"U",null,null,null,{"$f":"IFERROR(IF(S14=\"\",\"\",((S14/R14))*60),\"\")","v":""},null,{"$f":"IFERROR(IF(S14=\"\",\"\",((U14/S14))*T14),\"\")","v":""},null,null,{"$f":"IFERROR(IF(S14=\"\",\"\",X14/S14),\"\")","v":""},{"$f":"IFERROR(IF(S14=\"\",\"\",(1-(Y14/1000000))*T14),\"\")","v":""}]
[null,null,null,null,null,null,null,null,{"$f":"IF(H15=\"x\",(G15-F15)*1440,0)","v":0},null,{"$f":"IF(J15=\"x\",(G15-F15)*1440,0)","v":0},null,{"$f":"IF(L15=\"x\",(G15-F15)*1440,0)","v":0},null,{"$f":"IF(N15=\"x\",(G15-F15)*1440,0)","v":0},null,{"$f":"IF(P15=\"x\",(G15-F15)*1440,0)","v":0},{"$f":"IF(ISBLANK(F15),\"\",IF(G15>=F15,(G15-F15)*1440,(1+G15-F15)*1440))","v":""},null,{"$f":"IFERROR(IF(S15=\"\",\"\",((S15/R15))*60),\"\")","v":""},{"$f":"IF(S15=\"\",\"\",S15-(W15+X15))","v":""},{"$f":"IFERROR(IF(S15=\"\",\"\",((U15/S15))*T15),\"\")","v":""},null,null,{"$f":"IFERROR(IF(S15=\"\",\"\",X15/S15),\"\")","v":""},{"$f":"IFERROR(IF(S15=\"\",\"\",(1-(Y15/1000000))*T15),\"\")","v":""}]
["Description of Downtime:",null,null,null,null,null,null,null,0,null,0,null,0,null,0,null,{"$f":"IF(P16=\"x\",(G16-F16)*1440,0)","v":0},{"$f":"IF(ISBLANK(F16),\"\",IF(G16>=F16,(G16-F16)*1440,(1+G16-F16)*1440))","v":""},null,{"$f":"IFERROR(IF(S16=\"\",\"\",((S16/R16))*60),\"\")","v":""},{"$f":"IF(S16=\"\",\"\",S16-(W16+X16))","v":""},{"$f":"IFERROR(IF(S16=\"\",\"\",((U16/S16))*T16),\"\")","v":""},null,null,{"$f":"IFERROR(IF(S16=\"\",\"\",X16/S16),\"\")","v":""},{"$f":"IFERROR(IF(S16=\"\",\"\",(1-(Y16/1000000))*T16),\"\")","v":""}]
[null,null,null,null,null,null,null,null,0,null,0,null,0,null,0,null,0,"",null,"","","",null,null,"",""]
[null,null,null,"Downtime",null,null,null,null,0,null,0,null,0,null,0,null,0,"",null,"","","",null,null,"",""]
["B","breaks/lunch",null,{"$f":"I39","v":0},null,null,null,null,0,null,0,null,0,null,0,null,0,"",null,"","","",null,null,"",""]
["T","tool change",null,{"$f":"K39","v":0},null,null,null,null,0,null,0,null,0,null,0,null,0,"",null,"","","",null,null,"",""]
["C","changeover",null,{"$f":"M39","v":0},null,null,null,null,0,null,0,null,0,null,0,null,0,"",null,"","","",null,null,"",""]
["O","other planned dntm",null,{"$f":"O39","v":0},null,null,null,null,0,null,0,null,0,null,0,null,0,"",null,"","","",null,null,"",""]
["U","unplanned dntm",null,{"$f":"Q39","v":0},null,null,null,null,0,null,0,null,0,null,0,null,0,"",null,"","","",null,null,"",""]
[null,null,null,null,null,null,null,null,{"$f":"IF(H24=\"x\",(G24-F24)*1440,0)","v":0},null,{"$f":"IF(J24=\"x\",(G24-F24)*1440,0)","v":0},null,{"$f":"IF(L24=\"x\",(G24-F24)*1440,0)","v":0},null,{"$f":"IF(N24=\"x\",(G24-F24)*1440,0)","v":0},null,0,"",null,"","","",null,null,"",""]
[null,null,null,null,null,null,null,null,0,null,0,null,0,null,0,null,0,"",null,"","","",null,null,"",""]
[null,null,null,null,null,null,null,null,0,null,0,null,0,null,0,null,0,"",null,"","","",null,null,"",""]
[null,null,null,null,null,null,null,null,0,null,0,null,0,null,0,null,0,"",null,"","","",null,null,"",""]
[null,null,null,null,null,null,null,null,0,null,0,null,0,null,0,null,0,"",null,"","","",null,null,"",""]
[null,null,null,null,null,null,null,null,0,null,0,null,0,null,0,null,0,"",null,"","","",null,null,"",""]
[null,null,null,null,null,null,null,null,0,null,0,null,0,null,0,null,0,"",null,"","","",null,null,"",""]
[null,null,null,null,null,null,null,null,0,null,0,null,0,null,0,null,0,"",null,"","","",null,null,"",""]
[null,null,null,null,null,null,null,null,0,null,0,null,0,null,0,null,0,"",null,"","","",null,null,"",""]
[null,null,null,null,null,null,null,null,0,null,0,null,0,null,0,null,0,"",null,"","","",null,null,"",""]
[null,null,null,null,null,null,null,null,0,null,0,null,0,null,0,null,0,"",null,"","","",null,null,"",""]
[null,null,null,null,null,null,null,null,0,null,0,null,0,null,0,null,0,"",null,"","","",null,null,"",""]
[null,null,null,null,null,null,null,null,0,null,0,null,0,null,0,null,0,"",null,"","","",null,null,"",""]
[null,null,null,null,null,null,null,null,0,null,0,null,0,null,0,null,0,"",null,"","","",null,null,"",""]
[null,null,null,null,null,null,null,null,0,null,0,null,0,null,0,null,0,"",null,"","","",null,null,"",""]
[null,null,null,null,null,null,null,null,{"$f":"SUM(I15:I38)","v":0},null,{"$f":"SUM(K15:K38)","v":0},null,{"$f":"SUM(M15:M38)","v":0},null,{"$f":"SUM(O15:O38)","v":0},null,{"$f":"SUM(Q15:Q38)","v":0},{"$f":"(G39-F39)*1440","v":0},null,{"$f":"((S39/R39))*60/1440","v":{"$error":"#DIV/0!"}},{"$f":"S39-(W39+X39)","v":0},{"$f":"((U39/S39))*T39","v":{"$error":"#DIV/0!"}},null,null,{"$f":"(X39/S39)*1000000","v":{"$error":"#DIV/0!"}},{"$f":"(1-(Y39/1000000))*T39","v":{"$error":"#DIV/0!"}}]
[null,null,null,null,null,null,null,null,null,null,null,null,null,null,null,null,null,null,{"$f":"SUM(S15:S39)","v":0},null,{"$f":"SUM(U15:U39)","v":0},null,{"$f":"SUM(W15:W39)","v":0}]
[null,null,null,null,null,null,null,null,null,null,null,null,null,null,null,"# of minutes uptime:  ",null,{"$f":"R42-(D20+D21+D23)","v":0},null,"% uptime:  ",{"$f":"IFERROR(R41/R42,\"\")","v":""},null,"FTQ:  ",{"$f":"IFERROR(IF(F15=\"\",\"\",((S40-U40)/S40)*1000000),\"\")","v":""}]
[null,null,null,null,null,null,null,null,null,null,null,null,null,null,null,"Total Run Time:  ",null,{"$f":"SUM(R15:R38)-(D19+D22)","v":0},null,null,null,null,"% Scrap:  ",{"$f":"IFERROR(IF(F15=\"\",\"\",((S40-(U40+W40))/S40)),\"\")","v":""}]
[]
[null,null,null,null,null,null,null,null,null,null,null,"Comments:  Document scrap/rework and downtime here"]

{"sheet":"Process 12 - Actual Run Data","index":16,"n_rows":44,"n_cols":26,"rows_kept":44,"cut":false,"hidden":false,"merged":[[5,2,5,6],[5,23,5,25],[0,0,0,25],[2,20,2,22],[3,22,3,24],[4,2,4,6],[4,23,4,25],[15,0,15,3],[43,11,43,21],[44,11,51,25],[6,2,6,6],[6,23,6,25],[8,21,10,25],[9,9,9,15],[10,9,10,15],[12,7,12,16],[9,1,11,1]]}
["Actual Run Data"]
[]
[]
[]
[null,"Supplier Name:  ",{"$f":"IF('Capacity Plan'!$F$3=\"\",\"\",'Capacity Plan'!$F$3)","v":""},null,null,null,null,null,null,null,null,null,null,null,null,null,null,null,null,null,null,null,"Completed By:  "]
[null,"Process Name:  ",{"$f":"IF('Capacity Plan'!$D$32=\"\",\"\",'Capacity Plan'!$D$32)","v":""}]
[null,"Part Number:  ",{"$f":"IF('Capacity Plan'!$Q$3=\"\",\"\",'Capacity Plan'!$Q$3)","v":""}]
[]
[null,null,null,null,null,null,null,null,null,null,null,null,null,null,null,null,null,"Target","Actual","Difference",null,"PLEASE PRINT HARD COPY FOR USE DURING RUN@RATE.  COMPLETE BY FILLING IN THE HIGHLIGHTED COLUMNS ONLY.  USE MILITARY (24:00 HR) TIME FORMAT."]
[null,"Run @ Rate Summary Data",null,null,null,null,null,null,null,"Time/part",null,null,null,null,null,null,null,{"$f":"IFERROR(IF(F15=\"\",\"\",'Capacity Plan'!L32/'Capacity Plan'!M32),\"\")","v":""},{"$f":"IFERROR(IF(F15=\"\",\"\",3600/S11),\"\")","v":""},{"$f":"IFERROR(IF(F15=\"\",\"\",R10-S10),\"\")","v":""}]
[null,null,null,null,null,null,null,null,null,"Pcs/Hour",null,null,null,null,null,null,null,{"$f":"IFERROR(IF(F15=\"\",\"\",60*60/R10),\"\")","v":""},{"$f":"IFERROR(IF(F15=\"\",\"\",(S40*60/R41)),\"\")","v":""},{"$f":"IFERROR(IF(F15=\"\",\"\",S11-R11),\"\")","v":""}]
[]
[null,"Capacity Plan",null,null,null,"Start Time (hh:mm)","Stop Time (hh:mm)","Downtime Description",null,null,null,null,null,null,null,null,null,"Total Time","Total # of Pcs. Run","Pieces/ Hour","Good Pieces","Good Pcs/Hour","Rework Total","Scrap Total","% Scrap","Net Pcs/Hr (Good + Rework)"]
[null,null,null,null,null,null,null,"B",null,"T",null,"C",null,"O",null,"U",null,null,null,{"$f":"IFERROR(IF(S14=\"\",\"\",((S14/R14))*60),\"\")","v":""},null,{"$f":"IFERROR(IF(S14=\"\",\"\",((U14/S14))*T14),\"\")","v":""},null,null,{"$f":"IFERROR(IF(S14=\"\",\"\",X14/S14),\"\")","v":""},{"$f":"IFERROR(IF(S14=\"\",\"\",(1-(Y14/1000000))*T14),\"\")","v":""}]
[null,null,null,null,null,null,null,null,{"$f":"IF(H15=\"x\",(G15-F15)*1440,0)","v":0},null,{"$f":"IF(J15=\"x\",(G15-F15)*1440,0)","v":0},null,{"$f":"IF(L15=\"x\",(G15-F15)*1440,0)","v":0},null,{"$f":"IF(N15=\"x\",(G15-F15)*1440,0)","v":0},null,{"$f":"IF(P15=\"x\",(G15-F15)*1440,0)","v":0},{"$f":"IF(ISBLANK(F15),\"\",IF(G15>=F15,(G15-F15)*1440,(1+G15-F15)*1440))","v":""},null,{"$f":"IFERROR(IF(S15=\"\",\"\",((S15/R15))*60),\"\")","v":""},{"$f":"IF(S15=\"\",\"\",S15-(W15+X15))","v":""},{"$f":"IFERROR(IF(S15=\"\",\"\",((U15/S15))*T15),\"\")","v":""},null,null,{"$f":"IFERROR(IF(S15=\"\",\"\",X15/S15),\"\")","v":""},{"$f":"IFERROR(IF(S15=\"\",\"\",(1-(Y15/1000000))*T15),\"\")","v":""}]
["Description of Downtime:",null,null,null,null,null,null,null,0,null,0,null,0,null,0,null,{"$f":"IF(P16=\"x\",(G16-F16)*1440,0)","v":0},{"$f":"IF(ISBLANK(F16),\"\",IF(G16>=F16,(G16-F16)*1440,(1+G16-F16)*1440))","v":""},null,{"$f":"IFERROR(IF(S16=\"\",\"\",((S16/R16))*60),\"\")","v":""},{"$f":"IF(S16=\"\",\"\",S16-(W16+X16))","v":""},{"$f":"IFERROR(IF(S16=\"\",\"\",((U16/S16))*T16),\"\")","v":""},null,null,{"$f":"IFERROR(IF(S16=\"\",\"\",X16/S16),\"\")","v":""},{"$f":"IFERROR(IF(S16=\"\",\"\",(1-(Y16/1000000))*T16),\"\")","v":""}]
[null,null,null,null,null,null,null,null,{"$f":"IF(H17=\"x\",(G17-F17)*1440,0)","v":0},null,{"$f":"IF(J17=\"x\",(G17-F17)*1440,0)","v":0},null,{"$f":"IF(L17=\"x\",(G17-F17)*1440,0)","v":0},null,{"$f":"IF(N17=\"x\",(G17-F17)*1440,0)","v":0},null,{"$f":"IF(P17=\"x\",(G17-F17)*1440,0)","v":0},{"$f":"IF(ISBLANK(F17),\"\",IF(G17>=F17,(G17-F17)*1440,(1+G17-F17)*1440))","v":""},null,{"$f":"IFERROR(IF(S17=\"\",\"\",((S17/R17))*60),\"\")","v":""},{"$f":"IF(S17=\"\",\"\",S17-(W17+X17))","v":""},{"$f":"IFERROR(IF(S17=\"\",\"\",((U17/S17))*T17),\"\")","v":""},null,null,{"$f":"IFERROR(IF(S17=\"\",\"\",X17/S17),\"\")","v":""},{"$f":"IFERROR(IF(S17=\"\",\"\",(1-(Y17/1000000))*T17),\"\")","v":""}]
[null,null,null,"Downtime",null,null,null,null,{"$f":"IF(H18=\"x\",(G18-F18)*1440,0)","v":0},null,{"$f":"IF(J18=\"x\",(G18-F18)*1440,0)","v":0},null,{"$f":"IF(L18=\"x\",(G18-F18)*1440,0)","v":0},null,{"$f":"IF(N18=\"x\",(G18-F18)*1440,0)","v":0},null,{"$f":"IF(P18=\"x\",(G18-F18)*1440,0)","v":0},{"$f":"IF(ISBLANK(F18),\"\",IF(G18>=F18,(G18-F18)*1440,(1+G18-F18)*1440))","v":""},null,{"$f":"IFERROR(IF(S18=\"\",\"\",((S18/R18))*60),\"\")","v":""},{"$f":"IF(S18=\"\",\"\",S18-(W18+X18))","v":""},{"$f":"IFERROR(IF(S18=\"\",\"\",((U18/S18))*T18),\"\")","v":""},null,null,{"$f":"IFERROR(IF(S18=\"\",\"\",X18/S18),\"\")","v":""},{"$f":"IFERROR(IF(S18=\"\",\"\",(1-(Y18/1000000))*T18),\"\")","v":""}]
["B","breaks/lunch",null,{"$f":"I39","v":0},null,null,null,null,{"$f":"IF(H19=\"x\",(G19-F19)*1440,0)","v":0},null,{"$f":"IF(J19=\"x\",(G19-F19)*1440,0)","v":0},null,{"$f":"IF(L19=\"x\",(G19-F19)*1440,0)","v":0},null,{"$f":"IF(N19=\"x\",(G19-F19)*1440,0)","v":0},null,{"$f":"IF(P19=\"x\",(G19-F19)*1440,0)","v":0},{"$f":"IF(ISBLANK(F19),\"\",IF(G19>=F19,(G19-F19)*1440,(1+G19-F19)*1440))","v":""},null,{"$f":"IFERROR(IF(S19=\"\",\"\",((S19/R19))*60),\"\")","v":""},{"$f":"IF(S19=\"\",\"\",S19-(W19+X19))","v":""},{"$f":"IFERROR(IF(S19=\"\",\"\",((U19/S19))*T19),\"\")","v":""},null,null,{"$f":"IFERROR(IF(S19=\"\",\"\",X19/S19),\"\")","v":""},{"$f":"IFERROR(IF(S19=\"\",\"\",(1-(Y19/1000000))*T19),\"\")","v":""}]
["T","tool change",null,{"$f":"K39","v":0},null,null,null,null,0,null,0,null,0,null,0,null,0,"",null,"","","",null,null,"",""]
["C","changeover",null,{"$f":"M39","v":0},null,null,null,null,0,null,0,null,0,null,0,null,0,"",null,"","","",null,null,"",""]
["O","other planned dntm",null,{"$f":"O39","v":0},null,null,null,null,0,null,0,null,0,null,0,null,0,"",null,"","","",null,null,"",""]
["U","unplanned dntm",null,{"$f":"Q39","v":0},null,null,null,null,0,null,0,null,0,null,0,null,0,"",null,"","","",null,null,"",""]
[null,null,null,null,null,null,null,null,{"$f":"IF(H24=\"x\",(G24-F24)*1440,0)","v":0},null,{"$f":"IF(J24=\"x\",(G24-F24)*1440,0)","v":0},null,{"$f":"IF(L24=\"x\",(G24-F24)*1440,0)","v":0},null,{"$f":"IF(N24=\"x\",(G24-F24)*1440,0)","v":0},null,0,"",null,"","","",null,null,"",""]
[null,null,null,null,null,null,null,null,0,null,0,null,0,null,0,null,0,"",null,"","","",null,null,"",""]
[null,null,null,null,null,null,null,null,0,null,0,null,0,null,0,null,0,"",null,"","","",null,null,"",""]
[null,null,null,null,null,null,null,null,0,null,0,null,0,null,0,null,0,"",null,"","","",null,null,"",""]
[null,null,null,null,null,null,null,null,0,null,0,null,0,null,0,null,0,"",null,"","","",null,null,"",""]
[null,null,null,null,null,null,null,null,0,null,0,null,0,null,0,null,0,"",null,"","","",null,null,"",""]
[null,null,null,null,null,null,null,null,0,null,0,null,0,null,0,null,0,"",null,"","","",null,null,"",""]
[null,null,null,null,null,null,null,null,0,null,0,null,0,null,0,null,0,"",null,"","","",null,null,"",""]
[null,null,null,null,null,null,null,null,0,null,0,null,0,null,0,null,0,"",null,"","","",null,null,"",""]
[null,null,null,null,null,null,null,null,0,null,0,null,0,null,0,null,0,"",null,"","","",null,null,"",""]
[null,null,null,null,null,null,null,null,0,null,0,null,0,null,0,null,0,"",null,"","","",null,null,"",""]
[null,null,null,null,null,null,null,null,0,null,0,null,0,null,0,null,0,"",null,"","","",null,null,"",""]
[null,null,null,null,null,null,null,null,0,null,0,null,0,null,0,null,0,"",null,"","","",null,null,"",""]
[null,null,null,null,null,null,null,null,0,null,0,null,0,null,0,null,0,"",null,"","","",null,null,"",""]
[null,null,null,null,null,null,null,null,0,null,0,null,0,null,0,null,0,"",null,"","","",null,null,"",""]
[null,null,null,null,null,null,null,null,{"$f":"SUM(I15:I38)","v":0},null,{"$f":"SUM(K15:K38)","v":0},null,{"$f":"SUM(M15:M38)","v":0},null,{"$f":"SUM(O15:O38)","v":0},null,{"$f":"SUM(Q15:Q38)","v":0},{"$f":"(G39-F39)*1440","v":0},null,{"$f":"((S39/R39))*60/1440","v":{"$error":"#DIV/0!"}},{"$f":"S39-(W39+X39)","v":0},{"$f":"((U39/S39))*T39","v":{"$error":"#DIV/0!"}},null,null,{"$f":"(X39/S39)*1000000","v":{"$error":"#DIV/0!"}},{"$f":"(1-(Y39/1000000))*T39","v":{"$error":"#DIV/0!"}}]
[null,null,null,null,null,null,null,null,null,null,null,null,null,null,null,null,null,null,{"$f":"SUM(S15:S39)","v":0},null,{"$f":"SUM(U15:U39)","v":0},null,{"$f":"SUM(W15:W39)","v":0}]
[null,null,null,null,null,null,null,null,null,null,null,null,null,null,null,"# of minutes uptime:  ",null,{"$f":"R42-(D20+D21+D23)","v":0},null,"% uptime:  ",{"$f":"IFERROR(R41/R42,\"\")","v":""},null,"FTQ:  ",{"$f":"IFERROR(IF(F15=\"\",\"\",((S40-U40)/S40)*1000000),\"\")","v":""}]
[null,null,null,null,null,null,null,null,null,null,null,null,null,null,null,"Total Run Time:  ",null,{"$f":"SUM(R15:R38)-(D19+D22)","v":0},null,null,null,null,"% Scrap:  ",{"$f":"IFERROR(IF(F15=\"\",\"\",((S40-(U40+W40))/S40)),\"\")","v":""}]
[]
[null,null,null,null,null,null,null,null,null,null,null,"Comments:  Document scrap/rework and downtime here"]

{"sheet":"Process 13 - Actual Run Data","index":17,"n_rows":44,"n_cols":26,"rows_kept":44,"cut":false,"hidden":false,"merged":[[5,2,5,6],[5,23,5,25],[0,0,0,25],[2,20,2,22],[3,22,3,24],[4,2,4,6],[4,23,4,25],[15,0,15,3],[43,11,43,21],[44,11,51,25],[6,2,6,6],[6,23,6,25],[8,21,10,25],[9,9,9,15],[10,9,10,15],[12,7,12,16],[9,1,11,1]]}
["Actual Run Data"]
[]
[]
[]
[null,"Supplier Name:  ",{"$f":"IF('Capacity Plan'!$F$3=\"\",\"\",'Capacity Plan'!$F$3)","v":""},null,null,null,null,null,null,null,null,null,null,null,null,null,null,null,null,null,null,null,"Completed By:  "]
[null,"Process Name:  ",{"$f":"IF('Capacity Plan'!$D$33=\"\",\"\",'Capacity Plan'!$D$33)","v":""}]
[null,"Part Number:  ",{"$f":"IF('Capacity Plan'!$Q$3=\"\",\"\",'Capacity Plan'!$Q$3)","v":""}]
[]
[null,null,null,null,null,null,null,null,null,null,null,null,null,null,null,null,null,"Target","Actual","Difference",null,"PLEASE PRINT HARD COPY FOR USE DURING RUN@RATE.  COMPLETE BY FILLING IN THE HIGHLIGHTED COLUMNS ONLY.  USE MILITARY (24:00 HR) TIME FORMAT."]
[null,"Run @ Rate Summary Data",null,null,null,null,null,null,null,"Time/part",null,null,null,null,null,null,null,{"$f":"IFERROR(IF(F15=\"\",\"\",'Capacity Plan'!L33/'Capacity Plan'!M33),\"\")","v":""},{"$f":"IFERROR(IF(F15=\"\",\"\",3600/S11),\"\")","v":""},{"$f":"IFERROR(IF(F15=\"\",\"\",R10-S10),\"\")","v":""}]
[null,null,null,null,null,null,null,null,null,"Pcs/Hour",null,null,null,null,null,null,null,{"$f":"IFERROR(IF(F15=\"\",\"\",60*60/R10),\"\")","v":""},{"$f":"IFERROR(IF(F15=\"\",\"\",(S40*60/R41)),\"\")","v":""},{"$f":"IFERROR(IF(F15=\"\",\"\",S11-R11),\"\")","v":""}]
[]
[null,"Capacity Plan",null,null,null,"Start Time (hh:mm)","Stop Time (hh:mm)","Downtime Description",null,null,null,null,null,null,null,null,null,"Total Time","Total # of Pcs. Run","Pieces/ Hour","Good Pieces","Good Pcs/Hour","Rework Total","Scrap Total","% Scrap","Net Pcs/Hr (Good + Rework)"]
[null,null,null,null,null,null,null,"B",null,"T",null,"C",null,"O",null,"U",null,null,null,{"$f":"IFERROR(IF(S14=\"\",\"\",((S14/R14))*60),\"\")","v":""},null,{"$f":"IFERROR(IF(S14=\"\",\"\",((U14/S14))*T14),\"\")","v":""},null,null,{"$f":"IFERROR(IF(S14=\"\",\"\",X14/S14),\"\")","v":""},{"$f":"IFERROR(IF(S14=\"\",\"\",(1-(Y14/1000000))*T14),\"\")","v":""}]
[null,null,null,null,null,null,null,null,{"$f":"IF(H15=\"x\",(G15-F15)*1440,0)","v":0},null,{"$f":"IF(J15=\"x\",(G15-F15)*1440,0)","v":0},null,{"$f":"IF(L15=\"x\",(G15-F15)*1440,0)","v":0},null,{"$f":"IF(N15=\"x\",(G15-F15)*1440,0)","v":0},null,{"$f":"IF(P15=\"x\",(G15-F15)*1440,0)","v":0},{"$f":"IF(ISBLANK(F15),\"\",IF(G15>=F15,(G15-F15)*1440,(1+G15-F15)*1440))","v":""},null,{"$f":"IFERROR(IF(S15=\"\",\"\",((S15/R15))*60),\"\")","v":""},{"$f":"IF(S15=\"\",\"\",S15-(W15+X15))","v":""},{"$f":"IFERROR(IF(S15=\"\",\"\",((U15/S15))*T15),\"\")","v":""},null,null,{"$f":"IFERROR(IF(S15=\"\",\"\",X15/S15),\"\")","v":""},{"$f":"IFERROR(IF(S15=\"\",\"\",(1-(Y15/1000000))*T15),\"\")","v":""}]
["Description of Downtime:",null,null,null,null,null,null,null,0,null,0,null,0,null,0,null,{"$f":"IF(P16=\"x\",(G16-F16)*1440,0)","v":0},{"$f":"IF(ISBLANK(F16),\"\",IF(G16>=F16,(G16-F16)*1440,(1+G16-F16)*1440))","v":""},null,{"$f":"IFERROR(IF(S16=\"\",\"\",((S16/R16))*60),\"\")","v":""},{"$f":"IF(S16=\"\",\"\",S16-(W16+X16))","v":""},{"$f":"IFERROR(IF(S16=\"\",\"\",((U16/S16))*T16),\"\")","v":""},null,null,{"$f":"IFERROR(IF(S16=\"\",\"\",X16/S16),\"\")","v":""},{"$f":"IFERROR(IF(S16=\"\",\"\",(1-(Y16/1000000))*T16),\"\")","v":""}]
[null,null,null,null,null,null,null,null,{"$f":"IF(H17=\"x\",(G17-F17)*1440,0)","v":0},null,{"$f":"IF(J17=\"x\",(G17-F17)*1440,0)","v":0},null,{"$f":"IF(L17=\"x\",(G17-F17)*1440,0)","v":0},null,{"$f":"IF(N17=\"x\",(G17-F17)*1440,0)","v":0},null,{"$f":"IF(P17=\"x\",(G17-F17)*1440,0)","v":0},{"$f":"IF(ISBLANK(F17),\"\",IF(G17>=F17,(G17-F17)*1440,(1+G17-F17)*1440))","v":""},null,{"$f":"IFERROR(IF(S17=\"\",\"\",((S17/R17))*60),\"\")","v":""},{"$f":"IF(S17=\"\",\"\",S17-(W17+X17))","v":""},{"$f":"IFERROR(IF(S17=\"\",\"\",((U17/S17))*T17),\"\")","v":""},null,null,{"$f":"IFERROR(IF(S17=\"\",\"\",X17/S17),\"\")","v":""},{"$f":"IFERROR(IF(S17=\"\",\"\",(1-(Y17/1000000))*T17),\"\")","v":""}]
[null,null,null,"Downtime",null,null,null,null,{"$f":"IF(H18=\"x\",(G18-F18)*1440,0)","v":0},null,{"$f":"IF(J18=\"x\",(G18-F18)*1440,0)","v":0},null,{"$f":"IF(L18=\"x\",(G18-F18)*1440,0)","v":0},null,{"$f":"IF(N18=\"x\",(G18-F18)*1440,0)","v":0},null,{"$f":"IF(P18=\"x\",(G18-F18)*1440,0)","v":0},{"$f":"IF(ISBLANK(F18),\"\",IF(G18>=F18,(G18-F18)*1440,(1+G18-F18)*1440))","v":""},null,{"$f":"IFERROR(IF(S18=\"\",\"\",((S18/R18))*60),\"\")","v":""},{"$f":"IF(S18=\"\",\"\",S18-(W18+X18))","v":""},{"$f":"IFERROR(IF(S18=\"\",\"\",((U18/S18))*T18),\"\")","v":""},null,null,{"$f":"IFERROR(IF(S18=\"\",\"\",X18/S18),\"\")","v":""},{"$f":"IFERROR(IF(S18=\"\",\"\",(1-(Y18/1000000))*T18),\"\")","v":""}]
["B","breaks/lunch",null,{"$f":"I39","v":0},null,null,null,null,{"$f":"IF(H19=\"x\",(G19-F19)*1440,0)","v":0},null,{"$f":"IF(J19=\"x\",(G19-F19)*1440,0)","v":0},null,{"$f":"IF(L19=\"x\",(G19-F19)*1440,0)","v":0},null,{"$f":"IF(N19=\"x\",(G19-F19)*1440,0)","v":0},null,{"$f":"IF(P19=\"x\",(G19-F19)*1440,0)","v":0},{"$f":"IF(ISBLANK(F19),\"\",IF(G19>=F19,(G19-F19)*1440,(1+G19-F19)*1440))","v":""},null,{"$f":"IFERROR(IF(S19=\"\",\"\",((S19/R19))*60),\"\")","v":""},{"$f":"IF(S19=\"\",\"\",S19-(W19+X19))","v":""},{"$f":"IFERROR(IF(S19=\"\",\"\",((U19/S19))*T19),\"\")","v":""},null,null,{"$f":"IFERROR(IF(S19=\"\",\"\",X19/S19),\"\")","v":""},{"$f":"IFERROR(IF(S19=\"\",\"\",(1-(Y19/1000000))*T19),\"\")","v":""}]
["T","tool change",null,{"$f":"K39","v":0},null,null,null,null,0,null,0,null,0,null,0,null,0,"",null,"","","",null,null,"",""]
["C","changeover",null,{"$f":"M39","v":0},null,null,null,null,0,null,0,null,0,null,0,null,0,"",null,"","","",null,null,"",""]
["O","other planned dntm",null,{"$f":"O39","v":0},null,null,null,null,0,null,0,null,0,null,0,null,0,"",null,"","","",null,null,"",""]
["U","unplanned dntm",null,{"$f":"Q39","v":0},null,null,null,null,0,null,0,null,0,null,0,null,0,"",null,"","","",null,null,"",""]
[null,null,null,null,null,null,null,null,{"$f":"IF(H24=\"x\",(G24-F24)*1440,0)","v":0},null,{"$f":"IF(J24=\"x\",(G24-F24)*1440,0)","v":0},null,{"$f":"IF(L24=\"x\",(G24-F24)*1440,0)","v":0},null,{"$f":"IF(N24=\"x\",(G24-F24)*1440,0)","v":0},null,0,"",null,"","","",null,null,"",""]
[null,null,null,null,null,null,null,null,0,null,0,null,0,null,0,null,0,"",null,"","","",null,null,"",""]
[null,null,null,null,null,null,null,null,0,null,0,null,0,null,0,null,0,"",null,"","","",null,null,"",""]
[null,null,null,null,null,null,null,null,0,null,0,null,0,null,0,null,0,"",null,"","","",null,null,"",""]
[null,null,null,null,null,null,null,null,0,null,0,null,0,null,0,null,0,"",null,"","","",null,null,"",""]
[null,null,null,null,null,null,null,null,0,null,0,null,0,null,0,null,0,"",null,"","","",null,null,"",""]
[null,null,null,null,null,null,null,null,0,null,0,null,0,null,0,null,0,"",null,"","","",null,null,"",""]
[null,null,null,null,null,null,null,null,0,null,0,null,0,null,0,null,0,"",null,"","","",null,null,"",""]
[null,null,null,null,null,null,null,null,0,null,0,null,0,null,0,null,0,"",null,"","","",null,null,"",""]
[null,null,null,null,null,null,null,null,0,null,0,null,0,null,0,null,0,"",null,"","","",null,null,"",""]
[null,null,null,null,null,null,null,null,0,null,0,null,0,null,0,null,0,"",null,"","","",null,null,"",""]
[null,null,null,null,null,null,null,null,0,null,0,null,0,null,0,null,0,"",null,"","","",null,null,"",""]
[null,null,null,null,null,null,null,null,0,null,0,null,0,null,0,null,0,"",null,"","","",null,null,"",""]
[null,null,null,null,null,null,null,null,0,null,0,null,0,null,0,null,0,"",null,"","","",null,null,"",""]
[null,null,null,null,null,null,null,null,0,null,0,null,0,null,0,null,0,"",null,"","","",null,null,"",""]
[null,null,null,null,null,null,null,null,{"$f":"SUM(I15:I38)","v":0},null,{"$f":"SUM(K15:K38)","v":0},null,{"$f":"SUM(M15:M38)","v":0},null,{"$f":"SUM(O15:O38)","v":0},null,{"$f":"SUM(Q15:Q38)","v":0},{"$f":"(G39-F39)*1440","v":0},null,{"$f":"((S39/R39))*60/1440","v":{"$error":"#DIV/0!"}},{"$f":"S39-(W39+X39)","v":0},{"$f":"((U39/S39))*T39","v":{"$error":"#DIV/0!"}},null,null,{"$f":"(X39/S39)*1000000","v":{"$error":"#DIV/0!"}},{"$f":"(1-(Y39/1000000))*T39","v":{"$error":"#DIV/0!"}}]
[null,null,null,null,null,null,null,null,null,null,null,null,null,null,null,null,null,null,{"$f":"SUM(S15:S39)","v":0},null,{"$f":"SUM(U15:U39)","v":0},null,{"$f":"SUM(W15:W39)","v":0}]
[null,null,null,null,null,null,null,null,null,null,null,null,null,null,null,"# of minutes uptime:  ",null,{"$f":"R42-(D20+D21+D23)","v":0},null,"% uptime:  ",{"$f":"IFERROR(R41/R42,\"\")","v":""},null,"FTQ:  ",{"$f":"IFERROR(IF(F15=\"\",\"\",((S40-U40)/S40)*1000000),\"\")","v":""}]
[null,null,null,null,null,null,null,null,null,null,null,null,null,null,null,"Total Run Time:  ",null,{"$f":"SUM(R15:R38)-(D19+D22)","v":0},null,null,null,null,"% Scrap:  ",{"$f":"IFERROR(IF(F15=\"\",\"\",((S40-(U40+W40))/S40)),\"\")","v":""}]
[]
[null,null,null,null,null,null,null,null,null,null,null,"Comments:  Document scrap/rework and downtime here"]

{"sheet":"Process 14 - Actual Run Data","index":18,"n_rows":44,"n_cols":26,"rows_kept":44,"cut":false,"hidden":false,"merged":[[5,2,5,6],[5,23,5,25],[0,0,0,25],[2,20,2,22],[3,22,3,24],[4,2,4,6],[4,23,4,25],[15,0,15,3],[43,11,43,21],[44,11,51,25],[6,2,6,6],[6,23,6,25],[8,21,10,25],[9,9,9,15],[10,9,10,15],[12,7,12,16],[9,1,11,1]]}
["Actual Run Data"]
[]
[]
[]
[null,"Supplier Name:  ",{"$f":"IF('Capacity Plan'!$F$3=\"\",\"\",'Capacity Plan'!$F$3)","v":""},null,null,null,null,null,null,null,null,null,null,null,null,null,null,null,null,null,null,null,"Completed By:  "]
[null,"Process Name:  ",{"$f":"IF('Capacity Plan'!$D$34=\"\",\"\",'Capacity Plan'!$D$34)","v":""}]
[null,"Part Number:  ",{"$f":"IF('Capacity Plan'!$Q$3=\"\",\"\",'Capacity Plan'!$Q$3)","v":""}]
[]
[null,null,null,null,null,null,null,null,null,null,null,null,null,null,null,null,null,"Target","Actual","Difference",null,"PLEASE PRINT HARD COPY FOR USE DURING RUN@RATE.  COMPLETE BY FILLING IN THE HIGHLIGHTED COLUMNS ONLY.  USE MILITARY (24:00 HR) TIME FORMAT."]
[null,"Run @ Rate Summary Data",null,null,null,null,null,null,null,"Time/part",null,null,null,null,null,null,null,{"$f":"IFERROR(IF(F15=\"\",\"\",'Capacity Plan'!L34/'Capacity Plan'!M34),\"\")","v":""},{"$f":"IFERROR(IF(F15=\"\",\"\",3600/S11),\"\")","v":""},{"$f":"IFERROR(IF(F15=\"\",\"\",R10-S10),\"\")","v":""}]
[null,null,null,null,null,null,null,null,null,"Pcs/Hour",null,null,null,null,null,null,null,{"$f":"IFERROR(IF(F15=\"\",\"\",60*60/R10),\"\")","v":""},{"$f":"IFERROR(IF(F15=\"\",\"\",(S40*60/R41)),\"\")","v":""},{"$f":"IFERROR(IF(F15=\"\",\"\",S11-R11),\"\")","v":""}]
[]
[null,"Capacity Plan",null,null,null,"Start Time (hh:mm)","Stop Time (hh:mm)","Downtime Description",null,null,null,null,null,null,null,null,null,"Total Time","Total # of Pcs. Run","Pieces/ Hour","Good Pieces","Good Pcs/Hour","Rework Total","Scrap Total","% Scrap","Net Pcs/Hr (Good + Rework)"]
[null,null,null,null,null,null,null,"B",null,"T",null,"C",null,"O",null,"U",null,null,null,{"$f":"IFERROR(IF(S14=\"\",\"\",((S14/R14))*60),\"\")","v":""},null,{"$f":"IFERROR(IF(S14=\"\",\"\",((U14/S14))*T14),\"\")","v":""},null,null,{"$f":"IFERROR(IF(S14=\"\",\"\",X14/S14),\"\")","v":""},{"$f":"IFERROR(IF(S14=\"\",\"\",(1-(Y14/1000000))*T14),\"\")","v":""}]
[null,null,null,null,null,null,null,null,{"$f":"IF(H15=\"x\",(G15-F15)*1440,0)","v":0},null,{"$f":"IF(J15=\"x\",(G15-F15)*1440,0)","v":0},null,{"$f":"IF(L15=\"x\",(G15-F15)*1440,0)","v":0},null,{"$f":"IF(N15=\"x\",(G15-F15)*1440,0)","v":0},null,{"$f":"IF(P15=\"x\",(G15-F15)*1440,0)","v":0},{"$f":"IF(ISBLANK(F15),\"\",IF(G15>=F15,(G15-F15)*1440,(1+G15-F15)*1440))","v":""},null,{"$f":"IFERROR(IF(S15=\"\",\"\",((S15/R15))*60),\"\")","v":""},{"$f":"IF(S15=\"\",\"\",S15-(W15+X15))","v":""},{"$f":"IFERROR(IF(S15=\"\",\"\",((U15/S15))*T15),\"\")","v":""},null,null,{"$f":"IFERROR(IF(S15=\"\",\"\",X15/S15),\"\")","v":""},{"$f":"IFERROR(IF(S15=\"\",\"\",(1-(Y15/1000000))*T15),\"\")","v":""}]
["Description of Downtime:",null,null,null,null,null,null,null,0,null,0,null,0,null,0,null,{"$f":"IF(P16=\"x\",(G16-F16)*1440,0)","v":0},{"$f":"IF(ISBLANK(F16),\"\",IF(G16>=F16,(G16-F16)*1440,(1+G16-F16)*1440))","v":""},null,{"$f":"IFERROR(IF(S16=\"\",\"\",((S16/R16))*60),\"\")","v":""},{"$f":"IF(S16=\"\",\"\",S16-(W16+X16))","v":""},{"$f":"IFERROR(IF(S16=\"\",\"\",((U16/S16))*T16),\"\")","v":""},null,null,{"$f":"IFERROR(IF(S16=\"\",\"\",X16/S16),\"\")","v":""},{"$f":"IFERROR(IF(S16=\"\",\"\",(1-(Y16/1000000))*T16),\"\")","v":""}]
[null,null,null,null,null,null,null,null,{"$f":"IF(H17=\"x\",(G17-F17)*1440,0)","v":0},null,{"$f":"IF(J17=\"x\",(G17-F17)*1440,0)","v":0},null,{"$f":"IF(L17=\"x\",(G17-F17)*1440,0)","v":0},null,{"$f":"IF(N17=\"x\",(G17-F17)*1440,0)","v":0},null,{"$f":"IF(P17=\"x\",(G17-F17)*1440,0)","v":0},{"$f":"IF(ISBLANK(F17),\"\",IF(G17>=F17,(G17-F17)*1440,(1+G17-F17)*1440))","v":""},null,{"$f":"IFERROR(IF(S17=\"\",\"\",((S17/R17))*60),\"\")","v":""},{"$f":"IF(S17=\"\",\"\",S17-(W17+X17))","v":""},{"$f":"IFERROR(IF(S17=\"\",\"\",((U17/S17))*T17),\"\")","v":""},null,null,{"$f":"IFERROR(IF(S17=\"\",\"\",X17/S17),\"\")","v":""},{"$f":"IFERROR(IF(S17=\"\",\"\",(1-(Y17/1000000))*T17),\"\")","v":""}]
[null,null,null,"Downtime",null,null,null,null,{"$f":"IF(H18=\"x\",(G18-F18)*1440,0)","v":0},null,{"$f":"IF(J18=\"x\",(G18-F18)*1440,0)","v":0},null,{"$f":"IF(L18=\"x\",(G18-F18)*1440,0)","v":0},null,{"$f":"IF(N18=\"x\",(G18-F18)*1440,0)","v":0},null,{"$f":"IF(P18=\"x\",(G18-F18)*1440,0)","v":0},{"$f":"IF(ISBLANK(F18),\"\",IF(G18>=F18,(G18-F18)*1440,(1+G18-F18)*1440))","v":""},null,{"$f":"IFERROR(IF(S18=\"\",\"\",((S18/R18))*60),\"\")","v":""},{"$f":"IF(S18=\"\",\"\",S18-(W18+X18))","v":""},{"$f":"IFERROR(IF(S18=\"\",\"\",((U18/S18))*T18),\"\")","v":""},null,null,{"$f":"IFERROR(IF(S18=\"\",\"\",X18/S18),\"\")","v":""},{"$f":"IFERROR(IF(S18=\"\",\"\",(1-(Y18/1000000))*T18),\"\")","v":""}]
["B","breaks/lunch",null,{"$f":"I39","v":0},null,null,null,null,{"$f":"IF(H19=\"x\",(G19-F19)*1440,0)","v":0},null,{"$f":"IF(J19=\"x\",(G19-F19)*1440,0)","v":0},null,{"$f":"IF(L19=\"x\",(G19-F19)*1440,0)","v":0},null,{"$f":"IF(N19=\"x\",(G19-F19)*1440,0)","v":0},null,{"$f":"IF(P19=\"x\",(G19-F19)*1440,0)","v":0},{"$f":"IF(ISBLANK(F19),\"\",IF(G19>=F19,(G19-F19)*1440,(1+G19-F19)*1440))","v":""},null,{"$f":"IFERROR(IF(S19=\"\",\"\",((S19/R19))*60),\"\")","v":""},{"$f":"IF(S19=\"\",\"\",S19-(W19+X19))","v":""},{"$f":"IFERROR(IF(S19=\"\",\"\",((U19/S19))*T19),\"\")","v":""},null,null,{"$f":"IFERROR(IF(S19=\"\",\"\",X19/S19),\"\")","v":""},{"$f":"IFERROR(IF(S19=\"\",\"\",(1-(Y19/1000000))*T19),\"\")","v":""}]
["T","tool change",null,{"$f":"K39","v":0},null,null,null,null,0,null,0,null,0,null,0,null,0,"",null,"","","",null,null,"",""]
["C","changeover",null,{"$f":"M39","v":0},null,null,null,null,0,null,0,null,0,null,0,null,0,"",null,"","","",null,null,"",""]
["O","other planned dntm",null,{"$f":"O39","v":0},null,null,null,null,0,null,0,null,0,null,0,null,0,"",null,"","","",null,null,"",""]
["U","unplanned dntm",null,{"$f":"Q39","v":0},null,null,null,null,0,null,0,null,0,null,0,null,0,"",null,"","","",null,null,"",""]
[null,null,null,null,null,null,null,null,{"$f":"IF(H24=\"x\",(G24-F24)*1440,0)","v":0},null,{"$f":"IF(J24=\"x\",(G24-F24)*1440,0)","v":0},null,{"$f":"IF(L24=\"x\",(G24-F24)*1440,0)","v":0},null,{"$f":"IF(N24=\"x\",(G24-F24)*1440,0)","v":0},null,0,"",null,"","","",null,null,"",""]
[null,null,null,null,null,null,null,null,0,null,0,null,0,null,0,null,0,"",null,"","","",null,null,"",""]
[null,null,null,null,null,null,null,null,0,null,0,null,0,null,0,null,0,"",null,"","","",null,null,"",""]
[null,null,null,null,null,null,null,null,0,null,0,null,0,null,0,null,0,"",null,"","","",null,null,"",""]
[null,null,null,null,null,null,null,null,0,null,0,null,0,null,0,null,0,"",null,"","","",null,null,"",""]
[null,null,null,null,null,null,null,null,0,null,0,null,0,null,0,null,0,"",null,"","","",null,null,"",""]
[null,null,null,null,null,null,null,null,0,null,0,null,0,null,0,null,0,"",null,"","","",null,null,"",""]
[null,null,null,null,null,null,null,null,0,null,0,null,0,null,0,null,0,"",null,"","","",null,null,"",""]
[null,null,null,null,null,null,null,null,0,null,0,null,0,null,0,null,0,"",null,"","","",null,null,"",""]
[null,null,null,null,null,null,null,null,0,null,0,null,0,null,0,null,0,"",null,"","","",null,null,"",""]
[null,null,null,null,null,null,null,null,0,null,0,null,0,null,0,null,0,"",null,"","","",null,null,"",""]
[null,null,null,null,null,null,null,null,0,null,0,null,0,null,0,null,0,"",null,"","","",null,null,"",""]
[null,null,null,null,null,null,null,null,0,null,0,null,0,null,0,null,0,"",null,"","","",null,null,"",""]
[null,null,null,null,null,null,null,null,0,null,0,null,0,null,0,null,0,"",null,"","","",null,null,"",""]
[null,null,null,null,null,null,null,null,0,null,0,null,0,null,0,null,0,"",null,"","","",null,null,"",""]
[null,null,null,null,null,null,null,null,{"$f":"SUM(I15:I38)","v":0},null,{"$f":"SUM(K15:K38)","v":0},null,{"$f":"SUM(M15:M38)","v":0},null,{"$f":"SUM(O15:O38)","v":0},null,{"$f":"SUM(Q15:Q38)","v":0},{"$f":"(G39-F39)*1440","v":0},null,{"$f":"((S39/R39))*60/1440","v":{"$error":"#DIV/0!"}},{"$f":"S39-(W39+X39)","v":0},{"$f":"((U39/S39))*T39","v":{"$error":"#DIV/0!"}},null,null,{"$f":"(X39/S39)*1000000","v":{"$error":"#DIV/0!"}},{"$f":"(1-(Y39/1000000))*T39","v":{"$error":"#DIV/0!"}}]
[null,null,null,null,null,null,null,null,null,null,null,null,null,null,null,null,null,null,{"$f":"SUM(S15:S39)","v":0},null,{"$f":"SUM(U15:U39)","v":0},null,{"$f":"SUM(W15:W39)","v":0}]
[null,null,null,null,null,null,null,null,null,null,null,null,null,null,null,"# of minutes uptime:  ",null,{"$f":"R42-(D20+D21+D23)","v":0},null,"% uptime:  ",{"$f":"IFERROR(R41/R42,\"\")","v":""},null,"FTQ:  ",{"$f":"IFERROR(IF(F15=\"\",\"\",((S40-U40)/S40)*1000000),\"\")","v":""}]
[null,null,null,null,null,null,null,null,null,null,null,null,null,null,null,"Total Run Time:  ",null,{"$f":"SUM(R15:R38)-(D19+D22)","v":0},null,null,null,null,"% Scrap:  ",{"$f":"IFERROR(IF(F15=\"\",\"\",((S40-(U40+W40))/S40)),\"\")","v":""}]
[]
[null,null,null,null,null,null,null,null,null,null,null,"Comments:  Document scrap/rework and downtime here"]

{"sheet":"Process 15 - Actual Run Data","index":19,"n_rows":44,"n_cols":26,"rows_kept":44,"cut":false,"hidden":false,"merged":[[5,2,5,6],[5,23,5,25],[0,0,0,25],[2,20,2,22],[3,22,3,24],[4,2,4,6],[4,23,4,25],[15,0,15,3],[43,11,43,21],[44,11,51,25],[6,2,6,6],[6,23,6,25],[8,21,10,25],[9,9,9,15],[10,9,10,15],[12,7,12,16],[9,1,11,1]]}
["Actual Run Data"]
[]
[]
[]
[null,"Supplier Name:  ",{"$f":"IF('Capacity Plan'!$F$3=\"\",\"\",'Capacity Plan'!$F$3)","v":""},null,null,null,null,null,null,null,null,null,null,null,null,null,null,null,null,null,null,null,"Completed By:  "]
[null,"Process Name:  ",{"$f":"IF('Capacity Plan'!$D$35=\"\",\"\",'Capacity Plan'!$D$35)","v":""}]
[null,"Part Number:  ",{"$f":"IF('Capacity Plan'!$Q$3=\"\",\"\",'Capacity Plan'!$Q$3)","v":""}]
[]
[null,null,null,null,null,null,null,null,null,null,null,null,null,null,null,null,null,"Target","Actual","Difference",null,"PLEASE PRINT HARD COPY FOR USE DURING RUN@RATE.  COMPLETE BY FILLING IN THE HIGHLIGHTED COLUMNS ONLY.  USE MILITARY (24:00 HR) TIME FORMAT."]
[null,"Run @ Rate Summary Data",null,null,null,null,null,null,null,"Time/part",null,null,null,null,null,null,null,{"$f":"IFERROR(IF(F15=\"\",\"\",'Capacity Plan'!L35/'Capacity Plan'!M35),\"\")","v":""},{"$f":"IFERROR(IF(F15=\"\",\"\",3600/S11),\"\")","v":""},{"$f":"IFERROR(IF(F15=\"\",\"\",R10-S10),\"\")","v":""}]
[null,null,null,null,null,null,null,null,null,"Pcs/Hour",null,null,null,null,null,null,null,{"$f":"IFERROR(IF(F15=\"\",\"\",60*60/R10),\"\")","v":""},{"$f":"IFERROR(IF(F15=\"\",\"\",(S40*60/R41)),\"\")","v":""},{"$f":"IFERROR(IF(F15=\"\",\"\",S11-R11),\"\")","v":""}]
[]
[null,"Capacity Plan",null,null,null,"Start Time (hh:mm)","Stop Time (hh:mm)","Downtime Description",null,null,null,null,null,null,null,null,null,"Total Time","Total # of Pcs. Run","Pieces/ Hour","Good Pieces","Good Pcs/Hour","Rework Total","Scrap Total","% Scrap","Net Pcs/Hr (Good + Rework)"]
[null,null,null,null,null,null,null,"B",null,"T",null,"C",null,"O",null,"U",null,null,null,{"$f":"IFERROR(IF(S14=\"\",\"\",((S14/R14))*60),\"\")","v":""},null,{"$f":"IFERROR(IF(S14=\"\",\"\",((U14/S14))*T14),\"\")","v":""},null,null,{"$f":"IFERROR(IF(S14=\"\",\"\",X14/S14),\"\")","v":""},{"$f":"IFERROR(IF(S14=\"\",\"\",(1-(Y14/1000000))*T14),\"\")","v":""}]
[null,null,null,null,null,null,null,null,{"$f":"IF(H15=\"x\",(G15-F15)*1440,0)","v":0},null,{"$f":"IF(J15=\"x\",(G15-F15)*1440,0)","v":0},null,{"$f":"IF(L15=\"x\",(G15-F15)*1440,0)","v":0},null,{"$f":"IF(N15=\"x\",(G15-F15)*1440,0)","v":0},null,{"$f":"IF(P15=\"x\",(G15-F15)*1440,0)","v":0},{"$f":"IF(ISBLANK(F15),\"\",IF(G15>=F15,(G15-F15)*1440,(1+G15-F15)*1440))","v":""},null,{"$f":"IFERROR(IF(S15=\"\",\"\",((S15/R15))*60),\"\")","v":""},{"$f":"IF(S15=\"\",\"\",S15-(W15+X15))","v":""},{"$f":"IFERROR(IF(S15=\"\",\"\",((U15/S15))*T15),\"\")","v":""},null,null,{"$f":"IFERROR(IF(S15=\"\",\"\",X15/S15),\"\")","v":""},{"$f":"IFERROR(IF(S15=\"\",\"\",(1-(Y15/1000000))*T15),\"\")","v":""}]
["Description of Downtime:",null,null,null,null,null,null,null,0,null,{"$f":"IF(J16=\"x\",(G16-F16)*1440,0)","v":0},null,0,null,0,null,{"$f":"IF(P16=\"x\",(G16-F16)*1440,0)","v":0},{"$f":"IF(ISBLANK(F16),\"\",IF(G16>=F16,(G16-F16)*1440,(1+G16-F16)*1440))","v":""},null,{"$f":"IFERROR(IF(S16=\"\",\"\",((S16/R16))*60),\"\")","v":""},{"$f":"IF(S16=\"\",\"\",S16-(W16+X16))","v":""},{"$f":"IFERROR(IF(S16=\"\",\"\",((U16/S16))*T16),\"\")","v":""},null,null,{"$f":"IFERROR(IF(S16=\"\",\"\",X16/S16),\"\")","v":""},{"$f":"IFERROR(IF(S16=\"\",\"\",(1-(Y16/1000000))*T16),\"\")","v":""}]
[null,null,null,null,null,null,null,null,{"$f":"IF(H17=\"x\",(G17-F17)*1440,0)","v":0},null,{"$f":"IF(J17=\"x\",(G17-F17)*1440,0)","v":0},null,{"$f":"IF(L17=\"x\",(G17-F17)*1440,0)","v":0},null,{"$f":"IF(N17=\"x\",(G17-F17)*1440,0)","v":0},null,{"$f":"IF(P17=\"x\",(G17-F17)*1440,0)","v":0},{"$f":"IF(ISBLANK(F17),\"\",IF(G17>=F17,(G17-F17)*1440,(1+G17-F17)*1440))","v":""},null,{"$f":"IFERROR(IF(S17=\"\",\"\",((S17/R17))*60),\"\")","v":""},{"$f":"IF(S17=\"\",\"\",S17-(W17+X17))","v":""},{"$f":"IFERROR(IF(S17=\"\",\"\",((U17/S17))*T17),\"\")","v":""},null,null,{"$f":"IFERROR(IF(S17=\"\",\"\",X17/S17),\"\")","v":""},{"$f":"IFERROR(IF(S17=\"\",\"\",(1-(Y17/1000000))*T17),\"\")","v":""}]
[null,null,null,"Downtime",null,null,null,null,{"$f":"IF(H18=\"x\",(G18-F18)*1440,0)","v":0},null,{"$f":"IF(J18=\"x\",(G18-F18)*1440,0)","v":0},null,{"$f":"IF(L18=\"x\",(G18-F18)*1440,0)","v":0},null,{"$f":"IF(N18=\"x\",(G18-F18)*1440,0)","v":0},null,{"$f":"IF(P18=\"x\",(G18-F18)*1440,0)","v":0},{"$f":"IF(ISBLANK(F18),\"\",IF(G18>=F18,(G18-F18)*1440,(1+G18-F18)*1440))","v":""},null,{"$f":"IFERROR(IF(S18=\"\",\"\",((S18/R18))*60),\"\")","v":""},{"$f":"IF(S18=\"\",\"\",S18-(W18+X18))","v":""},{"$f":"IFERROR(IF(S18=\"\",\"\",((U18/S18))*T18),\"\")","v":""},null,null,{"$f":"IFERROR(IF(S18=\"\",\"\",X18/S18),\"\")","v":""},{"$f":"IFERROR(IF(S18=\"\",\"\",(1-(Y18/1000000))*T18),\"\")","v":""}]
["B","breaks/lunch",null,{"$f":"I39","v":0},null,null,null,null,{"$f":"IF(H19=\"x\",(G19-F19)*1440,0)","v":0},null,{"$f":"IF(J19=\"x\",(G19-F19)*1440,0)","v":0},null,{"$f":"IF(L19=\"x\",(G19-F19)*1440,0)","v":0},null,{"$f":"IF(N19=\"x\",(G19-F19)*1440,0)","v":0},null,{"$f":"IF(P19=\"x\",(G19-F19)*1440,0)","v":0},{"$f":"IF(ISBLANK(F19),\"\",IF(G19>=F19,(G19-F19)*1440,(1+G19-F19)*1440))","v":""},null,{"$f":"IFERROR(IF(S19=\"\",\"\",((S19/R19))*60),\"\")","v":""},{"$f":"IF(S19=\"\",\"\",S19-(W19+X19))","v":""},{"$f":"IFERROR(IF(S19=\"\",\"\",((U19/S19))*T19),\"\")","v":""},null,null,{"$f":"IFERROR(IF(S19=\"\",\"\",X19/S19),\"\")","v":""},{"$f":"IFERROR(IF(S19=\"\",\"\",(1-(Y19/1000000))*T19),\"\")","v":""}]
["T","tool change",null,{"$f":"K39","v":0},null,null,null,null,0,null,0,null,0,null,0,null,0,"",null,"","","",null,null,"",""]
["C","changeover",null,{"$f":"M39","v":0},null,null,null,null,0,null,0,null,0,null,0,null,0,"",null,"","","",null,null,"",""]
["O","other planned dntm",null,{"$f":"O39","v":0},null,null,null,null,0,null,0,null,0,null,0,null,0,"",null,"","","",null,null,"",""]
["U","unplanned dntm",null,{"$f":"Q39","v":0},null,null,null,null,0,null,0,null,0,null,0,null,0,"",null,"","","",null,null,"",""]
[null,null,null,null,null,null,null,null,{"$f":"IF(H24=\"x\",(G24-F24)*1440,0)","v":0},null,{"$f":"IF(J24=\"x\",(G24-F24)*1440,0)","v":0},null,{"$f":"IF(L24=\"x\",(G24-F24)*1440,0)","v":0},null,{"$f":"IF(N24=\"x\",(G24-F24)*1440,0)","v":0},null,0,"",null,"","","",null,null,"",""]
[null,null,null,null,null,null,null,null,0,null,0,null,0,null,0,null,0,"",null,"","","",null,null,"",""]
[null,null,null,null,null,null,null,null,0,null,0,null,0,null,0,null,0,"",null,"","","",null,null,"",""]
[null,null,null,null,null,null,null,null,0,null,0,null,0,null,0,null,0,"",null,"","","",null,null,"",""]
[null,null,null,null,null,null,null,null,0,null,0,null,0,null,0,null,0,"",null,"","","",null,null,"",""]
[null,null,null,null,null,null,null,null,0,null,0,null,0,null,0,null,0,"",null,"","","",null,null,"",""]
[null,null,null,null,null,null,null,null,0,null,0,null,0,null,0,null,0,"",null,"","","",null,null,"",""]
[null,null,null,null,null,null,null,null,0,null,0,null,0,null,0,null,0,"",null,"","","",null,null,"",""]
[null,null,null,null,null,null,null,null,0,null,0,null,0,null,0,null,0,"",null,"","","",null,null,"",""]
[null,null,null,null,null,null,null,null,0,null,0,null,0,null,0,null,0,"",null,"","","",null,null,"",""]
[null,null,null,null,null,null,null,null,0,null,0,null,0,null,0,null,0,"",null,"","","",null,null,"",""]
[null,null,null,null,null,null,null,null,0,null,0,null,0,null,0,null,0,"",null,"","","",null,null,"",""]
[null,null,null,null,null,null,null,null,0,null,0,null,0,null,0,null,0,"",null,"","","",null,null,"",""]
[null,null,null,null,null,null,null,null,0,null,0,null,0,null,0,null,0,"",null,"","","",null,null,"",""]
[null,null,null,null,null,null,null,null,0,null,0,null,0,null,0,null,0,"",null,"","","",null,null,"",""]
[null,null,null,null,null,null,null,null,{"$f":"SUM(I15:I38)","v":0},null,{"$f":"SUM(K15:K38)","v":0},null,{"$f":"SUM(M15:M38)","v":0},null,{"$f":"SUM(O15:O38)","v":0},null,{"$f":"SUM(Q15:Q38)","v":0},{"$f":"(G39-F39)*1440","v":0},null,{"$f":"((S39/R39))*60/1440","v":{"$error":"#DIV/0!"}},{"$f":"S39-(W39+X39)","v":0},{"$f":"((U39/S39))*T39","v":{"$error":"#DIV/0!"}},null,null,{"$f":"(X39/S39)*1000000","v":{"$error":"#DIV/0!"}},{"$f":"(1-(Y39/1000000))*T39","v":{"$error":"#DIV/0!"}}]
[null,null,null,null,null,null,null,null,null,null,null,null,null,null,null,null,null,null,{"$f":"SUM(S15:S39)","v":0},null,{"$f":"SUM(U15:U39)","v":0},null,{"$f":"SUM(W15:W39)","v":0}]
[null,null,null,null,null,null,null,null,null,null,null,null,null,null,null,"# of minutes uptime:  ",null,{"$f":"R42-(D20+D21+D23)","v":0},null,"% uptime:  ",{"$f":"IFERROR(R41/R42,\"\")","v":""},null,"FTQ:  ",{"$f":"IFERROR(IF(F15=\"\",\"\",((S40-U40)/S40)*1000000),\"\")","v":""}]
[null,null,null,null,null,null,null,null,null,null,null,null,null,null,null,"Total Run Time:  ",null,{"$f":"SUM(R15:R38)-(D19+D22)","v":0},null,null,null,null,"% Scrap:  ",{"$f":"IFERROR(IF(F15=\"\",\"\",((S40-(U40+W40))/S40)),\"\")","v":""}]
[]
[null,null,null,null,null,null,null,null,null,null,null,"Comments:  Document scrap/rework and downtime here"]

{"sheet":"Process 16 - Actual Run Data","index":20,"n_rows":44,"n_cols":26,"rows_kept":44,"cut":false,"hidden":false,"merged":[[5,2,5,6],[5,23,5,25],[0,0,0,25],[2,20,2,22],[3,22,3,24],[4,2,4,6],[4,23,4,25],[15,0,15,3],[43,11,43,21],[44,11,51,25],[6,2,6,6],[6,23,6,25],[8,21,10,25],[9,9,9,15],[10,9,10,15],[12,7,12,16],[9,1,11,1]]}
["Actual Run Data"]
[]
[]
[]
[null,"Supplier Name:  ",{"$f":"IF('Capacity Plan'!$F$3=\"\",\"\",'Capacity Plan'!$F$3)","v":""},null,null,null,null,null,null,null,null,null,null,null,null,null,null,null,null,null,null,null,"Completed By:  "]
[null,"Process Name:  ",{"$f":"IF('Capacity Plan'!$D$36=\"\",\"\",'Capacity Plan'!$D$36)","v":""}]
[null,"Part Number:  ",{"$f":"IF('Capacity Plan'!$Q$3=\"\",\"\",'Capacity Plan'!$Q$3)","v":""}]
[]
[null,null,null,null,null,null,null,null,null,null,null,null,null,null,null,null,null,"Target","Actual","Difference",null,"PLEASE PRINT HARD COPY FOR USE DURING RUN@RATE.  COMPLETE BY FILLING IN THE HIGHLIGHTED COLUMNS ONLY.  USE MILITARY (24:00 HR) TIME FORMAT."]
[null,"Run @ Rate Summary Data",null,null,null,null,null,null,null,"Time/part",null,null,null,null,null,null,null,{"$f":"IFERROR(IF(F15=\"\",\"\",'Capacity Plan'!L36/'Capacity Plan'!M36),\"\")","v":""},{"$f":"IFERROR(IF(F15=\"\",\"\",3600/S11),\"\")","v":""},{"$f":"IFERROR(IF(F15=\"\",\"\",R10-S10),\"\")","v":""}]
[null,null,null,null,null,null,null,null,null,"Pcs/Hour",null,null,null,null,null,null,null,{"$f":"IFERROR(IF(F15=\"\",\"\",60*60/R10),\"\")","v":""},{"$f":"IFERROR(IF(F15=\"\",\"\",(S40*60/R41)),\"\")","v":""},{"$f":"IFERROR(IF(F15=\"\",\"\",S11-R11),\"\")","v":""}]
[]
[null,"Capacity Plan",null,null,null,"Start Time (hh:mm)","Stop Time (hh:mm)","Downtime Description",null,null,null,null,null,null,null,null,null,"Total Time","Total # of Pcs. Run","Pieces/ Hour","Good Pieces","Good Pcs/Hour","Rework Total","Scrap Total","% Scrap","Net Pcs/Hr (Good + Rework)"]
[null,null,null,null,null,null,null,"B",null,"T",null,"C",null,"O",null,"U",null,null,null,{"$f":"IFERROR(IF(S14=\"\",\"\",((S14/R14))*60),\"\")","v":""},null,{"$f":"IFERROR(IF(S14=\"\",\"\",((U14/S14))*T14),\"\")","v":""},null,null,{"$f":"IFERROR(IF(S14=\"\",\"\",X14/S14),\"\")","v":""},{"$f":"IFERROR(IF(S14=\"\",\"\",(1-(Y14/1000000))*T14),\"\")","v":""}]
[null,null,null,null,null,null,null,null,{"$f":"IF(H15=\"x\",(G15-F15)*1440,0)","v":0},null,{"$f":"IF(J15=\"x\",(G15-F15)*1440,0)","v":0},null,{"$f":"IF(L15=\"x\",(G15-F15)*1440,0)","v":0},null,{"$f":"IF(N15=\"x\",(G15-F15)*1440,0)","v":0},null,{"$f":"IF(P15=\"x\",(G15-F15)*1440,0)","v":0},{"$f":"IF(ISBLANK(F15),\"\",IF(G15>=F15,(G15-F15)*1440,(1+G15-F15)*1440))","v":""},null,{"$f":"IFERROR(IF(S15=\"\",\"\",((S15/R15))*60),\"\")","v":""},{"$f":"IF(S15=\"\",\"\",S15-(W15+X15))","v":""},{"$f":"IFERROR(IF(S15=\"\",\"\",((U15/S15))*T15),\"\")","v":""},null,null,{"$f":"IFERROR(IF(S15=\"\",\"\",X15/S15),\"\")","v":""},{"$f":"IFERROR(IF(S15=\"\",\"\",(1-(Y15/1000000))*T15),\"\")","v":""}]
["Description of Downtime:",null,null,null,null,null,null,null,0,null,0,null,0,null,0,null,{"$f":"IF(P16=\"x\",(G16-F16)*1440,0)","v":0},{"$f":"IF(ISBLANK(F16),\"\",IF(G16>=F16,(G16-F16)*1440,(1+G16-F16)*1440))","v":""},null,{"$f":"IFERROR(IF(S16=\"\",\"\",((S16/R16))*60),\"\")","v":""},{"$f":"IF(S16=\"\",\"\",S16-(W16+X16))","v":""},{"$f":"IFERROR(IF(S16=\"\",\"\",((U16/S16))*T16),\"\")","v":""},null,null,{"$f":"IFERROR(IF(S16=\"\",\"\",X16/S16),\"\")","v":""},{"$f":"IFERROR(IF(S16=\"\",\"\",(1-(Y16/1000000))*T16),\"\")","v":""}]
[null,null,null,null,null,null,null,null,0,null,0,null,0,null,0,null,0,"",null,"","","",null,null,"",""]
[null,null,null,"Downtime",null,null,null,null,0,null,0,null,0,null,0,null,0,"",null,"","","",null,null,"",""]
["B","breaks/lunch",null,{"$f":"I39","v":0},null,null,null,null,0,null,0,null,0,null,0,null,0,"",null,"","","",null,null,"",""]
["T","tool change",null,{"$f":"K39","v":0},null,null,null,null,0,null,0,null,0,null,0,null,0,"",null,"","","",null,null,"",""]
["C","changeover",null,{"$f":"M39","v":0},null,null,null,null,0,null,0,null,0,null,0,null,0,"",null,"","","",null,null,"",""]
["O","other planned dntm",null,{"$f":"O39","v":0},null,null,null,null,0,null,0,null,0,null,0,null,0,"",null,"","","",null,null,"",""]
["U","unplanned dntm",null,{"$f":"Q39","v":0},null,null,null,null,0,null,0,null,0,null,0,null,0,"",null,"","","",null,null,"",""]
[null,null,null,null,null,null,null,null,{"$f":"IF(H24=\"x\",(G24-F24)*1440,0)","v":0},null,{"$f":"IF(J24=\"x\",(G24-F24)*1440,0)","v":0},null,{"$f":"IF(L24=\"x\",(G24-F24)*1440,0)","v":0},null,{"$f":"IF(N24=\"x\",(G24-F24)*1440,0)","v":0},null,0,"",null,"","","",null,null,"",""]
[null,null,null,null,null,null,null,null,0,null,0,null,0,null,0,null,0,"",null,"","","",null,null,"",""]
[null,null,null,null,null,null,null,null,0,null,0,null,0,null,0,null,0,"",null,"","","",null,null,"",""]
[null,null,null,null,null,null,null,null,0,null,0,null,0,null,0,null,0,"",null,"","","",null,null,"",""]
[null,null,null,null,null,null,null,null,0,null,0,null,0,null,0,null,0,"",null,"","","",null,null,"",""]
[null,null,null,null,null,null,null,null,0,null,0,null,0,null,0,null,0,"",null,"","","",null,null,"",""]
[null,null,null,null,null,null,null,null,0,null,0,null,0,null,0,null,0,"",null,"","","",null,null,"",""]
[null,null,null,null,null,null,null,null,0,null,0,null,0,null,0,null,0,"",null,"","","",null,null,"",""]
[null,null,null,null,null,null,null,null,0,null,0,null,0,null,0,null,0,"",null,"","","",null,null,"",""]
[null,null,null,null,null,null,null,null,0,null,0,null,0,null,0,null,0,"",null,"","","",null,null,"",""]
[null,null,null,null,null,null,null,null,0,null,0,null,0,null,0,null,0,"",null,"","","",null,null,"",""]
[null,null,null,null,null,null,null,null,0,null,0,null,0,null,0,null,0,"",null,"","","",null,null,"",""]
[null,null,null,null,null,null,null,null,0,null,0,null,0,null,0,null,0,"",null,"","","",null,null,"",""]
[null,null,null,null,null,null,null,null,0,null,0,null,0,null,0,null,0,"",null,"","","",null,null,"",""]
[null,null,null,null,null,null,null,null,0,null,0,null,0,null,0,null,0,"",null,"","","",null,null,"",""]
[null,null,null,null,null,null,null,null,{"$f":"SUM(I15:I38)","v":0},null,{"$f":"SUM(K15:K38)","v":0},null,{"$f":"SUM(M15:M38)","v":0},null,{"$f":"SUM(O15:O38)","v":0},null,{"$f":"SUM(Q15:Q38)","v":0},{"$f":"(G39-F39)*1440","v":0},null,{"$f":"((S39/R39))*60/1440","v":{"$error":"#DIV/0!"}},{"$f":"S39-(W39+X39)","v":0},{"$f":"((U39/S39))*T39","v":{"$error":"#DIV/0!"}},null,null,{"$f":"(X39/S39)*1000000","v":{"$error":"#DIV/0!"}},{"$f":"(1-(Y39/1000000))*T39","v":{"$error":"#DIV/0!"}}]
[null,null,null,null,null,null,null,null,null,null,null,null,null,null,null,null,null,null,{"$f":"SUM(S15:S39)","v":0},null,{"$f":"SUM(U15:U39)","v":0},null,{"$f":"SUM(W15:W39)","v":0}]
[null,null,null,null,null,null,null,null,null,null,null,null,null,null,null,"# of minutes uptime:  ",null,{"$f":"R42-(D20+D21+D23)","v":0},null,"% uptime:  ",{"$f":"IFERROR(R41/R42,\"\")","v":""},null,"FTQ:  ",{"$f":"IFERROR(IF(F15=\"\",\"\",((S40-U40)/S40)*1000000),\"\")","v":""}]
[null,null,null,null,null,null,null,null,null,null,null,null,null,null,null,"Total Run Time:  ",null,{"$f":"SUM(R15:R38)-(D19+D22)","v":0},null,null,null,null,"% Scrap:  ",{"$f":"IFERROR(IF(F15=\"\",\"\",((S40-(U40+W40))/S40)),\"\")","v":""}]
[]
[null,null,null,null,null,null,null,null,null,null,null,"Comments:  Document scrap/rework and downtime here"]

{"sheet":"Process 17 - Actual Run Data","index":21,"n_rows":44,"n_cols":26,"rows_kept":44,"cut":false,"hidden":false,"merged":[[5,2,5,6],[5,23,5,25],[0,0,0,25],[2,20,2,22],[3,22,3,24],[4,2,4,6],[4,23,4,25],[15,0,15,3],[43,11,43,21],[44,11,51,25],[6,2,6,6],[6,23,6,25],[8,21,10,25],[9,9,9,15],[10,9,10,15],[12,7,12,16],[9,1,11,1]]}
["Actual Run Data"]
[]
[]
[]
[null,"Supplier Name:  ",{"$f":"IF('Capacity Plan'!$F$3=\"\",\"\",'Capacity Plan'!$F$3)","v":""},null,null,null,null,null,null,null,null,null,null,null,null,null,null,null,null,null,null,null,"Completed By:  "]
[null,"Process Name:  ",{"$f":"IF('Capacity Plan'!$D$37=\"\",\"\",'Capacity Plan'!$D$37)","v":""}]
[null,"Part Number:  ",{"$f":"IF('Capacity Plan'!$Q$3=\"\",\"\",'Capacity Plan'!$Q$3)","v":""}]
[]
[null,null,null,null,null,null,null,null,null,null,null,null,null,null,null,null,null,"Target","Actual","Difference",null,"PLEASE PRINT HARD COPY FOR USE DURING RUN@RATE.  COMPLETE BY FILLING IN THE HIGHLIGHTED COLUMNS ONLY.  USE MILITARY (24:00 HR) TIME FORMAT."]
[null,"Run @ Rate Summary Data",null,null,null,null,null,null,null,"Time/part",null,null,null,null,null,null,null,{"$f":"IFERROR(IF(F15=\"\",\"\",'Capacity Plan'!L37/'Capacity Plan'!M37),\"\")","v":""},{"$f":"IFERROR(IF(F15=\"\",\"\",3600/S11),\"\")","v":""},{"$f":"IFERROR(IF(F15=\"\",\"\",R10-S10),\"\")","v":""}]
[null,null,null,null,null,null,null,null,null,"Pcs/Hour",null,null,null,null,null,null,null,{"$f":"IFERROR(IF(F15=\"\",\"\",60*60/R10),\"\")","v":""},{"$f":"IFERROR(IF(F15=\"\",\"\",(S40*60/R41)),\"\")","v":""},{"$f":"IFERROR(IF(F15=\"\",\"\",S11-R11),\"\")","v":""}]
[]
[null,"Capacity Plan",null,null,null,"Start Time (hh:mm)","Stop Time (hh:mm)","Downtime Description",null,null,null,null,null,null,null,null,null,"Total Time","Total # of Pcs. Run","Pieces/ Hour","Good Pieces","Good Pcs/Hour","Rework Total","Scrap Total","% Scrap","Net Pcs/Hr (Good + Rework)"]
[null,null,null,null,null,null,null,"B",null,"T",null,"C",null,"O",null,"U",null,null,null,{"$f":"IFERROR(IF(S14=\"\",\"\",((S14/R14))*60),\"\")","v":""},null,{"$f":"IFERROR(IF(S14=\"\",\"\",((U14/S14))*T14),\"\")","v":""},null,null,{"$f":"IFERROR(IF(S14=\"\",\"\",X14/S14),\"\")","v":""},{"$f":"IFERROR(IF(S14=\"\",\"\",(1-(Y14/1000000))*T14),\"\")","v":""}]
[null,null,null,null,null,null,null,null,{"$f":"IF(H15=\"x\",(G15-F15)*1440,0)","v":0},null,{"$f":"IF(J15=\"x\",(G15-F15)*1440,0)","v":0},null,{"$f":"IF(L15=\"x\",(G15-F15)*1440,0)","v":0},null,{"$f":"IF(N15=\"x\",(G15-F15)*1440,0)","v":0},null,{"$f":"IF(P15=\"x\",(G15-F15)*1440,0)","v":0},{"$f":"IF(ISBLANK(F15),\"\",IF(G15>=F15,(G15-F15)*1440,(1+G15-F15)*1440))","v":""},null,{"$f":"IFERROR(IF(S15=\"\",\"\",((S15/R15))*60),\"\")","v":""},{"$f":"IF(S15=\"\",\"\",S15-(W15+X15))","v":""},{"$f":"IFERROR(IF(S15=\"\",\"\",((U15/S15))*T15),\"\")","v":""},null,null,{"$f":"IFERROR(IF(S15=\"\",\"\",X15/S15),\"\")","v":""},{"$f":"IFERROR(IF(S15=\"\",\"\",(1-(Y15/1000000))*T15),\"\")","v":""}]
["Description of Downtime:",null,null,null,null,null,null,null,0,null,0,null,0,null,0,null,{"$f":"IF(P16=\"x\",(G16-F16)*1440,0)","v":0},{"$f":"IF(ISBLANK(F16),\"\",IF(G16>=F16,(G16-F16)*1440,(1+G16-F16)*1440))","v":""},null,{"$f":"IFERROR(IF(S16=\"\",\"\",((S16/R16))*60),\"\")","v":""},{"$f":"IF(S16=\"\",\"\",S16-(W16+X16))","v":""},{"$f":"IFERROR(IF(S16=\"\",\"\",((U16/S16))*T16),\"\")","v":""},null,null,{"$f":"IFERROR(IF(S16=\"\",\"\",X16/S16),\"\")","v":""},{"$f":"IFERROR(IF(S16=\"\",\"\",(1-(Y16/1000000))*T16),\"\")","v":""}]
[null,null,null,null,null,null,null,null,0,null,0,null,0,null,0,null,{"$f":"IF(P17=\"x\",(G17-F17)*1440,0)","v":0},{"$f":"IF(ISBLANK(F17),\"\",IF(G17>=F17,(G17-F17)*1440,(1+G17-F17)*1440))","v":""},null,{"$f":"IFERROR(IF(S17=\"\",\"\",((S17/R17))*60),\"\")","v":""},{"$f":"IF(S17=\"\",\"\",S17-(W17+X17))","v":""},{"$f":"IFERROR(IF(S17=\"\",\"\",((U17/S17))*T17),\"\")","v":""},null,null,{"$f":"IFERROR(IF(S17=\"\",\"\",X17/S17),\"\")","v":""},{"$f":"IFERROR(IF(S17=\"\",\"\",(1-(Y17/1000000))*T17),\"\")","v":""}]
[null,null,null,"Downtime",null,null,null,null,{"$f":"IF(H18=\"x\",(G18-F18)*1440,0)","v":0},null,{"$f":"IF(J18=\"x\",(G18-F18)*1440,0)","v":0},null,{"$f":"IF(L18=\"x\",(G18-F18)*1440,0)","v":0},null,{"$f":"IF(N18=\"x\",(G18-F18)*1440,0)","v":0},null,{"$f":"IF(P18=\"x\",(G18-F18)*1440,0)","v":0},{"$f":"IF(ISBLANK(F18),\"\",IF(G18>=F18,(G18-F18)*1440,(1+G18-F18)*1440))","v":""},null,{"$f":"IFERROR(IF(S18=\"\",\"\",((S18/R18))*60),\"\")","v":""},{"$f":"IF(S18=\"\",\"\",S18-(W18+X18))","v":""},{"$f":"IFERROR(IF(S18=\"\",\"\",((U18/S18))*T18),\"\")","v":""},null,null,{"$f":"IFERROR(IF(S18=\"\",\"\",X18/S18),\"\")","v":""},{"$f":"IFERROR(IF(S18=\"\",\"\",(1-(Y18/1000000))*T18),\"\")","v":""}]
["B","breaks/lunch",null,{"$f":"I39","v":0},null,null,null,null,{"$f":"IF(H19=\"x\",(G19-F19)*1440,0)","v":0},null,{"$f":"IF(J19=\"x\",(G19-F19)*1440,0)","v":0},null,{"$f":"IF(L19=\"x\",(G19-F19)*1440,0)","v":0},null,{"$f":"IF(N19=\"x\",(G19-F19)*1440,0)","v":0},null,{"$f":"IF(P19=\"x\",(G19-F19)*1440,0)","v":0},{"$f":"IF(ISBLANK(F19),\"\",IF(G19>=F19,(G19-F19)*1440,(1+G19-F19)*1440))","v":""},null,{"$f":"IFERROR(IF(S19=\"\",\"\",((S19/R19))*60),\"\")","v":""},{"$f":"IF(S19=\"\",\"\",S19-(W19+X19))","v":""},{"$f":"IFERROR(IF(S19=\"\",\"\",((U19/S19))*T19),\"\")","v":""},null,null,{"$f":"IFERROR(IF(S19=\"\",\"\",X19/S19),\"\")","v":""},{"$f":"IFERROR(IF(S19=\"\",\"\",(1-(Y19/1000000))*T19),\"\")","v":""}]
["T","tool change",null,{"$f":"K39","v":0},null,null,null,null,0,null,0,null,0,null,0,null,0,"",null,"","","",null,null,"",""]
["C","changeover",null,{"$f":"M39","v":0},null,null,null,null,0,null,0,null,0,null,0,null,0,"",null,"","","",null,null,"",""]
["O","other planned dntm",null,{"$f":"O39","v":0},null,null,null,null,0,null,0,null,0,null,0,null,0,"",null,"","","",null,null,"",""]
["U","unplanned dntm",null,{"$f":"Q39","v":0},null,null,null,null,0,null,0,null,0,null,0,null,0,"",null,"","","",null,null,"",""]
[null,null,null,null,null,null,null,null,{"$f":"IF(H24=\"x\",(G24-F24)*1440,0)","v":0},null,{"$f":"IF(J24=\"x\",(G24-F24)*1440,0)","v":0},null,{"$f":"IF(L24=\"x\",(G24-F24)*1440,0)","v":0},null,{"$f":"IF(N24=\"x\",(G24-F24)*1440,0)","v":0},null,0,"",null,"","","",null,null,"",""]
[null,null,null,null,null,null,null,null,0,null,0,null,0,null,0,null,0,"",null,"","","",null,null,"",""]
[null,null,null,null,null,null,null,null,0,null,0,null,0,null,0,null,0,"",null,"","","",null,null,"",""]
[null,null,null,null,null,null,null,null,0,null,0,null,0,null,0,null,0,"",null,"","","",null,null,"",""]
[null,null,null,null,null,null,null,null,0,null,0,null,0,null,0,null,0,"",null,"","","",null,null,"",""]
[null,null,null,null,null,null,null,null,0,null,0,null,0,null,0,null,0,"",null,"","","",null,null,"",""]
[null,null,null,null,null,null,null,null,0,null,0,null,0,null,0,null,0,"",null,"","","",null,null,"",""]
[null,null,null,null,null,null,null,null,0,null,0,null,0,null,0,null,0,"",null,"","","",null,null,"",""]
[null,null,null,null,null,null,null,null,0,null,0,null,0,null,0,null,0,"",null,"","","",null,null,"",""]
[null,null,null,null,null,null,null,null,0,null,0,null,0,null,0,null,0,"",null,"","","",null,null,"",""]
[null,null,null,null,null,null,null,null,0,null,0,null,0,null,0,null,0,"",null,"","","",null,null,"",""]
[null,null,null,null,null,null,null,null,0,null,0,null,0,null,0,null,0,"",null,"","","",null,null,"",""]
[null,null,null,null,null,null,null,null,0,null,0,null,0,null,0,null,0,"",null,"","","",null,null,"",""]
[null,null,null,null,null,null,null,null,0,null,0,null,0,null,0,null,0,"",null,"","","",null,null,"",""]
[null,null,null,null,null,null,null,null,0,null,0,null,0,null,0,null,0,"",null,"","","",null,null,"",""]
[null,null,null,null,null,null,null,null,{"$f":"SUM(I15:I38)","v":0},null,{"$f":"SUM(K15:K38)","v":0},null,{"$f":"SUM(M15:M38)","v":0},null,{"$f":"SUM(O15:O38)","v":0},null,{"$f":"SUM(Q15:Q38)","v":0},{"$f":"(G39-F39)*1440","v":0},null,{"$f":"((S39/R39))*60/1440","v":{"$error":"#DIV/0!"}},{"$f":"S39-(W39+X39)","v":0},{"$f":"((U39/S39))*T39","v":{"$error":"#DIV/0!"}},null,null,{"$f":"(X39/S39)*1000000","v":{"$error":"#DIV/0!"}},{"$f":"(1-(Y39/1000000))*T39","v":{"$error":"#DIV/0!"}}]
[null,null,null,null,null,null,null,null,null,null,null,null,null,null,null,null,null,null,{"$f":"SUM(S15:S39)","v":0},null,{"$f":"SUM(U15:U39)","v":0},null,{"$f":"SUM(W15:W39)","v":0}]
[null,null,null,null,null,null,null,null,null,null,null,null,null,null,null,"# of minutes uptime:  ",null,{"$f":"R42-(D20+D21+D23)","v":0},null,"% uptime:  ",{"$f":"IFERROR(R41/R42,\"\")","v":""},null,"FTQ:  ",{"$f":"IFERROR(IF(F15=\"\",\"\",((S40-U40)/S40)*1000000),\"\")","v":""}]
[null,null,null,null,null,null,null,null,null,null,null,null,null,null,null,"Total Run Time:  ",null,{"$f":"SUM(R15:R38)-(D19+D22)","v":0},null,null,null,null,"% Scrap:  ",{"$f":"IFERROR(IF(F15=\"\",\"\",((S40-(U40+W40))/S40)),\"\")","v":""}]
[]
[null,null,null,null,null,null,null,null,null,null,null,"Comments:  Document scrap/rework and downtime here"]

{"sheet":"Process 18 - Actual Run Data","index":22,"n_rows":44,"n_cols":26,"rows_kept":44,"cut":false,"hidden":false,"merged":[[5,2,5,6],[5,23,5,25],[0,0,0,25],[2,20,2,22],[3,22,3,24],[4,2,4,6],[4,23,4,25],[15,0,15,3],[43,11,43,21],[44,11,51,25],[6,2,6,6],[6,23,6,25],[8,21,10,25],[9,9,9,15],[10,9,10,15],[12,7,12,16],[9,1,11,1]]}
["Actual Run Data"]
[]
[]
[]
[null,"Supplier Name:  ",{"$f":"IF('Capacity Plan'!$F$3=\"\",\"\",'Capacity Plan'!$F$3)","v":""},null,null,null,null,null,null,null,null,null,null,null,null,null,null,null,null,null,null,null,"Completed By:  "]
[null,"Process Name:  ",{"$f":"IF('Capacity Plan'!$D$38=\"\",\"\",'Capacity Plan'!$D$38)","v":""}]
[null,"Part Number:  ",{"$f":"IF('Capacity Plan'!$Q$3=\"\",\"\",'Capacity Plan'!$Q$3)","v":""}]
[]
[null,null,null,null,null,null,null,null,null,null,null,null,null,null,null,null,null,"Target","Actual","Difference",null,"PLEASE PRINT HARD COPY FOR USE DURING RUN@RATE.  COMPLETE BY FILLING IN THE HIGHLIGHTED COLUMNS ONLY.  USE MILITARY (24:00 HR) TIME FORMAT."]
[null,"Run @ Rate Summary Data",null,null,null,null,null,null,null,"Time/part",null,null,null,null,null,null,null,{"$f":"IFERROR(IF(F15=\"\",\"\",'Capacity Plan'!L38/'Capacity Plan'!M38),\"\")","v":""},{"$f":"IFERROR(IF(F15=\"\",\"\",3600/S11),\"\")","v":""},{"$f":"IFERROR(IF(F15=\"\",\"\",R10-S10),\"\")","v":""}]
[null,null,null,null,null,null,null,null,null,"Pcs/Hour",null,null,null,null,null,null,null,{"$f":"IFERROR(IF(F15=\"\",\"\",60*60/R10),\"\")","v":""},{"$f":"IFERROR(IF(F15=\"\",\"\",(S40*60/R41)),\"\")","v":""},{"$f":"IFERROR(IF(F15=\"\",\"\",S11-R11),\"\")","v":""}]
[]
[null,"Capacity Plan",null,null,null,"Start Time (hh:mm)","Stop Time (hh:mm)","Downtime Description",null,null,null,null,null,null,null,null,null,"Total Time","Total # of Pcs. Run","Pieces/ Hour","Good Pieces","Good Pcs/Hour","Rework Total","Scrap Total","% Scrap","Net Pcs/Hr (Good + Rework)"]
[null,null,null,null,null,null,null,"B",null,"T",null,"C",null,"O",null,"U",null,null,null,{"$f":"IFERROR(IF(S14=\"\",\"\",((S14/R14))*60),\"\")","v":""},null,{"$f":"IFERROR(IF(S14=\"\",\"\",((U14/S14))*T14),\"\")","v":""},null,null,{"$f":"IFERROR(IF(S14=\"\",\"\",X14/S14),\"\")","v":""},{"$f":"IFERROR(IF(S14=\"\",\"\",(1-(Y14/1000000))*T14),\"\")","v":""}]
[null,null,null,null,null,null,null,null,{"$f":"IF(H15=\"x\",(G15-F15)*1440,0)","v":0},null,{"$f":"IF(J15=\"x\",(G15-F15)*1440,0)","v":0},null,{"$f":"IF(L15=\"x\",(G15-F15)*1440,0)","v":0},null,{"$f":"IF(N15=\"x\",(G15-F15)*1440,0)","v":0},null,{"$f":"IF(P15=\"x\",(G15-F15)*1440,0)","v":0},{"$f":"IF(ISBLANK(F15),\"\",IF(G15>=F15,(G15-F15)*1440,(1+G15-F15)*1440))","v":""},null,{"$f":"IFERROR(IF(S15=\"\",\"\",((S15/R15))*60),\"\")","v":""},{"$f":"IF(S15=\"\",\"\",S15-(W15+X15))","v":""},{"$f":"IFERROR(IF(S15=\"\",\"\",((U15/S15))*T15),\"\")","v":""},null,null,{"$f":"IFERROR(IF(S15=\"\",\"\",X15/S15),\"\")","v":""},{"$f":"IFERROR(IF(S15=\"\",\"\",(1-(Y15/1000000))*T15),\"\")","v":""}]
["Description of Downtime:",null,null,null,null,null,null,null,0,null,0,null,0,null,0,null,{"$f":"IF(P16=\"x\",(G16-F16)*1440,0)","v":0},{"$f":"IF(ISBLANK(F16),\"\",IF(G16>=F16,(G16-F16)*1440,(1+G16-F16)*1440))","v":""},null,{"$f":"IFERROR(IF(S16=\"\",\"\",((S16/R16))*60),\"\")","v":""},{"$f":"IF(S16=\"\",\"\",S16-(W16+X16))","v":""},{"$f":"IFERROR(IF(S16=\"\",\"\",((U16/S16))*T16),\"\")","v":""},null,null,{"$f":"IFERROR(IF(S16=\"\",\"\",X16/S16),\"\")","v":""},{"$f":"IFERROR(IF(S16=\"\",\"\",(1-(Y16/1000000))*T16),\"\")","v":""}]
[null,null,null,null,null,null,null,null,0,null,0,null,0,null,0,null,{"$f":"IF(P17=\"x\",(G17-F17)*1440,0)","v":0},{"$f":"IF(ISBLANK(F17),\"\",IF(G17>=F17,(G17-F17)*1440,(1+G17-F17)*1440))","v":""},null,{"$f":"IFERROR(IF(S17=\"\",\"\",((S17/R17))*60),\"\")","v":""},{"$f":"IF(S17=\"\",\"\",S17-(W17+X17))","v":""},{"$f":"IFERROR(IF(S17=\"\",\"\",((U17/S17))*T17),\"\")","v":""},null,null,{"$f":"IFERROR(IF(S17=\"\",\"\",X17/S17),\"\")","v":""},{"$f":"IFERROR(IF(S17=\"\",\"\",(1-(Y17/1000000))*T17),\"\")","v":""}]
[null,null,null,"Downtime",null,null,null,null,0,null,0,null,0,null,0,null,{"$f":"IF(P18=\"x\",(G18-F18)*1440,0)","v":0},{"$f":"IF(ISBLANK(F18),\"\",IF(G18>=F18,(G18-F18)*1440,(1+G18-F18)*1440))","v":""},null,{"$f":"IFERROR(IF(S18=\"\",\"\",((S18/R18))*60),\"\")","v":""},{"$f":"IF(S18=\"\",\"\",S18-(W18+X18))","v":""},{"$f":"IFERROR(IF(S18=\"\",\"\",((U18/S18))*T18),\"\")","v":""},null,null,{"$f":"IFERROR(IF(S18=\"\",\"\",X18/S18),\"\")","v":""},{"$f":"IFERROR(IF(S18=\"\",\"\",(1-(Y18/1000000))*T18),\"\")","v":""}]
["B","breaks/lunch",null,{"$f":"I39","v":0},null,null,null,null,{"$f":"IF(H19=\"x\",(G19-F19)*1440,0)","v":0},null,{"$f":"IF(J19=\"x\",(G19-F19)*1440,0)","v":0},null,{"$f":"IF(L19=\"x\",(G19-F19)*1440,0)","v":0},null,{"$f":"IF(N19=\"x\",(G19-F19)*1440,0)","v":0},null,{"$f":"IF(P19=\"x\",(G19-F19)*1440,0)","v":0},{"$f":"IF(ISBLANK(F19),\"\",IF(G19>=F19,(G19-F19)*1440,(1+G19-F19)*1440))","v":""},null,{"$f":"IFERROR(IF(S19=\"\",\"\",((S19/R19))*60),\"\")","v":""},{"$f":"IF(S19=\"\",\"\",S19-(W19+X19))","v":""},{"$f":"IFERROR(IF(S19=\"\",\"\",((U19/S19))*T19),\"\")","v":""},null,null,{"$f":"IFERROR(IF(S19=\"\",\"\",X19/S19),\"\")","v":""},{"$f":"IFERROR(IF(S19=\"\",\"\",(1-(Y19/1000000))*T19),\"\")","v":""}]
["T","tool change",null,{"$f":"K39","v":0},null,null,null,null,0,null,0,null,0,null,0,null,0,"",null,"","","",null,null,"",""]
["C","changeover",null,{"$f":"M39","v":0},null,null,null,null,0,null,0,null,0,null,0,null,0,"",null,"","","",null,null,"",""]
["O","other planned dntm",null,{"$f":"O39","v":0},null,null,null,null,0,null,0,null,0,null,0,null,0,"",null,"","","",null,null,"",""]
["U","unplanned dntm",null,{"$f":"Q39","v":0},null,null,null,null,0,null,0,null,0,null,0,null,0,"",null,"","","",null,null,"",""]
[null,null,null,null,null,null,null,null,{"$f":"IF(H24=\"x\",(G24-F24)*1440,0)","v":0},null,{"$f":"IF(J24=\"x\",(G24-F24)*1440,0)","v":0},null,{"$f":"IF(L24=\"x\",(G24-F24)*1440,0)","v":0},null,{"$f":"IF(N24=\"x\",(G24-F24)*1440,0)","v":0},null,0,"",null,"","","",null,null,"",""]
[null,null,null,null,null,null,null,null,0,null,0,null,0,null,0,null,0,"",null,"","","",null,null,"",""]
[null,null,null,null,null,null,null,null,0,null,0,null,0,null,0,null,0,"",null,"","","",null,null,"",""]
[null,null,null,null,null,null,null,null,0,null,0,null,0,null,0,null,0,"",null,"","","",null,null,"",""]
[null,null,null,null,null,null,null,null,0,null,0,null,0,null,0,null,0,"",null,"","","",null,null,"",""]
[null,null,null,null,null,null,null,null,0,null,0,null,0,null,0,null,0,"",null,"","","",null,null,"",""]
[null,null,null,null,null,null,null,null,0,null,0,null,0,null,0,null,0,"",null,"","","",null,null,"",""]
[null,null,null,null,null,null,null,null,0,null,0,null,0,null,0,null,0,"",null,"","","",null,null,"",""]
[null,null,null,null,null,null,null,null,0,null,0,null,0,null,0,null,0,"",null,"","","",null,null,"",""]
[null,null,null,null,null,null,null,null,0,null,0,null,0,null,0,null,0,"",null,"","","",null,null,"",""]
[null,null,null,null,null,null,null,null,0,null,0,null,0,null,0,null,0,"",null,"","","",null,null,"",""]
[null,null,null,null,null,null,null,null,0,null,0,null,0,null,0,null,0,"",null,"","","",null,null,"",""]
[null,null,null,null,null,null,null,null,0,null,0,null,0,null,0,null,0,"",null,"","","",null,null,"",""]
[null,null,null,null,null,null,null,null,0,null,0,null,0,null,0,null,0,"",null,"","","",null,null,"",""]
[null,null,null,null,null,null,null,null,0,null,0,null,0,null,0,null,0,"",null,"","","",null,null,"",""]
[null,null,null,null,null,null,null,null,{"$f":"SUM(I15:I38)","v":0},null,{"$f":"SUM(K15:K38)","v":0},null,{"$f":"SUM(M15:M38)","v":0},null,{"$f":"SUM(O15:O38)","v":0},null,{"$f":"SUM(Q15:Q38)","v":0},{"$f":"(G39-F39)*1440","v":0},null,{"$f":"((S39/R39))*60/1440","v":{"$error":"#DIV/0!"}},{"$f":"S39-(W39+X39)","v":0},{"$f":"((U39/S39))*T39","v":{"$error":"#DIV/0!"}},null,null,{"$f":"(X39/S39)*1000000","v":{"$error":"#DIV/0!"}},{"$f":"(1-(Y39/1000000))*T39","v":{"$error":"#DIV/0!"}}]
[null,null,null,null,null,null,null,null,null,null,null,null,null,null,null,null,null,null,{"$f":"SUM(S15:S39)","v":0},null,{"$f":"SUM(U15:U39)","v":0},null,{"$f":"SUM(W15:W39)","v":0}]
[null,null,null,null,null,null,null,null,null,null,null,null,null,null,null,"# of minutes uptime:  ",null,{"$f":"R42-(D20+D21+D23)","v":0},null,"% uptime:  ",{"$f":"IFERROR(R41/R42,\"\")","v":""},null,"FTQ:  ",{"$f":"IFERROR(IF(F15=\"\",\"\",((S40-U40)/S40)*1000000),\"\")","v":""}]
[null,null,null,null,null,null,null,null,null,null,null,null,null,null,null,"Total Run Time:  ",null,{"$f":"SUM(R15:R38)-(D19+D22)","v":0},null,null,null,null,"% Scrap:  ",{"$f":"IFERROR(IF(F15=\"\",\"\",((S40-(U40+W40))/S40)),\"\")","v":""}]
[]
[null,null,null,null,null,null,null,null,null,null,null,"Comments:  Document scrap/rework and downtime here"]

{"sheet":"Process 19 - Actual Run Data","index":23,"n_rows":44,"n_cols":26,"rows_kept":44,"cut":false,"hidden":false,"merged":[[5,2,5,6],[5,23,5,25],[0,0,0,25],[2,20,2,22],[3,22,3,24],[4,2,4,6],[4,23,4,25],[15,0,15,3],[43,11,43,21],[44,11,51,25],[6,2,6,6],[6,23,6,25],[8,21,10,25],[9,9,9,15],[10,9,10,15],[12,7,12,16],[9,1,11,1]]}
["Actual Run Data"]
[]
[]
[]
[null,"Supplier Name:  ",{"$f":"IF('Capacity Plan'!$F$3=\"\",\"\",'Capacity Plan'!$F$3)","v":""},null,null,null,null,null,null,null,null,null,null,null,null,null,null,null,null,null,null,null,"Completed By:  "]
[null,"Process Name:  ",{"$f":"IF('Capacity Plan'!$D$39=\"\",\"\",'Capacity Plan'!$D$39)","v":""}]
[null,"Part Number:  ",{"$f":"IF('Capacity Plan'!$Q$3=\"\",\"\",'Capacity Plan'!$Q$3)","v":""}]
[]
[null,null,null,null,null,null,null,null,null,null,null,null,null,null,null,null,null,"Target","Actual","Difference",null,"PLEASE PRINT HARD COPY FOR USE DURING RUN@RATE.  COMPLETE BY FILLING IN THE HIGHLIGHTED COLUMNS ONLY.  USE MILITARY (24:00 HR) TIME FORMAT."]
[null,"Run @ Rate Summary Data",null,null,null,null,null,null,null,"Time/part",null,null,null,null,null,null,null,{"$f":"IFERROR(IF(F15=\"\",\"\",'Capacity Plan'!L39/'Capacity Plan'!M39),\"\")","v":""},{"$f":"IFERROR(IF(F15=\"\",\"\",3600/S11),\"\")","v":""},{"$f":"IFERROR(IF(F15=\"\",\"\",R10-S10),\"\")","v":""}]
[null,null,null,null,null,null,null,null,null,"Pcs/Hour",null,null,null,null,null,null,null,{"$f":"IFERROR(IF(F15=\"\",\"\",60*60/R10),\"\")","v":""},{"$f":"IFERROR(IF(F15=\"\",\"\",(S40*60/R41)),\"\")","v":""},{"$f":"IFERROR(IF(F15=\"\",\"\",S11-R11),\"\")","v":""}]
[]
[null,"Capacity Plan",null,null,null,"Start Time (hh:mm)","Stop Time (hh:mm)","Downtime Description",null,null,null,null,null,null,null,null,null,"Total Time","Total # of Pcs. Run","Pieces/ Hour","Good Pieces","Good Pcs/Hour","Rework Total","Scrap Total","% Scrap","Net Pcs/Hr (Good + Rework)"]
[null,null,null,null,null,null,null,"B",null,"T",null,"C",null,"O",null,"U",null,null,null,{"$f":"IFERROR(IF(S14=\"\",\"\",((S14/R14))*60),\"\")","v":""},null,{"$f":"IFERROR(IF(S14=\"\",\"\",((U14/S14))*T14),\"\")","v":""},null,null,{"$f":"IFERROR(IF(S14=\"\",\"\",X14/S14),\"\")","v":""},{"$f":"IFERROR(IF(S14=\"\",\"\",(1-(Y14/1000000))*T14),\"\")","v":""}]
[null,null,null,null,null,null,null,null,{"$f":"IF(H15=\"x\",(G15-F15)*1440,0)","v":0},null,{"$f":"IF(J15=\"x\",(G15-F15)*1440,0)","v":0},null,{"$f":"IF(L15=\"x\",(G15-F15)*1440,0)","v":0},null,{"$f":"IF(N15=\"x\",(G15-F15)*1440,0)","v":0},null,{"$f":"IF(P15=\"x\",(G15-F15)*1440,0)","v":0},{"$f":"IF(ISBLANK(F15),\"\",IF(G15>=F15,(G15-F15)*1440,(1+G15-F15)*1440))","v":""},null,{"$f":"IFERROR(IF(S15=\"\",\"\",((S15/R15))*60),\"\")","v":""},{"$f":"IF(S15=\"\",\"\",S15-(W15+X15))","v":""},{"$f":"IFERROR(IF(S15=\"\",\"\",((U15/S15))*T15),\"\")","v":""},null,null,{"$f":"IFERROR(IF(S15=\"\",\"\",X15/S15),\"\")","v":""},{"$f":"IFERROR(IF(S15=\"\",\"\",(1-(Y15/1000000))*T15),\"\")","v":""}]
["Description of Downtime:",null,null,null,null,null,null,null,0,null,0,null,0,null,0,null,{"$f":"IF(P16=\"x\",(G16-F16)*1440,0)","v":0},{"$f":"IF(ISBLANK(F16),\"\",IF(G16>=F16,(G16-F16)*1440,(1+G16-F16)*1440))","v":""},null,{"$f":"IFERROR(IF(S16=\"\",\"\",((S16/R16))*60),\"\")","v":""},{"$f":"IF(S16=\"\",\"\",S16-(W16+X16))","v":""},{"$f":"IFERROR(IF(S16=\"\",\"\",((U16/S16))*T16),\"\")","v":""},null,null,{"$f":"IFERROR(IF(S16=\"\",\"\",X16/S16),\"\")","v":""},{"$f":"IFERROR(IF(S16=\"\",\"\",(1-(Y16/1000000))*T16),\"\")","v":""}]
[null,null,null,null,null,null,null,null,0,null,0,null,0,null,0,null,0,"",null,"","","",null,null,"",""]
[null,null,null,"Downtime",null,null,null,null,0,null,0,null,0,null,0,null,0,"",null,"","","",null,null,"",""]
["B","breaks/lunch",null,{"$f":"I39","v":0},null,null,null,null,0,null,0,null,0,null,0,null,0,"",null,"","","",null,null,"",""]
["T","tool change",null,{"$f":"K39","v":0},null,null,null,null,0,null,0,null,0,null,0,null,0,"",null,"","","",null,null,"",""]
["C","changeover",null,{"$f":"M39","v":0},null,null,null,null,0,null,0,null,0,null,0,null,0,"",null,"","","",null,null,"",""]
["O","other planned dntm",null,{"$f":"O39","v":0},null,null,null,null,0,null,0,null,0,null,0,null,0,"",null,"","","",null,null,"",""]
["U","unplanned dntm",null,{"$f":"Q39","v":0},null,null,null,null,0,null,0,null,0,null,0,null,0,"",null,"","","",null,null,"",""]
[null,null,null,null,null,null,null,null,{"$f":"IF(H24=\"x\",(G24-F24)*1440,0)","v":0},null,{"$f":"IF(J24=\"x\",(G24-F24)*1440,0)","v":0},null,{"$f":"IF(L24=\"x\",(G24-F24)*1440,0)","v":0},null,0,null,0,"",null,"","","",null,null,"",""]
[null,null,null,null,null,null,null,null,0,null,0,null,0,null,0,null,0,"",null,"","","",null,null,"",""]
[null,null,null,null,null,null,null,null,0,null,0,null,0,null,0,null,0,"",null,"","","",null,null,"",""]
[null,null,null,null,null,null,null,null,0,null,0,null,0,null,0,null,0,"",null,"","","",null,null,"",""]
[null,null,null,null,null,null,null,null,0,null,0,null,0,null,0,null,0,"",null,"","","",null,null,"",""]
[null,null,null,null,null,null,null,null,0,null,0,null,0,null,0,null,0,"",null,"","","",null,null,"",""]
[null,null,null,null,null,null,null,null,0,null,0,null,0,null,0,null,0,"",null,"","","",null,null,"",""]
[null,null,null,null,null,null,null,null,0,null,0,null,0,null,0,null,0,"",null,"","","",null,null,"",""]
[null,null,null,null,null,null,null,null,0,null,0,null,0,null,0,null,0,"",null,"","","",null,null,"",""]
[null,null,null,null,null,null,null,null,0,null,0,null,0,null,0,null,0,"",null,"","","",null,null,"",""]
[null,null,null,null,null,null,null,null,0,null,0,null,0,null,0,null,0,"",null,"","","",null,null,"",""]
[null,null,null,null,null,null,null,null,0,null,0,null,0,null,0,null,0,"",null,"","","",null,null,"",""]
[null,null,null,null,null,null,null,null,0,null,0,null,0,null,0,null,0,"",null,"","","",null,null,"",""]
[null,null,null,null,null,null,null,null,0,null,0,null,0,null,0,null,0,"",null,"","","",null,null,"",""]
[null,null,null,null,null,null,null,null,0,null,0,null,0,null,0,null,0,"",null,"","","",null,null,"",""]
[null,null,null,null,null,null,null,null,{"$f":"SUM(I15:I38)","v":0},null,{"$f":"SUM(K15:K38)","v":0},null,{"$f":"SUM(M15:M38)","v":0},null,{"$f":"SUM(O15:O38)","v":0},null,{"$f":"SUM(Q15:Q38)","v":0},{"$f":"(G39-F39)*1440","v":0},null,{"$f":"((S39/R39))*60/1440","v":{"$error":"#DIV/0!"}},{"$f":"S39-(W39+X39)","v":0},{"$f":"((U39/S39))*T39","v":{"$error":"#DIV/0!"}},null,null,{"$f":"(X39/S39)*1000000","v":{"$error":"#DIV/0!"}},{"$f":"(1-(Y39/1000000))*T39","v":{"$error":"#DIV/0!"}}]
[null,null,null,null,null,null,null,null,null,null,null,null,null,null,null,null,null,null,{"$f":"SUM(S15:S39)","v":0},null,{"$f":"SUM(U15:U39)","v":0},null,{"$f":"SUM(W15:W39)","v":0}]
[null,null,null,null,null,null,null,null,null,null,null,null,null,null,null,"# of minutes uptime:  ",null,{"$f":"R42-(D20+D21+D23)","v":0},null,"% uptime:  ",{"$f":"IFERROR(R41/R42,\"\")","v":""},null,"FTQ:  ",{"$f":"IFERROR(IF(F15=\"\",\"\",((S40-U40)/S40)*1000000),\"\")","v":""}]
[null,null,null,null,null,null,null,null,null,null,null,null,null,null,null,"Total Run Time:  ",null,{"$f":"SUM(R15:R38)-(D19+D22)","v":0},null,null,null,null,"% Scrap:  ",{"$f":"IFERROR(IF(F15=\"\",\"\",((S40-(U40+W40))/S40)),\"\")","v":""}]
[]
[null,null,null,null,null,null,null,null,null,null,null,"Comments:  Document scrap/rework and downtime here"]

{"sheet":"Process 20 - Actual Run Data","index":24,"n_rows":44,"n_cols":26,"rows_kept":44,"cut":false,"hidden":false,"merged":[[5,2,5,6],[5,23,5,25],[0,0,0,25],[2,20,2,22],[3,22,3,24],[4,2,4,6],[4,23,4,25],[15,0,15,3],[43,11,43,21],[44,11,51,25],[6,2,6,6],[6,23,6,25],[8,21,10,25],[9,9,9,15],[10,9,10,15],[12,7,12,16],[9,1,11,1]]}
["Actual Run Data"]
[]
[]
[]
[null,"Supplier Name:  ",{"$f":"IF('Capacity Plan'!$F$3=\"\",\"\",'Capacity Plan'!$F$3)","v":""},null,null,null,null,null,null,null,null,null,null,null,null,null,null,null,null,null,null,null,"Completed By:  "]
[null,"Process Name:  ",{"$f":"IF('Capacity Plan'!$D$40=\"\",\"\",'Capacity Plan'!$D$40)","v":""}]
[null,"Part Number:  ",{"$f":"IF('Capacity Plan'!$Q$3=\"\",\"\",'Capacity Plan'!$Q$3)","v":""}]
[]
[null,null,null,null,null,null,null,null,null,null,null,null,null,null,null,null,null,"Target","Actual","Difference",null,"PLEASE PRINT HARD COPY FOR USE DURING RUN@RATE.  COMPLETE BY FILLING IN THE HIGHLIGHTED COLUMNS ONLY.  USE MILITARY (24:00 HR) TIME FORMAT."]
[null,"Run @ Rate Summary Data",null,null,null,null,null,null,null,"Time/part",null,null,null,null,null,null,null,{"$f":"IFERROR(IF(F15=\"\",\"\",'Capacity Plan'!L40/'Capacity Plan'!M40),\"\")","v":""},{"$f":"IFERROR(IF(F15=\"\",\"\",3600/S11),\"\")","v":""},{"$f":"IFERROR(IF(F15=\"\",\"\",R10-S10),\"\")","v":""}]
[null,null,null,null,null,null,null,null,null,"Pcs/Hour",null,null,null,null,null,null,null,{"$f":"IFERROR(IF(F15=\"\",\"\",60*60/R10),\"\")","v":""},{"$f":"IFERROR(IF(F15=\"\",\"\",(S40*60/R41)),\"\")","v":""},{"$f":"IFERROR(IF(F15=\"\",\"\",S11-R11),\"\")","v":""}]
[]
[null,"Capacity Plan",null,null,null,"Start Time (hh:mm)","Stop Time (hh:mm)","Downtime Description",null,null,null,null,null,null,null,null,null,"Total Time","Total # of Pcs. Run","Pieces/ Hour","Good Pieces","Good Pcs/Hour","Rework Total","Scrap Total","% Scrap","Net Pcs/Hr (Good + Rework)"]
[null,null,null,null,null,null,null,"B",null,"T",null,"C",null,"O",null,"U",null,null,null,{"$f":"IFERROR(IF(S14=\"\",\"\",((S14/R14))*60),\"\")","v":""},null,{"$f":"IFERROR(IF(S14=\"\",\"\",((U14/S14))*T14),\"\")","v":""},null,null,{"$f":"IFERROR(IF(S14=\"\",\"\",X14/S14),\"\")","v":""},{"$f":"IFERROR(IF(S14=\"\",\"\",(1-(Y14/1000000))*T14),\"\")","v":""}]
[null,null,null,null,null,null,null,null,{"$f":"IF(H15=\"x\",(G15-F15)*1440,0)","v":0},null,{"$f":"IF(J15=\"x\",(G15-F15)*1440,0)","v":0},null,{"$f":"IF(L15=\"x\",(G15-F15)*1440,0)","v":0},null,{"$f":"IF(N15=\"x\",(G15-F15)*1440,0)","v":0},null,{"$f":"IF(P15=\"x\",(G15-F15)*1440,0)","v":0},{"$f":"IF(ISBLANK(F15),\"\",IF(G15>=F15,(G15-F15)*1440,(1+G15-F15)*1440))","v":""},null,{"$f":"IFERROR(IF(S15=\"\",\"\",((S15/R15))*60),\"\")","v":""},{"$f":"IF(S15=\"\",\"\",S15-(W15+X15))","v":""},{"$f":"IFERROR(IF(S15=\"\",\"\",((U15/S15))*T15),\"\")","v":""},null,null,{"$f":"IFERROR(IF(S15=\"\",\"\",X15/S15),\"\")","v":""},{"$f":"IFERROR(IF(S15=\"\",\"\",(1-(Y15/1000000))*T15),\"\")","v":""}]
["Description of Downtime:",null,null,null,null,null,null,null,0,null,0,null,0,null,0,null,{"$f":"IF(P16=\"x\",(G16-F16)*1440,0)","v":0},{"$f":"IF(ISBLANK(F16),\"\",IF(G16>=F16,(G16-F16)*1440,(1+G16-F16)*1440))","v":""},null,{"$f":"IFERROR(IF(S16=\"\",\"\",((S16/R16))*60),\"\")","v":""},{"$f":"IF(S16=\"\",\"\",S16-(W16+X16))","v":""},{"$f":"IFERROR(IF(S16=\"\",\"\",((U16/S16))*T16),\"\")","v":""},null,null,{"$f":"IFERROR(IF(S16=\"\",\"\",X16/S16),\"\")","v":""},{"$f":"IFERROR(IF(S16=\"\",\"\",(1-(Y16/1000000))*T16),\"\")","v":""}]
[null,null,null,null,null,null,null,null,0,null,0,null,0,null,0,null,0,"",null,"","","",null,null,"",""]
[null,null,null,"Downtime",null,null,null,null,0,null,0,null,0,null,0,null,0,"",null,"","","",null,null,"",""]
["B","breaks/lunch",null,{"$f":"I39","v":0},null,null,null,null,0,null,0,null,0,null,0,null,0,"",null,"","","",null,null,"",""]
["T","tool change",null,{"$f":"K39","v":0},null,null,null,null,0,null,0,null,0,null,0,null,0,"",null,"","","",null,null,"",""]
["C","changeover",null,{"$f":"M39","v":0},null,null,null,null,0,null,0,null,0,null,0,null,0,"",null,"","","",null,null,"",""]
["O","other planned dntm",null,{"$f":"O39","v":0},null,null,null,null,0,null,0,null,0,null,0,null,0,"",null,"","","",null,null,"",""]
["U","unplanned dntm",null,{"$f":"Q39","v":0},null,null,null,null,0,null,0,null,0,null,0,null,0,"",null,"","","",null,null,"",""]
[null,null,null,null,null,null,null,null,{"$f":"IF(H24=\"x\",(G24-F24)*1440,0)","v":0},null,{"$f":"IF(J24=\"x\",(G24-F24)*1440,0)","v":0},null,{"$f":"IF(L24=\"x\",(G24-F24)*1440,0)","v":0},null,{"$f":"IF(N24=\"x\",(G24-F24)*1440,0)","v":0},null,0,"",null,"","","",null,null,"",""]
[null,null,null,null,null,null,null,null,0,null,0,null,0,null,0,null,0,"",null,"","","",null,null,"",""]
[null,null,null,null,null,null,null,null,0,null,0,null,0,null,0,null,0,"",null,"","","",null,null,"",""]
[null,null,null,null,null,null,null,null,0,null,0,null,0,null,0,null,0,"",null,"","","",null,null,"",""]
[null,null,null,null,null,null,null,null,0,null,0,null,0,null,0,null,0,"",null,"","","",null,null,"",""]
[null,null,null,null,null,null,null,null,0,null,0,null,0,null,0,null,0,"",null,"","","",null,null,"",""]
[null,null,null,null,null,null,null,null,0,null,0,null,0,null,0,null,0,"",null,"","","",null,null,"",""]
[null,null,null,null,null,null,null,null,0,null,0,null,0,null,0,null,0,"",null,"","","",null,null,"",""]
[null,null,null,null,null,null,null,null,0,null,0,null,0,null,0,null,0,"",null,"","","",null,null,"",""]
[null,null,null,null,null,null,null,null,0,null,0,null,0,null,0,null,0,"",null,"","","",null,null,"",""]
[null,null,null,null,null,null,null,null,0,null,0,null,0,null,0,null,0,"",null,"","","",null,null,"",""]
[null,null,null,null,null,null,null,null,0,null,0,null,0,null,0,null,0,"",null,"","","",null,null,"",""]
[null,null,null,null,null,null,null,null,0,null,0,null,0,null,0,null,0,"",null,"","","",null,null,"",""]
[null,null,null,null,null,null,null,null,0,null,0,null,0,null,0,null,0,"",null,"","","",null,null,"",""]
[null,null,null,null,null,null,null,null,0,null,0,null,0,null,0,null,0,"",null,"","","",null,null,"",""]
[null,null,null,null,null,null,null,null,{"$f":"SUM(I15:I38)","v":0},null,{"$f":"SUM(K15:K38)","v":0},null,{"$f":"SUM(M15:M38)","v":0},null,{"$f":"SUM(O15:O38)","v":0},null,{"$f":"SUM(Q15:Q38)","v":0},{"$f":"(G39-F39)*1440","v":0},null,{"$f":"((S39/R39))*60/1440","v":{"$error":"#DIV/0!"}},{"$f":"S39-(W39+X39)","v":0},{"$f":"((U39/S39))*T39","v":{"$error":"#DIV/0!"}},null,null,{"$f":"(X39/S39)*1000000","v":{"$error":"#DIV/0!"}},{"$f":"(1-(Y39/1000000))*T39","v":{"$error":"#DIV/0!"}}]
[null,null,null,null,null,null,null,null,null,null,null,null,null,null,null,null,null,null,{"$f":"SUM(S15:S39)","v":0},null,{"$f":"SUM(U15:U39)","v":0},null,{"$f":"SUM(W15:W39)","v":0}]
[null,null,null,null,null,null,null,null,null,null,null,null,null,null,null,"# of minutes uptime:  ",null,{"$f":"R42-(D20+D21+D23)","v":0},null,"% uptime:  ",{"$f":"IFERROR(R41/R42,\"\")","v":""},null,"FTQ:  ",{"$f":"IFERROR(IF(F15=\"\",\"\",((S40-U40)/S40)*1000000),\"\")","v":""}]
[null,null,null,null,null,null,null,null,null,null,null,null,null,null,null,"Total Run Time:  ",null,{"$f":"SUM(R15:R38)-(D19+D22)","v":0},null,null,null,null,"% Scrap:  ",{"$f":"IFERROR(IF(F15=\"\",\"\",((S40-(U40+W40))/S40)),\"\")","v":""}]
[]
[null,null,null,null,null,null,null,null,null,null,null,"Comments:  Document scrap/rework and downtime here"]

{"sheet":"Process 21 - Actual Run Data","index":25,"n_rows":44,"n_cols":26,"rows_kept":44,"cut":false,"hidden":false,"merged":[[5,2,5,6],[5,23,5,25],[0,0,0,25],[2,20,2,22],[3,22,3,24],[4,2,4,6],[4,23,4,25],[15,0,15,3],[43,11,43,21],[44,11,51,25],[6,2,6,6],[6,23,6,25],[8,21,10,25],[9,9,9,15],[10,9,10,15],[12,7,12,16],[9,1,11,1]]}
["Actual Run Data"]
[]
[]
[]
[null,"Supplier Name:  ",{"$f":"IF('Capacity Plan'!$F$3=\"\",\"\",'Capacity Plan'!$F$3)","v":""},null,null,null,null,null,null,null,null,null,null,null,null,null,null,null,null,null,null,null,"Completed By:  "]
[null,"Process Name:  ",{"$f":"IF('Capacity Plan'!$D$41=\"\",\"\",'Capacity Plan'!$D$41)","v":""}]
[null,"Part Number:  ",{"$f":"IF('Capacity Plan'!$Q$3=\"\",\"\",'Capacity Plan'!$Q$3)","v":""}]
[]
[null,null,null,null,null,null,null,null,null,null,null,null,null,null,null,null,null,"Target","Actual","Difference",null,"PLEASE PRINT HARD COPY FOR USE DURING RUN@RATE.  COMPLETE BY FILLING IN THE HIGHLIGHTED COLUMNS ONLY.  USE MILITARY (24:00 HR) TIME FORMAT."]
[null,"Run @ Rate Summary Data",null,null,null,null,null,null,null,"Time/part",null,null,null,null,null,null,null,{"$f":"IFERROR(IF(F15=\"\",\"\",'Capacity Plan'!L41/'Capacity Plan'!M41),\"\")","v":""},{"$f":"IFERROR(IF(F15=\"\",\"\",3600/S11),\"\")","v":""},{"$f":"IFERROR(IF(F15=\"\",\"\",R10-S10),\"\")","v":""}]
[null,null,null,null,null,null,null,null,null,"Pcs/Hour",null,null,null,null,null,null,null,{"$f":"IFERROR(IF(F15=\"\",\"\",60*60/R10),\"\")","v":""},{"$f":"IFERROR(IF(F15=\"\",\"\",(S40*60/R41)),\"\")","v":""},{"$f":"IFERROR(IF(F15=\"\",\"\",S11-R11),\"\")","v":""}]
[]
[null,"Capacity Plan",null,null,null,"Start Time (hh:mm)","Stop Time (hh:mm)","Downtime Description",null,null,null,null,null,null,null,null,null,"Total Time","Total # of Pcs. Run","Pieces/ Hour","Good Pieces","Good Pcs/Hour","Rework Total","Scrap Total","% Scrap","Net Pcs/Hr (Good + Rework)"]
[null,null,null,null,null,null,null,"B",null,"T",null,"C",null,"O",null,"U",null,null,null,{"$f":"IFERROR(IF(S14=\"\",\"\",((S14/R14))*60),\"\")","v":""},null,{"$f":"IFERROR(IF(S14=\"\",\"\",((U14/S14))*T14),\"\")","v":""},null,null,{"$f":"IFERROR(IF(S14=\"\",\"\",X14/S14),\"\")","v":""},{"$f":"IFERROR(IF(S14=\"\",\"\",(1-(Y14/1000000))*T14),\"\")","v":""}]
[null,null,null,null,null,null,null,null,{"$f":"IF(H15=\"x\",(G15-F15)*1440,0)","v":0},null,{"$f":"IF(J15=\"x\",(G15-F15)*1440,0)","v":0},null,{"$f":"IF(L15=\"x\",(G15-F15)*1440,0)","v":0},null,{"$f":"IF(N15=\"x\",(G15-F15)*1440,0)","v":0},null,{"$f":"IF(P15=\"x\",(G15-F15)*1440,0)","v":0},{"$f":"IF(ISBLANK(F15),\"\",IF(G15>=F15,(G15-F15)*1440,(1+G15-F15)*1440))","v":""},null,{"$f":"IFERROR(IF(S15=\"\",\"\",((S15/R15))*60),\"\")","v":""},{"$f":"IF(S15=\"\",\"\",S15-(W15+X15))","v":""},{"$f":"IFERROR(IF(S15=\"\",\"\",((U15/S15))*T15),\"\")","v":""},null,null,{"$f":"IFERROR(IF(S15=\"\",\"\",X15/S15),\"\")","v":""},{"$f":"IFERROR(IF(S15=\"\",\"\",(1-(Y15/1000000))*T15),\"\")","v":""}]
["Description of Downtime:",null,null,null,null,null,null,null,0,null,0,null,0,null,0,null,{"$f":"IF(P16=\"x\",(G16-F16)*1440,0)","v":0},{"$f":"IF(ISBLANK(F16),\"\",IF(G16>=F16,(G16-F16)*1440,(1+G16-F16)*1440))","v":""},null,{"$f":"IFERROR(IF(S16=\"\",\"\",((S16/R16))*60),\"\")","v":""},{"$f":"IF(S16=\"\",\"\",S16-(W16+X16))","v":""},{"$f":"IFERROR(IF(S16=\"\",\"\",((U16/S16))*T16),\"\")","v":""},null,null,{"$f":"IFERROR(IF(S16=\"\",\"\",X16/S16),\"\")","v":""},{"$f":"IFERROR(IF(S16=\"\",\"\",(1-(Y16/1000000))*T16),\"\")","v":""}]
[null,null,null,null,null,null,null,null,0,null,0,null,0,null,0,null,0,"",null,"","","",null,null,"",""]
[null,null,null,"Downtime",null,null,null,null,0,null,0,null,0,null,0,null,0,"",null,"","","",null,null,"",""]
["B","breaks/lunch",null,{"$f":"I39","v":0},null,null,null,null,0,null,0,null,0,null,0,null,0,"",null,"","","",null,null,"",""]
["T","tool change",null,{"$f":"K39","v":0},null,null,null,null,0,null,0,null,0,null,0,null,0,"",null,"","","",null,null,"",""]
["C","changeover",null,{"$f":"M39","v":0},null,null,null,null,0,null,0,null,0,null,0,null,0,"",null,"","","",null,null,"",""]
["O","other planned dntm",null,{"$f":"O39","v":0},null,null,null,null,0,null,0,null,0,null,0,null,0,"",null,"","","",null,null,"",""]
["U","unplanned dntm",null,{"$f":"Q39","v":0},null,null,null,null,0,null,0,null,0,null,0,null,0,"",null,"","","",null,null,"",""]
[null,null,null,null,null,null,null,null,{"$f":"IF(H24=\"x\",(G24-F24)*1440,0)","v":0},null,{"$f":"IF(J24=\"x\",(G24-F24)*1440,0)","v":0},null,{"$f":"IF(L24=\"x\",(G24-F24)*1440,0)","v":0},null,{"$f":"IF(N24=\"x\",(G24-F24)*1440,0)","v":0},null,0,"",null,"","","",null,null,"",""]
[null,null,null,null,null,null,null,null,0,null,0,null,0,null,0,null,0,"",null,"","","",null,null,"",""]
[null,null,null,null,null,null,null,null,0,null,0,null,0,null,0,null,0,"",null,"","","",null,null,"",""]
[null,null,null,null,null,null,null,null,0,null,0,null,0,null,0,null,0,"",null,"","","",null,null,"",""]
[null,null,null,null,null,null,null,null,0,null,0,null,0,null,0,null,0,"",null,"","","",null,null,"",""]
[null,null,null,null,null,null,null,null,0,null,0,null,0,null,0,null,0,"",null,"","","",null,null,"",""]
[null,null,null,null,null,null,null,null,0,null,0,null,0,null,0,null,0,"",null,"","","",null,null,"",""]
[null,null,null,null,null,null,null,null,0,null,0,null,0,null,0,null,0,"",null,"","","",null,null,"",""]
[null,null,null,null,null,null,null,null,0,null,0,null,0,null,0,null,0,"",null,"","","",null,null,"",""]
[null,null,null,null,null,null,null,null,0,null,0,null,0,null,0,null,0,"",null,"","","",null,null,"",""]
[null,null,null,null,null,null,null,null,0,null,0,null,0,null,0,null,0,"",null,"","","",null,null,"",""]
[null,null,null,null,null,null,null,null,0,null,0,null,0,null,0,null,0,"",null,"","","",null,null,"",""]
[null,null,null,null,null,null,null,null,0,null,0,null,0,null,0,null,0,"",null,"","","",null,null,"",""]
[null,null,null,null,null,null,null,null,0,null,0,null,0,null,0,null,0,"",null,"","","",null,null,"",""]
[null,null,null,null,null,null,null,null,0,null,0,null,0,null,0,null,0,"",null,"","","",null,null,"",""]
[null,null,null,null,null,null,null,null,{"$f":"SUM(I15:I38)","v":0},null,{"$f":"SUM(K15:K38)","v":0},null,{"$f":"SUM(M15:M38)","v":0},null,{"$f":"SUM(O15:O38)","v":0},null,{"$f":"SUM(Q15:Q38)","v":0},{"$f":"(G39-F39)*1440","v":0},null,{"$f":"((S39/R39))*60/1440","v":{"$error":"#DIV/0!"}},{"$f":"S39-(W39+X39)","v":0},{"$f":"((U39/S39))*T39","v":{"$error":"#DIV/0!"}},null,null,{"$f":"(X39/S39)*1000000","v":{"$error":"#DIV/0!"}},{"$f":"(1-(Y39/1000000))*T39","v":{"$error":"#DIV/0!"}}]
[null,null,null,null,null,null,null,null,null,null,null,null,null,null,null,null,null,null,{"$f":"SUM(S15:S39)","v":0},null,{"$f":"SUM(U15:U39)","v":0},null,{"$f":"SUM(W15:W39)","v":0}]
[null,null,null,null,null,null,null,null,null,null,null,null,null,null,null,"# of minutes uptime:  ",null,{"$f":"R42-(D20+D21+D23)","v":0},null,"% uptime:  ",{"$f":"IFERROR(R41/R42,\"\")","v":""},null,"FTQ:  ",{"$f":"IFERROR(IF(F15=\"\",\"\",((S40-U40)/S40)*1000000),\"\")","v":""}]
[null,null,null,null,null,null,null,null,null,null,null,null,null,null,null,"Total Run Time:  ",null,{"$f":"SUM(R15:R38)-(D19+D22)","v":0},null,null,null,null,"% Scrap:  ",{"$f":"IFERROR(IF(F15=\"\",\"\",((S40-(U40+W40))/S40)),\"\")","v":""}]
[]
[null,null,null,null,null,null,null,null,null,null,null,"Comments:  Document scrap/rework and downtime here"]

{"sheet":"Process 22 - Actual Run Data","index":26,"n_rows":44,"n_cols":26,"rows_kept":44,"cut":false,"hidden":false,"merged":[[5,2,5,6],[5,23,5,25],[0,0,0,25],[2,20,2,22],[3,22,3,24],[4,2,4,6],[4,23,4,25],[15,0,15,3],[43,11,43,21],[44,11,51,25],[6,2,6,6],[6,23,6,25],[8,21,10,25],[9,9,9,15],[10,9,10,15],[12,7,12,16],[9,1,11,1]]}
["Actual Run Data"]
[]
[]
[]
[null,"Supplier Name:  ",{"$f":"IF('Capacity Plan'!$F$3=\"\",\"\",'Capacity Plan'!$F$3)","v":""},null,null,null,null,null,null,null,null,null,null,null,null,null,null,null,null,null,null,null,"Completed By:  "]
[null,"Process Name:  ",{"$f":"IF('Capacity Plan'!$D$42=\"\",\"\",'Capacity Plan'!$D$42)","v":""}]
[null,"Part Number:  ",{"$f":"IF('Capacity Plan'!$Q$3=\"\",\"\",'Capacity Plan'!$Q$3)","v":""}]
[]
[null,null,null,null,null,null,null,null,null,null,null,null,null,null,null,null,null,"Target","Actual","Difference",null,"PLEASE PRINT HARD COPY FOR USE DURING RUN@RATE.  COMPLETE BY FILLING IN THE HIGHLIGHTED COLUMNS ONLY.  USE MILITARY (24:00 HR) TIME FORMAT."]
[null,"Run @ Rate Summary Data",null,null,null,null,null,null,null,"Time/part",null,null,null,null,null,null,null,{"$f":"IFERROR(IF(F15=\"\",\"\",'Capacity Plan'!L42/'Capacity Plan'!M42),\"\")","v":""},{"$f":"IFERROR(IF(F15=\"\",\"\",3600/S11),\"\")","v":""},{"$f":"IFERROR(IF(F15=\"\",\"\",R10-S10),\"\")","v":""}]
[null,null,null,null,null,null,null,null,null,"Pcs/Hour",null,null,null,null,null,null,null,{"$f":"IFERROR(IF(F15=\"\",\"\",60*60/R10),\"\")","v":""},{"$f":"IFERROR(IF(F15=\"\",\"\",(S40*60/R41)),\"\")","v":""},{"$f":"IFERROR(IF(F15=\"\",\"\",S11-R11),\"\")","v":""}]
[]
[null,"Capacity Plan",null,null,null,"Start Time (hh:mm)","Stop Time (hh:mm)","Downtime Description",null,null,null,null,null,null,null,null,null,"Total Time","Total # of Pcs. Run","Pieces/ Hour","Good Pieces","Good Pcs/Hour","Rework Total","Scrap Total","% Scrap","Net Pcs/Hr (Good + Rework)"]
[null,null,null,null,null,null,null,"B",null,"T",null,"C",null,"O",null,"U",null,null,null,{"$f":"IFERROR(IF(S14=\"\",\"\",((S14/R14))*60),\"\")","v":""},null,{"$f":"IFERROR(IF(S14=\"\",\"\",((U14/S14))*T14),\"\")","v":""},null,null,{"$f":"IFERROR(IF(S14=\"\",\"\",X14/S14),\"\")","v":""},{"$f":"IFERROR(IF(S14=\"\",\"\",(1-(Y14/1000000))*T14),\"\")","v":""}]
[null,null,null,null,null,null,null,null,{"$f":"IF(H15=\"x\",(G15-F15)*1440,0)","v":0},null,{"$f":"IF(J15=\"x\",(G15-F15)*1440,0)","v":0},null,{"$f":"IF(L15=\"x\",(G15-F15)*1440,0)","v":0},null,{"$f":"IF(N15=\"x\",(G15-F15)*1440,0)","v":0},null,{"$f":"IF(P15=\"x\",(G15-F15)*1440,0)","v":0},{"$f":"IF(ISBLANK(F15),\"\",IF(G15>=F15,(G15-F15)*1440,(1+G15-F15)*1440))","v":""},null,{"$f":"IFERROR(IF(S15=\"\",\"\",((S15/R15))*60),\"\")","v":""},{"$f":"IF(S15=\"\",\"\",S15-(W15+X15))","v":""},{"$f":"IFERROR(IF(S15=\"\",\"\",((U15/S15))*T15),\"\")","v":""},null,null,{"$f":"IFERROR(IF(S15=\"\",\"\",X15/S15),\"\")","v":""},{"$f":"IFERROR(IF(S15=\"\",\"\",(1-(Y15/1000000))*T15),\"\")","v":""}]
["Description of Downtime:",null,null,null,null,null,null,null,0,null,0,null,0,null,0,null,{"$f":"IF(P16=\"x\",(G16-F16)*1440,0)","v":0},{"$f":"IF(ISBLANK(F16),\"\",IF(G16>=F16,(G16-F16)*1440,(1+G16-F16)*1440))","v":""},null,{"$f":"IFERROR(IF(S16=\"\",\"\",((S16/R16))*60),\"\")","v":""},{"$f":"IF(S16=\"\",\"\",S16-(W16+X16))","v":""},{"$f":"IFERROR(IF(S16=\"\",\"\",((U16/S16))*T16),\"\")","v":""},null,null,{"$f":"IFERROR(IF(S16=\"\",\"\",X16/S16),\"\")","v":""},{"$f":"IFERROR(IF(S16=\"\",\"\",(1-(Y16/1000000))*T16),\"\")","v":""}]
[null,null,null,null,null,null,null,null,0,null,0,null,0,null,0,null,0,"",null,"","","",null,null,"",""]
[null,null,null,"Downtime",null,null,null,null,{"$f":"IF(H18=\"x\",(G18-F18)*1440,0)","v":0},null,{"$f":"IF(J18=\"x\",(G18-F18)*1440,0)","v":0},null,{"$f":"IF(L18=\"x\",(G18-F18)*1440,0)","v":0},null,{"$f":"IF(N18=\"x\",(G18-F18)*1440,0)","v":0},null,0,"",null,"","","",null,null,"",""]
["B","breaks/lunch",null,{"$f":"I39","v":0},null,null,null,null,0,null,0,null,0,null,0,null,0,"",null,"","","",null,null,"",""]
["T","tool change",null,{"$f":"K39","v":0},null,null,null,null,0,null,0,null,0,null,0,null,0,"",null,"","","",null,null,"",""]
["C","changeover",null,{"$f":"M39","v":0},null,null,null,null,0,null,0,null,0,null,0,null,0,"",null,"","","",null,null,"",""]
["O","other planned dntm",null,{"$f":"O39","v":0},null,null,null,null,0,null,0,null,0,null,0,null,0,"",null,"","","",null,null,"",""]
["U","unplanned dntm",null,{"$f":"Q39","v":0},null,null,null,null,0,null,0,null,0,null,0,null,0,"",null,"","","",null,null,"",""]
[null,null,null,null,null,null,null,null,{"$f":"IF(H24=\"x\",(G24-F24)*1440,0)","v":0},null,{"$f":"IF(J24=\"x\",(G24-F24)*1440,0)","v":0},null,{"$f":"IF(L24=\"x\",(G24-F24)*1440,0)","v":0},null,{"$f":"IF(N24=\"x\",(G24-F24)*1440,0)","v":0},null,0,"",null,"","","",null,null,"",""]
[null,null,null,null,null,null,null,null,0,null,0,null,0,null,0,null,0,"",null,"","","",null,null,"",""]
[null,null,null,null,null,null,null,null,0,null,0,null,0,null,0,null,0,"",null,"","","",null,null,"",""]
[null,null,null,null,null,null,null,null,0,null,0,null,0,null,0,null,0,"",null,"","","",null,null,"",""]
[null,null,null,null,null,null,null,null,0,null,0,null,0,null,0,null,0,"",null,"","","",null,null,"",""]
[null,null,null,null,null,null,null,null,0,null,0,null,0,null,0,null,0,"",null,"","","",null,null,"",""]
[null,null,null,null,null,null,null,null,0,null,0,null,0,null,0,null,0,"",null,"","","",null,null,"",""]
[null,null,null,null,null,null,null,null,0,null,0,null,0,null,0,null,0,"",null,"","","",null,null,"",""]
[null,null,null,null,null,null,null,null,0,null,0,null,0,null,0,null,0,"",null,"","","",null,null,"",""]
[null,null,null,null,null,null,null,null,0,null,0,null,0,null,0,null,0,"",null,"","","",null,null,"",""]
[null,null,null,null,null,null,null,null,0,null,0,null,0,null,0,null,0,"",null,"","","",null,null,"",""]
[null,null,null,null,null,null,null,null,0,null,0,null,0,null,0,null,0,"",null,"","","",null,null,"",""]
[null,null,null,null,null,null,null,null,0,null,0,null,0,null,0,null,0,"",null,"","","",null,null,"",""]
[null,null,null,null,null,null,null,null,0,null,0,null,0,null,0,null,0,"",null,"","","",null,null,"",""]
[null,null,null,null,null,null,null,null,0,null,0,null,0,null,0,null,0,"",null,"","","",null,null,"",""]
[null,null,null,null,null,null,null,null,{"$f":"SUM(I15:I38)","v":0},null,{"$f":"SUM(K15:K38)","v":0},null,{"$f":"SUM(M15:M38)","v":0},null,{"$f":"SUM(O15:O38)","v":0},null,{"$f":"SUM(Q15:Q38)","v":0},{"$f":"(G39-F39)*1440","v":0},null,{"$f":"((S39/R39))*60/1440","v":{"$error":"#DIV/0!"}},{"$f":"S39-(W39+X39)","v":0},{"$f":"((U39/S39))*T39","v":{"$error":"#DIV/0!"}},null,null,{"$f":"(X39/S39)*1000000","v":{"$error":"#DIV/0!"}},{"$f":"(1-(Y39/1000000))*T39","v":{"$error":"#DIV/0!"}}]
[null,null,null,null,null,null,null,null,null,null,null,null,null,null,null,null,null,null,{"$f":"SUM(S15:S39)","v":0},null,{"$f":"SUM(U15:U39)","v":0},null,{"$f":"SUM(W15:W39)","v":0}]
[null,null,null,null,null,null,null,null,null,null,null,null,null,null,null,"# of minutes uptime:  ",null,{"$f":"R42-(D20+D21+D23)","v":0},null,"% uptime:  ",{"$f":"IFERROR(R41/R42,\"\")","v":""},null,"FTQ:  ",{"$f":"IFERROR(IF(F15=\"\",\"\",((S40-U40)/S40)*1000000),\"\")","v":""}]
[null,null,null,null,null,null,null,null,null,null,null,null,null,null,null,"Total Run Time:  ",null,{"$f":"SUM(R15:R38)-(D19+D22)","v":0},null,null,null,null,"% Scrap:  ",{"$f":"IFERROR(IF(F15=\"\",\"\",((S40-(U40+W40))/S40)),\"\")","v":""}]
[]
[null,null,null,null,null,null,null,null,null,null,null,"Comments:  Document scrap/rework and downtime here"]

{"sheet":"Process 23 - Actual Run Data","index":27,"n_rows":44,"n_cols":26,"rows_kept":44,"cut":false,"hidden":false,"merged":[[5,2,5,6],[5,23,5,25],[0,0,0,25],[2,20,2,22],[3,22,3,24],[4,2,4,6],[4,23,4,25],[15,0,15,3],[43,11,43,21],[44,11,51,25],[6,2,6,6],[6,23,6,25],[8,21,10,25],[9,9,9,15],[10,9,10,15],[12,7,12,16],[9,1,11,1]]}
["Actual Run Data"]
[]
[]
[]
[null,"Supplier Name:  ",{"$f":"IF('Capacity Plan'!$F$3=\"\",\"\",'Capacity Plan'!$F$3)","v":""},null,null,null,null,null,null,null,null,null,null,null,null,null,null,null,null,null,null,null,"Completed By:  "]
[null,"Process Name:  ",{"$f":"IF('Capacity Plan'!$D$43=\"\",\"\",'Capacity Plan'!$D$43)","v":""}]
[null,"Part Number:  ",{"$f":"IF('Capacity Plan'!$Q$3=\"\",\"\",'Capacity Plan'!$Q$3)","v":""}]
[]
[null,null,null,null,null,null,null,null,null,null,null,null,null,null,null,null,null,"Target","Actual","Difference",null,"PLEASE PRINT HARD COPY FOR USE DURING RUN@RATE.  COMPLETE BY FILLING IN THE HIGHLIGHTED COLUMNS ONLY.  USE MILITARY (24:00 HR) TIME FORMAT."]
[null,"Run @ Rate Summary Data",null,null,null,null,null,null,null,"Time/part",null,null,null,null,null,null,null,{"$f":"IFERROR(IF(F15=\"\",\"\",'Capacity Plan'!L43/'Capacity Plan'!M43),\"\")","v":""},{"$f":"IFERROR(IF(F15=\"\",\"\",3600/S11),\"\")","v":""},{"$f":"IFERROR(IF(F15=\"\",\"\",R10-S10),\"\")","v":""}]
[null,null,null,null,null,null,null,null,null,"Pcs/Hour",null,null,null,null,null,null,null,{"$f":"IFERROR(IF(F15=\"\",\"\",60*60/R10),\"\")","v":""},{"$f":"IFERROR(IF(F15=\"\",\"\",(S40*60/R41)),\"\")","v":""},{"$f":"IFERROR(IF(F15=\"\",\"\",S11-R11),\"\")","v":""}]
[]
[null,"Capacity Plan",null,null,null,"Start Time (hh:mm)","Stop Time (hh:mm)","Downtime Description",null,null,null,null,null,null,null,null,null,"Total Time","Total # of Pcs. Run","Pieces/ Hour","Good Pieces","Good Pcs/Hour","Rework Total","Scrap Total","% Scrap","Net Pcs/Hr (Good + Rework)"]
[null,null,null,null,null,null,null,"B",null,"T",null,"C",null,"O",null,"U",null,null,null,{"$f":"IFERROR(IF(S14=\"\",\"\",((S14/R14))*60),\"\")","v":""},null,{"$f":"IFERROR(IF(S14=\"\",\"\",((U14/S14))*T14),\"\")","v":""},null,null,{"$f":"IFERROR(IF(S14=\"\",\"\",X14/S14),\"\")","v":""},{"$f":"IFERROR(IF(S14=\"\",\"\",(1-(Y14/1000000))*T14),\"\")","v":""}]
[null,null,null,null,null,null,null,null,{"$f":"IF(H15=\"x\",(G15-F15)*1440,0)","v":0},null,{"$f":"IF(J15=\"x\",(G15-F15)*1440,0)","v":0},null,{"$f":"IF(L15=\"x\",(G15-F15)*1440,0)","v":0},null,{"$f":"IF(N15=\"x\",(G15-F15)*1440,0)","v":0},null,{"$f":"IF(P15=\"x\",(G15-F15)*1440,0)","v":0},{"$f":"IF(ISBLANK(F15),\"\",IF(G15>=F15,(G15-F15)*1440,(1+G15-F15)*1440))","v":""},null,{"$f":"IFERROR(IF(S15=\"\",\"\",((S15/R15))*60),\"\")","v":""},{"$f":"IF(S15=\"\",\"\",S15-(W15+X15))","v":""},{"$f":"IFERROR(IF(S15=\"\",\"\",((U15/S15))*T15),\"\")","v":""},null,null,{"$f":"IFERROR(IF(S15=\"\",\"\",X15/S15),\"\")","v":""},{"$f":"IFERROR(IF(S15=\"\",\"\",(1-(Y15/1000000))*T15),\"\")","v":""}]
["Description of Downtime:",null,null,null,null,null,null,null,0,null,0,null,0,null,0,null,{"$f":"IF(P16=\"x\",(G16-F16)*1440,0)","v":0},{"$f":"IF(ISBLANK(F16),\"\",IF(G16>=F16,(G16-F16)*1440,(1+G16-F16)*1440))","v":""},null,{"$f":"IFERROR(IF(S16=\"\",\"\",((S16/R16))*60),\"\")","v":""},{"$f":"IF(S16=\"\",\"\",S16-(W16+X16))","v":""},{"$f":"IFERROR(IF(S16=\"\",\"\",((U16/S16))*T16),\"\")","v":""},null,null,{"$f":"IFERROR(IF(S16=\"\",\"\",X16/S16),\"\")","v":""},{"$f":"IFERROR(IF(S16=\"\",\"\",(1-(Y16/1000000))*T16),\"\")","v":""}]
[null,null,null,null,null,null,null,null,0,null,0,null,0,null,0,null,0,"",null,"","","",null,null,"",""]
[null,null,null,"Downtime",null,null,null,null,0,null,0,null,0,null,0,null,0,"",null,"","","",null,null,"",""]
["B","breaks/lunch",null,{"$f":"I39","v":0},null,null,null,null,0,null,0,null,0,null,0,null,0,"",null,"","","",null,null,"",""]
["T","tool change",null,{"$f":"K39","v":0},null,null,null,null,0,null,0,null,0,null,0,null,0,"",null,"","","",null,null,"",""]
["C","changeover",null,{"$f":"M39","v":0},null,null,null,null,0,null,0,null,0,null,0,null,0,"",null,"","","",null,null,"",""]
["O","other planned dntm",null,{"$f":"O39","v":0},null,null,null,null,0,null,0,null,0,null,0,null,0,"",null,"","","",null,null,"",""]
["U","unplanned dntm",null,{"$f":"Q39","v":0},null,null,null,null,0,null,0,null,0,null,0,null,0,"",null,"","","",null,null,"",""]
[null,null,null,null,null,null,null,null,{"$f":"IF(H24=\"x\",(G24-F24)*1440,0)","v":0},null,{"$f":"IF(J24=\"x\",(G24-F24)*1440,0)","v":0},null,{"$f":"IF(L24=\"x\",(G24-F24)*1440,0)","v":0},null,{"$f":"IF(N24=\"x\",(G24-F24)*1440,0)","v":0},null,0,"",null,"","","",null,null,"",""]
[null,null,null,null,null,null,null,null,0,null,0,null,0,null,0,null,0,"",null,"","","",null,null,"",""]
[null,null,null,null,null,null,null,null,0,null,0,null,0,null,0,null,0,"",null,"","","",null,null,"",""]
[null,null,null,null,null,null,null,null,0,null,0,null,0,null,0,null,0,"",null,"","","",null,null,"",""]
[null,null,null,null,null,null,null,null,0,null,0,null,0,null,0,null,0,"",null,"","","",null,null,"",""]
[null,null,null,null,null,null,null,null,0,null,0,null,0,null,0,null,0,"",null,"","","",null,null,"",""]
[null,null,null,null,null,null,null,null,0,null,0,null,0,null,0,null,0,"",null,"","","",null,null,"",""]
[null,null,null,null,null,null,null,null,0,null,0,null,0,null,0,null,0,"",null,"","","",null,null,"",""]
[null,null,null,null,null,null,null,null,0,null,0,null,0,null,0,null,0,"",null,"","","",null,null,"",""]
[null,null,null,null,null,null,null,null,0,null,0,null,0,null,0,null,0,"",null,"","","",null,null,"",""]
[null,null,null,null,null,null,null,null,0,null,0,null,0,null,0,null,0,"",null,"","","",null,null,"",""]
[null,null,null,null,null,null,null,null,0,null,0,null,0,null,0,null,0,"",null,"","","",null,null,"",""]
[null,null,null,null,null,null,null,null,0,null,0,null,0,null,0,null,0,"",null,"","","",null,null,"",""]
[null,null,null,null,null,null,null,null,0,null,0,null,0,null,0,null,0,"",null,"","","",null,null,"",""]
[null,null,null,null,null,null,null,null,0,null,0,null,0,null,0,null,0,"",null,"","","",null,null,"",""]
[null,null,null,null,null,null,null,null,{"$f":"SUM(I15:I38)","v":0},null,{"$f":"SUM(K15:K38)","v":0},null,{"$f":"SUM(M15:M38)","v":0},null,{"$f":"SUM(O15:O38)","v":0},null,{"$f":"SUM(Q15:Q38)","v":0},{"$f":"(G39-F39)*1440","v":0},null,{"$f":"((S39/R39))*60/1440","v":{"$error":"#DIV/0!"}},{"$f":"S39-(W39+X39)","v":0},{"$f":"((U39/S39))*T39","v":{"$error":"#DIV/0!"}},null,null,{"$f":"(X39/S39)*1000000","v":{"$error":"#DIV/0!"}},{"$f":"(1-(Y39/1000000))*T39","v":{"$error":"#DIV/0!"}}]
[null,null,null,null,null,null,null,null,null,null,null,null,null,null,null,null,null,null,{"$f":"SUM(S15:S39)","v":0},null,{"$f":"SUM(U15:U39)","v":0},null,{"$f":"SUM(W15:W39)","v":0}]
[null,null,null,null,null,null,null,null,null,null,null,null,null,null,null,"# of minutes uptime:  ",null,{"$f":"R42-(D20+D21+D23)","v":0},null,"% uptime:  ",{"$f":"IFERROR(R41/R42,\"\")","v":""},null,"FTQ:  ",{"$f":"IFERROR(IF(F15=\"\",\"\",((S40-U40)/S40)*1000000),\"\")","v":""}]
[null,null,null,null,null,null,null,null,null,null,null,null,null,null,null,"Total Run Time:  ",null,{"$f":"SUM(R15:R38)-(D19+D22)","v":0},null,null,null,null,"% Scrap:  ",{"$f":"IFERROR(IF(F15=\"\",\"\",((S40-(U40+W40))/S40)),\"\")","v":""}]
[]
[null,null,null,null,null,null,null,null,null,null,null,"Comments:  Document scrap/rework and downtime here"]

{"sheet":"Process 24 - Actual Run Data","index":28,"n_rows":44,"n_cols":26,"rows_kept":44,"cut":false,"hidden":false,"merged":[[5,2,5,6],[5,23,5,25],[0,0,0,25],[2,20,2,22],[3,22,3,24],[4,2,4,6],[4,23,4,25],[15,0,15,3],[43,11,43,21],[44,11,51,25],[6,2,6,6],[6,23,6,25],[8,21,10,25],[9,9,9,15],[10,9,10,15],[12,7,12,16],[9,1,11,1]]}
["Actual Run Data"]
[]
[]
[]
[null,"Supplier Name:  ",{"$f":"IF('Capacity Plan'!$F$3=\"\",\"\",'Capacity Plan'!$F$3)","v":""},null,null,null,null,null,null,null,null,null,null,null,null,null,null,null,null,null,null,null,"Completed By:  "]
[null,"Process Name:  ",{"$f":"IF('Capacity Plan'!$D$44=\"\",\"\",'Capacity Plan'!$D$44)","v":""}]
[null,"Part Number:  ",{"$f":"IF('Capacity Plan'!$Q$3=\"\",\"\",'Capacity Plan'!$Q$3)","v":""}]
[]
[null,null,null,null,null,null,null,null,null,null,null,null,null,null,null,null,null,"Target","Actual","Difference",null,"PLEASE PRINT HARD COPY FOR USE DURING RUN@RATE.  COMPLETE BY FILLING IN THE HIGHLIGHTED COLUMNS ONLY.  USE MILITARY (24:00 HR) TIME FORMAT."]
[null,"Run @ Rate Summary Data",null,null,null,null,null,null,null,"Time/part",null,null,null,null,null,null,null,{"$f":"IFERROR(IF(F15=\"\",\"\",'Capacity Plan'!L44/'Capacity Plan'!M44),\"\")","v":""},{"$f":"IFERROR(IF(F15=\"\",\"\",3600/S11),\"\")","v":""},{"$f":"IFERROR(IF(F15=\"\",\"\",R10-S10),\"\")","v":""}]
[null,null,null,null,null,null,null,null,null,"Pcs/Hour",null,null,null,null,null,null,null,{"$f":"IFERROR(IF(F15=\"\",\"\",60*60/R10),\"\")","v":""},{"$f":"IFERROR(IF(F15=\"\",\"\",(S40*60/R41)),\"\")","v":""},{"$f":"IFERROR(IF(F15=\"\",\"\",S11-R11),\"\")","v":""}]
[]
[null,"Capacity Plan",null,null,null,"Start Time (hh:mm)","Stop Time (hh:mm)","Downtime Description",null,null,null,null,null,null,null,null,null,"Total Time","Total # of Pcs. Run","Pieces/ Hour","Good Pieces","Good Pcs/Hour","Rework Total","Scrap Total","% Scrap","Net Pcs/Hr (Good + Rework)"]
[null,null,null,null,null,null,null,"B",null,"T",null,"C",null,"O",null,"U",null,null,null,{"$f":"IFERROR(IF(S14=\"\",\"\",((S14/R14))*60),\"\")","v":""},null,{"$f":"IFERROR(IF(S14=\"\",\"\",((U14/S14))*T14),\"\")","v":""},null,null,{"$f":"IFERROR(IF(S14=\"\",\"\",X14/S14),\"\")","v":""},{"$f":"IFERROR(IF(S14=\"\",\"\",(1-(Y14/1000000))*T14),\"\")","v":""}]
[null,null,null,null,null,null,null,null,{"$f":"IF(H15=\"x\",(G15-F15)*1440,0)","v":0},null,{"$f":"IF(J15=\"x\",(G15-F15)*1440,0)","v":0},null,{"$f":"IF(L15=\"x\",(G15-F15)*1440,0)","v":0},null,{"$f":"IF(N15=\"x\",(G15-F15)*1440,0)","v":0},null,{"$f":"IF(P15=\"x\",(G15-F15)*1440,0)","v":0},{"$f":"IF(ISBLANK(F15),\"\",IF(G15>=F15,(G15-F15)*1440,(1+G15-F15)*1440))","v":""},null,{"$f":"IFERROR(IF(S15=\"\",\"\",((S15/R15))*60),\"\")","v":""},{"$f":"IF(S15=\"\",\"\",S15-(W15+X15))","v":""},{"$f":"IFERROR(IF(S15=\"\",\"\",((U15/S15))*T15),\"\")","v":""},null,null,{"$f":"IFERROR(IF(S15=\"\",\"\",X15/S15),\"\")","v":""},{"$f":"IFERROR(IF(S15=\"\",\"\",(1-(Y15/1000000))*T15),\"\")","v":""}]
["Description of Downtime:",null,null,null,null,null,null,null,{"$f":"IF(H16=\"x\",(G16-F16)*1440,0)","v":0},null,{"$f":"IF(J16=\"x\",(G16-F16)*1440,0)","v":0},null,{"$f":"IF(L16=\"x\",(G16-F16)*1440,0)","v":0},null,{"$f":"IF(N16=\"x\",(G16-F16)*1440,0)","v":0},null,{"$f":"IF(P16=\"x\",(G16-F16)*1440,0)","v":0},{"$f":"IF(ISBLANK(F16),\"\",IF(G16>=F16,(G16-F16)*1440,(1+G16-F16)*1440))","v":""},null,{"$f":"IFERROR(IF(S16=\"\",\"\",((S16/R16))*60),\"\")","v":""},{"$f":"IF(S16=\"\",\"\",S16-(W16+X16))","v":""},{"$f":"IFERROR(IF(S16=\"\",\"\",((U16/S16))*T16),\"\")","v":""},null,null,{"$f":"IFERROR(IF(S16=\"\",\"\",X16/S16),\"\")","v":""},{"$f":"IFERROR(IF(S16=\"\",\"\",(1-(Y16/1000000))*T16),\"\")","v":""}]
[null,null,null,null,null,null,null,null,0,null,0,null,0,null,0,null,0,"",null,"","","",null,null,"",""]
[null,null,null,"Downtime",null,null,null,null,0,null,0,null,0,null,0,null,0,"",null,"","","",null,null,"",""]
["B","breaks/lunch",null,{"$f":"I39","v":0},null,null,null,null,0,null,0,null,0,null,0,null,0,"",null,"","","",null,null,"",""]
["T","tool change",null,{"$f":"K39","v":0},null,null,null,null,0,null,0,null,0,null,0,null,0,"",null,"","","",null,null,"",""]
["C","changeover",null,{"$f":"M39","v":0},null,null,null,null,0,null,0,null,0,null,0,null,0,"",null,"","","",null,null,"",""]
["O","other planned dntm",null,{"$f":"O39","v":0},null,null,null,null,0,null,0,null,0,null,0,null,0,"",null,"","","",null,null,"",""]
["U","unplanned dntm",null,{"$f":"Q39","v":0},null,null,null,null,0,null,0,null,0,null,0,null,0,"",null,"","","",null,null,"",""]
[null,null,null,null,null,null,null,null,{"$f":"IF(H24=\"x\",(G24-F24)*1440,0)","v":0},null,{"$f":"IF(J24=\"x\",(G24-F24)*1440,0)","v":0},null,{"$f":"IF(L24=\"x\",(G24-F24)*1440,0)","v":0},null,{"$f":"IF(N24=\"x\",(G24-F24)*1440,0)","v":0},null,0,"",null,"","","",null,null,"",""]
[null,null,null,null,null,null,null,null,0,null,0,null,0,null,0,null,0,"",null,"","","",null,null,"",""]
[null,null,null,null,null,null,null,null,0,null,0,null,0,null,0,null,0,"",null,"","","",null,null,"",""]
[null,null,null,null,null,null,null,null,0,null,0,null,0,null,0,null,0,"",null,"","","",null,null,"",""]
[null,null,null,null,null,null,null,null,0,null,0,null,0,null,0,null,0,"",null,"","","",null,null,"",""]
[null,null,null,null,null,null,null,null,0,null,0,null,0,null,0,null,0,"",null,"","","",null,null,"",""]
[null,null,null,null,null,null,null,null,0,null,0,null,0,null,0,null,0,"",null,"","","",null,null,"",""]
[null,null,null,null,null,null,null,null,0,null,0,null,0,null,0,null,0,"",null,"","","",null,null,"",""]
[null,null,null,null,null,null,null,null,0,null,0,null,0,null,0,null,0,"",null,"","","",null,null,"",""]
[null,null,null,null,null,null,null,null,0,null,0,null,0,null,0,null,0,"",null,"","","",null,null,"",""]
[null,null,null,null,null,null,null,null,0,null,0,null,0,null,0,null,0,"",null,"","","",null,null,"",""]
[null,null,null,null,null,null,null,null,0,null,0,null,0,null,0,null,0,"",null,"","","",null,null,"",""]
[null,null,null,null,null,null,null,null,0,null,0,null,0,null,0,null,0,"",null,"","","",null,null,"",""]
[null,null,null,null,null,null,null,null,0,null,0,null,0,null,0,null,0,"",null,"","","",null,null,"",""]
[null,null,null,null,null,null,null,null,0,null,0,null,0,null,0,null,0,"",null,"","","",null,null,"",""]
[null,null,null,null,null,null,null,null,{"$f":"SUM(I15:I38)","v":0},null,{"$f":"SUM(K15:K38)","v":0},null,{"$f":"SUM(M15:M38)","v":0},null,{"$f":"SUM(O15:O38)","v":0},null,{"$f":"SUM(Q15:Q38)","v":0},{"$f":"(G39-F39)*1440","v":0},null,{"$f":"((S39/R39))*60/1440","v":{"$error":"#DIV/0!"}},{"$f":"S39-(W39+X39)","v":0},{"$f":"((U39/S39))*T39","v":{"$error":"#DIV/0!"}},null,null,{"$f":"(X39/S39)*1000000","v":{"$error":"#DIV/0!"}},{"$f":"(1-(Y39/1000000))*T39","v":{"$error":"#DIV/0!"}}]
[null,null,null,null,null,null,null,null,null,null,null,null,null,null,null,null,null,null,{"$f":"SUM(S15:S39)","v":0},null,{"$f":"SUM(U15:U39)","v":0},null,{"$f":"SUM(W15:W39)","v":0}]
[null,null,null,null,null,null,null,null,null,null,null,null,null,null,null,"# of minutes uptime:  ",null,{"$f":"R42-(D20+D21+D23)","v":0},null,"% uptime:  ",{"$f":"IFERROR(R41/R42,\"\")","v":""},null,"FTQ:  ",{"$f":"IFERROR(IF(F15=\"\",\"\",((S40-U40)/S40)*1000000),\"\")","v":""}]
[null,null,null,null,null,null,null,null,null,null,null,null,null,null,null,"Total Run Time:  ",null,{"$f":"SUM(R15:R38)-(D19+D22)","v":0},null,null,null,null,"% Scrap:  ",{"$f":"IFERROR(IF(F15=\"\",\"\",((S40-(U40+W40))/S40)),\"\")","v":""}]
[]
[null,null,null,null,null,null,null,null,null,null,null,"Comments:  Document scrap/rework and downtime here"]

{"sheet":"Process 25 - Actual Run Data","index":29,"n_rows":44,"n_cols":26,"rows_kept":44,"cut":false,"hidden":false,"merged":[[5,2,5,6],[5,23,5,25],[0,0,0,25],[2,20,2,22],[3,22,3,24],[4,2,4,6],[4,23,4,25],[15,0,15,3],[43,11,43,21],[44,11,51,25],[6,2,6,6],[6,23,6,25],[8,21,10,25],[9,9,9,15],[10,9,10,15],[12,7,12,16],[9,1,11,1]]}
["Actual Run Data"]
[]
[]
[]
[null,"Supplier Name:  ",{"$f":"IF('Capacity Plan'!$F$3=\"\",\"\",'Capacity Plan'!$F$3)","v":""},null,null,null,null,null,null,null,null,null,null,null,null,null,null,null,null,null,null,null,"Completed By:  "]
[null,"Process Name:  ",{"$f":"IF('Capacity Plan'!$D$45=\"\",\"\",'Capacity Plan'!$D$45)","v":""}]
[null,"Part Number:  ",{"$f":"IF('Capacity Plan'!$Q$3=\"\",\"\",'Capacity Plan'!$Q$3)","v":""}]
[]
[null,null,null,null,null,null,null,null,null,null,null,null,null,null,null,null,null,"Target","Actual","Difference",null,"PLEASE PRINT HARD COPY FOR USE DURING RUN@RATE.  COMPLETE BY FILLING IN THE HIGHLIGHTED COLUMNS ONLY.  USE MILITARY (24:00 HR) TIME FORMAT."]
[null,"Run @ Rate Summary Data",null,null,null,null,null,null,null,"Time/part",null,null,null,null,null,null,null,{"$f":"IFERROR(IF(F15=\"\",\"\",'Capacity Plan'!L45/'Capacity Plan'!M45),\"\")","v":""},{"$f":"IFERROR(IF(F15=\"\",\"\",3600/S11),\"\")","v":""},{"$f":"IFERROR(IF(F15=\"\",\"\",R10-S10),\"\")","v":""}]
[null,null,null,null,null,null,null,null,null,"Pcs/Hour",null,null,null,null,null,null,null,{"$f":"IFERROR(IF(F15=\"\",\"\",60*60/R10),\"\")","v":""},{"$f":"IFERROR(IF(F15=\"\",\"\",(S40*60/R41)),\"\")","v":""},{"$f":"IFERROR(IF(F15=\"\",\"\",S11-R11),\"\")","v":""}]
[]
[null,"Capacity Plan",null,null,null,"Start Time (hh:mm)","Stop Time (hh:mm)","Downtime Description",null,null,null,null,null,null,null,null,null,"Total Time","Total # of Pcs. Run","Pieces/ Hour","Good Pieces","Good Pcs/Hour","Rework Total","Scrap Total","% Scrap","Net Pcs/Hr (Good + Rework)"]
[null,null,null,null,null,null,null,"B",null,"T",null,"C",null,"O",null,"U",null,null,null,{"$f":"IFERROR(IF(S14=\"\",\"\",((S14/R14))*60),\"\")","v":""},null,{"$f":"IFERROR(IF(S14=\"\",\"\",((U14/S14))*T14),\"\")","v":""},null,null,{"$f":"IFERROR(IF(S14=\"\",\"\",X14/S14),\"\")","v":""},{"$f":"IFERROR(IF(S14=\"\",\"\",(1-(Y14/1000000))*T14),\"\")","v":""}]
[null,null,null,null,null,null,null,null,{"$f":"IF(H15=\"x\",(G15-F15)*1440,0)","v":0},null,{"$f":"IF(J15=\"x\",(G15-F15)*1440,0)","v":0},null,{"$f":"IF(L15=\"x\",(G15-F15)*1440,0)","v":0},null,{"$f":"IF(N15=\"x\",(G15-F15)*1440,0)","v":0},null,{"$f":"IF(P15=\"x\",(G15-F15)*1440,0)","v":0},{"$f":"IF(ISBLANK(F15),\"\",IF(G15>=F15,(G15-F15)*1440,(1+G15-F15)*1440))","v":""},null,{"$f":"IFERROR(IF(S15=\"\",\"\",((S15/R15))*60),\"\")","v":""},{"$f":"IF(S15=\"\",\"\",S15-(W15+X15))","v":""},{"$f":"IFERROR(IF(S15=\"\",\"\",((U15/S15))*T15),\"\")","v":""},null,null,{"$f":"IFERROR(IF(S15=\"\",\"\",X15/S15),\"\")","v":""},{"$f":"IFERROR(IF(S15=\"\",\"\",(1-(Y15/1000000))*T15),\"\")","v":""}]
["Description of Downtime:",null,null,null,null,null,null,null,{"$f":"IF(H16=\"x\",(G16-F16)*1440,0)","v":0},null,{"$f":"IF(J16=\"x\",(G16-F16)*1440,0)","v":0},null,{"$f":"IF(L16=\"x\",(G16-F16)*1440,0)","v":0},null,{"$f":"IF(N16=\"x\",(G16-F16)*1440,0)","v":0},null,{"$f":"IF(P16=\"x\",(G16-F16)*1440,0)","v":0},{"$f":"IF(ISBLANK(F16),\"\",IF(G16>=F16,(G16-F16)*1440,(1+G16-F16)*1440))","v":""},null,{"$f":"IFERROR(IF(S16=\"\",\"\",((S16/R16))*60),\"\")","v":""},{"$f":"IF(S16=\"\",\"\",S16-(W16+X16))","v":""},{"$f":"IFERROR(IF(S16=\"\",\"\",((U16/S16))*T16),\"\")","v":""},null,null,{"$f":"IFERROR(IF(S16=\"\",\"\",X16/S16),\"\")","v":""},{"$f":"IFERROR(IF(S16=\"\",\"\",(1-(Y16/1000000))*T16),\"\")","v":""}]
[null,null,null,null,null,null,null,null,0,null,0,null,0,null,0,null,0,"",null,"","","",null,null,"",""]
[null,null,null,"Downtime",null,null,null,null,0,null,0,null,0,null,0,null,0,"",null,"","","",null,null,"",""]
["B","breaks/lunch",null,{"$f":"I39","v":0},null,null,null,null,0,null,0,null,0,null,0,null,0,"",null,"","","",null,null,"",""]
["T","tool change",null,{"$f":"K39","v":0},null,null,null,null,0,null,0,null,0,null,0,null,0,"",null,"","","",null,null,"",""]
["C","changeover",null,{"$f":"M39","v":0},null,null,null,null,0,null,0,null,0,null,0,null,0,"",null,"","","",null,null,"",""]
["O","other planned dntm",null,{"$f":"O39","v":0},null,null,null,null,0,null,0,null,0,null,0,null,0,"",null,"","","",null,null,"",""]
["U","unplanned dntm",null,{"$f":"Q39","v":0},null,null,null,null,0,null,0,null,0,null,0,null,0,"",null,"","","",null,null,"",""]
[null,null,null,null,null,null,null,null,{"$f":"IF(H24=\"x\",(G24-F24)*1440,0)","v":0},null,{"$f":"IF(J24=\"x\",(G24-F24)*1440,0)","v":0},null,{"$f":"IF(L24=\"x\",(G24-F24)*1440,0)","v":0},null,{"$f":"IF(N24=\"x\",(G24-F24)*1440,0)","v":0},null,0,"",null,"","","",null,null,"",""]
[null,null,null,null,null,null,null,null,0,null,0,null,0,null,0,null,0,"",null,"","","",null,null,"",""]
[null,null,null,null,null,null,null,null,0,null,0,null,0,null,0,null,0,"",null,"","","",null,null,"",""]
[null,null,null,null,null,null,null,null,0,null,0,null,0,null,0,null,0,"",null,"","","",null,null,"",""]
[null,null,null,null,null,null,null,null,0,null,0,null,0,null,0,null,0,"",null,"","","",null,null,"",""]
[null,null,null,null,null,null,null,null,0,null,0,null,0,null,0,null,0,"",null,"","","",null,null,"",""]
[null,null,null,null,null,null,null,null,0,null,0,null,0,null,0,null,0,"",null,"","","",null,null,"",""]
[null,null,null,null,null,null,null,null,0,null,0,null,0,null,0,null,0,"",null,"","","",null,null,"",""]
[null,null,null,null,null,null,null,null,0,null,0,null,0,null,0,null,0,"",null,"","","",null,null,"",""]
[null,null,null,null,null,null,null,null,0,null,0,null,0,null,0,null,0,"",null,"","","",null,null,"",""]
[null,null,null,null,null,null,null,null,0,null,0,null,0,null,0,null,0,"",null,"","","",null,null,"",""]
[null,null,null,null,null,null,null,null,0,null,0,null,0,null,0,null,0,"",null,"","","",null,null,"",""]
[null,null,null,null,null,null,null,null,0,null,0,null,0,null,0,null,0,"",null,"","","",null,null,"",""]
[null,null,null,null,null,null,null,null,0,null,0,null,0,null,0,null,0,"",null,"","","",null,null,"",""]
[null,null,null,null,null,null,null,null,0,null,0,null,0,null,0,null,0,"",null,"","","",null,null,"",""]
[null,null,null,null,null,null,null,null,{"$f":"SUM(I15:I38)","v":0},null,{"$f":"SUM(K15:K38)","v":0},null,{"$f":"SUM(M15:M38)","v":0},null,{"$f":"SUM(O15:O38)","v":0},null,{"$f":"SUM(Q15:Q38)","v":0},{"$f":"(G39-F39)*1440","v":0},null,{"$f":"((S39/R39))*60/1440","v":{"$error":"#DIV/0!"}},{"$f":"S39-(W39+X39)","v":0},{"$f":"((U39/S39))*T39","v":{"$error":"#DIV/0!"}},null,null,{"$f":"(X39/S39)*1000000","v":{"$error":"#DIV/0!"}},{"$f":"(1-(Y39/1000000))*T39","v":{"$error":"#DIV/0!"}}]
[null,null,null,null,null,null,null,null,null,null,null,null,null,null,null,null,null,null,{"$f":"SUM(S15:S39)","v":0},null,{"$f":"SUM(U15:U39)","v":0},null,{"$f":"SUM(W15:W39)","v":0}]
[null,null,null,null,null,null,null,null,null,null,null,null,null,null,null,"# of minutes uptime:  ",null,{"$f":"R42-(D20+D21+D23)","v":0},null,"% uptime:  ",{"$f":"IFERROR(R41/R42,\"\")","v":""},null,"FTQ:  ",{"$f":"IFERROR(IF(F15=\"\",\"\",((S40-U40)/S40)*1000000),\"\")","v":""}]
[null,null,null,null,null,null,null,null,null,null,null,null,null,null,null,"Total Run Time:  ",null,{"$f":"SUM(R15:R38)-(D19+D22)","v":0},null,null,null,null,"% Scrap:  ",{"$f":"IFERROR(IF(F15=\"\",\"\",((S40-(U40+W40))/S40)),\"\")","v":""}]
[]
[null,null,null,null,null,null,null,null,null,null,null,"Comments:  Document scrap/rework and downtime here"]

{"sheet":"Process 26 - Actual Run Data","index":30,"n_rows":44,"n_cols":26,"rows_kept":44,"cut":false,"hidden":false,"merged":[[5,2,5,6],[5,23,5,25],[0,0,0,25],[2,20,2,22],[3,22,3,24],[4,2,4,6],[4,23,4,25],[15,0,15,3],[43,11,43,21],[44,11,51,25],[6,2,6,6],[6,23,6,25],[8,21,10,25],[9,9,9,15],[10,9,10,15],[12,7,12,16],[9,1,11,1]]}
["Actual Run Data"]
[]
[]
[]
[null,"Supplier Name:  ",{"$f":"IF('Capacity Plan'!$F$3=\"\",\"\",'Capacity Plan'!$F$3)","v":""},null,null,null,null,null,null,null,null,null,null,null,null,null,null,null,null,null,null,null,"Completed By:  "]
[null,"Process Name:  ",{"$f":"IF('Capacity Plan'!$D$46=\"\",\"\",'Capacity Plan'!$D$46)","v":""}]
[null,"Part Number:  ",{"$f":"IF('Capacity Plan'!$Q$3=\"\",\"\",'Capacity Plan'!$Q$3)","v":""}]
[]
[null,null,null,null,null,null,null,null,null,null,null,null,null,null,null,null,null,"Target","Actual","Difference",null,"PLEASE PRINT HARD COPY FOR USE DURING RUN@RATE.  COMPLETE BY FILLING IN THE HIGHLIGHTED COLUMNS ONLY.  USE MILITARY (24:00 HR) TIME FORMAT."]
[null,"Run @ Rate Summary Data",null,null,null,null,null,null,null,"Time/part",null,null,null,null,null,null,null,{"$f":"IFERROR(IF(F15=\"\",\"\",'Capacity Plan'!L46/'Capacity Plan'!M46),\"\")","v":""},{"$f":"IFERROR(IF(F15=\"\",\"\",3600/S11),\"\")","v":""},{"$f":"IFERROR(IF(F15=\"\",\"\",R10-S10),\"\")","v":""}]
[null,null,null,null,null,null,null,null,null,"Pcs/Hour",null,null,null,null,null,null,null,{"$f":"IFERROR(IF(F15=\"\",\"\",60*60/R10),\"\")","v":""},{"$f":"IFERROR(IF(F15=\"\",\"\",(S40*60/R41)),\"\")","v":""},{"$f":"IFERROR(IF(F15=\"\",\"\",S11-R11),\"\")","v":""}]
[]
[null,"Capacity Plan",null,null,null,"Start Time (hh:mm)","Stop Time (hh:mm)","Downtime Description",null,null,null,null,null,null,null,null,null,"Total Time","Total # of Pcs. Run","Pieces/ Hour","Good Pieces","Good Pcs/Hour","Rework Total","Scrap Total","% Scrap","Net Pcs/Hr (Good + Rework)"]
[null,null,null,null,null,null,null,"B",null,"T",null,"C",null,"O",null,"U",null,null,null,{"$f":"IFERROR(IF(S14=\"\",\"\",((S14/R14))*60),\"\")","v":""},null,{"$f":"IFERROR(IF(S14=\"\",\"\",((U14/S14))*T14),\"\")","v":""},null,null,{"$f":"IFERROR(IF(S14=\"\",\"\",X14/S14),\"\")","v":""},{"$f":"IFERROR(IF(S14=\"\",\"\",(1-(Y14/1000000))*T14),\"\")","v":""}]
[null,null,null,null,null,null,null,null,{"$f":"IF(H15=\"x\",(G15-F15)*1440,0)","v":0},null,{"$f":"IF(J15=\"x\",(G15-F15)*1440,0)","v":0},null,{"$f":"IF(L15=\"x\",(G15-F15)*1440,0)","v":0},null,{"$f":"IF(N15=\"x\",(G15-F15)*1440,0)","v":0},null,{"$f":"IF(P15=\"x\",(G15-F15)*1440,0)","v":0},{"$f":"IF(ISBLANK(F15),\"\",IF(G15>=F15,(G15-F15)*1440,(1+G15-F15)*1440))","v":""},null,{"$f":"IFERROR(IF(S15=\"\",\"\",((S15/R15))*60),\"\")","v":""},{"$f":"IF(S15=\"\",\"\",S15-(W15+X15))","v":""},{"$f":"IFERROR(IF(S15=\"\",\"\",((U15/S15))*T15),\"\")","v":""},null,null,{"$f":"IFERROR(IF(S15=\"\",\"\",X15/S15),\"\")","v":""},{"$f":"IFERROR(IF(S15=\"\",\"\",(1-(Y15/1000000))*T15),\"\")","v":""}]
["Description of Downtime:",null,null,null,null,null,null,null,{"$f":"IF(H16=\"x\",(G16-F16)*1440,0)","v":0},null,{"$f":"IF(J16=\"x\",(G16-F16)*1440,0)","v":0},null,{"$f":"IF(L16=\"x\",(G16-F16)*1440,0)","v":0},null,{"$f":"IF(N16=\"x\",(G16-F16)*1440,0)","v":0},null,{"$f":"IF(P16=\"x\",(G16-F16)*1440,0)","v":0},{"$f":"IF(ISBLANK(F16),\"\",IF(G16>=F16,(G16-F16)*1440,(1+G16-F16)*1440))","v":""},null,{"$f":"IFERROR(IF(S16=\"\",\"\",((S16/R16))*60),\"\")","v":""},{"$f":"IF(S16=\"\",\"\",S16-(W16+X16))","v":""},{"$f":"IFERROR(IF(S16=\"\",\"\",((U16/S16))*T16),\"\")","v":""},null,null,{"$f":"IFERROR(IF(S16=\"\",\"\",X16/S16),\"\")","v":""},{"$f":"IFERROR(IF(S16=\"\",\"\",(1-(Y16/1000000))*T16),\"\")","v":""}]
[null,null,null,null,null,null,null,null,0,null,0,null,0,null,0,null,0,"",null,"","","",null,null,"",""]
[null,null,null,"Downtime",null,null,null,null,0,null,0,null,0,null,0,null,0,"",null,"","","",null,null,"",""]
["B","breaks/lunch",null,{"$f":"I39","v":0},null,null,null,null,0,null,0,null,0,null,0,null,0,"",null,"","","",null,null,"",""]
["T","tool change",null,{"$f":"K39","v":0},null,null,null,null,0,null,0,null,0,null,0,null,0,"",null,"","","",null,null,"",""]
["C","changeover",null,{"$f":"M39","v":0},null,null,null,null,0,null,0,null,0,null,0,null,0,"",null,"","","",null,null,"",""]
["O","other planned dntm",null,{"$f":"O39","v":0},null,null,null,null,0,null,0,null,0,null,0,null,0,"",null,"","","",null,null,"",""]
["U","unplanned dntm",null,{"$f":"Q39","v":0},null,null,null,null,0,null,0,null,0,null,0,null,0,"",null,"","","",null,null,"",""]
[null,null,null,null,null,null,null,null,{"$f":"IF(H24=\"x\",(G24-F24)*1440,0)","v":0},null,{"$f":"IF(J24=\"x\",(G24-F24)*1440,0)","v":0},null,{"$f":"IF(L24=\"x\",(G24-F24)*1440,0)","v":0},null,{"$f":"IF(N24=\"x\",(G24-F24)*1440,0)","v":0},null,0,"",null,"","","",null,null,"",""]
[null,null,null,null,null,null,null,null,0,null,0,null,0,null,0,null,0,"",null,"","","",null,null,"",""]
[null,null,null,null,null,null,null,null,0,null,0,null,0,null,0,null,0,"",null,"","","",null,null,"",""]
[null,null,null,null,null,null,null,null,0,null,0,null,0,null,0,null,0,"",null,"","","",null,null,"",""]
[null,null,null,null,null,null,null,null,0,null,0,null,0,null,0,null,0,"",null,"","","",null,null,"",""]
[null,null,null,null,null,null,null,null,0,null,0,null,0,null,0,null,0,"",null,"","","",null,null,"",""]
[null,null,null,null,null,null,null,null,0,null,0,null,0,null,0,null,0,"",null,"","","",null,null,"",""]
[null,null,null,null,null,null,null,null,0,null,0,null,0,null,0,null,0,"",null,"","","",null,null,"",""]
[null,null,null,null,null,null,null,null,0,null,0,null,0,null,0,null,0,"",null,"","","",null,null,"",""]
[null,null,null,null,null,null,null,null,0,null,0,null,0,null,0,null,0,"",null,"","","",null,null,"",""]
[null,null,null,null,null,null,null,null,0,null,0,null,0,null,0,null,0,"",null,"","","",null,null,"",""]
[null,null,null,null,null,null,null,null,0,null,0,null,0,null,0,null,0,"",null,"","","",null,null,"",""]
[null,null,null,null,null,null,null,null,0,null,0,null,0,null,0,null,0,"",null,"","","",null,null,"",""]
[null,null,null,null,null,null,null,null,0,null,0,null,0,null,0,null,0,"",null,"","","",null,null,"",""]
[null,null,null,null,null,null,null,null,0,null,0,null,0,null,0,null,0,"",null,"","","",null,null,"",""]
[null,null,null,null,null,null,null,null,{"$f":"SUM(I15:I38)","v":0},null,{"$f":"SUM(K15:K38)","v":0},null,{"$f":"SUM(M15:M38)","v":0},null,{"$f":"SUM(O15:O38)","v":0},null,{"$f":"SUM(Q15:Q38)","v":0},{"$f":"(G39-F39)*1440","v":0},null,{"$f":"((S39/R39))*60/1440","v":{"$error":"#DIV/0!"}},{"$f":"S39-(W39+X39)","v":0},{"$f":"((U39/S39))*T39","v":{"$error":"#DIV/0!"}},null,null,{"$f":"(X39/S39)*1000000","v":{"$error":"#DIV/0!"}},{"$f":"(1-(Y39/1000000))*T39","v":{"$error":"#DIV/0!"}}]
[null,null,null,null,null,null,null,null,null,null,null,null,null,null,null,null,null,null,{"$f":"SUM(S15:S39)","v":0},null,{"$f":"SUM(U15:U39)","v":0},null,{"$f":"SUM(W15:W39)","v":0}]
[null,null,null,null,null,null,null,null,null,null,null,null,null,null,null,"# of minutes uptime:  ",null,{"$f":"R42-(D20+D21+D23)","v":0},null,"% uptime:  ",{"$f":"IFERROR(R41/R42,\"\")","v":""},null,"FTQ:  ",{"$f":"IFERROR(IF(F15=\"\",\"\",((S40-U40)/S40)*1000000),\"\")","v":""}]
[null,null,null,null,null,null,null,null,null,null,null,null,null,null,null,"Total Run Time:  ",null,{"$f":"SUM(R15:R38)-(D19+D22)","v":0},null,null,null,null,"% Scrap:  ",{"$f":"IFERROR(IF(F15=\"\",\"\",((S40-(U40+W40))/S40)),\"\")","v":""}]
[]
[null,null,null,null,null,null,null,null,null,null,null,"Comments:  Document scrap/rework and downtime here"]

{"sheet":"Process 27 - Actual Run Data","index":31,"n_rows":44,"n_cols":26,"rows_kept":44,"cut":false,"hidden":false,"merged":[[5,2,5,6],[5,23,5,25],[0,0,0,25],[2,20,2,22],[3,22,3,24],[4,2,4,6],[4,23,4,25],[15,0,15,3],[43,11,43,21],[44,11,51,25],[6,2,6,6],[6,23,6,25],[8,21,10,25],[9,9,9,15],[10,9,10,15],[12,7,12,16],[9,1,11,1]]}
["Actual Run Data"]
[]
[]
[]
[null,"Supplier Name:  ",{"$f":"IF('Capacity Plan'!$F$3=\"\",\"\",'Capacity Plan'!$F$3)","v":""},null,null,null,null,null,null,null,null,null,null,null,null,null,null,null,null,null,null,null,"Completed By:  "]
[null,"Process Name:  ",{"$f":"IF('Capacity Plan'!$D$47=\"\",\"\",'Capacity Plan'!$D$47)","v":""}]
[null,"Part Number:  ",{"$f":"IF('Capacity Plan'!$Q$3=\"\",\"\",'Capacity Plan'!$Q$3)","v":""}]
[]
[null,null,null,null,null,null,null,null,null,null,null,null,null,null,null,null,null,"Target","Actual","Difference",null,"PLEASE PRINT HARD COPY FOR USE DURING RUN@RATE.  COMPLETE BY FILLING IN THE HIGHLIGHTED COLUMNS ONLY.  USE MILITARY (24:00 HR) TIME FORMAT."]
[null,"Run @ Rate Summary Data",null,null,null,null,null,null,null,"Time/part",null,null,null,null,null,null,null,{"$f":"IFERROR(IF(F15=\"\",\"\",'Capacity Plan'!L47/'Capacity Plan'!M47),\"\")","v":""},{"$f":"IFERROR(IF(F15=\"\",\"\",3600/S11),\"\")","v":""},{"$f":"IFERROR(IF(F15=\"\",\"\",R10-S10),\"\")","v":""}]
[null,null,null,null,null,null,null,null,null,"Pcs/Hour",null,null,null,null,null,null,null,{"$f":"IFERROR(IF(F15=\"\",\"\",60*60/R10),\"\")","v":""},{"$f":"IFERROR(IF(F15=\"\",\"\",(S40*60/R41)),\"\")","v":""},{"$f":"IFERROR(IF(F15=\"\",\"\",S11-R11),\"\")","v":""}]
[]
[null,"Capacity Plan",null,null,null,"Start Time (hh:mm)","Stop Time (hh:mm)","Downtime Description",null,null,null,null,null,null,null,null,null,"Total Time","Total # of Pcs. Run","Pieces/ Hour","Good Pieces","Good Pcs/Hour","Rework Total","Scrap Total","% Scrap","Net Pcs/Hr (Good + Rework)"]
[null,null,null,null,null,null,null,"B",null,"T",null,"C",null,"O",null,"U",null,null,null,{"$f":"IFERROR(IF(S14=\"\",\"\",((S14/R14))*60),\"\")","v":""},null,{"$f":"IFERROR(IF(S14=\"\",\"\",((U14/S14))*T14),\"\")","v":""},null,null,{"$f":"IFERROR(IF(S14=\"\",\"\",X14/S14),\"\")","v":""},{"$f":"IFERROR(IF(S14=\"\",\"\",(1-(Y14/1000000))*T14),\"\")","v":""}]
[null,null,null,null,null,null,null,null,{"$f":"IF(H15=\"x\",(G15-F15)*1440,0)","v":0},null,{"$f":"IF(J15=\"x\",(G15-F15)*1440,0)","v":0},null,{"$f":"IF(L15=\"x\",(G15-F15)*1440,0)","v":0},null,{"$f":"IF(N15=\"x\",(G15-F15)*1440,0)","v":0},null,{"$f":"IF(P15=\"x\",(G15-F15)*1440,0)","v":0},{"$f":"IF(ISBLANK(F15),\"\",IF(G15>=F15,(G15-F15)*1440,(1+G15-F15)*1440))","v":""},null,{"$f":"IFERROR(IF(S15=\"\",\"\",((S15/R15))*60),\"\")","v":""},{"$f":"IF(S15=\"\",\"\",S15-(W15+X15))","v":""},{"$f":"IFERROR(IF(S15=\"\",\"\",((U15/S15))*T15),\"\")","v":""},null,null,{"$f":"IFERROR(IF(S15=\"\",\"\",X15/S15),\"\")","v":""},{"$f":"IFERROR(IF(S15=\"\",\"\",(1-(Y15/1000000))*T15),\"\")","v":""}]
["Description of Downtime:",null,null,null,null,null,null,null,{"$f":"IF(H16=\"x\",(G16-F16)*1440,0)","v":0},null,{"$f":"IF(J16=\"x\",(G16-F16)*1440,0)","v":0},null,{"$f":"IF(L16=\"x\",(G16-F16)*1440,0)","v":0},null,{"$f":"IF(N16=\"x\",(G16-F16)*1440,0)","v":0},null,{"$f":"IF(P16=\"x\",(G16-F16)*1440,0)","v":0},{"$f":"IF(ISBLANK(F16),\"\",IF(G16>=F16,(G16-F16)*1440,(1+G16-F16)*1440))","v":""},null,{"$f":"IFERROR(IF(S16=\"\",\"\",((S16/R16))*60),\"\")","v":""},{"$f":"IF(S16=\"\",\"\",S16-(W16+X16))","v":""},{"$f":"IFERROR(IF(S16=\"\",\"\",((U16/S16))*T16),\"\")","v":""},null,null,{"$f":"IFERROR(IF(S16=\"\",\"\",X16/S16),\"\")","v":""},{"$f":"IFERROR(IF(S16=\"\",\"\",(1-(Y16/1000000))*T16),\"\")","v":""}]
[null,null,null,null,null,null,null,null,0,null,0,null,0,null,0,null,0,"",null,"","","",null,null,"",""]
[null,null,null,"Downtime",null,null,null,null,0,null,0,null,0,null,0,null,0,"",null,"","","",null,null,"",""]
["B","breaks/lunch",null,{"$f":"I39","v":0},null,null,null,null,0,null,0,null,0,null,0,null,0,"",null,"","","",null,null,"",""]
["T","tool change",null,{"$f":"K39","v":0},null,null,null,null,0,null,0,null,0,null,0,null,0,"",null,"","","",null,null,"",""]
["C","changeover",null,{"$f":"M39","v":0},null,null,null,null,0,null,0,null,0,null,0,null,0,"",null,"","","",null,null,"",""]
["O","other planned dntm",null,{"$f":"O39","v":0},null,null,null,null,0,null,0,null,0,null,0,null,0,"",null,"","","",null,null,"",""]
["U","unplanned dntm",null,{"$f":"Q39","v":0},null,null,null,null,0,null,0,null,0,null,0,null,0,"",null,"","","",null,null,"",""]
[null,null,null,null,null,null,null,null,{"$f":"IF(H24=\"x\",(G24-F24)*1440,0)","v":0},null,{"$f":"IF(J24=\"x\",(G24-F24)*1440,0)","v":0},null,{"$f":"IF(L24=\"x\",(G24-F24)*1440,0)","v":0},null,{"$f":"IF(N24=\"x\",(G24-F24)*1440,0)","v":0},null,0,"",null,"","","",null,null,"",""]
[null,null,null,null,null,null,null,null,0,null,0,null,0,null,0,null,0,"",null,"","","",null,null,"",""]
[null,null,null,null,null,null,null,null,0,null,0,null,0,null,0,null,0,"",null,"","","",null,null,"",""]
[null,null,null,null,null,null,null,null,0,null,0,null,0,null,0,null,0,"",null,"","","",null,null,"",""]
[null,null,null,null,null,null,null,null,0,null,0,null,0,null,0,null,0,"",null,"","","",null,null,"",""]
[null,null,null,null,null,null,null,null,0,null,0,null,0,null,0,null,0,"",null,"","","",null,null,"",""]
[null,null,null,null,null,null,null,null,0,null,0,null,0,null,0,null,0,"",null,"","","",null,null,"",""]
[null,null,null,null,null,null,null,null,0,null,0,null,0,null,0,null,0,"",null,"","","",null,null,"",""]
[null,null,null,null,null,null,null,null,0,null,0,null,0,null,0,null,0,"",null,"","","",null,null,"",""]
[null,null,null,null,null,null,null,null,0,null,0,null,0,null,0,null,0,"",null,"","","",null,null,"",""]
[null,null,null,null,null,null,null,null,0,null,0,null,0,null,0,null,0,"",null,"","","",null,null,"",""]
[null,null,null,null,null,null,null,null,0,null,0,null,0,null,0,null,0,"",null,"","","",null,null,"",""]
[null,null,null,null,null,null,null,null,0,null,0,null,0,null,0,null,0,"",null,"","","",null,null,"",""]
[null,null,null,null,null,null,null,null,0,null,0,null,0,null,0,null,0,"",null,"","","",null,null,"",""]
[null,null,null,null,null,null,null,null,0,null,0,null,0,null,0,null,0,"",null,"","","",null,null,"",""]
[null,null,null,null,null,null,null,null,{"$f":"SUM(I15:I38)","v":0},null,{"$f":"SUM(K15:K38)","v":0},null,{"$f":"SUM(M15:M38)","v":0},null,{"$f":"SUM(O15:O38)","v":0},null,{"$f":"SUM(Q15:Q38)","v":0},{"$f":"(G39-F39)*1440","v":0},null,{"$f":"((S39/R39))*60/1440","v":{"$error":"#DIV/0!"}},{"$f":"S39-(W39+X39)","v":0},{"$f":"((U39/S39))*T39","v":{"$error":"#DIV/0!"}},null,null,{"$f":"(X39/S39)*1000000","v":{"$error":"#DIV/0!"}},{"$f":"(1-(Y39/1000000))*T39","v":{"$error":"#DIV/0!"}}]
[null,null,null,null,null,null,null,null,null,null,null,null,null,null,null,null,null,null,{"$f":"SUM(S15:S39)","v":0},null,{"$f":"SUM(U15:U39)","v":0},null,{"$f":"SUM(W15:W39)","v":0}]
[null,null,null,null,null,null,null,null,null,null,null,null,null,null,null,"# of minutes uptime:  ",null,{"$f":"R42-(D20+D21+D23)","v":0},null,"% uptime:  ",{"$f":"IFERROR(R41/R42,\"\")","v":""},null,"FTQ:  ",{"$f":"IFERROR(IF(F15=\"\",\"\",((S40-U40)/S40)*1000000),\"\")","v":""}]
[null,null,null,null,null,null,null,null,null,null,null,null,null,null,null,"Total Run Time:  ",null,{"$f":"SUM(R15:R38)-(D19+D22)","v":0},null,null,null,null,"% Scrap:  ",{"$f":"IFERROR(IF(F15=\"\",\"\",((S40-(U40+W40))/S40)),\"\")","v":""}]
[]
[null,null,null,null,null,null,null,null,null,null,null,"Comments:  Document scrap/rework and downtime here"]

{"sheet":"Process 28 - Actual Run Data","index":32,"n_rows":44,"n_cols":26,"rows_kept":44,"cut":false,"hidden":false,"merged":[[5,2,5,6],[5,23,5,25],[0,0,0,25],[2,20,2,22],[3,22,3,24],[4,2,4,6],[4,23,4,25],[15,0,15,3],[43,11,43,21],[44,11,51,25],[6,2,6,6],[6,23,6,25],[8,21,10,25],[9,9,9,15],[10,9,10,15],[12,7,12,16],[9,1,11,1]]}
["Actual Run Data"]
[]
[]
[]
[null,"Supplier Name:  ",{"$f":"IF('Capacity Plan'!$F$3=\"\",\"\",'Capacity Plan'!$F$3)","v":""},null,null,null,null,null,null,null,null,null,null,null,null,null,null,null,null,null,null,null,"Completed By:  "]
[null,"Process Name:  ",{"$f":"IF('Capacity Plan'!$D$48=\"\",\"\",'Capacity Plan'!$D$48)","v":""}]
[null,"Part Number:  ",{"$f":"IF('Capacity Plan'!$Q$3=\"\",\"\",'Capacity Plan'!$Q$3)","v":""}]
[]
[null,null,null,null,null,null,null,null,null,null,null,null,null,null,null,null,null,"Target","Actual","Difference",null,"PLEASE PRINT HARD COPY FOR USE DURING RUN@RATE.  COMPLETE BY FILLING IN THE HIGHLIGHTED COLUMNS ONLY.  USE MILITARY (24:00 HR) TIME FORMAT."]
[null,"Run @ Rate Summary Data",null,null,null,null,null,null,null,"Time/part",null,null,null,null,null,null,null,{"$f":"IFERROR(IF(F15=\"\",\"\",'Capacity Plan'!L48/'Capacity Plan'!M48),\"\")","v":""},{"$f":"IFERROR(IF(F15=\"\",\"\",3600/S11),\"\")","v":""},{"$f":"IFERROR(IF(F15=\"\",\"\",R10-S10),\"\")","v":""}]
[null,null,null,null,null,null,null,null,null,"Pcs/Hour",null,null,null,null,null,null,null,{"$f":"IFERROR(IF(F15=\"\",\"\",60*60/R10),\"\")","v":""},{"$f":"IFERROR(IF(F15=\"\",\"\",(S40*60/R41)),\"\")","v":""},{"$f":"IFERROR(IF(F15=\"\",\"\",S11-R11),\"\")","v":""}]
[]
[null,"Capacity Plan",null,null,null,"Start Time (hh:mm)","Stop Time (hh:mm)","Downtime Description",null,null,null,null,null,null,null,null,null,"Total Time","Total # of Pcs. Run","Pieces/ Hour","Good Pieces","Good Pcs/Hour","Rework Total","Scrap Total","% Scrap","Net Pcs/Hr (Good + Rework)"]
[null,null,null,null,null,null,null,"B",null,"T",null,"C",null,"O",null,"U",null,null,null,{"$f":"IFERROR(IF(S14=\"\",\"\",((S14/R14))*60),\"\")","v":""},null,{"$f":"IFERROR(IF(S14=\"\",\"\",((U14/S14))*T14),\"\")","v":""},null,null,{"$f":"IFERROR(IF(S14=\"\",\"\",X14/S14),\"\")","v":""},{"$f":"IFERROR(IF(S14=\"\",\"\",(1-(Y14/1000000))*T14),\"\")","v":""}]
[null,null,null,null,null,null,null,null,{"$f":"IF(H15=\"x\",(G15-F15)*1440,0)","v":0},null,{"$f":"IF(J15=\"x\",(G15-F15)*1440,0)","v":0},null,{"$f":"IF(L15=\"x\",(G15-F15)*1440,0)","v":0},null,{"$f":"IF(N15=\"x\",(G15-F15)*1440,0)","v":0},null,{"$f":"IF(P15=\"x\",(G15-F15)*1440,0)","v":0},{"$f":"IF(ISBLANK(F15),\"\",IF(G15>=F15,(G15-F15)*1440,(1+G15-F15)*1440))","v":""},null,{"$f":"IFERROR(IF(S15=\"\",\"\",((S15/R15))*60),\"\")","v":""},{"$f":"IF(S15=\"\",\"\",S15-(W15+X15))","v":""},{"$f":"IFERROR(IF(S15=\"\",\"\",((U15/S15))*T15),\"\")","v":""},null,null,{"$f":"IFERROR(IF(S15=\"\",\"\",X15/S15),\"\")","v":""},{"$f":"IFERROR(IF(S15=\"\",\"\",(1-(Y15/1000000))*T15),\"\")","v":""}]
["Description of Downtime:",null,null,null,null,null,null,null,{"$f":"IF(H16=\"x\",(G16-F16)*1440,0)","v":0},null,{"$f":"IF(J16=\"x\",(G16-F16)*1440,0)","v":0},null,{"$f":"IF(L16=\"x\",(G16-F16)*1440,0)","v":0},null,{"$f":"IF(N16=\"x\",(G16-F16)*1440,0)","v":0},null,{"$f":"IF(P16=\"x\",(G16-F16)*1440,0)","v":0},{"$f":"IF(ISBLANK(F16),\"\",IF(G16>=F16,(G16-F16)*1440,(1+G16-F16)*1440))","v":""},null,{"$f":"IFERROR(IF(S16=\"\",\"\",((S16/R16))*60),\"\")","v":""},{"$f":"IF(S16=\"\",\"\",S16-(W16+X16))","v":""},{"$f":"IFERROR(IF(S16=\"\",\"\",((U16/S16))*T16),\"\")","v":""},null,null,{"$f":"IFERROR(IF(S16=\"\",\"\",X16/S16),\"\")","v":""},{"$f":"IFERROR(IF(S16=\"\",\"\",(1-(Y16/1000000))*T16),\"\")","v":""}]
[null,null,null,null,null,null,null,null,0,null,0,null,0,null,0,null,0,"",null,"","","",null,null,"",""]
[null,null,null,"Downtime",null,null,null,null,0,null,0,null,0,null,0,null,0,"",null,"","","",null,null,"",""]
["B","breaks/lunch",null,{"$f":"I39","v":0},null,null,null,null,0,null,0,null,0,null,0,null,0,"",null,"","","",null,null,"",""]
["T","tool change",null,{"$f":"K39","v":0},null,null,null,null,0,null,0,null,0,null,0,null,0,"",null,"","","",null,null,"",""]
["C","changeover",null,{"$f":"M39","v":0},null,null,null,null,0,null,0,null,0,null,0,null,0,"",null,"","","",null,null,"",""]
["O","other planned dntm",null,{"$f":"O39","v":0},null,null,null,null,0,null,0,null,0,null,0,null,0,"",null,"","","",null,null,"",""]
["U","unplanned dntm",null,{"$f":"Q39","v":0},null,null,null,null,0,null,0,null,0,null,0,null,0,"",null,"","","",null,null,"",""]
[null,null,null,null,null,null,null,null,{"$f":"IF(H24=\"x\",(G24-F24)*1440,0)","v":0},null,{"$f":"IF(J24=\"x\",(G24-F24)*1440,0)","v":0},null,{"$f":"IF(L24=\"x\",(G24-F24)*1440,0)","v":0},null,{"$f":"IF(N24=\"x\",(G24-F24)*1440,0)","v":0},null,0,"",null,"","","",null,null,"",""]
[null,null,null,null,null,null,null,null,0,null,0,null,0,null,0,null,0,"",null,"","","",null,null,"",""]
[null,null,null,null,null,null,null,null,0,null,0,null,0,null,0,null,0,"",null,"","","",null,null,"",""]
[null,null,null,null,null,null,null,null,0,null,0,null,0,null,0,null,0,"",null,"","","",null,null,"",""]
[null,null,null,null,null,null,null,null,0,null,0,null,0,null,0,null,0,"",null,"","","",null,null,"",""]
[null,null,null,null,null,null,null,null,0,null,0,null,0,null,0,null,0,"",null,"","","",null,null,"",""]
[null,null,null,null,null,null,null,null,0,null,0,null,0,null,0,null,0,"",null,"","","",null,null,"",""]
[null,null,null,null,null,null,null,null,0,null,0,null,0,null,0,null,0,"",null,"","","",null,null,"",""]
[null,null,null,null,null,null,null,null,0,null,0,null,0,null,0,null,0,"",null,"","","",null,null,"",""]
[null,null,null,null,null,null,null,null,0,null,0,null,0,null,0,null,0,"",null,"","","",null,null,"",""]
[null,null,null,null,null,null,null,null,0,null,0,null,0,null,0,null,0,"",null,"","","",null,null,"",""]
[null,null,null,null,null,null,null,null,0,null,0,null,0,null,0,null,0,"",null,"","","",null,null,"",""]
[null,null,null,null,null,null,null,null,0,null,0,null,0,null,0,null,0,"",null,"","","",null,null,"",""]
[null,null,null,null,null,null,null,null,0,null,0,null,0,null,0,null,0,"",null,"","","",null,null,"",""]
[null,null,null,null,null,null,null,null,0,null,0,null,0,null,0,null,0,"",null,"","","",null,null,"",""]
[null,null,null,null,null,null,null,null,{"$f":"SUM(I15:I38)","v":0},null,{"$f":"SUM(K15:K38)","v":0},null,{"$f":"SUM(M15:M38)","v":0},null,{"$f":"SUM(O15:O38)","v":0},null,{"$f":"SUM(Q15:Q38)","v":0},{"$f":"(G39-F39)*1440","v":0},null,{"$f":"((S39/R39))*60/1440","v":{"$error":"#DIV/0!"}},{"$f":"S39-(W39+X39)","v":0},{"$f":"((U39/S39))*T39","v":{"$error":"#DIV/0!"}},null,null,{"$f":"(X39/S39)*1000000","v":{"$error":"#DIV/0!"}},{"$f":"(1-(Y39/1000000))*T39","v":{"$error":"#DIV/0!"}}]
[null,null,null,null,null,null,null,null,null,null,null,null,null,null,null,null,null,null,{"$f":"SUM(S15:S39)","v":0},null,{"$f":"SUM(U15:U39)","v":0},null,{"$f":"SUM(W15:W39)","v":0}]
[null,null,null,null,null,null,null,null,null,null,null,null,null,null,null,"# of minutes uptime:  ",null,{"$f":"R42-(D20+D21+D23)","v":0},null,"% uptime:  ",{"$f":"IFERROR(R41/R42,\"\")","v":""},null,"FTQ:  ",{"$f":"IFERROR(IF(F15=\"\",\"\",((S40-U40)/S40)*1000000),\"\")","v":""}]
[null,null,null,null,null,null,null,null,null,null,null,null,null,null,null,"Total Run Time:  ",null,{"$f":"SUM(R15:R38)-(D19+D22)","v":0},null,null,null,null,"% Scrap:  ",{"$f":"IFERROR(IF(F15=\"\",\"\",((S40-(U40+W40))/S40)),\"\")","v":""}]
[]
[null,null,null,null,null,null,null,null,null,null,null,"Comments:  Document scrap/rework and downtime here"]

{"sheet":"Process 29 - Actual Run Data","index":33,"n_rows":44,"n_cols":26,"rows_kept":44,"cut":false,"hidden":false,"merged":[[5,2,5,6],[5,23,5,25],[0,0,0,25],[2,20,2,22],[3,22,3,24],[4,2,4,6],[4,23,4,25],[15,0,15,3],[43,11,43,21],[44,11,51,25],[6,2,6,6],[6,23,6,25],[8,21,10,25],[9,9,9,15],[10,9,10,15],[12,7,12,16],[9,1,11,1]]}
["Actual Run Data"]
[]
[]
[]
[null,"Supplier Name:  ",{"$f":"IF('Capacity Plan'!$F$3=\"\",\"\",'Capacity Plan'!$F$3)","v":""},null,null,null,null,null,null,null,null,null,null,null,null,null,null,null,null,null,null,null,"Completed By:  "]
[null,"Process Name:  ",{"$f":"IF('Capacity Plan'!$D$49=\"\",\"\",'Capacity Plan'!$D$49)","v":""}]
[null,"Part Number:  ",{"$f":"IF('Capacity Plan'!$Q$3=\"\",\"\",'Capacity Plan'!$Q$3)","v":""}]
[]
[null,null,null,null,null,null,null,null,null,null,null,null,null,null,null,null,null,"Target","Actual","Difference",null,"PLEASE PRINT HARD COPY FOR USE DURING RUN@RATE.  COMPLETE BY FILLING IN THE HIGHLIGHTED COLUMNS ONLY.  USE MILITARY (24:00 HR) TIME FORMAT."]
[null,"Run @ Rate Summary Data",null,null,null,null,null,null,null,"Time/part",null,null,null,null,null,null,null,{"$f":"IFERROR(IF(F15=\"\",\"\",'Capacity Plan'!L49/'Capacity Plan'!M49),\"\")","v":""},{"$f":"IFERROR(IF(F15=\"\",\"\",3600/S11),\"\")","v":""},{"$f":"IFERROR(IF(F15=\"\",\"\",R10-S10),\"\")","v":""}]
[null,null,null,null,null,null,null,null,null,"Pcs/Hour",null,null,null,null,null,null,null,{"$f":"IFERROR(IF(F15=\"\",\"\",60*60/R10),\"\")","v":""},{"$f":"IFERROR(IF(F15=\"\",\"\",(S40*60/R41)),\"\")","v":""},{"$f":"IFERROR(IF(F15=\"\",\"\",S11-R11),\"\")","v":""}]
[]
[null,"Capacity Plan",null,null,null,"Start Time (hh:mm)","Stop Time (hh:mm)","Downtime Description",null,null,null,null,null,null,null,null,null,"Total Time","Total # of Pcs. Run","Pieces/ Hour","Good Pieces","Good Pcs/Hour","Rework Total","Scrap Total","% Scrap","Net Pcs/Hr (Good + Rework)"]
[null,null,null,null,null,null,null,"B",null,"T",null,"C",null,"O",null,"U",null,null,null,{"$f":"IFERROR(IF(S14=\"\",\"\",((S14/R14))*60),\"\")","v":""},null,{"$f":"IFERROR(IF(S14=\"\",\"\",((U14/S14))*T14),\"\")","v":""},null,null,{"$f":"IFERROR(IF(S14=\"\",\"\",X14/S14),\"\")","v":""},{"$f":"IFERROR(IF(S14=\"\",\"\",(1-(Y14/1000000))*T14),\"\")","v":""}]
[null,null,null,null,null,null,null,null,{"$f":"IF(H15=\"x\",(G15-F15)*1440,0)","v":"00:00:00"},null,{"$f":"IF(J15=\"x\",(G15-F15)*1440,0)","v":"00:00:00"},null,{"$f":"IF(L15=\"x\",(G15-F15)*1440,0)","v":"00:00:00"},null,{"$f":"IF(N15=\"x\",(G15-F15)*1440,0)","v":"00:00:00"},null,{"$f":"IF(P15=\"x\",(G15-F15)*1440,0)","v":0},{"$f":"IF(ISBLANK(F15),\"\",IF(G15>=F15,(G15-F15)*1440,(1+G15-F15)*1440))","v":""},null,{"$f":"IFERROR(IF(S15=\"\",\"\",((S15/R15))*60),\"\")","v":""},{"$f":"IF(S15=\"\",\"\",S15-(W15+X15))","v":""},{"$f":"IFERROR(IF(S15=\"\",\"\",((U15/S15))*T15),\"\")","v":""},null,null,{"$f":"IFERROR(IF(S15=\"\",\"\",X15/S15),\"\")","v":""},{"$f":"IFERROR(IF(S15=\"\",\"\",(1-(Y15/1000000))*T15),\"\")","v":""}]
["Description of Downtime:",null,null,null,null,null,null,null,{"$f":"IF(H16=\"x\",(G16-F16)*1440,0)","v":"00:00:00"},null,{"$f":"IF(J16=\"x\",(G16-F16)*1440,0)","v":"00:00:00"},null,{"$f":"IF(L16=\"x\",(G16-F16)*1440,0)","v":"00:00:00"},null,{"$f":"IF(N16=\"x\",(G16-F16)*1440,0)","v":"00:00:00"},null,{"$f":"IF(P16=\"x\",(G16-F16)*1440,0)","v":0},{"$f":"IF(ISBLANK(F16),\"\",IF(G16>=F16,(G16-F16)*1440,(1+G16-F16)*1440))","v":""},null,{"$f":"IFERROR(IF(S16=\"\",\"\",((S16/R16))*60),\"\")","v":""},{"$f":"IF(S16=\"\",\"\",S16-(W16+X16))","v":""},{"$f":"IFERROR(IF(S16=\"\",\"\",((U16/S16))*T16),\"\")","v":""},null,null,{"$f":"IFERROR(IF(S16=\"\",\"\",X16/S16),\"\")","v":""},{"$f":"IFERROR(IF(S16=\"\",\"\",(1-(Y16/1000000))*T16),\"\")","v":""}]
[null,null,null,null,null,null,null,null,"00:00:00",null,"00:00:00",null,"00:00:00",null,"00:00:00",null,0,"",null,"","","",null,null,"",""]
[null,null,null,"Downtime",null,null,null,null,"00:00:00",null,"00:00:00",null,"00:00:00",null,"00:00:00",null,0,"",null,"","","",null,null,"",""]
["B","breaks/lunch",null,{"$f":"I39","v":0},null,null,null,null,"00:00:00",null,"00:00:00",null,"00:00:00",null,"00:00:00",null,0,"",null,"","","",null,null,"",""]
["T","tool change",null,{"$f":"K39","v":0},null,null,null,null,"00:00:00",null,"00:00:00",null,"00:00:00",null,"00:00:00",null,0,"",null,"","","",null,null,"",""]
["C","changeover",null,{"$f":"M39","v":0},null,null,null,null,"00:00:00",null,"00:00:00",null,"00:00:00",null,"00:00:00",null,0,"",null,"","","",null,null,"",""]
["O","other planned dntm",null,{"$f":"O39","v":0},null,null,null,null,"00:00:00",null,"00:00:00",null,"00:00:00",null,"00:00:00",null,0,"",null,"","","",null,null,"",""]
["U","unplanned dntm",null,{"$f":"Q39","v":0},null,null,null,null,"00:00:00",null,"00:00:00",null,"00:00:00",null,"00:00:00",null,0,"",null,"","","",null,null,"",""]
[null,null,null,null,null,null,null,null,{"$f":"IF(H24=\"x\",(G24-F24)*1440,0)","v":"00:00:00"},null,{"$f":"IF(J24=\"x\",(G24-F24)*1440,0)","v":"00:00:00"},null,{"$f":"IF(L24=\"x\",(G24-F24)*1440,0)","v":"00:00:00"},null,{"$f":"IF(N24=\"x\",(G24-F24)*1440,0)","v":"00:00:00"},null,0,"",null,"","","",null,null,"",""]
[null,null,null,null,null,null,null,null,"00:00:00",null,"00:00:00",null,"00:00:00",null,"00:00:00",null,0,"",null,"","","",null,null,"",""]
[null,null,null,null,null,null,null,null,"00:00:00",null,"00:00:00",null,"00:00:00",null,"00:00:00",null,0,"",null,"","","",null,null,"",""]
[null,null,null,null,null,null,null,null,"00:00:00",null,"00:00:00",null,"00:00:00",null,"00:00:00",null,0,"",null,"","","",null,null,"",""]
[null,null,null,null,null,null,null,null,"00:00:00",null,"00:00:00",null,"00:00:00",null,"00:00:00",null,0,"",null,"","","",null,null,"",""]
[null,null,null,null,null,null,null,null,"00:00:00",null,"00:00:00",null,"00:00:00",null,"00:00:00",null,0,"",null,"","","",null,null,"",""]
[null,null,null,null,null,null,null,null,"00:00:00",null,"00:00:00",null,"00:00:00",null,"00:00:00",null,0,"",null,"","","",null,null,"",""]
[null,null,null,null,null,null,null,null,"00:00:00",null,"00:00:00",null,"00:00:00",null,"00:00:00",null,0,"",null,"","","",null,null,"",""]
[null,null,null,null,null,null,null,null,"00:00:00",null,"00:00:00",null,"00:00:00",null,"00:00:00",null,0,"",null,"","","",null,null,"",""]
[null,null,null,null,null,null,null,null,"00:00:00",null,"00:00:00",null,"00:00:00",null,"00:00:00",null,0,"",null,"","","",null,null,"",""]
[null,null,null,null,null,null,null,null,"00:00:00",null,"00:00:00",null,"00:00:00",null,"00:00:00",null,0,"",null,"","","",null,null,"",""]
[null,null,null,null,null,null,null,null,"00:00:00",null,"00:00:00",null,"00:00:00",null,"00:00:00",null,0,"",null,"","","",null,null,"",""]
[null,null,null,null,null,null,null,null,"00:00:00",null,"00:00:00",null,"00:00:00",null,"00:00:00",null,0,"",null,"","","",null,null,"",""]
[null,null,null,null,null,null,null,null,"00:00:00",null,"00:00:00",null,"00:00:00",null,"00:00:00",null,0,"",null,"","","",null,null,"",""]
[null,null,null,null,null,null,null,null,"00:00:00",null,"00:00:00",null,"00:00:00",null,"00:00:00",null,0,"",null,"","","",null,null,"",""]
[null,null,null,null,null,null,null,null,{"$f":"SUM(I15:I38)","v":0},null,{"$f":"SUM(K15:K38)","v":0},null,{"$f":"SUM(M15:M38)","v":0},null,{"$f":"SUM(O15:O38)","v":0},null,{"$f":"SUM(Q15:Q38)","v":0},{"$f":"(G39-F39)*1440","v":0},null,{"$f":"((S39/R39))*60/1440","v":{"$error":"#DIV/0!"}},{"$f":"S39-(W39+X39)","v":0},{"$f":"((U39/S39))*T39","v":{"$error":"#DIV/0!"}},null,null,{"$f":"(X39/S39)*1000000","v":{"$error":"#DIV/0!"}},{"$f":"(1-(Y39/1000000))*T39","v":{"$error":"#DIV/0!"}}]
[null,null,null,null,null,null,null,null,null,null,null,null,null,null,null,null,null,null,{"$f":"SUM(S15:S39)","v":0},null,{"$f":"SUM(U15:U39)","v":0},null,{"$f":"SUM(W15:W39)","v":0}]
[null,null,null,null,null,null,null,null,null,null,null,null,null,null,null,"# of minutes uptime:  ",null,{"$f":"R42-(D20+D21+D23)","v":0},null,"% uptime:  ",{"$f":"IFERROR(R41/R42,\"\")","v":""},null,"FTQ:  ",{"$f":"IFERROR(IF(F15=\"\",\"\",((S40-U40)/S40)*1000000),\"\")","v":""}]
[null,null,null,null,null,null,null,null,null,null,null,null,null,null,null,"Total Run Time:  ",null,{"$f":"SUM(R15:R38)-(D19+D22)","v":0},null,null,null,null,"% Scrap:  ",{"$f":"IFERROR(IF(F15=\"\",\"\",((S40-(U40+W40))/S40)),\"\")","v":""}]
[]
[null,null,null,null,null,null,null,null,null,null,null,"Comments:  Document scrap/rework and downtime here"]

{"sheet":"Process 30 - Actual Run Data","index":34,"n_rows":44,"n_cols":26,"rows_kept":44,"cut":false,"hidden":false,"merged":[[5,2,5,6],[5,23,5,25],[0,0,0,25],[2,20,2,22],[3,22,3,24],[4,2,4,6],[4,23,4,25],[15,0,15,3],[43,11,43,21],[44,11,51,25],[6,2,6,6],[6,23,6,25],[8,21,10,25],[9,9,9,15],[10,9,10,15],[12,7,12,16],[9,1,11,1]]}
["Actual Run Data"]
[]
[]
[]
[null,"Supplier Name:  ",{"$f":"IF('Capacity Plan'!$F$3=\"\",\"\",'Capacity Plan'!$F$3)","v":""},null,null,null,null,null,null,null,null,null,null,null,null,null,null,null,null,null,null,null,"Completed By:  "]
[null,"Process Name:  ",{"$f":"IF('Capacity Plan'!$D$50=\"\",\"\",'Capacity Plan'!$D$50)","v":""}]
[null,"Part Number:  ",{"$f":"IF('Capacity Plan'!$Q$3=\"\",\"\",'Capacity Plan'!$Q$3)","v":""}]
[]
[null,null,null,null,null,null,null,null,null,null,null,null,null,null,null,null,null,"Target","Actual","Difference",null,"PLEASE PRINT HARD COPY FOR USE DURING RUN@RATE.  COMPLETE BY FILLING IN THE HIGHLIGHTED COLUMNS ONLY.  USE MILITARY (24:00 HR) TIME FORMAT."]
[null,"Run @ Rate Summary Data",null,null,null,null,null,null,null,"Time/part",null,null,null,null,null,null,null,{"$f":"IFERROR(IF(F15=\"\",\"\",'Capacity Plan'!L50/'Capacity Plan'!M50),\"\")","v":""},{"$f":"IFERROR(IF(F15=\"\",\"\",3600/S11),\"\")","v":""},{"$f":"IFERROR(IF(F15=\"\",\"\",R10-S10),\"\")","v":""}]
[null,null,null,null,null,null,null,null,null,"Pcs/Hour",null,null,null,null,null,null,null,{"$f":"IFERROR(IF(F15=\"\",\"\",60*60/R10),\"\")","v":""},{"$f":"IFERROR(IF(F15=\"\",\"\",(S40*60/R41)),\"\")","v":""},{"$f":"IFERROR(IF(F15=\"\",\"\",S11-R11),\"\")","v":""}]
[]
[null,"Capacity Plan",null,null,null,"Start Time (hh:mm)","Stop Time (hh:mm)","Downtime Description",null,null,null,null,null,null,null,null,null,"Total Time","Total # of Pcs. Run","Pieces/ Hour","Good Pieces","Good Pcs/Hour","Rework Total","Scrap Total","% Scrap","Net Pcs/Hr (Good + Rework)"]
[null,null,null,null,null,null,null,"B",null,"T",null,"C",null,"O",null,"U",null,null,null,{"$f":"IFERROR(IF(S14=\"\",\"\",((S14/R14))*60),\"\")","v":""},null,{"$f":"IFERROR(IF(S14=\"\",\"\",((U14/S14))*T14),\"\")","v":""},null,null,{"$f":"IFERROR(IF(S14=\"\",\"\",X14/S14),\"\")","v":""},{"$f":"IFERROR(IF(S14=\"\",\"\",(1-(Y14/1000000))*T14),\"\")","v":""}]
[null,null,null,null,null,null,null,null,{"$f":"IF(H15=\"x\",(G15-F15)*1440,0)","v":"00:00:00"},null,{"$f":"IF(J15=\"x\",(G15-F15)*1440,0)","v":"00:00:00"},null,{"$f":"IF(L15=\"x\",(G15-F15)*1440,0)","v":"00:00:00"},null,{"$f":"IF(N15=\"x\",(G15-F15)*1440,0)","v":"00:00:00"},null,{"$f":"IF(P15=\"x\",(G15-F15)*1440,0)","v":0},{"$f":"IF(ISBLANK(F15),\"\",IF(G15>=F15,(G15-F15)*1440,(1+G15-F15)*1440))","v":""},null,{"$f":"IFERROR(IF(S15=\"\",\"\",((S15/R15))*60),\"\")","v":""},{"$f":"IF(S15=\"\",\"\",S15-(W15+X15))","v":""},{"$f":"IFERROR(IF(S15=\"\",\"\",((U15/S15))*T15),\"\")","v":""},null,null,{"$f":"IFERROR(IF(S15=\"\",\"\",X15/S15),\"\")","v":""},{"$f":"IFERROR(IF(S15=\"\",\"\",(1-(Y15/1000000))*T15),\"\")","v":""}]
["Description of Downtime:",null,null,null,null,null,null,null,{"$f":"IF(H16=\"x\",(G16-F16)*1440,0)","v":"00:00:00"},null,{"$f":"IF(J16=\"x\",(G16-F16)*1440,0)","v":"00:00:00"},null,{"$f":"IF(L16=\"x\",(G16-F16)*1440,0)","v":"00:00:00"},null,{"$f":"IF(N16=\"x\",(G16-F16)*1440,0)","v":"00:00:00"},null,{"$f":"IF(P16=\"x\",(G16-F16)*1440,0)","v":0},{"$f":"IF(ISBLANK(F16),\"\",IF(G16>=F16,(G16-F16)*1440,(1+G16-F16)*1440))","v":""},null,{"$f":"IFERROR(IF(S16=\"\",\"\",((S16/R16))*60),\"\")","v":""},{"$f":"IF(S16=\"\",\"\",S16-(W16+X16))","v":""},{"$f":"IFERROR(IF(S16=\"\",\"\",((U16/S16))*T16),\"\")","v":""},null,null,{"$f":"IFERROR(IF(S16=\"\",\"\",X16/S16),\"\")","v":""},{"$f":"IFERROR(IF(S16=\"\",\"\",(1-(Y16/1000000))*T16),\"\")","v":""}]
[null,null,null,null,null,null,null,null,"00:00:00",null,"00:00:00",null,"00:00:00",null,"00:00:00",null,0,"",null,"","","",null,null,"",""]
[null,null,null,"Downtime",null,null,null,null,"00:00:00",null,"00:00:00",null,"00:00:00",null,"00:00:00",null,0,"",null,"","","",null,null,"",""]
["B","breaks/lunch",null,{"$f":"I39","v":0},null,null,null,null,"00:00:00",null,"00:00:00",null,"00:00:00",null,"00:00:00",null,0,"",null,"","","",null,null,"",""]
["T","tool change",null,{"$f":"K39","v":0},null,null,null,null,"00:00:00",null,"00:00:00",null,"00:00:00",null,"00:00:00",null,0,"",null,"","","",null,null,"",""]
["C","changeover",null,{"$f":"M39","v":0},null,null,null,null,"00:00:00",null,"00:00:00",null,"00:00:00",null,"00:00:00",null,0,"",null,"","","",null,null,"",""]
["O","other planned dntm",null,{"$f":"O39","v":0},null,null,null,null,"00:00:00",null,"00:00:00",null,"00:00:00",null,"00:00:00",null,0,"",null,"","","",null,null,"",""]
["U","unplanned dntm",null,{"$f":"Q39","v":0},null,null,null,null,"00:00:00",null,"00:00:00",null,"00:00:00",null,"00:00:00",null,0,"",null,"","","",null,null,"",""]
[null,null,null,null,null,null,null,null,{"$f":"IF(H24=\"x\",(G24-F24)*1440,0)","v":"00:00:00"},null,{"$f":"IF(J24=\"x\",(G24-F24)*1440,0)","v":"00:00:00"},null,{"$f":"IF(L24=\"x\",(G24-F24)*1440,0)","v":"00:00:00"},null,{"$f":"IF(N24=\"x\",(G24-F24)*1440,0)","v":"00:00:00"},null,0,"",null,"","","",null,null,"",""]
[null,null,null,null,null,null,null,null,"00:00:00",null,"00:00:00",null,"00:00:00",null,"00:00:00",null,0,"",null,"","","",null,null,"",""]
[null,null,null,null,null,null,null,null,"00:00:00",null,"00:00:00",null,"00:00:00",null,"00:00:00",null,0,"",null,"","","",null,null,"",""]
[null,null,null,null,null,null,null,null,"00:00:00",null,"00:00:00",null,"00:00:00",null,"00:00:00",null,0,"",null,"","","",null,null,"",""]
[null,null,null,null,null,null,null,null,"00:00:00",null,"00:00:00",null,"00:00:00",null,"00:00:00",null,0,"",null,"","","",null,null,"",""]
[null,null,null,null,null,null,null,null,"00:00:00",null,"00:00:00",null,"00:00:00",null,"00:00:00",null,0,"",null,"","","",null,null,"",""]
[null,null,null,null,null,null,null,null,"00:00:00",null,"00:00:00",null,"00:00:00",null,"00:00:00",null,0,"",null,"","","",null,null,"",""]
[null,null,null,null,null,null,null,null,"00:00:00",null,"00:00:00",null,"00:00:00",null,"00:00:00",null,0,"",null,"","","",null,null,"",""]
[null,null,null,null,null,null,null,null,"00:00:00",null,"00:00:00",null,"00:00:00",null,"00:00:00",null,0,"",null,"","","",null,null,"",""]
[null,null,null,null,null,null,null,null,"00:00:00",null,"00:00:00",null,"00:00:00",null,"00:00:00",null,0,"",null,"","","",null,null,"",""]
[null,null,null,null,null,null,null,null,"00:00:00",null,"00:00:00",null,"00:00:00",null,"00:00:00",null,0,"",null,"","","",null,null,"",""]
[null,null,null,null,null,null,null,null,"00:00:00",null,"00:00:00",null,"00:00:00",null,"00:00:00",null,0,"",null,"","","",null,null,"",""]
[null,null,null,null,null,null,null,null,"00:00:00",null,"00:00:00",null,"00:00:00",null,"00:00:00",null,0,"",null,"","","",null,null,"",""]
[null,null,null,null,null,null,null,null,"00:00:00",null,"00:00:00",null,"00:00:00",null,"00:00:00",null,0,"",null,"","","",null,null,"",""]
[null,null,null,null,null,null,null,null,"00:00:00",null,"00:00:00",null,"00:00:00",null,"00:00:00",null,0,"",null,"","","",null,null,"",""]
[null,null,null,null,null,null,null,null,{"$f":"SUM(I15:I38)","v":0},null,{"$f":"SUM(K15:K38)","v":0},null,{"$f":"SUM(M15:M38)","v":0},null,{"$f":"SUM(O15:O38)","v":0},null,{"$f":"SUM(Q15:Q38)","v":0},{"$f":"(G39-F39)*1440","v":0},null,{"$f":"((S39/R39))*60/1440","v":{"$error":"#DIV/0!"}},{"$f":"S39-(W39+X39)","v":0},{"$f":"((U39/S39))*T39","v":{"$error":"#DIV/0!"}},null,null,{"$f":"(X39/S39)*1000000","v":{"$error":"#DIV/0!"}},{"$f":"(1-(Y39/1000000))*T39","v":{"$error":"#DIV/0!"}}]
[null,null,null,null,null,null,null,null,null,null,null,null,null,null,null,null,null,null,{"$f":"SUM(S15:S39)","v":0},null,{"$f":"SUM(U15:U39)","v":0},null,{"$f":"SUM(W15:W39)","v":0}]
[null,null,null,null,null,null,null,null,null,null,null,null,null,null,null,"# of minutes uptime:  ",null,{"$f":"R42-(D20+D21+D23)","v":0},null,"% uptime:  ",{"$f":"IFERROR(R41/R42,\"\")","v":""},null,"FTQ:  ",{"$f":"IFERROR(IF(F15=\"\",\"\",((S40-U40)/S40)*1000000),\"\")","v":""}]
[null,null,null,null,null,null,null,null,null,null,null,null,null,null,null,"Total Run Time:  ",null,{"$f":"SUM(R15:R38)-(D19+D22)","v":0},null,null,null,null,"% Scrap:  ",{"$f":"IFERROR(IF(F15=\"\",\"\",((S40-(U40+W40))/S40)),\"\")","v":""}]
[]
[null,null,null,null,null,null,null,null,null,null,null,"Comments:  Document scrap/rework and downtime here"]

{"sheet":"Run @ Rate Summary Old","index":35,"n_rows":58,"n_cols":45,"rows_kept":58,"cut":false,"hidden":true,"merged":[[1048575,2,1048575,5],[13,4,13,7],[13,15,13,18],[13,10,13,14],[6,21,6,24],[7,21,7,24],[8,21,8,24],[9,21,9,24],[8,7,8,9],[8,1,8,4],[9,1,9,4],[9,7,9,9],[30,3,30,6],[17,2,17,6],[20,3,20,6],[21,3,21,6],[5,7,5,9],[6,7,6,9],[4,1,4,5],[5,1,5,4],[6,1,6,5],[1,0,1,30],[3,1,3,2],[15,27,15,28],[6,25,6,29],[7,1,7,2],[7,25,7,29],[8,25,8,29],[9,25,9,29],[10,10,10,11],[14,27,14,28],[10,1,10,2],[11,1,11,2],[12,1,12,2],[11,3,11,7],[12,3,12,7],[4,7,4,9],[22,3,22,6],[23,3,23,6],[24,3,24,6],[25,3,25,6],[26,3,26,6],[27,3,27,6],[28,3,28,6],[29,3,29,6],[57,5,57,9],[56,5,56,9],[54,5,54,10],[44,3,44,6],[45,3,45,6],[46,3,46,6],[47,3,47,6],[51,12,51,13],[31,3,31,6],[32,3,32,6],[33,3,33,6],[34,3,34,6],[35,3,35,6],[36,3,36,6],[37,3,37,6],[38,3,38,6],[39,3,39,6],[40,3,40,6],[41,3,41,6],[42,3,42,6],[48,3,48,6],[49,3,49,6],[43,3,43,6]],"read":"row_number_cap"}
[]
[]
[]
[]
[null,"Supplier Name:  ",null,null,null,null,0]
[null,"Supplier Duns Code:",null,null,null,"Supplier Duns Code:  ",0]
[null,"Plant (Mfg) Location:  ",null,null,null,null,0,null,null,null,null,null,null,null,null,null,null,null,null,null,null,"Nexteer Part Number:  ",null,null,null,""]
[null,null,null,null,null,null,null,null,null,null,null,null,null,null,null,null,null,null,null,null,null,"Nexteer Part Name:  ",null,null,null,""]
[null,"Supplier Contact:",null,null,null,null,null,null,null,null,null,null,null,null,null,null,null,null,null,null,null,"Revision Level:  ",null,null,null,""]
[null,"Phone:",null,null,null,null,null,null,null,null,null,null,null,null,null,null,null,null,null,null,null,"Nexteer Program:  ",null,null,null,""]
[]
[null,null,null,"Nexteer Monitored:",null,null,null,null,null,null,null,null,null,null,null,null,null,null,null,null,null,null,null,null,null,"Production days at Nexteer (days/yr):  ",null,{"$f":"'Capacity Plan'!S9","v":240}]
[null,null,null,"Supplier Monitored:",null,null,null,null,null,null,null,null,null,null,null,null,null,null,null,null,null,null,null,null,null,"Production days at Supplier (days/yr):  ",null,{"$f":"'Capacity Plan'!S10","v":0}]
[null,null,null,null,"Duration:",null,null,null,null,null,"Actual Run@Rate Completion Date:"]
[null,null,null,null,null,null,null,null,null,null,null,null,null,null,null,null,null,null,null,null,null,null,null,null,null,"Quoted Tool Capacity (QTC):  ",null,{"$f":"'Capacity Plan'!S12","v":0}]
[]
[]
["Number of Identical Machines","Op Number","Process Name:  List each separate production line or machine",null,null,null,null,"Operators","shifts / day","hours / shift","days / wk","Planned Cycle Time (sec)","parts / cycle","Daily Process Capacity","Scheduled breaks & lunch during run (min)","Planned Tool change time during run (min)","Planned Changeover time during run (min)","Other planned downtime per Shift (min)"," Historical Unscheduled downtime per shift (min)","% up time","% scrap at this process operation","% scrap parts per operation ","Sum of all down stream operations scrap rate %'s","Percentage of total parts that are good for operation ","% scrap at this process & Downstream Processes","Actual Daily Capacity","Machine loading allocated for other parts","Hours per week allocated for this part","Daily Capacity allocated to this part","Amount of parts required to reach QTC including scrap","Weekly Capacity Allocated to this Part","Annual Cay","Daily QTC not including scrap","Overall required OEE","Weekly QTC","QTC","Constraint on QTC?","15% above Daily QTC","OEE For 15% Above QTC","15% above Weekly QTC","15% above QTC","Constraint on 15% above QTC?","Net Good Parts / hour","Production time used for QTC (hrs/wk)","Production time used for 15% above QTC (hrs/wk)"]
[]
[]
[{"$f":"COUNTIF($B$21:$B$50,B21)","v":30},{"$f":"IFERROR('Capacity Plan'!B21,\"\")","v":0},"1",{"$f":"IFERROR('Capacity Plan'!D21,\"\")","v":0},null,null,null,{"$f":"IFERROR('Capacity Plan'!H21,\"\")","v":0},{"$f":"'Capacity Plan'!I21","v":0},{"$f":"'Capacity Plan'!J21","v":0},{"$f":"'Capacity Plan'!K21","v":0},{"$f":"IFERROR(IF(D21=0,\"\",'Process 1 - Actual Run Data'!S$10*M$21),\"\")","v":""},{"$f":"IF(D21=0,\"\",'Capacity Plan'!M21)","v":""},{"$f":"IFERROR('Capacity Plan'!N21,\"\")","v":""},{"$f":"'Process 1 - Actual Run Data'!D$19","v":0},{"$f":"'Process 1 - Actual Run Data'!D$20","v":0},{"$f":"'Process 1 - Actual Run Data'!D$21","v":0},{"$f":"IF(J21=0,\"\",'Process 1 - Actual Run Data'!D$22)","v":""},{"$f":"IF(J21=0,\"\",'Process 1 - Actual Run Data'!D$23)","v":""},{"$f":"'Process 1 - Actual Run Data'!U$41","v":""},{"$f":"IF(D21=0,\"\",'Process 1 - Actual Run Data'!X$42)","v":""},{"$f":"SUMIF(#REF!,#REF!,U$21:U$50)/#REF!","v":{"$error":"#REF!"}},{"$f":"IF(#REF!<#REF!,(SUMIF(#REF!,#REF!,V$21:V$50)/#REF!)+W22,W22)","v":{"$error":"#REF!"}},{"$f":"(1-SUMIF($C$21:$C$50,#REF!,$V$21:$V$50)/#REF!^2)","v":{"$error":"#REF!"}},0,{"$f":"IFERROR(IF(D21=0,\"\",N21*T21*(1-Y21)),\"\")","v":""},{"$f":"IF(D21=0,\"\",'Capacity Plan'!Z21)","v":""},110,{"$f":"IFERROR(IF(J21=\"\",\"\",(IF(K21<=5,(AB21*AQ21)/5,(AB21*AQ21)/K21))),\"\")","v":""},{"$f":"'Capacity Plan'!#REF!","v":{"$error":"#REF!"}},{"$f":"'Capacity Plan'!AG21","v":""},{"$f":"IF(D21=0,\"\",AC21*AC$15)","v":""},{"$f":"IF(D21=0,\"\",AJ21/$AB$12)","v":""},{"$f":"IFERROR(ROUNDUP(AG21/AC21,4),\"\")","v":""},{"$f":"IFERROR(IF(K21=\"\",\"\",AG21*5),\"\")","v":""},{"$f":"IF(D21=0,\"\",'Capacity Plan'!AJ21)","v":""},{"$f":"IF(D21=0,\"\",IF(AC21>AG21,\"NO\",\"YES\"))","v":""},{"$f":"IF(D21=0,\"\", 'Capacity Plan'!AM21)","v":""},{"$f":"IFERROR(AL21/AB21,\"\")","v":""},{"$f":"IFERROR(IF(K21=\"\",\"\",AL21*5),\"\")","v":""},{"$f":"IF(D21=0,\"\",'Capacity Plan'!AO21)","v":""},{"$f":"IF(D21=0,\"\",IF(AC21>AL21,\"NO\",\"YES\"))","v":""},{"$f":"IFERROR(IF(J21=\"\",\"\",(3600/L21)*M21*(1-Y21)*T21),\"\")","v":""},{"$f":"IFERROR(IF(J21=\"\",0,(($AI21/$AQ21)/(1-$AA21))),\"\")","v":""},{"$f":"IFERROR(IF(K21=\"\",0,(($AN21)/$AQ21)/(1-$AA21)),\"\")","v":""}]
[30,{"$f":"IFERROR('Capacity Plan'!B22,\"\")","v":0},"2",{"$f":"IFERROR('Capacity Plan'!D22,\"\")","v":0},null,null,null,{"$f":"IFERROR('Capacity Plan'!H22,\"\")","v":0},{"$f":"'Capacity Plan'!I22","v":0},{"$f":"'Capacity Plan'!J22","v":0},{"$f":"'Capacity Plan'!K22","v":0},{"$f":"IFERROR(IF(D22=0,\"\",'Process 2 - Actual Run Data'!S$10*M$21),\"\")","v":""},{"$f":"IF(D22=0,\"\",'Capacity Plan'!M22)","v":""},{"$f":"IFERROR('Capacity Plan'!N22,\"\")","v":""},{"$f":"'Process 2 - Actual Run Data'!D$19","v":0},{"$f":"'Process 2 - Actual Run Data'!D$20","v":0},{"$f":"'Process 2 - Actual Run Data'!D$21","v":0},{"$f":"IF(J22=0,\"\",'Process 2 - Actual Run Data'!D$22)","v":""},{"$f":"IF(J22=0,\"\",'Process 2 - Actual Run Data'!D$23)","v":""},{"$f":"'Process 2 - Actual Run Data'!U$41","v":""},{"$f":"IF(D22=0,\"\",'Process 2 - Actual Run Data'!X$42)","v":""},{"$f":"SUMIF(#REF!,#REF!,U$21:U$50)/#REF!","v":{"$error":"#REF!"}},{"$f":"IF(#REF!<#REF!,(SUMIF(#REF!,#REF!,V$21:V$50)/#REF!)+W23,W23)","v":{"$error":"#REF!"}},{"$f":"(1-SUMIF($C$21:$C$50,#REF!,$V$21:$V$50)/#REF!^2)","v":{"$error":"#REF!"}},null,"",{"$f":"IF(D22=0,\"\",'Capacity Plan'!Z22)","v":""},110,"",{"$f":"'Capacity Plan'!#REF!","v":{"$error":"#REF!"}},{"$f":"'Capacity Plan'!AG22","v":""},"","","","",{"$f":"IF(D22=0,\"\",'Capacity Plan'!AJ22)","v":""},"",{"$f":"IF(D22=0,\"\", 'Capacity Plan'!AM22)","v":""},{"$f":"IFERROR(AL22/AB22,\"\")","v":""},"",{"$f":"IF(D22=0,\"\",'Capacity Plan'!AO22)","v":""},"","","",""]
[{"$f":"COUNTIF($B$21:$B$50,B23)","v":30},{"$f":"IFERROR('Capacity Plan'!B23,\"\")","v":0},"3",{"$f":"IFERROR('Capacity Plan'!D23,\"\")","v":0},null,null,null,{"$f":"IFERROR('Capacity Plan'!H23,\"\")","v":0},{"$f":"'Capacity Plan'!I23","v":0},{"$f":"'Capacity Plan'!J23","v":0},{"$f":"'Capacity Plan'!K23","v":0},{"$f":"IFERROR(IF(D23=0,\"\",'Process 3 - Actual Run Data'!S$10*M$21),\"\")","v":""},{"$f":"IF(D23=0,\"\",'Capacity Plan'!M23)","v":""},{"$f":"IFERROR('Capacity Plan'!N23,\"\")","v":""},{"$f":"'Process 3 - Actual Run Data'!D$19","v":0},{"$f":"'Process 3 - Actual Run Data'!D$20","v":0},{"$f":"'Process 3 - Actual Run Data'!D$21","v":0},{"$f":"IF(J23=0,\"\",'Process 3 - Actual Run Data'!D$22)","v":""},{"$f":"IF(J23=0,\"\",'Process 3 - Actual Run Data'!D$23)","v":""},{"$f":"'Process 3 - Actual Run Data'!U$41","v":""},{"$f":"IF(D23=0,\"\",'Process 3 - Actual Run Data'!X$42)","v":""},{"$f":"SUMIF(#REF!,#REF!,U$21:U$50)/#REF!","v":{"$error":"#REF!"}},{"$f":"IF(#REF!<#REF!,(SUMIF(#REF!,#REF!,V$21:V$50)/#REF!)+W24,W24)","v":{"$error":"#REF!"}},{"$f":"(1-SUMIF($C$21:$C$50,#REF!,$V$21:$V$50)/#REF!^2)","v":{"$error":"#REF!"}},null,"",{"$f":"IF(D23=0,\"\",'Capacity Plan'!Z23)","v":""},66,"",{"$f":"'Capacity Plan'!#REF!","v":{"$error":"#REF!"}},{"$f":"'Capacity Plan'!AG23","v":""},"","","","",{"$f":"IF(D23=0,\"\",'Capacity Plan'!AJ23)","v":""},"",{"$f":"IF(D23=0,\"\", 'Capacity Plan'!AM23)","v":""},"","",{"$f":"IF(D23=0,\"\",'Capacity Plan'!AO23)","v":""},"","","",""]
[30,{"$f":"IFERROR('Capacity Plan'!B24,\"\")","v":0},"4",{"$f":"IFERROR('Capacity Plan'!D24,\"\")","v":0},null,null,null,{"$f":"IFERROR('Capacity Plan'!H24,\"\")","v":0},{"$f":"'Capacity Plan'!I24","v":0},{"$f":"'Capacity Plan'!J24","v":0},{"$f":"'Capacity Plan'!K24","v":0},{"$f":"IFERROR(IF(D24=0,\"\",'Process 4 - Actual Run Data'!S$10*M$21),\"\")","v":""},{"$f":"IF(D24=0,\"\",'Capacity Plan'!M24)","v":""},{"$f":"IFERROR('Capacity Plan'!N24,\"\")","v":""},{"$f":"'Process 4 - Actual Run Data'!D$19","v":0},{"$f":"'Process 4 - Actual Run Data'!D$20","v":0},{"$f":"'Process 4 - Actual Run Data'!D$21","v":0},{"$f":"IF(J24=0,\"\",'Process 4 - Actual Run Data'!D$22)","v":""},{"$f":"IF(J24=0,\"\",'Process 4 - Actual Run Data'!D$23)","v":""},{"$f":"'Process 4 - Actual Run Data'!U$41","v":""},{"$f":"IF(D24=0,\"\",'Process 4 - Actual Run Data'!X$42)","v":""},{"$f":"SUMIF(#REF!,#REF!,U$21:U$50)/#REF!","v":{"$error":"#REF!"}},{"$f":"IF(#REF!<#REF!,(SUMIF(#REF!,#REF!,V$21:V$50)/#REF!)+W25,W25)","v":{"$error":"#REF!"}},{"$f":"ROUNDDOWN(1-SUMIF($C$21:$C$50,#REF!,$V$21:$V$50)/#REF!^2,3)","v":{"$error":"#REF!"}},null,"",{"$f":"IF(D24=0,\"\",'Capacity Plan'!Z24)","v":""},88,"",{"$f":"'Capacity Plan'!#REF!","v":{"$error":"#REF!"}},{"$f":"'Capacity Plan'!AG24","v":""},"","","","",{"$f":"IF(D24=0,\"\",'Capacity Plan'!AJ24)","v":""},"",{"$f":"IF(D24=0,\"\", 'Capacity Plan'!AM24)","v":""},"","",{"$f":"IF(D24=0,\"\",'Capacity Plan'!AO24)","v":""},"","","",""]
[30,{"$f":"IFERROR('Capacity Plan'!B25,\"\")","v":0},"5",{"$f":"IFERROR('Capacity Plan'!D25,\"\")","v":0},null,null,null,{"$f":"IFERROR('Capacity Plan'!H25,\"\")","v":0},{"$f":"'Capacity Plan'!I25","v":0},{"$f":"'Capacity Plan'!J25","v":0},{"$f":"'Capacity Plan'!K25","v":0},{"$f":"IFERROR(IF(D25=0,\"\",'Process 5 - Actual Run Data'!S$10*M$21),\"\")","v":""},{"$f":"IF(D25=0,\"\",'Capacity Plan'!M25)","v":""},{"$f":"IFERROR('Capacity Plan'!N25,\"\")","v":""},{"$f":"'Process 5 - Actual Run Data'!D$19","v":0},{"$f":"'Process 5 - Actual Run Data'!D$20","v":0},{"$f":"'Process 5 - Actual Run Data'!D$21","v":0},{"$f":"IF(J25=0,\"\",'Process 5 - Actual Run Data'!D$22)","v":""},{"$f":"IF(J25=0,\"\",'Process 5 - Actual Run Data'!D$23)","v":""},{"$f":"'Process 5 - Actual Run Data'!U$41","v":""},{"$f":"IF(D25=0,\"\",'Process 5 - Actual Run Data'!X$42)","v":""},{"$f":"SUMIF(#REF!,#REF!,U$21:U$50)/#REF!","v":{"$error":"#REF!"}},{"$f":"IF(#REF!<#REF!,(SUMIF(#REF!,#REF!,V$21:V$50)/#REF!)+W26,W26)","v":{"$error":"#REF!"}},{"$f":"ROUNDDOWN(1-SUMIF($C$21:$C$50,#REF!,$V$21:$V$50)/#REF!^2,3)","v":{"$error":"#REF!"}},null,"",{"$f":"IF(D25=0,\"\",'Capacity Plan'!Z25)","v":""},88,"",{"$f":"'Capacity Plan'!#REF!","v":{"$error":"#REF!"}},{"$f":"'Capacity Plan'!AG25","v":""},"","","","",{"$f":"IF(D25=0,\"\",'Capacity Plan'!AJ25)","v":""},"",{"$f":"IF(D25=0,\"\", 'Capacity Plan'!AM25)","v":""},"","",{"$f":"IF(D25=0,\"\",'Capacity Plan'!AO25)","v":""},"","","",""]
[30,{"$f":"IFERROR('Capacity Plan'!B26,\"\")","v":0},"6",{"$f":"IFERROR('Capacity Plan'!D26,\"\")","v":0},null,null,null,{"$f":"IFERROR('Capacity Plan'!H26,\"\")","v":0},{"$f":"'Capacity Plan'!I26","v":0},{"$f":"'Capacity Plan'!J26","v":0},{"$f":"'Capacity Plan'!K26","v":0},{"$f":"IFERROR(IF(D26=0,\"\",'Process 6 - Actual Run Data'!S$10*M$21),\"\")","v":""},{"$f":"IF(D26=0,\"\",'Capacity Plan'!M26)","v":""},{"$f":"IFERROR('Capacity Plan'!N26,\"\")","v":""},{"$f":"'Process 6 - Actual Run Data'!D$19","v":0},{"$f":"'Process 6 - Actual Run Data'!D$20","v":0},{"$f":"'Process 6 - Actual Run Data'!D$21","v":0},{"$f":"IF(J26=0,\"\",'Process 6 - Actual Run Data'!D$22)","v":""},{"$f":"IF(J26=0,\"\",'Process 6 - Actual Run Data'!D$23)","v":""},{"$f":"'Process 6 - Actual Run Data'!U$41","v":""},{"$f":"IF(D26=0,\"\",'Process 6 - Actual Run Data'!X$42)","v":""},{"$f":"SUMIF(#REF!,#REF!,U$21:U$50)/#REF!","v":{"$error":"#REF!"}},{"$f":"IF(#REF!<#REF!,(SUMIF(#REF!,#REF!,V$21:V$50)/#REF!)+W27,W27)","v":{"$error":"#REF!"}},{"$f":"ROUNDDOWN(1-SUMIF($C$21:$C$50,#REF!,$V$21:$V$50)/#REF!^2,3)","v":{"$error":"#REF!"}},null,"",{"$f":"IF(D26=0,\"\",'Capacity Plan'!Z26)","v":""},77,"",{"$f":"'Capacity Plan'!#REF!","v":{"$error":"#REF!"}},{"$f":"'Capacity Plan'!AG26","v":""},"","","","",{"$f":"IF(D26=0,\"\",'Capacity Plan'!AJ26)","v":""},"",{"$f":"IF(D26=0,\"\", 'Capacity Plan'!AM26)","v":""},"","",{"$f":"IF(D26=0,\"\",'Capacity Plan'!AO26)","v":""},"","","",""]
[30,{"$f":"IFERROR('Capacity Plan'!B27,\"\")","v":0},"7",{"$f":"IFERROR('Capacity Plan'!D27,\"\")","v":0},null,null,null,{"$f":"IFERROR('Capacity Plan'!H27,\"\")","v":0},{"$f":"'Capacity Plan'!I27","v":0},{"$f":"'Capacity Plan'!J27","v":0},{"$f":"'Capacity Plan'!K27","v":0},{"$f":"IFERROR(IF(D27=0,\"\",'Process 1 - Actual Run Data'!S$10*M$21),\"\")","v":""},{"$f":"IF(D27=0,\"\",'Capacity Plan'!M27)","v":""},{"$f":"IFERROR('Capacity Plan'!N27,\"\")","v":""},{"$f":"'Process 7 - Actual Run Data'!D$19","v":0},{"$f":"'Process 1 - Actual Run Data'!D$20","v":0},{"$f":"'Process 1 - Actual Run Data'!D$21","v":0},{"$f":"IF(J27=0,\"\",'Process 1 - Actual Run Data'!D$22)","v":""},{"$f":"IF(J27=0,\"\",'Process 1 - Actual Run Data'!D$23)","v":""},{"$f":"'Process 7 - Actual Run Data'!U$41","v":""},{"$f":"IF(D27=0,\"\",'Process 1 - Actual Run Data'!X$42)","v":""},null,null,null,null,"",{"$f":"IF(D27=0,\"\",'Capacity Plan'!Z27)","v":""},"","",{"$f":"'Capacity Plan'!#REF!","v":{"$error":"#REF!"}},{"$f":"'Capacity Plan'!AG27","v":""},"","",{"$f":"IFERROR(ROUNDUP(AG27/AE27,4),\"\")","v":""},"","","","","","",{"$f":"IF(D27=0,\"\",'Capacity Plan'!AO27)","v":""},"","","",""]
[30,{"$f":"IFERROR('Capacity Plan'!B28,\"\")","v":0},"8",{"$f":"IFERROR('Capacity Plan'!D28,\"\")","v":0},null,null,null,{"$f":"IFERROR('Capacity Plan'!H28,\"\")","v":0},{"$f":"'Capacity Plan'!I28","v":0},{"$f":"'Capacity Plan'!J28","v":0},{"$f":"'Capacity Plan'!K28","v":0},{"$f":"IFERROR(IF(D28=0,\"\",'Process 1 - Actual Run Data'!S$10*M$21),\"\")","v":""},{"$f":"IF(D28=0,\"\",'Capacity Plan'!M28)","v":""},{"$f":"IFERROR('Capacity Plan'!N28,\"\")","v":""},{"$f":"'Process 1 - Actual Run Data'!D$19","v":0},{"$f":"'Process 1 - Actual Run Data'!D$20","v":0},{"$f":"'Process 1 - Actual Run Data'!D$21","v":0},{"$f":"IF(J28=0,\"\",'Process 1 - Actual Run Data'!D$22)","v":""},{"$f":"IF(J28=0,\"\",'Process 1 - Actual Run Data'!D$23)","v":""},{"$f":"'Process 8 - Actual Run Data'!U$41","v":""},{"$f":"IF(D28=0,\"\",'Process 1 - Actual Run Data'!X$42)","v":""},null,null,null,null,"",{"$f":"IF(D28=0,\"\",'Capacity Plan'!Z28)","v":""},"","",{"$f":"'Capacity Plan'!#REF!","v":{"$error":"#REF!"}},{"$f":"'Capacity Plan'!AG28","v":""},"","","","","","","","","",{"$f":"IF(D28=0,\"\",'Capacity Plan'!AO28)","v":""},"","","",""]
[30,{"$f":"IFERROR('Capacity Plan'!B29,\"\")","v":0},"9",{"$f":"IFERROR('Capacity Plan'!D29,\"\")","v":0},null,null,null,{"$f":"IFERROR('Capacity Plan'!H29,\"\")","v":0},{"$f":"'Capacity Plan'!I29","v":0},{"$f":"'Capacity Plan'!J29","v":0},{"$f":"'Capacity Plan'!K29","v":0},{"$f":"IFERROR(IF(D29=0,\"\",'Process 1 - Actual Run Data'!S$10*M$21),\"\")","v":""},{"$f":"IF(D29=0,\"\",'Capacity Plan'!M29)","v":""},{"$f":"IFERROR('Capacity Plan'!N29,\"\")","v":""},{"$f":"'Process 1 - Actual Run Data'!D$19","v":0},{"$f":"'Process 1 - Actual Run Data'!D$20","v":0},{"$f":"'Process 1 - Actual Run Data'!D$21","v":0},{"$f":"IF(J29=0,\"\",'Process 1 - Actual Run Data'!D$22)","v":""},{"$f":"IF(J29=0,\"\",'Process 1 - Actual Run Data'!D$23)","v":""},{"$f":"'Process 9 - Actual Run Data'!U$41","v":""},{"$f":"IF(D29=0,\"\",'Process 1 - Actual Run Data'!X$42)","v":""},null,null,null,null,"",{"$f":"IF(D29=0,\"\",'Capacity Plan'!Z29)","v":""},"","",{"$f":"'Capacity Plan'!#REF!","v":{"$error":"#REF!"}},{"$f":"'Capacity Plan'!AG29","v":""},"","","","","","","","","",{"$f":"IF(D29=0,\"\",'Capacity Plan'!AO29)","v":""},"","","",""]
[30,{"$f":"IFERROR('Capacity Plan'!B30,\"\")","v":0},"10",{"$f":"IFERROR('Capacity Plan'!D30,\"\")","v":0},null,null,null,{"$f":"IFERROR('Capacity Plan'!H30,\"\")","v":0},{"$f":"'Capacity Plan'!I30","v":0},{"$f":"'Capacity Plan'!J30","v":0},{"$f":"'Capacity Plan'!K30","v":0},{"$f":"IFERROR(IF(D30=0,\"\",'Process 1 - Actual Run Data'!S$10*M$21),\"\")","v":""},{"$f":"IF(D30=0,\"\",'Capacity Plan'!M30)","v":""},{"$f":"IFERROR('Capacity Plan'!N30,\"\")","v":""},{"$f":"'Process 1 - Actual Run Data'!D$19","v":0},{"$f":"'Process 1 - Actual Run Data'!D$20","v":0},{"$f":"'Process 1 - Actual Run Data'!D$21","v":0},{"$f":"IF(J30=0,\"\",'Process 1 - Actual Run Data'!D$22)","v":""},{"$f":"IF(J30=0,\"\",'Process 1 - Actual Run Data'!D$23)","v":""},{"$f":"'Process 10 - Actual Run Data'!U$41","v":""},{"$f":"IF(D30=0,\"\",'Process 1 - Actual Run Data'!X$42)","v":""},null,null,null,null,"",{"$f":"IF(D30=0,\"\",'Capacity Plan'!Z30)","v":""},"","",{"$f":"'Capacity Plan'!#REF!","v":{"$error":"#REF!"}},{"$f":"'Capacity Plan'!AG30","v":""},"","","","","","","","","",{"$f":"IF(D30=0,\"\",'Capacity Plan'!AO30)","v":""},"","","",""]
[30,{"$f":"IFERROR('Capacity Plan'!B31,\"\")","v":0},"11",{"$f":"IFERROR('Capacity Plan'!D31,\"\")","v":0},null,null,null,{"$f":"IFERROR('Capacity Plan'!H31,\"\")","v":0},{"$f":"'Capacity Plan'!I31","v":0},{"$f":"'Capacity Plan'!J31","v":0},{"$f":"'Capacity Plan'!K31","v":0},{"$f":"IFERROR(IF(D31=0,\"\",'Process 1 - Actual Run Data'!S$10*M$21),\"\")","v":""},{"$f":"IF(D31=0,\"\",'Capacity Plan'!M31)","v":""},{"$f":"IFERROR('Capacity Plan'!N31,\"\")","v":""},{"$f":"'Process 1 - Actual Run Data'!D$19","v":0},{"$f":"'Process 1 - Actual Run Data'!D$20","v":0},{"$f":"'Process 1 - Actual Run Data'!D$21","v":0},{"$f":"IF(J31=0,\"\",'Process 1 - Actual Run Data'!D$22)","v":""},{"$f":"IF(J31=0,\"\",'Process 1 - Actual Run Data'!D$23)","v":""},{"$f":"'Process 11 - Actual Run Data'!U$41","v":""},{"$f":"IF(D31=0,\"\",'Process 1 - Actual Run Data'!X$42)","v":""},null,null,null,null,"",{"$f":"IF(D31=0,\"\",'Capacity Plan'!Z31)","v":""},"","",{"$f":"'Capacity Plan'!#REF!","v":{"$error":"#REF!"}},{"$f":"'Capacity Plan'!AG31","v":""},"","","","","","","","","",{"$f":"IF(D31=0,\"\",'Capacity Plan'!AO31)","v":""},"","","",""]
[30,{"$f":"IFERROR('Capacity Plan'!B32,\"\")","v":0},"12",{"$f":"IFERROR('Capacity Plan'!D32,\"\")","v":0},null,null,null,{"$f":"IFERROR('Capacity Plan'!H32,\"\")","v":0},{"$f":"'Capacity Plan'!I32","v":0},{"$f":"'Capacity Plan'!J32","v":0},{"$f":"'Capacity Plan'!K32","v":0},{"$f":"IFERROR(IF(D32=0,\"\",'Process 1 - Actual Run Data'!S$10*M$21),\"\")","v":""},{"$f":"IF(D32=0,\"\",'Capacity Plan'!M32)","v":""},{"$f":"IFERROR('Capacity Plan'!N32,\"\")","v":""},{"$f":"'Process 1 - Actual Run Data'!D$19","v":0},{"$f":"'Process 1 - Actual Run Data'!D$20","v":0},{"$f":"'Process 1 - Actual Run Data'!D$21","v":0},{"$f":"IF(J32=0,\"\",'Process 1 - Actual Run Data'!D$22)","v":""},{"$f":"IF(J32=0,\"\",'Process 1 - Actual Run Data'!D$23)","v":""},{"$f":"'Process 12 - Actual Run Data'!U$41","v":""},{"$f":"IF(D32=0,\"\",'Process 1 - Actual Run Data'!X$42)","v":""},null,null,null,null,"",{"$f":"IF(D32=0,\"\",'Capacity Plan'!Z32)","v":""},"","",{"$f":"'Capacity Plan'!#REF!","v":{"$error":"#REF!"}},{"$f":"'Capacity Plan'!AG32","v":""},"","","","","","","","","",{"$f":"IF(D32=0,\"\",'Capacity Plan'!AO32)","v":""},"","","",""]
[30,{"$f":"IFERROR('Capacity Plan'!B33,\"\")","v":0},"13",{"$f":"IFERROR('Capacity Plan'!D33,\"\")","v":0},null,null,null,{"$f":"IFERROR('Capacity Plan'!H33,\"\")","v":0},{"$f":"'Capacity Plan'!I33","v":0},{"$f":"'Capacity Plan'!J33","v":0},{"$f":"'Capacity Plan'!K33","v":0},{"$f":"IFERROR(IF(D33=0,\"\",'Process 1 - Actual Run Data'!S$10*M$21),\"\")","v":""},{"$f":"IF(D33=0,\"\",'Capacity Plan'!M33)","v":""},{"$f":"IFERROR('Capacity Plan'!N33,\"\")","v":""},{"$f":"'Process 1 - Actual Run Data'!D$19","v":0},{"$f":"'Process 1 - Actual Run Data'!D$20","v":0},{"$f":"'Process 1 - Actual Run Data'!D$21","v":0},{"$f":"IF(J33=0,\"\",'Process 1 - Actual Run Data'!D$22)","v":""},{"$f":"IF(J33=0,\"\",'Process 1 - Actual Run Data'!D$23)","v":""},{"$f":"'Process 13 - Actual Run Data'!U$41","v":""},{"$f":"IF(D33=0,\"\",'Process 1 - Actual Run Data'!X$42)","v":""},null,null,null,null,"",{"$f":"IF(D33=0,\"\",'Capacity Plan'!Z33)","v":""},"","",{"$f":"'Capacity Plan'!#REF!","v":{"$error":"#REF!"}},{"$f":"'Capacity Plan'!AG33","v":""},"","","","","","","","","",{"$f":"IF(D33=0,\"\",'Capacity Plan'!AO33)","v":""},"","","",""]
[30,{"$f":"IFERROR('Capacity Plan'!B34,\"\")","v":0},"14",{"$f":"IFERROR('Capacity Plan'!D34,\"\")","v":0},null,null,null,{"$f":"IFERROR('Capacity Plan'!H34,\"\")","v":0},{"$f":"'Capacity Plan'!I34","v":0},{"$f":"'Capacity Plan'!J34","v":0},{"$f":"'Capacity Plan'!K34","v":0},{"$f":"IFERROR(IF(D34=0,\"\",'Process 1 - Actual Run Data'!S$10*M$21),\"\")","v":""},{"$f":"IF(D34=0,\"\",'Capacity Plan'!M34)","v":""},{"$f":"IFERROR('Capacity Plan'!N34,\"\")","v":""},{"$f":"'Process 1 - Actual Run Data'!D$19","v":0},{"$f":"'Process 1 - Actual Run Data'!D$20","v":0},{"$f":"'Process 1 - Actual Run Data'!D$21","v":0},{"$f":"IF(J34=0,\"\",'Process 1 - Actual Run Data'!D$22)","v":""},{"$f":"IF(J34=0,\"\",'Process 1 - Actual Run Data'!D$23)","v":""},{"$f":"'Process 14 - Actual Run Data'!U$41","v":""},{"$f":"IF(D34=0,\"\",'Process 1 - Actual Run Data'!X$42)","v":""},null,null,null,null,"",{"$f":"IF(D34=0,\"\",'Capacity Plan'!Z34)","v":""},"","",{"$f":"'Capacity Plan'!#REF!","v":{"$error":"#REF!"}},{"$f":"'Capacity Plan'!AG34","v":""},"","","","","","","","","",{"$f":"IF(D34=0,\"\",'Capacity Plan'!AO34)","v":""},"","","",""]
[30,{"$f":"IFERROR('Capacity Plan'!B35,\"\")","v":0},"15",{"$f":"IFERROR('Capacity Plan'!D35,\"\")","v":0},null,null,null,{"$f":"IFERROR('Capacity Plan'!H35,\"\")","v":0},{"$f":"'Capacity Plan'!I35","v":0},{"$f":"'Capacity Plan'!J35","v":0},{"$f":"'Capacity Plan'!K35","v":0},{"$f":"IFERROR(IF(D35=0,\"\",'Process 1 - Actual Run Data'!S$10*M$21),\"\")","v":""},{"$f":"IF(D35=0,\"\",'Capacity Plan'!M35)","v":""},{"$f":"IFERROR('Capacity Plan'!N35,\"\")","v":""},{"$f":"'Process 1 - Actual Run Data'!D$19","v":0},{"$f":"'Process 1 - Actual Run Data'!D$20","v":0},{"$f":"'Process 1 - Actual Run Data'!D$21","v":0},{"$f":"IF(J35=0,\"\",'Process 1 - Actual Run Data'!D$22)","v":""},{"$f":"IF(J35=0,\"\",'Process 1 - Actual Run Data'!D$23)","v":""},{"$f":"'Process 15 - Actual Run Data'!U$41","v":""},{"$f":"IF(D35=0,\"\",'Process 1 - Actual Run Data'!X$42)","v":""},null,null,null,null,"",{"$f":"IF(D35=0,\"\",'Capacity Plan'!Z35)","v":""},"","",{"$f":"'Capacity Plan'!#REF!","v":{"$error":"#REF!"}},{"$f":"'Capacity Plan'!AG35","v":""},"","","","","","","","","",{"$f":"IF(D35=0,\"\",'Capacity Plan'!AO35)","v":""},"","","",""]
[30,{"$f":"IFERROR('Capacity Plan'!B36,\"\")","v":0},"16",{"$f":"IFERROR('Capacity Plan'!D36,\"\")","v":0},null,null,null,{"$f":"IFERROR('Capacity Plan'!H36,\"\")","v":0},{"$f":"'Capacity Plan'!I36","v":0},{"$f":"'Capacity Plan'!J36","v":0},{"$f":"'Capacity Plan'!K36","v":0},{"$f":"IFERROR(IF(D36=0,\"\",'Process 1 - Actual Run Data'!S$10*M$21),\"\")","v":""},{"$f":"IF(D36=0,\"\",'Capacity Plan'!M36)","v":""},{"$f":"IFERROR('Capacity Plan'!N36,\"\")","v":""},{"$f":"'Process 1 - Actual Run Data'!D$19","v":0},{"$f":"'Process 1 - Actual Run Data'!D$20","v":0},{"$f":"'Process 1 - Actual Run Data'!D$21","v":0},{"$f":"IF(J36=0,\"\",'Process 1 - Actual Run Data'!D$22)","v":""},{"$f":"IF(J36=0,\"\",'Process 1 - Actual Run Data'!D$23)","v":""},{"$f":"'Process 16 - Actual Run Data'!U$41","v":""},{"$f":"IF(D36=0,\"\",'Process 1 - Actual Run Data'!X$42)","v":""},null,null,{"$f":"IF(1-SUMIF($C$21:$C$50,#REF!,$V$21:$V$50)/#REF!^2=1,\"\",1-SUMIF($C$21:$C$50,#REF!,$V$21:$V$50)/#REF!^2=1)","v":{"$error":"#REF!"}},null,"",{"$f":"IF(D36=0,\"\",'Capacity Plan'!Z36)","v":""},"","",{"$f":"'Capacity Plan'!#REF!","v":{"$error":"#REF!"}},{"$f":"'Capacity Plan'!AG36","v":""},"","","","","","","","","",{"$f":"IF(D36=0,\"\",'Capacity Plan'!AO36)","v":""},"","","",""]
[30,{"$f":"IFERROR('Capacity Plan'!B37,\"\")","v":0},"17",{"$f":"IFERROR('Capacity Plan'!D37,\"\")","v":0},null,null,null,{"$f":"IFERROR('Capacity Plan'!H37,\"\")","v":0},{"$f":"'Capacity Plan'!I37","v":0},{"$f":"'Capacity Plan'!J37","v":0},{"$f":"'Capacity Plan'!K37","v":0},{"$f":"IFERROR(IF(D37=0,\"\",'Process 1 - Actual Run Data'!S$10*M$21),\"\")","v":""},{"$f":"IF(D37=0,\"\",'Capacity Plan'!M37)","v":""},{"$f":"IFERROR('Capacity Plan'!N37,\"\")","v":""},{"$f":"'Process 1 - Actual Run Data'!D$19","v":0},{"$f":"'Process 1 - Actual Run Data'!D$20","v":0},{"$f":"'Process 1 - Actual Run Data'!D$21","v":0},{"$f":"IF(J37=0,\"\",'Process 1 - Actual Run Data'!D$22)","v":""},{"$f":"IF(J37=0,\"\",'Process 1 - Actual Run Data'!D$23)","v":""},{"$f":"'Process 17 - Actual Run Data'!U$41","v":""},{"$f":"IF(D37=0,\"\",'Process 1 - Actual Run Data'!X$42)","v":""},null,null,{"$f":"IF(1-SUMIF($C$21:$C$50,#REF!,$V$21:$V$50)/#REF!^2=1,\"\",1-SUMIF($C$21:$C$50,#REF!,$V$21:$V$50)/#REF!^2=1)","v":{"$error":"#REF!"}},null,"",{"$f":"IF(D37=0,\"\",'Capacity Plan'!Z37)","v":""},"","",{"$f":"'Capacity Plan'!#REF!","v":{"$error":"#REF!"}},{"$f":"'Capacity Plan'!AG37","v":""},"","","","","","","","","",{"$f":"IF(D37=0,\"\",'Capacity Plan'!AO37)","v":""},"","","",""]
[1,{"$f":"IFERROR('Capacity Plan'!B38,\"\")","v":0},"18",{"$f":"IFERROR('Capacity Plan'!D38,\"\")","v":0},null,null,null,{"$f":"IFERROR('Capacity Plan'!H38,\"\")","v":0},{"$f":"'Capacity Plan'!I38","v":0},{"$f":"'Capacity Plan'!J38","v":0},{"$f":"'Capacity Plan'!K38","v":0},{"$f":"IFERROR(IF(D38=0,\"\",'Process 1 - Actual Run Data'!S$10*M$21),\"\")","v":""},{"$f":"IF(D38=0,\"\",'Capacity Plan'!M38)","v":""},{"$f":"IFERROR('Capacity Plan'!N38,\"\")","v":""},{"$f":"'Process 1 - Actual Run Data'!D$19","v":0},{"$f":"'Process 1 - Actual Run Data'!D$20","v":0},{"$f":"'Process 1 - Actual Run Data'!D$21","v":0},{"$f":"IF(J38=0,\"\",'Process 1 - Actual Run Data'!D$22)","v":""},{"$f":"IF(J38=0,\"\",'Process 1 - Actual Run Data'!D$23)","v":""},{"$f":"'Process 18 - Actual Run Data'!U$41","v":""},{"$f":"IF(D38=0,\"\",'Process 1 - Actual Run Data'!X$42)","v":""},null,null,{"$f":"IF(1-SUMIF($C$21:$C$50,#REF!,$V$21:$V$50)/#REF!^2=1,\"\",1-SUMIF($C$21:$C$50,#REF!,$V$21:$V$50)/#REF!^2=1)","v":{"$error":"#REF!"}},null,"",{"$f":"IF(D38=0,\"\",'Capacity Plan'!Z38)","v":""},"","",{"$f":"'Capacity Plan'!#REF!","v":{"$error":"#REF!"}},{"$f":"'Capacity Plan'!AG38","v":""},"","","","","","","","","",{"$f":"IF(D38=0,\"\",'Capacity Plan'!AO38)","v":""},"","","",""]
[1,{"$f":"IFERROR('Capacity Plan'!B39,\"\")","v":0},"19",{"$f":"IFERROR('Capacity Plan'!D39,\"\")","v":0},null,null,null,{"$f":"IFERROR('Capacity Plan'!H39,\"\")","v":0},{"$f":"'Capacity Plan'!I39","v":0},{"$f":"'Capacity Plan'!J39","v":0},{"$f":"'Capacity Plan'!K39","v":0},{"$f":"IFERROR(IF(D39=0,\"\",'Process 1 - Actual Run Data'!S$10*M$21),\"\")","v":""},{"$f":"IF(D39=0,\"\",'Capacity Plan'!M39)","v":""},{"$f":"IFERROR('Capacity Plan'!N39,\"\")","v":""},{"$f":"'Process 1 - Actual Run Data'!D$19","v":0},{"$f":"'Process 1 - Actual Run Data'!D$20","v":0},{"$f":"'Process 1 - Actual Run Data'!D$21","v":0},{"$f":"IF(J39=0,\"\",'Process 1 - Actual Run Data'!D$22)","v":""},{"$f":"IF(J39=0,\"\",'Process 1 - Actual Run Data'!D$23)","v":""},{"$f":"'Process 19 - Actual Run Data'!U$41","v":""},{"$f":"IF(D39=0,\"\",'Process 1 - Actual Run Data'!X$42)","v":""},null,null,{"$f":"IF(1-SUMIF($C$21:$C$50,#REF!,$V$21:$V$50)/#REF!^2=1,\"\",1-SUMIF($C$21:$C$50,#REF!,$V$21:$V$50)/#REF!^2=1)","v":{"$error":"#REF!"}},null,"",{"$f":"IF(D39=0,\"\",'Capacity Plan'!Z39)","v":""},"","",{"$f":"'Capacity Plan'!#REF!","v":{"$error":"#REF!"}},{"$f":"'Capacity Plan'!AG39","v":""},"","","","","","","","","",{"$f":"IF(D39=0,\"\",'Capacity Plan'!AO39)","v":""},"","","",""]
[1,{"$f":"IFERROR('Capacity Plan'!B40,\"\")","v":0},"20",{"$f":"IFERROR('Capacity Plan'!D40,\"\")","v":0},null,null,null,{"$f":"IFERROR('Capacity Plan'!H40,\"\")","v":0},{"$f":"'Capacity Plan'!I40","v":0},{"$f":"'Capacity Plan'!J40","v":0},{"$f":"'Capacity Plan'!K40","v":0},{"$f":"IFERROR(IF(D40=0,\"\",'Process 1 - Actual Run Data'!S$10*M$21),\"\")","v":""},{"$f":"IF(D40=0,\"\",'Capacity Plan'!M40)","v":""},{"$f":"IFERROR('Capacity Plan'!N40,\"\")","v":""},{"$f":"'Process 1 - Actual Run Data'!D$19","v":0},{"$f":"'Process 1 - Actual Run Data'!D$20","v":0},{"$f":"'Process 1 - Actual Run Data'!D$21","v":0},{"$f":"IF(J40=0,\"\",'Process 1 - Actual Run Data'!D$22)","v":""},{"$f":"IF(J40=0,\"\",'Process 1 - Actual Run Data'!D$23)","v":""},{"$f":"'Process 20 - Actual Run Data'!U$41","v":""},{"$f":"IF(D40=0,\"\",'Process 1 - Actual Run Data'!X$42)","v":""},null,null,{"$f":"IF(1-SUMIF($C$21:$C$50,#REF!,$V$21:$V$50)/#REF!^2=1,\"\",1-SUMIF($C$21:$C$50,#REF!,$V$21:$V$50)/#REF!^2=1)","v":{"$error":"#REF!"}},null,"",{"$f":"IF(D40=0,\"\",'Capacity Plan'!Z40)","v":""},"","",{"$f":"'Capacity Plan'!#REF!","v":{"$error":"#REF!"}},{"$f":"'Capacity Plan'!AG40","v":""},"","","","","","","","","",{"$f":"IF(D40=0,\"\",'Capacity Plan'!AO40)","v":""},"","","",""]
[30,{"$f":"IFERROR('Capacity Plan'!B41,\"\")","v":0},"21",{"$f":"IFERROR('Capacity Plan'!D41,\"\")","v":0},null,null,null,{"$f":"IFERROR('Capacity Plan'!H41,\"\")","v":0},{"$f":"'Capacity Plan'!I41","v":0},{"$f":"'Capacity Plan'!J41","v":0},{"$f":"'Capacity Plan'!K41","v":0},{"$f":"IFERROR(IF(D41=0,\"\",'Process 1 - Actual Run Data'!S$10*M$21),\"\")","v":""},{"$f":"IF(D41=0,\"\",'Capacity Plan'!M41)","v":""},{"$f":"IFERROR('Capacity Plan'!N41,\"\")","v":""},{"$f":"'Process 1 - Actual Run Data'!D$19","v":0},{"$f":"'Process 1 - Actual Run Data'!D$20","v":0},{"$f":"'Process 1 - Actual Run Data'!D$21","v":0},{"$f":"IF(J41=0,\"\",'Process 1 - Actual Run Data'!D$22)","v":""},{"$f":"IF(J41=0,\"\",'Process 1 - Actual Run Data'!D$23)","v":""},{"$f":"'Process 21 - Actual Run Data'!U$41","v":""},{"$f":"IF(D41=0,\"\",'Process 1 - Actual Run Data'!X$42)","v":""},null,null,{"$f":"IF(1-SUMIF($C$21:$C$50,#REF!,$V$21:$V$50)/#REF!^2=1,\"\",1-SUMIF($C$21:$C$50,#REF!,$V$21:$V$50)/#REF!^2=1)","v":{"$error":"#REF!"}},null,"",{"$f":"IF(D41=0,\"\",'Capacity Plan'!Z41)","v":""},"","",{"$f":"'Capacity Plan'!#REF!","v":{"$error":"#REF!"}},{"$f":"'Capacity Plan'!AG41","v":""},"","","","","","","","","",{"$f":"IF(D41=0,\"\",'Capacity Plan'!AO41)","v":""},"","","",""]
[30,{"$f":"IFERROR('Capacity Plan'!B42,\"\")","v":0},"22",{"$f":"IFERROR('Capacity Plan'!D42,\"\")","v":0},null,null,null,{"$f":"IFERROR('Capacity Plan'!H42,\"\")","v":0},{"$f":"'Capacity Plan'!I42","v":0},{"$f":"'Capacity Plan'!J42","v":0},{"$f":"'Capacity Plan'!K42","v":0},{"$f":"IFERROR(IF(D42=0,\"\",'Process 1 - Actual Run Data'!S$10*M$21),\"\")","v":""},{"$f":"IF(D42=0,\"\",'Capacity Plan'!M42)","v":""},{"$f":"IFERROR('Capacity Plan'!N42,\"\")","v":""},{"$f":"'Process 1 - Actual Run Data'!D$19","v":0},{"$f":"'Process 1 - Actual Run Data'!D$20","v":0},{"$f":"'Process 1 - Actual Run Data'!D$21","v":0},{"$f":"IF(J42=0,\"\",'Process 1 - Actual Run Data'!D$22)","v":""},{"$f":"IF(J42=0,\"\",'Process 1 - Actual Run Data'!D$23)","v":""},{"$f":"'Process 22 - Actual Run Data'!U$41","v":""},{"$f":"IF(D42=0,\"\",'Process 1 - Actual Run Data'!X$42)","v":""},null,null,{"$f":"IF(1-SUMIF($C$21:$C$50,#REF!,$V$21:$V$50)/#REF!^2=1,\"\",1-SUMIF($C$21:$C$50,#REF!,$V$21:$V$50)/#REF!^2=1)","v":{"$error":"#REF!"}},null,"",{"$f":"IF(D42=0,\"\",'Capacity Plan'!Z42)","v":""},"","",{"$f":"'Capacity Plan'!#REF!","v":{"$error":"#REF!"}},{"$f":"'Capacity Plan'!AG42","v":""},"","","","","","","","","",{"$f":"IF(D42=0,\"\",'Capacity Plan'!AO42)","v":""},"","","",""]
[30,{"$f":"IFERROR('Capacity Plan'!B43,\"\")","v":0},"23",{"$f":"IFERROR('Capacity Plan'!D43,\"\")","v":0},null,null,null,{"$f":"IFERROR('Capacity Plan'!H43,\"\")","v":0},{"$f":"'Capacity Plan'!I43","v":0},{"$f":"'Capacity Plan'!J43","v":0},{"$f":"'Capacity Plan'!K43","v":0},{"$f":"IFERROR(IF(D43=0,\"\",'Process 1 - Actual Run Data'!S$10*M$21),\"\")","v":""},{"$f":"IF(D43=0,\"\",'Capacity Plan'!M43)","v":""},{"$f":"IFERROR('Capacity Plan'!N43,\"\")","v":""},{"$f":"'Process 1 - Actual Run Data'!D$19","v":0},{"$f":"'Process 1 - Actual Run Data'!D$20","v":0},{"$f":"'Process 1 - Actual Run Data'!D$21","v":0},{"$f":"IF(J43=0,\"\",'Process 1 - Actual Run Data'!D$22)","v":""},{"$f":"IF(J43=0,\"\",'Process 1 - Actual Run Data'!D$23)","v":""},{"$f":"'Process 23 - Actual Run Data'!U$41","v":""},{"$f":"IF(D43=0,\"\",'Process 1 - Actual Run Data'!X$42)","v":""},null,null,{"$f":"IF(1-SUMIF($C$21:$C$50,#REF!,$V$21:$V$50)/#REF!^2=1,\"\",1-SUMIF($C$21:$C$50,#REF!,$V$21:$V$50)/#REF!^2=1)","v":{"$error":"#REF!"}},null,"",{"$f":"IF(D43=0,\"\",'Capacity Plan'!Z43)","v":""},"","",{"$f":"'Capacity Plan'!#REF!","v":{"$error":"#REF!"}},{"$f":"'Capacity Plan'!AG43","v":""},"","","","","","","","","",{"$f":"IF(D43=0,\"\",'Capacity Plan'!AO43)","v":""},"","","",""]
[30,{"$f":"IFERROR('Capacity Plan'!B44,\"\")","v":0},"24",{"$f":"IFERROR('Capacity Plan'!D44,\"\")","v":0},null,null,null,{"$f":"IFERROR('Capacity Plan'!H44,\"\")","v":0},{"$f":"'Capacity Plan'!I44","v":0},{"$f":"'Capacity Plan'!J44","v":0},{"$f":"'Capacity Plan'!K44","v":0},{"$f":"IFERROR(IF(D44=0,\"\",'Process 1 - Actual Run Data'!S$10*M$21),\"\")","v":""},{"$f":"IF(D44=0,\"\",'Capacity Plan'!M44)","v":""},{"$f":"IFERROR('Capacity Plan'!N44,\"\")","v":""},{"$f":"'Process 1 - Actual Run Data'!D$19","v":0},{"$f":"'Process 1 - Actual Run Data'!D$20","v":0},{"$f":"'Process 1 - Actual Run Data'!D$21","v":0},{"$f":"IF(J44=0,\"\",'Process 1 - Actual Run Data'!D$22)","v":""},{"$f":"IF(J44=0,\"\",'Process 1 - Actual Run Data'!D$23)","v":""},{"$f":"'Process 24 - Actual Run Data'!U$41","v":""},{"$f":"IF(D44=0,\"\",'Process 1 - Actual Run Data'!X$42)","v":""},null,null,{"$f":"IF(1-SUMIF($C$21:$C$50,#REF!,$V$21:$V$50)/#REF!^2=1,\"\",1-SUMIF($C$21:$C$50,#REF!,$V$21:$V$50)/#REF!^2=1)","v":{"$error":"#REF!"}},null,"",{"$f":"IF(D44=0,\"\",'Capacity Plan'!Z44)","v":""},"","",{"$f":"'Capacity Plan'!#REF!","v":{"$error":"#REF!"}},{"$f":"'Capacity Plan'!AG44","v":""},"","","","","","","","","",{"$f":"IF(D44=0,\"\",'Capacity Plan'!AO44)","v":""},"","","",""]
[30,{"$f":"IFERROR('Capacity Plan'!B45,\"\")","v":0},"25",{"$f":"IFERROR('Capacity Plan'!D45,\"\")","v":0},null,null,null,{"$f":"IFERROR('Capacity Plan'!H45,\"\")","v":0},{"$f":"'Capacity Plan'!I45","v":0},{"$f":"'Capacity Plan'!J45","v":0},{"$f":"'Capacity Plan'!K45","v":0},{"$f":"IFERROR(IF(D45=0,\"\",'Process 1 - Actual Run Data'!S$10*M$21),\"\")","v":""},{"$f":"IF(D45=0,\"\",'Capacity Plan'!M45)","v":""},{"$f":"IFERROR('Capacity Plan'!N45,\"\")","v":""},{"$f":"'Process 1 - Actual Run Data'!D$19","v":0},{"$f":"'Process 1 - Actual Run Data'!D$20","v":0},{"$f":"'Process 1 - Actual Run Data'!D$21","v":0},{"$f":"IF(J45=0,\"\",'Process 1 - Actual Run Data'!D$22)","v":""},{"$f":"IF(J45=0,\"\",'Process 1 - Actual Run Data'!D$23)","v":""},{"$f":"'Process 25 - Actual Run Data'!U$41","v":""},{"$f":"IF(D45=0,\"\",'Process 1 - Actual Run Data'!X$42)","v":""},null,null,{"$f":"IF(1-SUMIF($C$21:$C$50,#REF!,$V$21:$V$50)/#REF!^2=1,\"\",1-SUMIF($C$21:$C$50,#REF!,$V$21:$V$50)/#REF!^2=1)","v":{"$error":"#REF!"}},null,"",{"$f":"IF(D45=0,\"\",'Capacity Plan'!Z45)","v":""},"","",{"$f":"'Capacity Plan'!#REF!","v":{"$error":"#REF!"}},{"$f":"'Capacity Plan'!AG45","v":""},"","","","","","","","","",{"$f":"IF(D45=0,\"\",'Capacity Plan'!AO45)","v":""},"","","",""]
[30,{"$f":"IFERROR('Capacity Plan'!B46,\"\")","v":0},"26",{"$f":"IFERROR('Capacity Plan'!D46,\"\")","v":0},null,null,null,{"$f":"IFERROR('Capacity Plan'!H46,\"\")","v":0},{"$f":"'Capacity Plan'!I46","v":0},{"$f":"'Capacity Plan'!J46","v":0},{"$f":"'Capacity Plan'!K46","v":0},{"$f":"IFERROR(IF(D46=0,\"\",'Process 1 - Actual Run Data'!S$10*M$21),\"\")","v":""},{"$f":"IF(D46=0,\"\",'Capacity Plan'!M46)","v":""},{"$f":"IFERROR('Capacity Plan'!N46,\"\")","v":""},{"$f":"'Process 1 - Actual Run Data'!D$19","v":0},{"$f":"'Process 1 - Actual Run Data'!D$20","v":0},{"$f":"'Process 1 - Actual Run Data'!D$21","v":0},{"$f":"IF(J46=0,\"\",'Process 1 - Actual Run Data'!D$22)","v":""},{"$f":"IF(J46=0,\"\",'Process 1 - Actual Run Data'!D$23)","v":""},{"$f":"'Process 26 - Actual Run Data'!U$41","v":""},{"$f":"IF(D46=0,\"\",'Process 1 - Actual Run Data'!X$42)","v":""},null,null,{"$f":"IF(1-SUMIF($C$21:$C$50,#REF!,$V$21:$V$50)/#REF!^2=1,\"\",1-SUMIF($C$21:$C$50,#REF!,$V$21:$V$50)/#REF!^2=1)","v":{"$error":"#REF!"}},null,"",{"$f":"IF(D46=0,\"\",'Capacity Plan'!Z46)","v":""},"","",{"$f":"'Capacity Plan'!#REF!","v":{"$error":"#REF!"}},{"$f":"'Capacity Plan'!AG46","v":""},"","","","","","","","","",{"$f":"IF(D46=0,\"\",'Capacity Plan'!AO46)","v":""},"","","",""]
[30,{"$f":"IFERROR('Capacity Plan'!B47,\"\")","v":0},"27",{"$f":"IFERROR('Capacity Plan'!D47,\"\")","v":0},null,null,null,{"$f":"IFERROR('Capacity Plan'!H47,\"\")","v":0},{"$f":"'Capacity Plan'!I47","v":0},{"$f":"'Capacity Plan'!J47","v":0},{"$f":"'Capacity Plan'!K47","v":0},{"$f":"IFERROR(IF(D47=0,\"\",'Process 1 - Actual Run Data'!S$10*M$21),\"\")","v":""},{"$f":"IF(D47=0,\"\",'Capacity Plan'!M47)","v":""},{"$f":"IFERROR('Capacity Plan'!N47,\"\")","v":""},{"$f":"'Process 1 - Actual Run Data'!D$19","v":0},{"$f":"'Process 1 - Actual Run Data'!D$20","v":0},{"$f":"'Process 1 - Actual Run Data'!D$21","v":0},{"$f":"IF(J47=0,\"\",'Process 1 - Actual Run Data'!D$22)","v":""},{"$f":"IF(J47=0,\"\",'Process 1 - Actual Run Data'!D$23)","v":""},{"$f":"'Process 27 - Actual Run Data'!U$41","v":""},{"$f":"IF(D47=0,\"\",'Process 1 - Actual Run Data'!X$42)","v":""},null,null,{"$f":"IF(1-SUMIF($C$21:$C$50,#REF!,$V$21:$V$50)/#REF!^2=1,\"\",1-SUMIF($C$21:$C$50,#REF!,$V$21:$V$50)/#REF!^2=1)","v":{"$error":"#REF!"}},null,"",{"$f":"IF(D47=0,\"\",'Capacity Plan'!Z47)","v":""},"","",{"$f":"'Capacity Plan'!#REF!","v":{"$error":"#REF!"}},{"$f":"'Capacity Plan'!AG47","v":""},"","","","","","","","","",{"$f":"IF(D47=0,\"\",'Capacity Plan'!AO47)","v":""},"","","",""]
[30,{"$f":"IFERROR('Capacity Plan'!B48,\"\")","v":0},"28",{"$f":"IFERROR('Capacity Plan'!D48,\"\")","v":0},null,null,null,{"$f":"IFERROR('Capacity Plan'!H48,\"\")","v":0},{"$f":"'Capacity Plan'!I48","v":0},{"$f":"'Capacity Plan'!J48","v":0},{"$f":"'Capacity Plan'!K48","v":0},{"$f":"IFERROR(IF(D48=0,\"\",'Process 1 - Actual Run Data'!S$10*M$21),\"\")","v":""},{"$f":"IF(D48=0,\"\",'Capacity Plan'!M48)","v":""},{"$f":"IFERROR('Capacity Plan'!N48,\"\")","v":""},{"$f":"'Process 1 - Actual Run Data'!D$19","v":0},{"$f":"'Process 1 - Actual Run Data'!D$20","v":0},{"$f":"'Process 1 - Actual Run Data'!D$21","v":0},{"$f":"IF(J48=0,\"\",'Process 1 - Actual Run Data'!D$22)","v":""},{"$f":"IF(J48=0,\"\",'Process 1 - Actual Run Data'!D$23)","v":""},{"$f":"'Process 28 - Actual Run Data'!U$41","v":""},{"$f":"IF(D48=0,\"\",'Process 1 - Actual Run Data'!X$42)","v":""},null,null,{"$f":"IF(1-SUMIF($C$21:$C$50,#REF!,$V$21:$V$50)/#REF!^2=1,\"\",1-SUMIF($C$21:$C$50,#REF!,$V$21:$V$50)/#REF!^2=1)","v":{"$error":"#REF!"}},null,"",{"$f":"IF(D48=0,\"\",'Capacity Plan'!Z48)","v":""},"","",{"$f":"'Capacity Plan'!#REF!","v":{"$error":"#REF!"}},{"$f":"'Capacity Plan'!AG48","v":""},"","","","","","","","","",{"$f":"IF(D48=0,\"\",'Capacity Plan'!AO48)","v":""},"","","",""]
[30,{"$f":"IFERROR('Capacity Plan'!B49,\"\")","v":0},"29",{"$f":"IFERROR('Capacity Plan'!D49,\"\")","v":0},null,null,null,{"$f":"IFERROR('Capacity Plan'!H49,\"\")","v":0},{"$f":"'Capacity Plan'!I49","v":0},{"$f":"'Capacity Plan'!J49","v":0},{"$f":"'Capacity Plan'!K49","v":0},{"$f":"IFERROR(IF(D49=0,\"\",'Process 1 - Actual Run Data'!S$10*M$21),\"\")","v":""},{"$f":"IF(D49=0,\"\",'Capacity Plan'!M49)","v":""},{"$f":"IFERROR('Capacity Plan'!N49,\"\")","v":""},{"$f":"'Process 1 - Actual Run Data'!D$19","v":0},{"$f":"'Process 1 - Actual Run Data'!D$20","v":0},{"$f":"'Process 1 - Actual Run Data'!D$21","v":0},{"$f":"IF(J49=0,\"\",'Process 1 - Actual Run Data'!D$22)","v":""},{"$f":"IF(J49=0,\"\",'Process 1 - Actual Run Data'!D$23)","v":""},{"$f":"'Process 29 - Actual Run Data'!U$41","v":""},{"$f":"IF(D49=0,\"\",'Process 1 - Actual Run Data'!X$42)","v":""},null,null,{"$f":"IF(1-SUMIF($C$21:$C$50,#REF!,$V$21:$V$50)/#REF!^2=1,\"\",1-SUMIF($C$21:$C$50,#REF!,$V$21:$V$50)/#REF!^2=1)","v":{"$error":"#REF!"}},null,"",{"$f":"IF(D49=0,\"\",'Capacity Plan'!Z49)","v":""},"","",{"$f":"'Capacity Plan'!#REF!","v":{"$error":"#REF!"}},{"$f":"'Capacity Plan'!AG49","v":""},"","","","","","","","","",{"$f":"IF(D49=0,\"\",'Capacity Plan'!AO49)","v":""},"","","",""]
[30,{"$f":"IFERROR('Capacity Plan'!B50,\"\")","v":0},"30",{"$f":"IFERROR('Capacity Plan'!D50,\"\")","v":0},null,null,null,{"$f":"IFERROR('Capacity Plan'!H50,\"\")","v":0},{"$f":"'Capacity Plan'!I50","v":0},{"$f":"'Capacity Plan'!J50","v":0},{"$f":"'Capacity Plan'!K50","v":0},{"$f":"IFERROR(IF(D50=0,\"\",'Process 1 - Actual Run Data'!S$10*M$21),\"\")","v":""},{"$f":"IF(D50=0,\"\",'Capacity Plan'!M50)","v":""},{"$f":"IFERROR('Capacity Plan'!N50,\"\")","v":""},{"$f":"'Process 1 - Actual Run Data'!D$19","v":0},{"$f":"'Process 1 - Actual Run Data'!D$20","v":0},{"$f":"'Process 1 - Actual Run Data'!D$21","v":0},{"$f":"IF(J50=0,\"\",'Process 1 - Actual Run Data'!D$22)","v":""},{"$f":"IF(J50=0,\"\",'Process 1 - Actual Run Data'!D$23)","v":""},{"$f":"'Process 30 - Actual Run Data'!U$41","v":""},{"$f":"IF(D50=0,\"\",'Process 1 - Actual Run Data'!X$42)","v":""},null,null,{"$f":"IF(1-SUMIF($C$21:$C$50,#REF!,$V$21:$V$50)/#REF!^2=1,\"\",1-SUMIF($C$21:$C$50,#REF!,$V$21:$V$50)/#REF!^2=1)","v":{"$error":"#REF!"}},null,"",{"$f":"IF(D50=0,\"\",'Capacity Plan'!Z50)","v":""},"","",{"$f":"'Capacity Plan'!#REF!","v":{"$error":"#REF!"}},{"$f":"'Capacity Plan'!AG50","v":""},"","","","","","","","","",{"$f":"IF(D50=0,\"\",'Capacity Plan'!AO50)","v":""},"","","",""]
[null,null,null,null,null,null,null,null,null,null,null,null,null,null,null,{"$f":"IFERROR(IF(A51=0,\"\",G51*M51*(1-O51)),\"\")","v":""}]
[null,null,null,null,null,null,null,null,null,null,null,null,"Comments:"]
[]
[]
[null,null,null,null,null,"Key Items to consider:"]
[]
[null,null,null,null,null,"Planned Cumulative % Scrap:  "]
[null,null,null,null,null,"Actual Cumulative % Scrap:  "]

{"sheet":"Run @ Rate Summary Data","index":36,"n_rows":53,"n_cols":47,"rows_kept":53,"cut":false,"hidden":false,"merged":[[46,5,46,8],[47,5,47,8],[48,5,48,8],[49,5,49,8],[57,4,57,6],[58,4,58,6],[59,4,59,6],[52,23,63,46],[50,32,50,34],[52,3,52,6],[53,4,53,6],[54,4,54,6],[55,4,55,6],[56,4,56,6],[45,5,45,8],[34,5,34,8],[35,5,35,8],[36,5,36,8],[37,5,37,8],[38,5,38,8],[39,5,39,8],[40,5,40,8],[41,5,41,8],[42,5,42,8],[43,5,43,8],[44,5,44,8],[33,5,33,8],[22,5,22,8],[23,5,23,8],[24,5,24,8],[25,5,25,8],[26,5,26,8],[27,5,27,8],[28,5,28,8],[29,5,29,8],[30,5,30,8],[31,5,31,8],[32,5,32,8],[11,20,11,21],[11,22,11,27],[21,5,21,8],[10,3,10,6],[10,7,10,9],[11,3,11,6],[11,7,11,11],[17,4,17,8],[20,5,20,8],[14,3,16,8],[13,3,13,9],[11,16,11,19],[13,10,13,13],[9,3,9,6],[9,7,9,9],[9,13,9,19],[4,3,4,6],[4,7,4,11],[4,13,4,17],[5,13,5,17],[6,3,6,6],[6,7,6,11],[7,3,7,6],[7,7,7,11],[8,13,8,19],[4,18,4,26],[5,18,5,26],[3,3,3,6],[3,7,3,11],[3,13,3,17],[0,3,0,46],[2,3,2,6],[2,7,2,11],[2,13,2,17],[2,18,2,26],[3,18,3,26]]}
[null,null,null,"Run @ Rate Summary Data"]
[]
[null,null,null,"Supplier Name:  ",null,null,null,{"$f":"IF('Capacity Plan'!$F$3=\"\",\"\",'Capacity Plan'!$F$3)","v":""},null,null,null,null,null,"Nexteer Part Number:  ",null,null,null,null,{"$f":"IF('Capacity Plan'!$Q$3=\"\",\"\",'Capacity Plan'!$Q$3)","v":""}]
[null,null,null,"Supplier Duns Code:  ",null,null,null,{"$f":"IFERROR('Capacity Plan'!F4,\"\")","v":0},null,null,null,null,null,"Nexteer Part Name:  ",null,null,null,null,{"$f":"IFERROR('Capacity Plan'!Q4,\"\")","v":0}]
[null,null,null,"Plant (Mfg) Location:  ",null,null,null,{"$f":"IFERROR('Capacity Plan'!F5,\"\")","v":0},null,null,null,null,null,"Nexteer Revision Level:  ",null,null,null,null,{"$f":"IFERROR('Capacity Plan'!Q5,\"\")","v":0}]
[null,null,null,null,null,null,null,null,null,null,null,null,null,"Nexteer Program Name(s):  ",null,null,null,null,{"$f":"IFERROR('Capacity Plan'!Q6,\"\")","v":0}]
[null,null,null,"Supplier Contact:  ",null,null,null,{"$f":"IFERROR('Capacity Plan'!F7,\"\")","v":0}]
[null,null,null,"Phone:  ",null,null,null,{"$f":"IFERROR('Capacity Plan'!F8,\"\")","v":0}]
[null,null,null,null,null,null,null,null,null,null,null,null,null,"Production days at Nexteer (days/yr):  ",null,null,null,null,null,null,{"$f":"IFERROR('Capacity Plan'!S9,\"\")","v":240}]
[null,null,null,"Nexteer Monitored:",null,null,null,{"$f":"IFERROR('Capacity Plan'!F10,\"\")","v":0},null,null,null,null,null,"Production days at Supplier (days/yr):  ",null,null,null,null,null,null,{"$f":"IFERROR('Capacity Plan'!S10,\"\")","v":0}]
[null,null,null,"Supplier Monitored:",null,null,null,{"$f":"IFERROR('Capacity Plan'!F11,\"\")","v":0}]
[null,null,null,"Duration:",null,null,null,{"$f":"IFERROR('Capacity Plan'!F12,\"\")","v":0},null,null,null,null,null,null,null,null,"Maximum Scheduled Volumes (MSV):",null,null,null,{"$f":"IFERROR('Capacity Plan'!S12,\"\")","v":0}]
[]
[null,null,null,"Planned Run@Rate Completion Date:  ",null,null,null,null,null,null,{"$f":"IFERROR('Capacity Plan'!I14,\"\")","v":"00:00:00"}]
[null,null,null,"Capacity Plan"]
[]
[null,null,null,null,null,null,null,null,null,null,null,null,null,null,null,null,null,null,null,null,null,null,null,null,null,null,null,null,{"$f":"IF(SUM(AC21:AC50)>=1,\"Yes\",\"\")","v":""}]
["Number of Identical Machines","Column for Finding Operation responsible for lowest OEE","Column for Figuring out op responsible for highest OEE","Op Number","Proccess Name: List each separate production line or machine",null,null,null,null,"Operators","shifts / day","hours / shift","days / wk","Actual  Cycle Time (sec)","parts / cycle","Daily Process Capacity","Actual breaks & lunch during run (min)","Actual Tool change time during run (min)","Actual Changeover time during run (min)","Other actual downtime during run (min)","Unscheduled downtime during run (min)","Actual % up time"," % scrap at this operation","% scrap parts per operation ","Calculation Column","Sum of all down stream operations scrap rate %'s","Actual Daily Capacity","Machine loading allocated for other parts","Column for Opening Extended R@R","Hours per week allocated for this part","Actual Daily Capacity allocated to this part","Daily MSV ","Overall required OEE","Daily Quoted Tool Capacity","Actual Weekly Capacity Allocated to this Part","Annual Capacity","Weekly MSV","Annual MSV","Constraint on MSV?","OEE For 15% Above MSV","15% above Daily MSV","15% above Weekly MSV","15% above Yearly MSV","Constraint on 15% above MSV?","Net Good Parts / hour","Production time used for MSV (hrs/wk)","Production time used for 15% above MSV (hrs/wk)"]
[]
[]
[{"$f":"IF(D21=\"\",0,COUNTIF($D$21:$D$50,D21))","v":0},{"$f":"IF(MIN($AG$21:$AG$50)=AG21,2,0)","v":0},{"$f":"IF(MAX($AG$21:$AG$50)=AG21,1,0)","v":0},{"$f":"IF('Capacity Plan'!B21=0,\"\",'Capacity Plan'!B21)","v":""},"1",{"$f":"IFERROR('Capacity Plan'!D21,\"\")","v":0},null,null,null,{"$f":"IFERROR('Capacity Plan'!H21,\"\")","v":0},{"$f":"'Capacity Plan'!I21","v":0},{"$f":"'Capacity Plan'!J21","v":0},{"$f":"'Capacity Plan'!K21","v":0},{"$f":"IFERROR(IF(F21=0,\"\",'Process 1 - Actual Run Data'!S$10*O21),\"\")","v":""},{"$f":"IF(F21=0,\"\",'Capacity Plan'!M21)","v":""},{"$f":"IFERROR(((K21*(L21-(('Capacity Plan'!O21+'Capacity Plan'!R21)/60))*3600)/N21)*O21,\"\")","v":""},{"$f":"IF($F21=0,\"\",'Process 1 - Actual Run Data'!D$19)","v":""},{"$f":"IF($F21=0,\"\",'Process 1 - Actual Run Data'!$D$20)","v":""},{"$f":"IF($F21=0,\"\",'Process 1 - Actual Run Data'!$D$21)","v":""},{"$f":"IF($F21=0,\"\",'Process 1 - Actual Run Data'!$D$22)","v":""},{"$f":"IF($F21=0,\"\",'Process 1 - Actual Run Data'!$D$23)","v":""},{"$f":"IFERROR(IF(D21=0,\"\",IF('Capacity Plan'!T21<'Process 1 - Actual Run Data'!U$41,'Capacity Plan'!T21,'Process 1 - Actual Run Data'!U$41)),\"\")","v":""},{"$f":"IF($F21=0,\"\",'Process 1 - Actual Run Data'!$X$42)","v":""},{"$f":"IFERROR(SUMIF(D$21:D$50,D21,W$21:W$50)/A21,\"\")","v":""},{"$f":"IF($D21<$D22,(SUMIF($D$21:$D$50,$D21,$X$21:$X$50)/$A21)+Y22,Y22)","v":0},{"$f":"IF('Process 1 - Actual Run Data'!$X$42=\"\",\"\",$Y21)","v":""},{"$f":"IF(V21=\"\",\"\",P21*(1-Y21)*V21)","v":""},{"$f":"IF(F21=0,\"\",'Capacity Plan'!Z21)","v":""},{"$f":"IF(A21=1,IF(AB21>=0.5,1,0),0)","v":0},{"$f":"'Capacity Plan'!AB21","v":""},{"$f":"IFERROR(IF(AA21*(1-AB21)=0,\"\",AA21*(1-AB21)),\"\")","v":""},{"$f":"'Capacity Plan'!AD21","v":""},{"$f":"IFERROR(ROUNDUP(AF21/AE21,4),\"\")","v":""},{"$f":"IF(M21=0,\"\",U$12/U$9)","v":""},{"$f":"'Capacity Plan'!AG21","v":""},{"$f":"IFERROR(IF(L21=\"\",\"\",$AF21*$U$9),\"\")","v":""},{"$f":"'Capacity Plan'!AI21","v":""},{"$f":"'Capacity Plan'!AJ21","v":""},{"$f":"IF(L21=0,\"\",IF(AG21<1,\"NO\",\"YES\"))","v":""},{"$f":"IFERROR(AO21/AE21,\"\")","v":""},{"$f":"IFERROR(IF(AF21*1.15=0,\"\",(AF21*1.15)),\"\")","v":""},{"$f":"IFERROR(IF(M21=\"\",\"\",AO21*5),\"\")","v":""},{"$f":"IF(AL21=\"\",\"\",AL21*1.15)","v":""},{"$f":"IF(D21=\"\",\"\",IF(AN21>1.2,\"YES\",IF(AN21>1,\"HR\",IF(AN21<1,\"No\",IF(AN21=1.001,\"\",\"NO\")))))","v":""},{"$f":"IFERROR(IF(L21=\"\",\"\",(3600/N21)*O21*(1-Z21)*V21),\"\")","v":""},{"$f":"IFERROR(AG21*AD21,\"\")","v":""},{"$f":"IFERROR(AD21*AG21*1.15,\"\")","v":""}]
[0,{"$f":"IF(MIN($AG$21:$AG$50)=AG22,2,0)","v":0},{"$f":"IF(MAX($AG$21:$AG$50)=AG22,1,0)","v":0},{"$f":"IF('Capacity Plan'!B22=0,\"\",'Capacity Plan'!B22)","v":""},"2",{"$f":"IFERROR('Capacity Plan'!D22,\"\")","v":0},null,null,null,{"$f":"IFERROR('Capacity Plan'!H22,\"\")","v":0},{"$f":"'Capacity Plan'!I22","v":0},{"$f":"'Capacity Plan'!J22","v":0},{"$f":"'Capacity Plan'!K22","v":0},{"$f":"IFERROR(IF(F22=0,\"\",'Process 2 - Actual Run Data'!S$10*O22),\"\")","v":""},{"$f":"IF(F22=0,\"\",'Capacity Plan'!M22)","v":""},{"$f":"IFERROR(((K22*(L22-(('Capacity Plan'!O22+'Capacity Plan'!R22)/60))*3600)/N22)*O22,\"\")","v":""},{"$f":"IF($F22=0,\"\",'Process 2 - Actual Run Data'!D$19)","v":""},{"$f":"IF($F22=0,\"\",'Process 2 - Actual Run Data'!$D$20)","v":""},{"$f":"IF($F22=0,\"\",'Process 2 - Actual Run Data'!$D$21)","v":""},{"$f":"IF($F22=0,\"\",'Process 2 - Actual Run Data'!$D$22)","v":""},{"$f":"IF($F22=0,\"\",'Process 2 - Actual Run Data'!$D$23)","v":""},{"$f":"IFERROR(IF(D22=0,\"\",IF('Capacity Plan'!T22<'Process 2 - Actual Run Data'!U$41,'Capacity Plan'!T22,'Process 2 - Actual Run Data'!U$41)),\"\")","v":""},{"$f":"IF($F22=0,\"\",'Process 2 - Actual Run Data'!$X$42)","v":""},"",{"$f":"IF(D22<D23,(SUMIF(D$21:D$50,D22,X$21:X$50)/A22)+Y23,Y23)","v":0},{"$f":"IF('Process 2 - Actual Run Data'!$X$42=\"\",\"\",$Y22)","v":""},"",{"$f":"IF(F22=0,\"\",'Capacity Plan'!Z22)","v":""},0,{"$f":"'Capacity Plan'!AB22","v":""},{"$f":"IFERROR(IF(AA22*(1-AB22)=0,\"\",AA22*(1-AB22)),\"\")","v":""},{"$f":"'Capacity Plan'!AD22","v":""},{"$f":"IFERROR(ROUNDUP(AF22/AE22,4),\"\")","v":""},"",{"$f":"'Capacity Plan'!AG22","v":""},{"$f":"IFERROR(IF(L22=\"\",\"\",$AF22*$U$9),\"\")","v":""},{"$f":"'Capacity Plan'!AI22","v":""},{"$f":"'Capacity Plan'!AJ22","v":""},"",{"$f":"IFERROR(AO22/AE22,\"\")","v":""},"","",{"$f":"IF(AL22=\"\",\"\",AL22*1.15)","v":""},"",{"$f":"IFERROR(IF(L22=\"\",\"\",(3600/N22)*O22*(1-Z22)*V22),\"\")","v":""},{"$f":"IFERROR(AG22*AD22,\"\")","v":""},""]
[0,0,{"$f":"IF(MAX($AG$21:$AG$50)=AG23,1,0)","v":0},{"$f":"IF('Capacity Plan'!B23=0,\"\",'Capacity Plan'!B23)","v":""},"3",{"$f":"IFERROR('Capacity Plan'!D23,\"\")","v":0},null,null,null,{"$f":"IFERROR('Capacity Plan'!H23,\"\")","v":0},{"$f":"'Capacity Plan'!I23","v":0},{"$f":"'Capacity Plan'!J23","v":0},{"$f":"'Capacity Plan'!K23","v":0},{"$f":"IFERROR(IF(F23=0,\"\",'Process 3 - Actual Run Data'!S$10*O23),\"\")","v":""},{"$f":"IF(F23=0,\"\",'Capacity Plan'!M23)","v":""},{"$f":"IFERROR(((K23*(L23-(('Capacity Plan'!O23+'Capacity Plan'!R23)/60))*3600)/N23)*O23,\"\")","v":""},{"$f":"IF($F23=0,\"\",'Process 3 - Actual Run Data'!D$19)","v":""},{"$f":"IF($F23=0,\"\",'Process 3 - Actual Run Data'!$D$20)","v":""},{"$f":"IF($F23=0,\"\",'Process 3 - Actual Run Data'!$D$21)","v":""},{"$f":"IF($F23=0,\"\",'Process 3 - Actual Run Data'!$D$22)","v":""},{"$f":"IF($F23=0,\"\",'Process 3 - Actual Run Data'!$D$23)","v":""},{"$f":"IFERROR(IF(D23=0,\"\",IF('Capacity Plan'!T23<'Process 3 - Actual Run Data'!U$41,'Capacity Plan'!T23,'Process 3 - Actual Run Data'!U$41)),\"\")","v":""},{"$f":"IF($F23=0,\"\",'Process 3 - Actual Run Data'!$X$42)","v":""},"",{"$f":"IF(D23<D24,(SUMIF(D$21:D$50,D23,X$21:X$50)/A23)+Y24,Y24)","v":0},{"$f":"IF('Process 3 - Actual Run Data'!$X$42=\"\",\"\",$Y23)","v":""},"",{"$f":"IF(F23=0,\"\",'Capacity Plan'!Z23)","v":""},0,{"$f":"'Capacity Plan'!AB23","v":""},"",{"$f":"'Capacity Plan'!AD23","v":""},"","",{"$f":"'Capacity Plan'!AG23","v":""},"",{"$f":"'Capacity Plan'!AI23","v":""},{"$f":"'Capacity Plan'!AJ23","v":""},"","","","","","","","",""]
[0,0,0,{"$f":"IF('Capacity Plan'!B24=0,\"\",'Capacity Plan'!B24)","v":""},"4",{"$f":"IFERROR('Capacity Plan'!D24,\"\")","v":0},null,null,null,{"$f":"IFERROR('Capacity Plan'!H24,\"\")","v":0},{"$f":"'Capacity Plan'!I24","v":0},{"$f":"'Capacity Plan'!J24","v":0},{"$f":"'Capacity Plan'!K24","v":0},{"$f":"IFERROR(IF(F24=0,\"\",'Process 4 - Actual Run Data'!S$10*O24),\"\")","v":""},{"$f":"IF(F24=0,\"\",'Capacity Plan'!M24)","v":""},{"$f":"IFERROR(((K24*(L24-(('Capacity Plan'!O24+'Capacity Plan'!R24)/60))*3600)/N24)*O24,\"\")","v":""},{"$f":"IF($F24=0,\"\",'Process 4 - Actual Run Data'!D$19)","v":""},{"$f":"IF($F24=0,\"\",'Process 4 - Actual Run Data'!$D$20)","v":""},{"$f":"IF($F24=0,\"\",'Process 4 - Actual Run Data'!$D$21)","v":""},{"$f":"IF($F24=0,\"\",'Process 4 - Actual Run Data'!$D$22)","v":""},{"$f":"IF($F24=0,\"\",'Process 4 - Actual Run Data'!$D$23)","v":""},{"$f":"IFERROR(IF(D24=0,\"\",IF('Capacity Plan'!T24<'Process 4 - Actual Run Data'!U$41,'Capacity Plan'!T24,'Process 4 - Actual Run Data'!U$41)),\"\")","v":""},{"$f":"IF($F24=0,\"\",'Process 4 - Actual Run Data'!$X$42)","v":""},"",{"$f":"IF(D24<D25,(SUMIF(D$21:D$50,D24,X$21:X$50)/A24)+Y25,Y25)","v":0},{"$f":"IF('Process 4 - Actual Run Data'!$X$42=\"\",\"\",$Y24)","v":""},"",{"$f":"IF(F24=0,\"\",'Capacity Plan'!Z24)","v":""},0,{"$f":"'Capacity Plan'!AB24","v":""},"",{"$f":"'Capacity Plan'!AD24","v":""},"","",{"$f":"'Capacity Plan'!AG24","v":""},"",{"$f":"'Capacity Plan'!AI24","v":""},{"$f":"'Capacity Plan'!AJ24","v":""},"","","","","","","","",""]
[0,0,0,{"$f":"IF('Capacity Plan'!B25=0,\"\",'Capacity Plan'!B25)","v":""},"5",{"$f":"IFERROR('Capacity Plan'!D25,\"\")","v":0},null,null,null,{"$f":"IFERROR('Capacity Plan'!H25,\"\")","v":0},{"$f":"'Capacity Plan'!I25","v":0},{"$f":"'Capacity Plan'!J25","v":0},{"$f":"'Capacity Plan'!K25","v":0},{"$f":"IFERROR(IF(F25=0,\"\",'Process 5 - Actual Run Data'!S$10*O25),\"\")","v":""},{"$f":"IF(F25=0,\"\",'Capacity Plan'!M25)","v":""},{"$f":"IFERROR(((K25*(L25-(('Capacity Plan'!O25+'Capacity Plan'!R25)/60))*3600)/N25)*O25,\"\")","v":""},{"$f":"IF($F25=0,\"\",'Process 5 - Actual Run Data'!D$19)","v":""},{"$f":"IF($F25=0,\"\",'Process 5 - Actual Run Data'!$D$20)","v":""},{"$f":"IF($F25=0,\"\",'Process 5 - Actual Run Data'!$D$21)","v":""},{"$f":"IF($F25=0,\"\",'Process 5 - Actual Run Data'!$D$22)","v":""},{"$f":"IF($F25=0,\"\",'Process 5 - Actual Run Data'!$D$23)","v":""},{"$f":"IFERROR(IF(D25=0,\"\",IF('Capacity Plan'!T25<'Process 5 - Actual Run Data'!U$41,'Capacity Plan'!T25,'Process 5 - Actual Run Data'!U$41)),\"\")","v":""},{"$f":"IF($F25=0,\"\",'Process 5 - Actual Run Data'!$X$42)","v":""},"",{"$f":"IF(D25=0,X25,IF(D25<D26,(SUMIF(D$21:D$50,D25,X$21:X$50)/A25)+Y26,Y26))","v":0},{"$f":"IF('Process 5 - Actual Run Data'!$X$42=\"\",\"\",$Y25)","v":""},"",{"$f":"IF(F25=0,\"\",'Capacity Plan'!Z25)","v":""},0,{"$f":"'Capacity Plan'!AB25","v":""},"",{"$f":"'Capacity Plan'!AD25","v":""},"","",{"$f":"'Capacity Plan'!AG25","v":""},"",{"$f":"'Capacity Plan'!AI25","v":""},{"$f":"'Capacity Plan'!AJ25","v":""},"","","","","","","","",""]
[0,0,0,{"$f":"IF('Capacity Plan'!B26=0,\"\",'Capacity Plan'!B26)","v":""},"6",{"$f":"IFERROR('Capacity Plan'!D26,\"\")","v":0},null,null,null,{"$f":"IFERROR('Capacity Plan'!H26,\"\")","v":0},{"$f":"'Capacity Plan'!I26","v":0},{"$f":"'Capacity Plan'!J26","v":0},{"$f":"'Capacity Plan'!K26","v":0},{"$f":"IFERROR(IF(F26=0,\"\",'Process 6 - Actual Run Data'!S$10*O26),\"\")","v":""},{"$f":"IF(F26=0,\"\",'Capacity Plan'!M26)","v":""},{"$f":"IFERROR(((K26*(L26-(('Capacity Plan'!O26+'Capacity Plan'!R26)/60))*3600)/N26)*O26,\"\")","v":""},{"$f":"IF($F26=0,\"\",'Process 6 - Actual Run Data'!D$19)","v":""},{"$f":"IF($F26=0,\"\",'Process 6 - Actual Run Data'!$D$20)","v":""},{"$f":"IF($F26=0,\"\",'Process 6 - Actual Run Data'!$D$21)","v":""},{"$f":"IF($F26=0,\"\",'Process 6 - Actual Run Data'!$D$22)","v":""},{"$f":"IF($F26=0,\"\",'Process 6 - Actual Run Data'!$D$23)","v":""},{"$f":"IFERROR(IF(D26=0,\"\",IF('Capacity Plan'!T26<'Process 6 - Actual Run Data'!U$41,'Capacity Plan'!T26,'Process 6 - Actual Run Data'!U$41)),\"\")","v":""},{"$f":"IF($F26=0,\"\",'Process 6 - Actual Run Data'!$X$42)","v":""},"",{"$f":"IF(D26<D27,(SUMIF(D$21:D$50,D26,X$21:X$50)/A26)+Y27,Y27)","v":0},{"$f":"IF('Process 6 - Actual Run Data'!$X$42=\"\",\"\",$Y26)","v":""},"",{"$f":"IF(F26=0,\"\",'Capacity Plan'!Z26)","v":""},0,{"$f":"'Capacity Plan'!AB26","v":""},"",{"$f":"'Capacity Plan'!AD26","v":""},"","",{"$f":"'Capacity Plan'!AG26","v":""},"",{"$f":"'Capacity Plan'!AI26","v":""},{"$f":"'Capacity Plan'!AJ26","v":""},"","","","","","","","",""]
[0,0,0,{"$f":"IF('Capacity Plan'!B27=0,\"\",'Capacity Plan'!B27)","v":""},"7",{"$f":"IFERROR('Capacity Plan'!D27,\"\")","v":0},null,null,null,{"$f":"IFERROR('Capacity Plan'!H27,\"\")","v":0},{"$f":"'Capacity Plan'!I27","v":0},{"$f":"'Capacity Plan'!J27","v":0},{"$f":"'Capacity Plan'!K27","v":0},{"$f":"IFERROR(IF(F27=0,\"\",'Process 7 - Actual Run Data'!S$10*O27),\"\")","v":""},{"$f":"IF(F27=0,\"\",'Capacity Plan'!M27)","v":""},{"$f":"IFERROR(((K27*(L27-(('Capacity Plan'!O27+'Capacity Plan'!R27)/60))*3600)/N27)*O27,\"\")","v":""},{"$f":"IF($F27=0,\"\",'Process 7 - Actual Run Data'!D$19)","v":""},{"$f":"IF($F27=0,\"\",'Process 7 - Actual Run Data'!$D$20)","v":""},{"$f":"IF($F27=0,\"\",'Process 7 - Actual Run Data'!$D$21)","v":""},{"$f":"IF($F27=0,\"\",'Process 7 - Actual Run Data'!$D$22)","v":""},{"$f":"IF($F27=0,\"\",'Process 7 - Actual Run Data'!$D$23)","v":""},{"$f":"IFERROR(IF(D27=0,\"\",IF('Capacity Plan'!T27<'Process 7 - Actual Run Data'!U$41,'Capacity Plan'!T27,'Process 7 - Actual Run Data'!U$41)),\"\")","v":""},{"$f":"IF($F27=0,\"\",'Process 7 - Actual Run Data'!$X$42)","v":""},"",0,{"$f":"IF('Process 7 - Actual Run Data'!$X$42=\"\",\"\",$Y27)","v":""},"",{"$f":"IF(F27=0,\"\",'Capacity Plan'!Z27)","v":""},0,{"$f":"'Capacity Plan'!AB27","v":""},{"$f":"IFERROR(IF(AA27*(1-AB27)=0,\"\",AA27*(1-AB27)),\"\")","v":""},{"$f":"'Capacity Plan'!AD27","v":""},"","",{"$f":"'Capacity Plan'!AG27","v":""},"",{"$f":"'Capacity Plan'!AI27","v":""},{"$f":"'Capacity Plan'!AJ27","v":""},"","","","","","","","",""]
[0,0,0,{"$f":"IF('Capacity Plan'!B28=0,\"\",'Capacity Plan'!B28)","v":""},"8",{"$f":"IFERROR('Capacity Plan'!D28,\"\")","v":0},null,null,null,{"$f":"IFERROR('Capacity Plan'!H28,\"\")","v":0},{"$f":"'Capacity Plan'!I28","v":0},{"$f":"'Capacity Plan'!J28","v":0},{"$f":"'Capacity Plan'!K28","v":0},{"$f":"IFERROR(IF(F28=0,\"\",'Process 8 - Actual Run Data'!S$10*O28),\"\")","v":""},{"$f":"IF(F28=0,\"\",'Capacity Plan'!M28)","v":""},{"$f":"IFERROR(((K28*(L28-(('Capacity Plan'!O28+'Capacity Plan'!R28)/60))*3600)/N28)*O28,\"\")","v":""},{"$f":"IF($F28=0,\"\",'Process 8 - Actual Run Data'!D$19)","v":""},{"$f":"IF($F28=0,\"\",'Process 8 - Actual Run Data'!$D$20)","v":""},{"$f":"IF($F28=0,\"\",'Process 8 - Actual Run Data'!$D$21)","v":""},{"$f":"IF($F28=0,\"\",'Process 8 - Actual Run Data'!$D$22)","v":""},{"$f":"IF($F28=0,\"\",'Process 8 - Actual Run Data'!$D$23)","v":""},{"$f":"IFERROR(IF(D28=0,\"\",IF('Capacity Plan'!T28<'Process 8 - Actual Run Data'!U$41,'Capacity Plan'!T28,'Process 8 - Actual Run Data'!U$41)),\"\")","v":""},{"$f":"IF($F28=0,\"\",'Process 8 - Actual Run Data'!$X$42)","v":""},"",0,{"$f":"IF('Process 8 - Actual Run Data'!$X$42=\"\",\"\",$Y28)","v":""},"",{"$f":"IF(F28=0,\"\",'Capacity Plan'!Z28)","v":""},0,{"$f":"'Capacity Plan'!AB28","v":""},"",{"$f":"'Capacity Plan'!AD28","v":""},"","",{"$f":"'Capacity Plan'!AG28","v":""},"",{"$f":"'Capacity Plan'!AI28","v":""},{"$f":"'Capacity Plan'!AJ28","v":""},"","","","","","","","",""]
[0,0,0,{"$f":"IF('Capacity Plan'!B29=0,\"\",'Capacity Plan'!B29)","v":""},"9",{"$f":"IFERROR('Capacity Plan'!D29,\"\")","v":0},null,null,null,{"$f":"IFERROR('Capacity Plan'!H29,\"\")","v":0},{"$f":"'Capacity Plan'!I29","v":0},{"$f":"'Capacity Plan'!J29","v":0},{"$f":"'Capacity Plan'!K29","v":0},{"$f":"IFERROR(IF(F29=0,\"\",'Process 9 - Actual Run Data'!S$10*O29),\"\")","v":""},{"$f":"IF(F29=0,\"\",'Capacity Plan'!M29)","v":""},{"$f":"IFERROR(((K29*(L29-(('Capacity Plan'!O29+'Capacity Plan'!R29)/60))*3600)/N29)*O29,\"\")","v":""},{"$f":"IF($F29=0,\"\",'Process 9 - Actual Run Data'!D$19)","v":""},{"$f":"IF($F29=0,\"\",'Process 9 - Actual Run Data'!$D$20)","v":""},{"$f":"IF($F29=0,\"\",'Process 9 - Actual Run Data'!$D$21)","v":""},{"$f":"IF($F29=0,\"\",'Process 9 - Actual Run Data'!$D$22)","v":""},{"$f":"IF($F29=0,\"\",'Process 9 - Actual Run Data'!$D$23)","v":""},{"$f":"IFERROR(IF(D29=0,\"\",IF('Capacity Plan'!T29<'Process 9 - Actual Run Data'!U$41,'Capacity Plan'!T29,'Process 9 - Actual Run Data'!U$41)),\"\")","v":""},{"$f":"IF($F29=0,\"\",'Process 9 - Actual Run Data'!$X$42)","v":""},"",0,{"$f":"IF('Process 9 - Actual Run Data'!$X$42=\"\",\"\",$Y29)","v":""},"",{"$f":"IF(F29=0,\"\",'Capacity Plan'!Z29)","v":""},0,{"$f":"'Capacity Plan'!AB29","v":""},"",{"$f":"'Capacity Plan'!AD29","v":""},"","",{"$f":"'Capacity Plan'!AG29","v":""},"",{"$f":"'Capacity Plan'!AI29","v":""},{"$f":"'Capacity Plan'!AJ29","v":""},"","","","","","","","",""]
[0,0,0,{"$f":"IF('Capacity Plan'!B30=0,\"\",'Capacity Plan'!B30)","v":""},"10",{"$f":"IFERROR('Capacity Plan'!D30,\"\")","v":0},null,null,null,{"$f":"IFERROR('Capacity Plan'!H30,\"\")","v":0},{"$f":"'Capacity Plan'!I30","v":0},{"$f":"'Capacity Plan'!J30","v":0},{"$f":"'Capacity Plan'!K30","v":0},{"$f":"IFERROR(IF(F30=0,\"\",'Process 10 - Actual Run Data'!S$10*O30),\"\")","v":""},{"$f":"IF(F30=0,\"\",'Capacity Plan'!M30)","v":""},{"$f":"IFERROR(((K30*(L30-(('Capacity Plan'!O30+'Capacity Plan'!R30)/60))*3600)/N30)*O30,\"\")","v":""},{"$f":"IF($F30=0,\"\",'Process 10 - Actual Run Data'!D$19)","v":""},{"$f":"IF($F30=0,\"\",'Process 10 - Actual Run Data'!$D$20)","v":""},{"$f":"IF($F30=0,\"\",'Process 10 - Actual Run Data'!$D$21)","v":""},{"$f":"IF($F30=0,\"\",'Process 10 - Actual Run Data'!$D$22)","v":""},{"$f":"IF($F30=0,\"\",'Process 10 - Actual Run Data'!$D$23)","v":""},{"$f":"IFERROR(IF(D30=0,\"\",IF('Capacity Plan'!T30<'Process 10 - Actual Run Data'!U$41,'Capacity Plan'!T30,'Process 10 - Actual Run Data'!U$41)),\"\")","v":""},{"$f":"IF($F30=0,\"\",'Process 10 - Actual Run Data'!$X$42)","v":""},"",0,{"$f":"IF('Process 10 - Actual Run Data'!$X$42=\"\",\"\",$Y30)","v":""},"",{"$f":"IF(F30=0,\"\",'Capacity Plan'!Z30)","v":""},0,{"$f":"'Capacity Plan'!AB30","v":""},"",{"$f":"'Capacity Plan'!AD30","v":""},"","",{"$f":"'Capacity Plan'!AG30","v":""},"",{"$f":"'Capacity Plan'!AI30","v":""},{"$f":"'Capacity Plan'!AJ30","v":""},"","","","","","","","",""]
[0,0,0,{"$f":"IF('Capacity Plan'!B31=0,\"\",'Capacity Plan'!B31)","v":""},"11",{"$f":"IFERROR('Capacity Plan'!D31,\"\")","v":0},null,null,null,{"$f":"IFERROR('Capacity Plan'!H31,\"\")","v":0},{"$f":"'Capacity Plan'!I31","v":0},{"$f":"'Capacity Plan'!J31","v":0},{"$f":"'Capacity Plan'!K31","v":0},{"$f":"IFERROR(IF(F31=0,\"\",'Process 11 - Actual Run Data'!S$10*O31),\"\")","v":""},{"$f":"IF(F31=0,\"\",'Capacity Plan'!M31)","v":""},{"$f":"IFERROR(((K31*(L31-(('Capacity Plan'!O31+'Capacity Plan'!R31)/60))*3600)/N31)*O31,\"\")","v":""},{"$f":"IF($F31=0,\"\",'Process 11 - Actual Run Data'!D$19)","v":""},{"$f":"IF($F31=0,\"\",'Process 11 - Actual Run Data'!$D$20)","v":""},{"$f":"IF($F31=0,\"\",'Process 11 - Actual Run Data'!$D$21)","v":""},{"$f":"IF($F31=0,\"\",'Process 11 - Actual Run Data'!$D$22)","v":""},{"$f":"IF($F31=0,\"\",'Process 11 - Actual Run Data'!$D$23)","v":""},{"$f":"IFERROR(IF(D31=0,\"\",IF('Capacity Plan'!T31<'Process 11 - Actual Run Data'!U$41,'Capacity Plan'!T31,'Process 11 - Actual Run Data'!U$41)),\"\")","v":""},{"$f":"IF($F31=0,\"\",'Process 11 - Actual Run Data'!$X$42)","v":""},"",0,{"$f":"IF('Process 11 - Actual Run Data'!$X$42=\"\",\"\",$Y31)","v":""},"",{"$f":"IF(F31=0,\"\",'Capacity Plan'!Z31)","v":""},0,{"$f":"'Capacity Plan'!AB31","v":""},"",{"$f":"'Capacity Plan'!AD31","v":""},"","",{"$f":"'Capacity Plan'!AG31","v":""},"",{"$f":"'Capacity Plan'!AI31","v":""},{"$f":"'Capacity Plan'!AJ31","v":""},"","","","","","","","",""]
[0,0,0,{"$f":"IF('Capacity Plan'!B32=0,\"\",'Capacity Plan'!B32)","v":""},"12",{"$f":"IFERROR('Capacity Plan'!D32,\"\")","v":0},null,null,null,{"$f":"IFERROR('Capacity Plan'!H32,\"\")","v":0},{"$f":"'Capacity Plan'!I32","v":0},{"$f":"'Capacity Plan'!J32","v":0},{"$f":"'Capacity Plan'!K32","v":0},{"$f":"IFERROR(IF(F32=0,\"\",'Process 12 - Actual Run Data'!S$10*O32),\"\")","v":""},{"$f":"IF(F32=0,\"\",'Capacity Plan'!M32)","v":""},{"$f":"IFERROR(((K32*(L32-(('Capacity Plan'!O32+'Capacity Plan'!R32)/60))*3600)/N32)*O32,\"\")","v":""},{"$f":"IF($F32=0,\"\",'Process 12 - Actual Run Data'!D$19)","v":""},{"$f":"IF($F32=0,\"\",'Process 12 - Actual Run Data'!$D$20)","v":""},{"$f":"IF($F32=0,\"\",'Process 12 - Actual Run Data'!$D$21)","v":""},{"$f":"IF($F32=0,\"\",'Process 12 - Actual Run Data'!$D$22)","v":""},{"$f":"IF($F32=0,\"\",'Process 12 - Actual Run Data'!$D$23)","v":""},{"$f":"IFERROR(IF(D32=0,\"\",IF('Capacity Plan'!T32<'Process 12 - Actual Run Data'!U$41,'Capacity Plan'!T32,'Process 12 - Actual Run Data'!U$41)),\"\")","v":""},{"$f":"IF($F32=0,\"\",'Process 12 - Actual Run Data'!$X$42)","v":""},"",0,{"$f":"IF('Process 12 - Actual Run Data'!$X$42=\"\",\"\",$Y32)","v":""},"",{"$f":"IF(F32=0,\"\",'Capacity Plan'!Z32)","v":""},0,{"$f":"'Capacity Plan'!AB32","v":""},"",{"$f":"'Capacity Plan'!AD32","v":""},"","",{"$f":"'Capacity Plan'!AG32","v":""},"",{"$f":"'Capacity Plan'!AI32","v":""},{"$f":"'Capacity Plan'!AJ32","v":""},"","","","","","","","",""]
[0,0,0,{"$f":"IF('Capacity Plan'!B33=0,\"\",'Capacity Plan'!B33)","v":""},"13",{"$f":"IFERROR('Capacity Plan'!D33,\"\")","v":0},null,null,null,{"$f":"IFERROR('Capacity Plan'!H33,\"\")","v":0},{"$f":"'Capacity Plan'!I33","v":0},{"$f":"'Capacity Plan'!J33","v":0},{"$f":"'Capacity Plan'!K33","v":0},{"$f":"IFERROR(IF(F33=0,\"\",'Process 13 - Actual Run Data'!S$10*O33),\"\")","v":""},{"$f":"IF(F33=0,\"\",'Capacity Plan'!M33)","v":""},{"$f":"IFERROR(((K33*(L33-(('Capacity Plan'!O33+'Capacity Plan'!R33)/60))*3600)/N33)*O33,\"\")","v":""},{"$f":"IF($F33=0,\"\",'Process 13 - Actual Run Data'!D$19)","v":""},{"$f":"IF($F33=0,\"\",'Process 13 - Actual Run Data'!$D$20)","v":""},{"$f":"IF($F33=0,\"\",'Process 13 - Actual Run Data'!$D$21)","v":""},{"$f":"IF($F33=0,\"\",'Process 13 - Actual Run Data'!$D$22)","v":""},{"$f":"IF($F33=0,\"\",'Process 13 - Actual Run Data'!$D$23)","v":""},{"$f":"IFERROR(IF(D33=0,\"\",IF('Capacity Plan'!T33<'Process 13 - Actual Run Data'!U$41,'Capacity Plan'!T33,'Process 13 - Actual Run Data'!U$41)),\"\")","v":""},{"$f":"IF($F33=0,\"\",'Process 13 - Actual Run Data'!$X$42)","v":""},"",0,{"$f":"IF('Process 13 - Actual Run Data'!$X$42=\"\",\"\",$Y33)","v":""},"",{"$f":"IF(F33=0,\"\",'Capacity Plan'!Z33)","v":""},0,{"$f":"'Capacity Plan'!AB33","v":""},"",{"$f":"'Capacity Plan'!AD33","v":""},"","",{"$f":"'Capacity Plan'!AG33","v":""},"",{"$f":"'Capacity Plan'!AI33","v":""},{"$f":"'Capacity Plan'!AJ33","v":""},"","","","","","","","",""]
[0,0,0,{"$f":"IF('Capacity Plan'!B34=0,\"\",'Capacity Plan'!B34)","v":""},"14",{"$f":"IFERROR('Capacity Plan'!D34,\"\")","v":0},null,null,null,{"$f":"IFERROR('Capacity Plan'!H34,\"\")","v":0},{"$f":"'Capacity Plan'!I34","v":0},{"$f":"'Capacity Plan'!J34","v":0},{"$f":"'Capacity Plan'!K34","v":0},{"$f":"IFERROR(IF(F34=0,\"\",'Process 14 - Actual Run Data'!S$10*O34),\"\")","v":""},{"$f":"IF(F34=0,\"\",'Capacity Plan'!M34)","v":""},{"$f":"IFERROR(((K34*(L34-(('Capacity Plan'!O34+'Capacity Plan'!R34)/60))*3600)/N34)*O34,\"\")","v":""},{"$f":"IF($F34=0,\"\",'Process 14 - Actual Run Data'!D$19)","v":""},{"$f":"IF($F34=0,\"\",'Process 14 - Actual Run Data'!$D$20)","v":""},{"$f":"IF($F34=0,\"\",'Process 14 - Actual Run Data'!$D$21)","v":""},{"$f":"IF($F34=0,\"\",'Process 14 - Actual Run Data'!$D$22)","v":""},{"$f":"IF($F34=0,\"\",'Process 14 - Actual Run Data'!$D$23)","v":""},{"$f":"IFERROR(IF(D34=0,\"\",IF('Capacity Plan'!T34<'Process 14 - Actual Run Data'!U$41,'Capacity Plan'!T34,'Process 14 - Actual Run Data'!U$41)),\"\")","v":""},{"$f":"IF($F34=0,\"\",'Process 14 - Actual Run Data'!$X$42)","v":""},"",0,{"$f":"IF('Process 14 - Actual Run Data'!$X$42=\"\",\"\",$Y34)","v":""},"",{"$f":"IF(F34=0,\"\",'Capacity Plan'!Z34)","v":""},0,{"$f":"'Capacity Plan'!AB34","v":""},"",{"$f":"'Capacity Plan'!AD34","v":""},"","",{"$f":"'Capacity Plan'!AG34","v":""},"",{"$f":"'Capacity Plan'!AI34","v":""},{"$f":"'Capacity Plan'!AJ34","v":""},"","","","","","","","",""]
[0,0,0,{"$f":"IF('Capacity Plan'!B35=0,\"\",'Capacity Plan'!B35)","v":""},"15",{"$f":"IFERROR('Capacity Plan'!D35,\"\")","v":0},null,null,null,{"$f":"IFERROR('Capacity Plan'!H35,\"\")","v":0},{"$f":"'Capacity Plan'!I35","v":0},{"$f":"'Capacity Plan'!J35","v":0},{"$f":"'Capacity Plan'!K35","v":0},{"$f":"IFERROR(IF(F35=0,\"\",'Process 15 - Actual Run Data'!S$10*O35),\"\")","v":""},{"$f":"IF(F35=0,\"\",'Capacity Plan'!M35)","v":""},{"$f":"IFERROR(((K35*(L35-(('Capacity Plan'!O35+'Capacity Plan'!R35)/60))*3600)/N35)*O35,\"\")","v":""},{"$f":"IF($F35=0,\"\",'Process 15 - Actual Run Data'!D$19)","v":""},{"$f":"IF($F35=0,\"\",'Process 15 - Actual Run Data'!$D$20)","v":""},{"$f":"IF($F35=0,\"\",'Process 15 - Actual Run Data'!$D$21)","v":""},{"$f":"IF($F35=0,\"\",'Process 15 - Actual Run Data'!$D$22)","v":""},{"$f":"IF($F35=0,\"\",'Process 15 - Actual Run Data'!$D$23)","v":""},{"$f":"IFERROR(IF(D35=0,\"\",IF('Capacity Plan'!T35<'Process 15 - Actual Run Data'!U$41,'Capacity Plan'!T35,'Process 15 - Actual Run Data'!U$41)),\"\")","v":""},{"$f":"IF($F35=0,\"\",'Process 15 - Actual Run Data'!$X$42)","v":""},"",0,{"$f":"IF('Process 15 - Actual Run Data'!$X$42=\"\",\"\",$Y35)","v":""},"",{"$f":"IF(F35=0,\"\",'Capacity Plan'!Z35)","v":""},0,{"$f":"'Capacity Plan'!AB35","v":""},"",{"$f":"'Capacity Plan'!AD35","v":""},"","",{"$f":"'Capacity Plan'!AG35","v":""},"",{"$f":"'Capacity Plan'!AI35","v":""},{"$f":"'Capacity Plan'!AJ35","v":""},"","","","","","","","",""]
[0,0,0,{"$f":"IF('Capacity Plan'!B36=0,\"\",'Capacity Plan'!B36)","v":""},"16",{"$f":"IFERROR('Capacity Plan'!D36,\"\")","v":0},null,null,null,{"$f":"IFERROR('Capacity Plan'!H36,\"\")","v":0},{"$f":"'Capacity Plan'!I36","v":0},{"$f":"'Capacity Plan'!J36","v":0},{"$f":"'Capacity Plan'!K36","v":0},{"$f":"IFERROR(IF(F36=0,\"\",'Process 16 - Actual Run Data'!S$10*O36),\"\")","v":""},{"$f":"IF(F36=0,\"\",'Capacity Plan'!M36)","v":""},{"$f":"IFERROR(((K36*(L36-(('Capacity Plan'!O36+'Capacity Plan'!R36)/60))*3600)/N36)*O36,\"\")","v":""},{"$f":"IF($F36=0,\"\",'Process 16 - Actual Run Data'!D$19)","v":""},{"$f":"IF($F36=0,\"\",'Process 16 - Actual Run Data'!$D$20)","v":""},{"$f":"IF($F36=0,\"\",'Process 16 - Actual Run Data'!$D$21)","v":""},{"$f":"IF($F36=0,\"\",'Process 16 - Actual Run Data'!$D$22)","v":""},{"$f":"IF($F36=0,\"\",'Process 16 - Actual Run Data'!$D$23)","v":""},{"$f":"IFERROR(IF(D36=0,\"\",IF('Capacity Plan'!T36<'Process 16 - Actual Run Data'!U$41,'Capacity Plan'!T36,'Process 16 - Actual Run Data'!U$41)),\"\")","v":""},{"$f":"IF($F36=0,\"\",'Process 16 - Actual Run Data'!$X$42)","v":""},"",0,{"$f":"IF('Process 16 - Actual Run Data'!$X$42=\"\",\"\",$Y36)","v":""},"",{"$f":"IF(F36=0,\"\",'Capacity Plan'!Z36)","v":""},0,{"$f":"'Capacity Plan'!AB36","v":""},"",{"$f":"'Capacity Plan'!AD36","v":""},"","",{"$f":"'Capacity Plan'!AG36","v":""},"",{"$f":"'Capacity Plan'!AI36","v":""},{"$f":"'Capacity Plan'!AJ36","v":""},"","","","","","","","",""]
[0,0,0,{"$f":"IF('Capacity Plan'!B37=0,\"\",'Capacity Plan'!B37)","v":""},"17",{"$f":"IFERROR('Capacity Plan'!D37,\"\")","v":0},null,null,null,{"$f":"IFERROR('Capacity Plan'!H37,\"\")","v":0},{"$f":"'Capacity Plan'!I37","v":0},{"$f":"'Capacity Plan'!J37","v":0},{"$f":"'Capacity Plan'!K37","v":0},{"$f":"IFERROR(IF(F37=0,\"\",'Process 17 - Actual Run Data'!S$10*O37),\"\")","v":""},{"$f":"IF(F37=0,\"\",'Capacity Plan'!M37)","v":""},{"$f":"IFERROR(((K37*(L37-(('Capacity Plan'!O37+'Capacity Plan'!R37)/60))*3600)/N37)*O37,\"\")","v":""},{"$f":"IF($F37=0,\"\",'Process 17 - Actual Run Data'!D$19)","v":""},{"$f":"IF($F37=0,\"\",'Process 17 - Actual Run Data'!$D$20)","v":""},{"$f":"IF($F37=0,\"\",'Process 17 - Actual Run Data'!$D$21)","v":""},{"$f":"IF($F37=0,\"\",'Process 17 - Actual Run Data'!$D$22)","v":""},{"$f":"IF($F37=0,\"\",'Process 17 - Actual Run Data'!$D$23)","v":""},{"$f":"IFERROR(IF(D37=0,\"\",IF('Capacity Plan'!T37<'Process 17 - Actual Run Data'!U$41,'Capacity Plan'!T37,'Process 17 - Actual Run Data'!U$41)),\"\")","v":""},{"$f":"IF($F37=0,\"\",'Process 17 - Actual Run Data'!$X$42)","v":""},"",0,{"$f":"IF('Process 17 - Actual Run Data'!$X$42=\"\",\"\",$Y37)","v":""},"",{"$f":"IF(F37=0,\"\",'Capacity Plan'!Z37)","v":""},0,{"$f":"'Capacity Plan'!AB37","v":""},"",{"$f":"'Capacity Plan'!AD37","v":""},"","",{"$f":"'Capacity Plan'!AG37","v":""},"",{"$f":"'Capacity Plan'!AI37","v":""},{"$f":"'Capacity Plan'!AJ37","v":""},"","","","","","","","",""]
[0,0,0,{"$f":"IF('Capacity Plan'!B38=0,\"\",'Capacity Plan'!B38)","v":""},"18",{"$f":"IFERROR('Capacity Plan'!D38,\"\")","v":0},null,null,null,{"$f":"IFERROR('Capacity Plan'!H38,\"\")","v":0},{"$f":"'Capacity Plan'!I38","v":0},{"$f":"'Capacity Plan'!J38","v":0},{"$f":"'Capacity Plan'!K38","v":0},{"$f":"IFERROR(IF(F38=0,\"\",'Process 18 - Actual Run Data'!S$10*O38),\"\")","v":""},{"$f":"IF(F38=0,\"\",'Capacity Plan'!M38)","v":""},{"$f":"IFERROR(((K38*(L38-(('Capacity Plan'!O38+'Capacity Plan'!R38)/60))*3600)/N38)*O38,\"\")","v":""},{"$f":"IF($F38=0,\"\",'Process 18 - Actual Run Data'!D$19)","v":""},{"$f":"IF($F38=0,\"\",'Process 18 - Actual Run Data'!$D$20)","v":""},{"$f":"IF($F38=0,\"\",'Process 18 - Actual Run Data'!$D$21)","v":""},{"$f":"IF($F38=0,\"\",'Process 18 - Actual Run Data'!$D$22)","v":""},{"$f":"IF($F38=0,\"\",'Process 18 - Actual Run Data'!$D$23)","v":""},{"$f":"IFERROR(IF(D38=0,\"\",IF('Capacity Plan'!T38<'Process 18 - Actual Run Data'!U$41,'Capacity Plan'!T38,'Process 18 - Actual Run Data'!U$41)),\"\")","v":""},{"$f":"IF($F38=0,\"\",'Process 18 - Actual Run Data'!$X$42)","v":""},"",0,{"$f":"IF('Process 18 - Actual Run Data'!$X$42=\"\",\"\",$Y38)","v":""},"",{"$f":"IF(F38=0,\"\",'Capacity Plan'!Z38)","v":""},0,{"$f":"'Capacity Plan'!AB38","v":""},"",{"$f":"'Capacity Plan'!AD38","v":""},"","",{"$f":"'Capacity Plan'!AG38","v":""},"",{"$f":"'Capacity Plan'!AI38","v":""},{"$f":"'Capacity Plan'!AJ38","v":""},"","","","","","","","",""]
[0,0,0,{"$f":"IF('Capacity Plan'!B39=0,\"\",'Capacity Plan'!B39)","v":""},"19",{"$f":"IFERROR('Capacity Plan'!D39,\"\")","v":0},null,null,null,{"$f":"IFERROR('Capacity Plan'!H39,\"\")","v":0},{"$f":"'Capacity Plan'!I39","v":0},{"$f":"'Capacity Plan'!J39","v":0},{"$f":"'Capacity Plan'!K39","v":0},{"$f":"IFERROR(IF(F39=0,\"\",'Process 19 - Actual Run Data'!S$10*O39),\"\")","v":""},{"$f":"IF(F39=0,\"\",'Capacity Plan'!M39)","v":""},{"$f":"IFERROR(((K39*(L39-(('Capacity Plan'!O39+'Capacity Plan'!R39)/60))*3600)/N39)*O39,\"\")","v":""},{"$f":"IF($F39=0,\"\",'Process 19 - Actual Run Data'!D$19)","v":""},{"$f":"IF($F39=0,\"\",'Process 19 - Actual Run Data'!$D$20)","v":""},{"$f":"IF($F39=0,\"\",'Process 19 - Actual Run Data'!$D$21)","v":""},{"$f":"IF($F39=0,\"\",'Process 19 - Actual Run Data'!$D$22)","v":""},{"$f":"IF($F39=0,\"\",'Process 19 - Actual Run Data'!$D$23)","v":""},{"$f":"IFERROR(IF(D39=0,\"\",IF('Capacity Plan'!T39<'Process 19 - Actual Run Data'!U$41,'Capacity Plan'!T39,'Process 19 - Actual Run Data'!U$41)),\"\")","v":""},{"$f":"IF($F39=0,\"\",'Process 19 - Actual Run Data'!$X$42)","v":""},"",0,{"$f":"IF('Process 19 - Actual Run Data'!$X$42=\"\",\"\",$Y39)","v":""},"",{"$f":"IF(F39=0,\"\",'Capacity Plan'!Z39)","v":""},0,{"$f":"'Capacity Plan'!AB39","v":""},"",{"$f":"'Capacity Plan'!AD39","v":""},"","",{"$f":"'Capacity Plan'!AG39","v":""},"",{"$f":"'Capacity Plan'!AI39","v":""},{"$f":"'Capacity Plan'!AJ39","v":""},"","","","","","","","",""]
[0,0,0,{"$f":"IF('Capacity Plan'!B40=0,\"\",'Capacity Plan'!B40)","v":""},"20",{"$f":"IFERROR('Capacity Plan'!D40,\"\")","v":0},null,null,null,{"$f":"IFERROR('Capacity Plan'!H40,\"\")","v":0},{"$f":"'Capacity Plan'!I40","v":0},{"$f":"'Capacity Plan'!J40","v":0},{"$f":"'Capacity Plan'!K40","v":0},{"$f":"IFERROR(IF(F40=0,\"\",'Process 20 - Actual Run Data'!S$10*O40),\"\")","v":""},{"$f":"IF(F40=0,\"\",'Capacity Plan'!M40)","v":""},{"$f":"IFERROR(((K40*(L40-(('Capacity Plan'!O40+'Capacity Plan'!R40)/60))*3600)/N40)*O40,\"\")","v":""},{"$f":"IF($F40=0,\"\",'Process 20 - Actual Run Data'!D$19)","v":""},{"$f":"IF($F40=0,\"\",'Process 20 - Actual Run Data'!$D$20)","v":""},{"$f":"IF($F40=0,\"\",'Process 20 - Actual Run Data'!$D$21)","v":""},{"$f":"IF($F40=0,\"\",'Process 20 - Actual Run Data'!$D$22)","v":""},{"$f":"IF($F40=0,\"\",'Process 20 - Actual Run Data'!$D$23)","v":""},{"$f":"IFERROR(IF(D40=0,\"\",IF('Capacity Plan'!T40<'Process 20 - Actual Run Data'!U$41,'Capacity Plan'!T40,'Process 20 - Actual Run Data'!U$41)),\"\")","v":""},{"$f":"IF($F40=0,\"\",'Process 20 - Actual Run Data'!$X$42)","v":""},"",{"$f":"IF(F40=\"\",\"\",IF(D40<D41,(SUMIF(D$21:D$50,D40,X$21:X$50)/A40)+Y41,Y41))","v":0},{"$f":"IF('Process 20 - Actual Run Data'!$X$42=\"\",\"\",$Y40)","v":""},"",{"$f":"IF(F40=0,\"\",'Capacity Plan'!Z40)","v":""},0,{"$f":"'Capacity Plan'!AB40","v":""},"",{"$f":"'Capacity Plan'!AD40","v":""},"","",{"$f":"'Capacity Plan'!AG40","v":""},"",{"$f":"'Capacity Plan'!AI40","v":""},{"$f":"'Capacity Plan'!AJ40","v":""},"","","","","","","","",""]
[0,0,0,{"$f":"IF('Capacity Plan'!B41=0,\"\",'Capacity Plan'!B41)","v":""},"21",{"$f":"IFERROR('Capacity Plan'!D41,\"\")","v":0},null,null,null,{"$f":"IFERROR('Capacity Plan'!H41,\"\")","v":0},{"$f":"'Capacity Plan'!I41","v":0},{"$f":"'Capacity Plan'!J41","v":0},{"$f":"'Capacity Plan'!K41","v":0},{"$f":"IFERROR(IF(F41=0,\"\",'Process 21 - Actual Run Data'!S$10*O41),\"\")","v":""},{"$f":"IF(F41=0,\"\",'Capacity Plan'!M41)","v":""},{"$f":"IFERROR(((K41*(L41-(('Capacity Plan'!O41+'Capacity Plan'!R41)/60))*3600)/N41)*O41,\"\")","v":""},{"$f":"IF($F41=0,\"\",'Process 21 - Actual Run Data'!D$19)","v":""},{"$f":"IF($F41=0,\"\",'Process 21 - Actual Run Data'!$D$20)","v":""},{"$f":"IF($F41=0,\"\",'Process 21 - Actual Run Data'!$D$21)","v":""},{"$f":"IF($F41=0,\"\",'Process 21 - Actual Run Data'!$D$22)","v":""},{"$f":"IF($F41=0,\"\",'Process 21 - Actual Run Data'!$D$23)","v":""},{"$f":"IFERROR(IF(D41=0,\"\",IF('Capacity Plan'!T41<'Process 21 - Actual Run Data'!U$41,'Capacity Plan'!T41,'Process 21 - Actual Run Data'!U$41)),\"\")","v":""},{"$f":"IF($F41=0,\"\",'Process 21 - Actual Run Data'!$X$42)","v":""},"",{"$f":"IF(D41<D42,(SUMIF(D$21:D$50,D41,X$21:X$50)/A41)+Y42,Y42)","v":0},{"$f":"IF('Process 21 - Actual Run Data'!$X$42=\"\",\"\",$Y41)","v":""},"",{"$f":"IF(F41=0,\"\",'Capacity Plan'!Z41)","v":""},0,{"$f":"'Capacity Plan'!AB41","v":""},"",{"$f":"'Capacity Plan'!AD41","v":""},"","",{"$f":"'Capacity Plan'!AG41","v":""},"",{"$f":"'Capacity Plan'!AI41","v":""},{"$f":"'Capacity Plan'!AJ41","v":""},"","","","","","","","",""]
[0,0,0,{"$f":"IF('Capacity Plan'!B42=0,\"\",'Capacity Plan'!B42)","v":""},"22",{"$f":"IFERROR('Capacity Plan'!D42,\"\")","v":0},null,null,null,{"$f":"IFERROR('Capacity Plan'!H42,\"\")","v":0},{"$f":"'Capacity Plan'!I42","v":0},{"$f":"'Capacity Plan'!J42","v":0},{"$f":"'Capacity Plan'!K42","v":0},{"$f":"IFERROR(IF(F42=0,\"\",'Process 22 - Actual Run Data'!S$10*O42),\"\")","v":""},{"$f":"IF(F42=0,\"\",'Capacity Plan'!M42)","v":""},{"$f":"IFERROR(((K42*(L42-(('Capacity Plan'!O42+'Capacity Plan'!R42)/60))*3600)/N42)*O42,\"\")","v":""},{"$f":"IF($F42=0,\"\",'Process 22 - Actual Run Data'!D$19)","v":""},{"$f":"IF($F42=0,\"\",'Process 22 - Actual Run Data'!$D$20)","v":""},{"$f":"IF($F42=0,\"\",'Process 22 - Actual Run Data'!$D$21)","v":""},{"$f":"IF($F42=0,\"\",'Process 22 - Actual Run Data'!$D$22)","v":""},{"$f":"IF($F42=0,\"\",'Process 22 - Actual Run Data'!$D$23)","v":""},{"$f":"IFERROR(IF(D42=0,\"\",IF('Capacity Plan'!T42<'Process 22 - Actual Run Data'!U$41,'Capacity Plan'!T42,'Process 22 - Actual Run Data'!U$41)),\"\")","v":""},{"$f":"IF($F42=0,\"\",'Process 22 - Actual Run Data'!$X$42)","v":""},"",0,{"$f":"IF('Process 22 - Actual Run Data'!$X$42=\"\",\"\",$Y42)","v":""},"",{"$f":"IF(F42=0,\"\",'Capacity Plan'!Z42)","v":""},0,{"$f":"'Capacity Plan'!AB42","v":""},"",{"$f":"'Capacity Plan'!AD42","v":""},"","",{"$f":"'Capacity Plan'!AG42","v":""},"",{"$f":"'Capacity Plan'!AI42","v":""},{"$f":"'Capacity Plan'!AJ42","v":""},"","","","","","","","",""]
[0,0,0,{"$f":"IF('Capacity Plan'!B43=0,\"\",'Capacity Plan'!B43)","v":""},"23",{"$f":"IFERROR('Capacity Plan'!D43,\"\")","v":0},null,null,null,{"$f":"IFERROR('Capacity Plan'!H43,\"\")","v":0},{"$f":"'Capacity Plan'!I43","v":0},{"$f":"'Capacity Plan'!J43","v":0},{"$f":"'Capacity Plan'!K43","v":0},{"$f":"IFERROR(IF(F43=0,\"\",'Process 23 - Actual Run Data'!S$10*O43),\"\")","v":""},{"$f":"IF(F43=0,\"\",'Capacity Plan'!M43)","v":""},{"$f":"IFERROR(((K43*(L43-(('Capacity Plan'!O43+'Capacity Plan'!R43)/60))*3600)/N43)*O43,\"\")","v":""},{"$f":"IF($F43=0,\"\",'Process 23 - Actual Run Data'!D$19)","v":""},{"$f":"IF($F43=0,\"\",'Process 23 - Actual Run Data'!$D$20)","v":""},{"$f":"IF($F43=0,\"\",'Process 23 - Actual Run Data'!$D$21)","v":""},{"$f":"IF($F43=0,\"\",'Process 23 - Actual Run Data'!$D$22)","v":""},{"$f":"IF($F43=0,\"\",'Process 23 - Actual Run Data'!$D$23)","v":""},{"$f":"IFERROR(IF(D43=0,\"\",IF('Capacity Plan'!T43<'Process 23 - Actual Run Data'!U$41,'Capacity Plan'!T43,'Process 23 - Actual Run Data'!U$41)),\"\")","v":""},{"$f":"IF($F43=0,\"\",'Process 23 - Actual Run Data'!$X$42)","v":""},"",0,{"$f":"IF('Process 23 - Actual Run Data'!$X$42=\"\",\"\",$Y43)","v":""},"",{"$f":"IF(F43=0,\"\",'Capacity Plan'!Z43)","v":""},0,{"$f":"'Capacity Plan'!AB43","v":""},"",{"$f":"'Capacity Plan'!AD43","v":""},"","",{"$f":"'Capacity Plan'!AG43","v":""},"",{"$f":"'Capacity Plan'!AI43","v":""},{"$f":"'Capacity Plan'!AJ43","v":""},"","","","","","","","",""]
[0,0,0,{"$f":"IF('Capacity Plan'!B44=0,\"\",'Capacity Plan'!B44)","v":""},"24",{"$f":"IFERROR('Capacity Plan'!D44,\"\")","v":0},null,null,null,{"$f":"IFERROR('Capacity Plan'!H44,\"\")","v":0},{"$f":"'Capacity Plan'!I44","v":0},{"$f":"'Capacity Plan'!J44","v":0},{"$f":"'Capacity Plan'!K44","v":0},{"$f":"IFERROR(IF(F44=0,\"\",'Process 24 - Actual Run Data'!S$10*O44),\"\")","v":""},{"$f":"IF(F44=0,\"\",'Capacity Plan'!M44)","v":""},{"$f":"IFERROR(((K44*(L44-(('Capacity Plan'!O44+'Capacity Plan'!R44)/60))*3600)/N44)*O44,\"\")","v":""},{"$f":"IF($F44=0,\"\",'Process 24 - Actual Run Data'!D$19)","v":""},{"$f":"IF($F44=0,\"\",'Process 24 - Actual Run Data'!$D$20)","v":""},{"$f":"IF($F44=0,\"\",'Process 24 - Actual Run Data'!$D$21)","v":""},{"$f":"IF($F44=0,\"\",'Process 24 - Actual Run Data'!$D$22)","v":""},{"$f":"IF($F44=0,\"\",'Process 24 - Actual Run Data'!$D$23)","v":""},{"$f":"IFERROR(IF(D44=0,\"\",IF('Capacity Plan'!T44<'Process 24 - Actual Run Data'!U$41,'Capacity Plan'!T44,'Process 24 - Actual Run Data'!U$41)),\"\")","v":""},{"$f":"IF($F44=0,\"\",'Process 24 - Actual Run Data'!$X$42)","v":""},"",0,{"$f":"IF('Process 24 - Actual Run Data'!$X$42=\"\",\"\",$Y44)","v":""},"",{"$f":"IF(F44=0,\"\",'Capacity Plan'!Z44)","v":""},0,{"$f":"'Capacity Plan'!AB44","v":""},"",{"$f":"'Capacity Plan'!AD44","v":""},"",{"$f":"IF(M44=0,\"\",U$12/U$9)","v":""},{"$f":"'Capacity Plan'!AG44","v":""},"",{"$f":"'Capacity Plan'!AI44","v":""},{"$f":"'Capacity Plan'!AJ44","v":""},"","","","","","","","",""]
[0,0,0,{"$f":"IF('Capacity Plan'!B45=0,\"\",'Capacity Plan'!B45)","v":""},"25",{"$f":"IFERROR('Capacity Plan'!D45,\"\")","v":0},null,null,null,{"$f":"IFERROR('Capacity Plan'!H45,\"\")","v":0},{"$f":"'Capacity Plan'!I45","v":0},{"$f":"'Capacity Plan'!J45","v":0},{"$f":"'Capacity Plan'!K45","v":0},{"$f":"IFERROR(IF(F45=0,\"\",'Process 25 - Actual Run Data'!S$10*O45),\"\")","v":""},{"$f":"IF(F45=0,\"\",'Capacity Plan'!M45)","v":""},{"$f":"IFERROR(((K45*(L45-(('Capacity Plan'!O45+'Capacity Plan'!R45)/60))*3600)/N45)*O45,\"\")","v":""},{"$f":"IF($F45=0,\"\",'Process 25 - Actual Run Data'!D$19)","v":""},{"$f":"IF($F45=0,\"\",'Process 25 - Actual Run Data'!$D$20)","v":""},{"$f":"IF($F45=0,\"\",'Process 25 - Actual Run Data'!$D$21)","v":""},{"$f":"IF($F45=0,\"\",'Process 25 - Actual Run Data'!$D$22)","v":""},{"$f":"IF($F45=0,\"\",'Process 25 - Actual Run Data'!$D$23)","v":""},{"$f":"IFERROR(IF(D45=0,\"\",IF('Capacity Plan'!T45<'Process 25 - Actual Run Data'!U$41,'Capacity Plan'!T45,'Process 25 - Actual Run Data'!U$41)),\"\")","v":""},{"$f":"IF($F45=0,\"\",'Process 25 - Actual Run Data'!$X$42)","v":""},"",0,{"$f":"IF('Process 25 - Actual Run Data'!$X$42=\"\",\"\",$Y45)","v":""},"",{"$f":"IF(F45=0,\"\",'Capacity Plan'!Z45)","v":""},0,{"$f":"'Capacity Plan'!AB45","v":""},"",{"$f":"'Capacity Plan'!AD45","v":""},"",{"$f":"IF(M45=0,\"\",U$12/U$9)","v":""},{"$f":"'Capacity Plan'!AG45","v":""},"",{"$f":"'Capacity Plan'!AI45","v":""},{"$f":"'Capacity Plan'!AJ45","v":""},"","","","","","","","",""]
[0,0,0,{"$f":"IF('Capacity Plan'!B46=0,\"\",'Capacity Plan'!B46)","v":""},"26",{"$f":"IFERROR('Capacity Plan'!D46,\"\")","v":0},null,null,null,{"$f":"IFERROR('Capacity Plan'!H46,\"\")","v":0},{"$f":"'Capacity Plan'!I46","v":0},{"$f":"'Capacity Plan'!J46","v":0},{"$f":"'Capacity Plan'!K46","v":0},{"$f":"IFERROR(IF(F46=0,\"\",'Process 26 - Actual Run Data'!S$10*O46),\"\")","v":""},{"$f":"IF(F46=0,\"\",'Capacity Plan'!M46)","v":""},{"$f":"IFERROR(((K46*(L46-(('Capacity Plan'!O46+'Capacity Plan'!R46)/60))*3600)/N46)*O46,\"\")","v":""},{"$f":"IF($F46=0,\"\",'Process 26 - Actual Run Data'!D$19)","v":""},{"$f":"IF($F46=0,\"\",'Process 26 - Actual Run Data'!$D$20)","v":""},{"$f":"IF($F46=0,\"\",'Process 26 - Actual Run Data'!$D$21)","v":""},{"$f":"IF($F46=0,\"\",'Process 26 - Actual Run Data'!$D$22)","v":""},{"$f":"IF($F46=0,\"\",'Process 26 - Actual Run Data'!$D$23)","v":""},{"$f":"IFERROR(IF(D46=0,\"\",IF('Capacity Plan'!T46<'Process 26 - Actual Run Data'!U$41,'Capacity Plan'!T46,'Process 26 - Actual Run Data'!U$41)),\"\")","v":""},{"$f":"IF($F46=0,\"\",'Process 26 - Actual Run Data'!$X$42)","v":""},"",0,{"$f":"IF('Process 26 - Actual Run Data'!$X$42=\"\",\"\",$Y46)","v":""},"",{"$f":"IF(F46=0,\"\",'Capacity Plan'!Z46)","v":""},0,{"$f":"'Capacity Plan'!AB46","v":""},"",{"$f":"'Capacity Plan'!AD46","v":""},"","",{"$f":"'Capacity Plan'!AG46","v":""},"",{"$f":"'Capacity Plan'!AI46","v":""},{"$f":"'Capacity Plan'!AJ46","v":""},"","","","","","","","",""]
[0,0,0,{"$f":"IF('Capacity Plan'!B47=0,\"\",'Capacity Plan'!B47)","v":""},"27",{"$f":"IFERROR('Capacity Plan'!D47,\"\")","v":0},null,null,null,{"$f":"IFERROR('Capacity Plan'!H47,\"\")","v":0},{"$f":"'Capacity Plan'!I47","v":0},{"$f":"'Capacity Plan'!J47","v":0},{"$f":"'Capacity Plan'!K47","v":0},{"$f":"IFERROR(IF(F47=0,\"\",'Process 27 - Actual Run Data'!S$10*O47),\"\")","v":""},{"$f":"IF(F47=0,\"\",'Capacity Plan'!M47)","v":""},{"$f":"IFERROR(((K47*(L47-(('Capacity Plan'!O47+'Capacity Plan'!R47)/60))*3600)/N47)*O47,\"\")","v":""},{"$f":"IF($F47=0,\"\",'Process 27 - Actual Run Data'!D$19)","v":""},{"$f":"IF($F47=0,\"\",'Process 27 - Actual Run Data'!$D$20)","v":""},{"$f":"IF($F47=0,\"\",'Process 27 - Actual Run Data'!$D$21)","v":""},{"$f":"IF($F47=0,\"\",'Process 27 - Actual Run Data'!$D$22)","v":""},{"$f":"IF($F47=0,\"\",'Process 27 - Actual Run Data'!$D$23)","v":""},{"$f":"IFERROR(IF(D47=0,\"\",IF('Capacity Plan'!T47<'Process 27 - Actual Run Data'!U$41,'Capacity Plan'!T47,'Process 27 - Actual Run Data'!U$41)),\"\")","v":""},{"$f":"IF($F47=0,\"\",'Process 27 - Actual Run Data'!$X$42)","v":""},"",0,{"$f":"IF('Process 27 - Actual Run Data'!$X$42=\"\",\"\",$Y47)","v":""},"",{"$f":"IF(F47=0,\"\",'Capacity Plan'!Z47)","v":""},0,{"$f":"'Capacity Plan'!AB47","v":""},"",{"$f":"'Capacity Plan'!AD47","v":""},"","",{"$f":"'Capacity Plan'!AG47","v":""},"",{"$f":"'Capacity Plan'!AI47","v":""},{"$f":"'Capacity Plan'!AJ47","v":""},"","","","","","","","",""]
[0,0,0,{"$f":"IF('Capacity Plan'!B48=0,\"\",'Capacity Plan'!B48)","v":""},"28",{"$f":"IFERROR('Capacity Plan'!D48,\"\")","v":0},null,null,null,{"$f":"IFERROR('Capacity Plan'!H48,\"\")","v":0},{"$f":"'Capacity Plan'!I48","v":0},{"$f":"'Capacity Plan'!J48","v":0},{"$f":"'Capacity Plan'!K48","v":0},{"$f":"IFERROR(IF(F48=0,\"\",'Process 28 - Actual Run Data'!S$10*O48),\"\")","v":""},{"$f":"IF(F48=0,\"\",'Capacity Plan'!M48)","v":""},{"$f":"IFERROR(((K48*(L48-(('Capacity Plan'!O48+'Capacity Plan'!R48)/60))*3600)/N48)*O48,\"\")","v":""},{"$f":"IF($F48=0,\"\",'Process 28 - Actual Run Data'!D$19)","v":""},{"$f":"IF($F48=0,\"\",'Process 28 - Actual Run Data'!$D$20)","v":""},{"$f":"IF($F48=0,\"\",'Process 28 - Actual Run Data'!$D$21)","v":""},{"$f":"IF($F48=0,\"\",'Process 28 - Actual Run Data'!$D$22)","v":""},{"$f":"IF($F48=0,\"\",'Process 28 - Actual Run Data'!$D$23)","v":""},{"$f":"IFERROR(IF(D48=0,\"\",IF('Capacity Plan'!T48<'Process 28 - Actual Run Data'!U$41,'Capacity Plan'!T48,'Process 28 - Actual Run Data'!U$41)),\"\")","v":""},{"$f":"IF($F48=0,\"\",'Process 28 - Actual Run Data'!$X$42)","v":""},"",0,{"$f":"IF('Process 28 - Actual Run Data'!$X$42=\"\",\"\",$Y48)","v":""},"",{"$f":"IF(F48=0,\"\",'Capacity Plan'!Z48)","v":""},0,{"$f":"'Capacity Plan'!AB48","v":""},"",{"$f":"'Capacity Plan'!AD48","v":""},"","",{"$f":"'Capacity Plan'!AG48","v":""},"",{"$f":"'Capacity Plan'!AI48","v":""},{"$f":"'Capacity Plan'!AJ48","v":""},"","","","","","","","",""]
[0,0,0,{"$f":"IF('Capacity Plan'!B49=0,\"\",'Capacity Plan'!B49)","v":""},"29",{"$f":"IFERROR('Capacity Plan'!D49,\"\")","v":0},null,null,null,{"$f":"IFERROR('Capacity Plan'!H49,\"\")","v":0},{"$f":"'Capacity Plan'!I49","v":0},{"$f":"'Capacity Plan'!J49","v":0},{"$f":"'Capacity Plan'!K49","v":0},{"$f":"IFERROR(IF(F49=0,\"\",'Process 29 - Actual Run Data'!S$10*O49),\"\")","v":""},{"$f":"IF(F49=0,\"\",'Capacity Plan'!M49)","v":""},{"$f":"IFERROR(((K49*(L49-(('Capacity Plan'!O49+'Capacity Plan'!R49)/60))*3600)/N49)*O49,\"\")","v":""},{"$f":"IF($F49=0,\"\",'Process 29 - Actual Run Data'!D$19)","v":""},{"$f":"IF($F49=0,\"\",'Process 29 - Actual Run Data'!$D$20)","v":""},{"$f":"IF($F49=0,\"\",'Process 29 - Actual Run Data'!$D$21)","v":""},{"$f":"IF($F49=0,\"\",'Process 29 - Actual Run Data'!$D$22)","v":""},{"$f":"IF($F49=0,\"\",'Process 29 - Actual Run Data'!$D$23)","v":""},{"$f":"IFERROR(IF(D49=0,\"\",IF('Capacity Plan'!T49<'Process 29 - Actual Run Data'!U$41,'Capacity Plan'!T49,'Process 29 - Actual Run Data'!U$41)),\"\")","v":""},{"$f":"IF($F49=0,\"\",'Process 29 - Actual Run Data'!$X$42)","v":""},"",0,{"$f":"IF('Process 29 - Actual Run Data'!$X$42=\"\",\"\",$Y49)","v":""},"",{"$f":"IF(F49=0,\"\",'Capacity Plan'!Z49)","v":""},0,{"$f":"'Capacity Plan'!AB49","v":""},"",{"$f":"'Capacity Plan'!AD49","v":""},"","",{"$f":"'Capacity Plan'!AG49","v":""},"",{"$f":"'Capacity Plan'!AI49","v":""},{"$f":"'Capacity Plan'!AJ49","v":""},"","","","","","","","",""]
[0,0,0,{"$f":"IF('Capacity Plan'!B50=0,\"\",'Capacity Plan'!B50)","v":""},"30",{"$f":"IFERROR('Capacity Plan'!D50,\"\")","v":0},null,null,null,{"$f":"IFERROR('Capacity Plan'!H50,\"\")","v":0},{"$f":"'Capacity Plan'!I50","v":0},{"$f":"'Capacity Plan'!J50","v":0},{"$f":"'Capacity Plan'!K50","v":0},{"$f":"IFERROR(IF(F50=0,\"\",'Process 30 - Actual Run Data'!S$10*O50),\"\")","v":""},{"$f":"IF(F50=0,\"\",'Capacity Plan'!M50)","v":""},{"$f":"IFERROR(((K50*(L50-(('Capacity Plan'!O50+'Capacity Plan'!R50)/60))*3600)/N50)*O50,\"\")","v":""},{"$f":"IF($F50=0,\"\",'Process 30 - Actual Run Data'!D$19)","v":""},{"$f":"IF($F50=0,\"\",'Process 30 - Actual Run Data'!$D$20)","v":""},{"$f":"IF($F50=0,\"\",'Process 30 - Actual Run Data'!$D$21)","v":""},{"$f":"IF($F50=0,\"\",'Process 30 - Actual Run Data'!$D$22)","v":""},{"$f":"IF($F50=0,\"\",'Process 30 - Actual Run Data'!$D$23)","v":""},{"$f":"IFERROR(IF(D50=0,\"\",IF('Capacity Plan'!T50<'Process 30 - Actual Run Data'!U$41,'Capacity Plan'!T50,'Process 30 - Actual Run Data'!U$41)),\"\")","v":""},{"$f":"IF($F50=0,\"\",'Process 30 - Actual Run Data'!$X$42)","v":""},"",0,{"$f":"IF('Process 30 - Actual Run Data'!$X$42=\"\",\"\",$Y50)","v":""},"",{"$f":"IF(F50=0,\"\",'Capacity Plan'!Z50)","v":""},0,{"$f":"'Capacity Plan'!AB50","v":""},"",{"$f":"'Capacity Plan'!AD50","v":""},"","",{"$f":"'Capacity Plan'!AG50","v":""},"",{"$f":"'Capacity Plan'!AI50","v":""},{"$f":"'Capacity Plan'!AJ50","v":""},"","","","","","","","",""]
[null,null,null,null,null,null,null,null,null,null,null,null,null,null,null,null,null,null,null,null,null,null,null,null,null,null,null,null,null,null,null,null,null,null,null,null,null,null,null,null,{"$f":"IFERROR(IF(AG51*1.15=0,\"\",(AG51*1.15)),\"\")","v":""}]
[]
[null,null,null,null,null,null,null,null,null,null,null,null,null,null,null,null,null,null,null,null,null,null,null,"Comments:"]

{"sheet":"Run @ Rate Status Form","index":37,"n_rows":66,"n_cols":12,"rows_kept":66,"cut":false,"hidden":false,"merged":[[61,0,64,8],[65,0,65,8],[57,0,57,1],[57,2,57,3],[55,3,55,5],[56,0,56,2],[55,0,55,2],[59,0,59,1],[59,2,59,3],[59,4,59,6],[59,7,59,8],[57,4,57,6],[58,0,58,1],[58,2,58,3],[58,4,58,6],[58,7,58,8],[52,0,52,2],[52,3,52,5],[53,0,53,2],[53,3,53,5],[54,0,54,2],[54,3,54,5],[5,2,5,3],[5,7,5,9],[6,7,6,9],[7,2,7,3],[8,7,8,9],[0,1,0,9],[1,0,1,9],[3,2,3,3],[3,7,3,9],[4,2,4,3],[4,7,4,9],[9,0,9,1],[9,2,9,3],[9,7,9,9],[51,6,51,7],[10,4,10,9],[11,4,11,6],[11,7,11,9],[43,7,43,9],[44,0,44,8],[45,0,45,8],[46,0,46,8],[47,0,47,8],[48,0,48,8],[49,0,49,8],[10,1,11,1],[50,0,50,8]]}
[null,"Global Supply Management"]
["Run @ Rate Status Sheet"]
[]
[null,"Supplier Name:  ",{"$f":"IF('Capacity Plan'!$F$3=\"\",\"\",'Capacity Plan'!$F$3)","v":""},null,null,null,"Nexteer Part Number:  ",{"$f":"IFERROR('Capacity Plan'!Q3,\"\")","v":0}]
[null,"Supplier Duns Code:  ",{"$f":"IFERROR('Capacity Plan'!F4,\"\")","v":0},null,null,null,"Nexteer Part Name:  ",{"$f":"IFERROR('Capacity Plan'!Q4,\"\")","v":0}]
[null,"Plant (Mfg) Location:  ",{"$f":"IFERROR('Capacity Plan'!F5,\"\")","v":0},null,null,null,"Revision Level:  ",{"$f":"IFERROR('Capacity Plan'!Q5,\"\")","v":0}]
[null,null,null,null,null,null,"Nexteer Program:  ",{"$f":"IFERROR('Capacity Plan'!Q6,\"\")","v":0}]
[null,"Run@Rate Date:  ",{"$f":"IFERROR('Run @ Rate Summary Data'!K14,\"\")","v":"00:00:00"}]
[null,null,null,null,null,null,"Type of Run@Rate:  ","Nexteer monitored:  "]
["Quoted Tool Capacity:  ",null,{"$f":"IFERROR('Capacity Plan'!S12,\"\")","v":0},null,null,null,null,"Supplier monitored:"]
[null,"Capacity Plan",null,null,"**Red cell denotes issue between planned and actual"]
[null,null,null,null,"Planned",null,null,"Actual"]
[null,"Process Name","Daily MSV","15% above daily MSV","% uptime","% scrap","Daily Capacity","% uptime","% scrap","Daily Capacity"]
[1,{"$f":"IFERROR('Capacity Plan'!D21,\"\")","v":0},{"$f":"'Capacity Plan'!AD21","v":""},{"$f":"'Capacity Plan'!AM21","v":""},{"$f":"'Capacity Plan'!T21","v":""},{"$f":"IF(C14=\"\",\"\",'Capacity Plan'!U21)","v":""},{"$f":"'Capacity Plan'!AC21","v":""},{"$f":"('Run @ Rate Summary Data'!V21)","v":""},{"$f":"IF('Run @ Rate Summary Data'!W21=0,0,'Run @ Rate Summary Data'!W21)","v":""},{"$f":"('Run @ Rate Summary Data'!AE21)","v":""},{"$f":"IF(I14=\"\",0,IF(I14>F14,1,0))","v":0},{"$f":"IF(J14=\"\",0,IF(AND(K14=1,(J14<C14)),1,0))","v":0}]
[2,{"$f":"IFERROR('Capacity Plan'!D22,\"\")","v":0},{"$f":"'Capacity Plan'!AD22","v":""},{"$f":"'Capacity Plan'!AM22","v":""},{"$f":"'Capacity Plan'!T22","v":""},{"$f":"IF(C15=\"\",\"\",'Capacity Plan'!U22)","v":""},{"$f":"'Capacity Plan'!AC22","v":""},{"$f":"('Run @ Rate Summary Data'!V22)","v":""},{"$f":"IF('Run @ Rate Summary Data'!W22=0,0,'Run @ Rate Summary Data'!W22)","v":""},{"$f":"('Run @ Rate Summary Data'!AE22)","v":""},{"$f":"IF(I15=\"\",0,IF(I15>F15,1,0))","v":0},{"$f":"IF(J15=\"\",0,IF(AND(K15=1,(J15<C15)),1,0))","v":0}]
[3,{"$f":"IFERROR('Capacity Plan'!D23,\"\")","v":0},{"$f":"'Capacity Plan'!AD23","v":""},{"$f":"'Capacity Plan'!AM23","v":""},{"$f":"'Capacity Plan'!T23","v":""},{"$f":"IF(C16=\"\",\"\",'Capacity Plan'!U23)","v":""},{"$f":"'Capacity Plan'!AC23","v":""},{"$f":"('Run @ Rate Summary Data'!V23)","v":""},{"$f":"IF('Run @ Rate Summary Data'!W23=0,0,'Run @ Rate Summary Data'!W23)","v":""},{"$f":"('Run @ Rate Summary Data'!AE23)","v":""},0,0]
[4,{"$f":"IFERROR('Capacity Plan'!D24,\"\")","v":0},{"$f":"'Capacity Plan'!AD24","v":""},{"$f":"'Capacity Plan'!AM24","v":""},{"$f":"'Capacity Plan'!T24","v":""},{"$f":"IF(C17=\"\",\"\",'Capacity Plan'!U24)","v":""},{"$f":"'Capacity Plan'!AC24","v":""},{"$f":"('Run @ Rate Summary Data'!V24)","v":""},{"$f":"IF('Run @ Rate Summary Data'!W24=0,0,'Run @ Rate Summary Data'!W24)","v":""},{"$f":"('Run @ Rate Summary Data'!AE24)","v":""},0,0]
[5,{"$f":"IFERROR('Capacity Plan'!D25,\"\")","v":0},{"$f":"'Capacity Plan'!AD25","v":""},{"$f":"'Capacity Plan'!AM25","v":""},{"$f":"'Capacity Plan'!T25","v":""},{"$f":"IF(C18=\"\",\"\",'Capacity Plan'!U25)","v":""},{"$f":"'Capacity Plan'!AC25","v":""},{"$f":"('Run @ Rate Summary Data'!V25)","v":""},{"$f":"IF('Run @ Rate Summary Data'!W25=0,0,'Run @ Rate Summary Data'!W25)","v":""},{"$f":"('Run @ Rate Summary Data'!AE25)","v":""},0,0]
[6,{"$f":"IFERROR('Capacity Plan'!D26,\"\")","v":0},{"$f":"'Capacity Plan'!AD26","v":""},{"$f":"'Capacity Plan'!AM26","v":""},{"$f":"'Capacity Plan'!T26","v":""},{"$f":"IF(C19=\"\",\"\",'Capacity Plan'!U26)","v":""},{"$f":"'Capacity Plan'!AC26","v":""},{"$f":"('Run @ Rate Summary Data'!V26)","v":""},{"$f":"IF('Run @ Rate Summary Data'!W26=0,0,'Run @ Rate Summary Data'!W26)","v":""},{"$f":"('Run @ Rate Summary Data'!AE26)","v":""},0,{"$f":"IF(J19=\"\",0,IF(AND(K19=1,(J19<C19)),1,0))","v":0}]
[7,{"$f":"IFERROR('Capacity Plan'!D27,\"\")","v":0},{"$f":"'Capacity Plan'!AD27","v":""},{"$f":"'Capacity Plan'!AM27","v":""},{"$f":"'Capacity Plan'!T27","v":""},{"$f":"IF(C20=\"\",\"\",'Capacity Plan'!U27)","v":""},{"$f":"'Capacity Plan'!AC27","v":""},{"$f":"('Run @ Rate Summary Data'!V27)","v":""},{"$f":"IF('Run @ Rate Summary Data'!W27=0,0,'Run @ Rate Summary Data'!W27)","v":""},{"$f":"('Run @ Rate Summary Data'!AE27)","v":""},0,0]
[8,{"$f":"IFERROR('Capacity Plan'!D28,\"\")","v":0},{"$f":"'Capacity Plan'!AD28","v":""},{"$f":"'Capacity Plan'!AM28","v":""},{"$f":"'Capacity Plan'!T28","v":""},{"$f":"IF(C21=\"\",\"\",'Capacity Plan'!U28)","v":""},{"$f":"'Capacity Plan'!AC28","v":""},{"$f":"('Run @ Rate Summary Data'!V28)","v":""},{"$f":"IF('Run @ Rate Summary Data'!W28=0,0,'Run @ Rate Summary Data'!W28)","v":""},{"$f":"('Run @ Rate Summary Data'!AE28)","v":""},0,0]
[9,{"$f":"IFERROR('Capacity Plan'!D29,\"\")","v":0},{"$f":"'Capacity Plan'!AD29","v":""},{"$f":"'Capacity Plan'!AM29","v":""},{"$f":"'Capacity Plan'!T29","v":""},{"$f":"IF(C22=\"\",\"\",'Capacity Plan'!U29)","v":""},{"$f":"'Capacity Plan'!AC29","v":""},{"$f":"('Run @ Rate Summary Data'!V29)","v":""},{"$f":"IF('Run @ Rate Summary Data'!W29=0,0,'Run @ Rate Summary Data'!W29)","v":""},{"$f":"('Run @ Rate Summary Data'!AE29)","v":""},{"$f":"IF(I22=\"\",0,IF(I22>F22,1,0))","v":0},0]
[10,{"$f":"IFERROR('Capacity Plan'!D30,\"\")","v":0},{"$f":"'Capacity Plan'!AD30","v":""},{"$f":"'Capacity Plan'!AM30","v":""},{"$f":"'Capacity Plan'!T30","v":""},{"$f":"IF(C23=\"\",\"\",'Capacity Plan'!U30)","v":""},{"$f":"'Capacity Plan'!AC30","v":""},{"$f":"('Run @ Rate Summary Data'!V30)","v":""},{"$f":"IF('Run @ Rate Summary Data'!W30=0,0,'Run @ Rate Summary Data'!W30)","v":""},{"$f":"('Run @ Rate Summary Data'!AE30)","v":""},{"$f":"IF(I23=\"\",0,IF(I23>F23,1,0))","v":0},0]
[11,{"$f":"IFERROR('Capacity Plan'!D31,\"\")","v":0},{"$f":"'Capacity Plan'!AD31","v":""},{"$f":"'Capacity Plan'!AM31","v":""},{"$f":"'Capacity Plan'!T31","v":""},{"$f":"IF(C24=\"\",\"\",'Capacity Plan'!U31)","v":""},{"$f":"'Capacity Plan'!AC31","v":""},{"$f":"('Run @ Rate Summary Data'!V31)","v":""},{"$f":"IF('Run @ Rate Summary Data'!W31=0,0,'Run @ Rate Summary Data'!W31)","v":""},{"$f":"('Run @ Rate Summary Data'!AE31)","v":""},0,0]
[12,{"$f":"IFERROR('Capacity Plan'!D32,\"\")","v":0},{"$f":"'Capacity Plan'!AD32","v":""},{"$f":"'Capacity Plan'!AM32","v":""},{"$f":"'Capacity Plan'!T32","v":""},{"$f":"IF(C25=\"\",\"\",'Capacity Plan'!U32)","v":""},{"$f":"'Capacity Plan'!AC32","v":""},{"$f":"('Run @ Rate Summary Data'!V32)","v":""},{"$f":"IF('Run @ Rate Summary Data'!W32=0,0,'Run @ Rate Summary Data'!W32)","v":""},{"$f":"('Run @ Rate Summary Data'!AE32)","v":""},0,0]
[13,{"$f":"IFERROR('Capacity Plan'!D33,\"\")","v":0},{"$f":"'Capacity Plan'!AD33","v":""},{"$f":"'Capacity Plan'!AM33","v":""},{"$f":"'Capacity Plan'!T33","v":""},{"$f":"IF(C26=\"\",\"\",'Capacity Plan'!U33)","v":""},{"$f":"'Capacity Plan'!AC33","v":""},{"$f":"('Run @ Rate Summary Data'!V33)","v":""},{"$f":"IF('Run @ Rate Summary Data'!W33=0,0,'Run @ Rate Summary Data'!W33)","v":""},{"$f":"('Run @ Rate Summary Data'!AE33)","v":""},0,0]
[14,{"$f":"IFERROR('Capacity Plan'!D34,\"\")","v":0},{"$f":"'Capacity Plan'!AD34","v":""},{"$f":"'Capacity Plan'!AM34","v":""},{"$f":"'Capacity Plan'!T34","v":""},{"$f":"IF(C27=\"\",\"\",'Capacity Plan'!U34)","v":""},{"$f":"'Capacity Plan'!AC34","v":""},{"$f":"('Run @ Rate Summary Data'!V34)","v":""},{"$f":"IF('Run @ Rate Summary Data'!W34=0,0,'Run @ Rate Summary Data'!W34)","v":""},{"$f":"('Run @ Rate Summary Data'!AE34)","v":""},0,0]
[15,{"$f":"IFERROR('Capacity Plan'!D35,\"\")","v":0},{"$f":"'Capacity Plan'!AD35","v":""},{"$f":"'Capacity Plan'!AM35","v":""},{"$f":"'Capacity Plan'!T35","v":""},{"$f":"IF(C28=\"\",\"\",'Capacity Plan'!U35)","v":""},{"$f":"'Capacity Plan'!AC35","v":""},{"$f":"('Run @ Rate Summary Data'!V35)","v":""},{"$f":"IF('Run @ Rate Summary Data'!W35=0,0,'Run @ Rate Summary Data'!W35)","v":""},{"$f":"('Run @ Rate Summary Data'!AE35)","v":""},0,0]
[16,{"$f":"IFERROR('Capacity Plan'!D36,\"\")","v":0},{"$f":"'Capacity Plan'!AD36","v":""},{"$f":"'Capacity Plan'!AM36","v":""},{"$f":"'Capacity Plan'!T36","v":""},{"$f":"IF(C29=\"\",\"\",'Capacity Plan'!U36)","v":""},{"$f":"'Capacity Plan'!AC36","v":""},{"$f":"('Run @ Rate Summary Data'!V36)","v":""},{"$f":"IF('Run @ Rate Summary Data'!W36=0,0,'Run @ Rate Summary Data'!W36)","v":""},{"$f":"('Run @ Rate Summary Data'!AE36)","v":""},0,0]
[17,{"$f":"IFERROR('Capacity Plan'!D37,\"\")","v":0},{"$f":"'Capacity Plan'!AD37","v":""},{"$f":"'Capacity Plan'!AM37","v":""},{"$f":"'Capacity Plan'!T37","v":""},{"$f":"IF(C30=\"\",\"\",'Capacity Plan'!U37)","v":""},{"$f":"'Capacity Plan'!AC37","v":""},{"$f":"('Run @ Rate Summary Data'!V37)","v":""},{"$f":"IF('Run @ Rate Summary Data'!W37=0,0,'Run @ Rate Summary Data'!W37)","v":""},{"$f":"('Run @ Rate Summary Data'!AE37)","v":""},0,0]
[18,{"$f":"IFERROR('Capacity Plan'!D38,\"\")","v":0},{"$f":"'Capacity Plan'!AD38","v":""},{"$f":"'Capacity Plan'!AM38","v":""},{"$f":"'Capacity Plan'!T38","v":""},{"$f":"IF(C31=\"\",\"\",'Capacity Plan'!U38)","v":""},{"$f":"'Capacity Plan'!AC38","v":""},{"$f":"('Run @ Rate Summary Data'!V38)","v":""},{"$f":"IF('Run @ Rate Summary Data'!W38=0,0,'Run @ Rate Summary Data'!W38)","v":""},{"$f":"('Run @ Rate Summary Data'!AE38)","v":""},0,0]
[19,{"$f":"IFERROR('Capacity Plan'!D39,\"\")","v":0},{"$f":"'Capacity Plan'!AD39","v":""},{"$f":"'Capacity Plan'!AM39","v":""},{"$f":"'Capacity Plan'!T39","v":""},{"$f":"IF(C32=\"\",\"\",'Capacity Plan'!U39)","v":""},{"$f":"'Capacity Plan'!AC39","v":""},{"$f":"('Run @ Rate Summary Data'!V39)","v":""},{"$f":"IF('Run @ Rate Summary Data'!W39=0,0,'Run @ Rate Summary Data'!W39)","v":""},{"$f":"('Run @ Rate Summary Data'!AE39)","v":""},0,0]
[20,{"$f":"IFERROR('Capacity Plan'!D40,\"\")","v":0},{"$f":"'Capacity Plan'!AD40","v":""},{"$f":"'Capacity Plan'!AM40","v":""},{"$f":"'Capacity Plan'!T40","v":""},{"$f":"IF(C33=\"\",\"\",'Capacity Plan'!U40)","v":""},{"$f":"'Capacity Plan'!AC40","v":""},{"$f":"('Run @ Rate Summary Data'!V40)","v":""},{"$f":"IF('Run @ Rate Summary Data'!W40=0,0,'Run @ Rate Summary Data'!W40)","v":""},{"$f":"('Run @ Rate Summary Data'!AE40)","v":""},0,0]
[21,{"$f":"IFERROR('Capacity Plan'!D41,\"\")","v":0},{"$f":"'Capacity Plan'!AD41","v":""},{"$f":"'Capacity Plan'!AM41","v":""},{"$f":"'Capacity Plan'!T41","v":""},{"$f":"IF(C34=\"\",\"\",'Capacity Plan'!U41)","v":""},{"$f":"'Capacity Plan'!AC41","v":""},{"$f":"('Run @ Rate Summary Data'!V41)","v":""},{"$f":"IF('Run @ Rate Summary Data'!W41=0,0,'Run @ Rate Summary Data'!W41)","v":""},{"$f":"('Run @ Rate Summary Data'!AE41)","v":""},0,0]
[22,{"$f":"IFERROR('Capacity Plan'!D42,\"\")","v":0},{"$f":"'Capacity Plan'!AD42","v":""},{"$f":"'Capacity Plan'!AM42","v":""},{"$f":"'Capacity Plan'!T42","v":""},{"$f":"IF(C35=\"\",\"\",'Capacity Plan'!U42)","v":""},{"$f":"'Capacity Plan'!AC42","v":""},{"$f":"('Run @ Rate Summary Data'!V42)","v":""},{"$f":"IF('Run @ Rate Summary Data'!W42=0,0,'Run @ Rate Summary Data'!W42)","v":""},{"$f":"('Run @ Rate Summary Data'!AE42)","v":""},0,0]
[23,{"$f":"IFERROR('Capacity Plan'!D43,\"\")","v":0},{"$f":"'Capacity Plan'!AD43","v":""},{"$f":"'Capacity Plan'!AM43","v":""},{"$f":"'Capacity Plan'!T43","v":""},{"$f":"IF(C36=\"\",\"\",'Capacity Plan'!U43)","v":""},{"$f":"'Capacity Plan'!AC43","v":""},{"$f":"('Run @ Rate Summary Data'!V43)","v":""},{"$f":"IF('Run @ Rate Summary Data'!W43=0,0,'Run @ Rate Summary Data'!W43)","v":""},{"$f":"('Run @ Rate Summary Data'!AE43)","v":""},0,0]
[24,{"$f":"IFERROR('Capacity Plan'!D44,\"\")","v":0},{"$f":"'Capacity Plan'!AD44","v":""},{"$f":"'Capacity Plan'!AM44","v":""},{"$f":"'Capacity Plan'!T44","v":""},{"$f":"IF(C37=\"\",\"\",'Capacity Plan'!U44)","v":""},{"$f":"'Capacity Plan'!AC44","v":""},{"$f":"('Run @ Rate Summary Data'!V44)","v":""},{"$f":"IF('Run @ Rate Summary Data'!W44=0,0,'Run @ Rate Summary Data'!W44)","v":""},{"$f":"('Run @ Rate Summary Data'!AE44)","v":""},0,0]
[25,{"$f":"IFERROR('Capacity Plan'!D45,\"\")","v":0},{"$f":"'Capacity Plan'!AD45","v":""},{"$f":"'Capacity Plan'!AM45","v":""},{"$f":"'Capacity Plan'!T45","v":""},{"$f":"IF(C38=\"\",\"\",'Capacity Plan'!U45)","v":""},{"$f":"'Capacity Plan'!AC45","v":""},{"$f":"('Run @ Rate Summary Data'!V45)","v":""},{"$f":"IF('Run @ Rate Summary Data'!W45=0,0,'Run @ Rate Summary Data'!W45)","v":""},{"$f":"('Run @ Rate Summary Data'!AE45)","v":""},0,0]
[26,{"$f":"IFERROR('Capacity Plan'!D46,\"\")","v":0},{"$f":"'Capacity Plan'!AD46","v":""},{"$f":"'Capacity Plan'!AM46","v":""},{"$f":"'Capacity Plan'!T46","v":""},{"$f":"IF(C39=\"\",\"\",'Capacity Plan'!U46)","v":""},{"$f":"'Capacity Plan'!AC46","v":""},{"$f":"('Run @ Rate Summary Data'!V46)","v":""},{"$f":"IF('Run @ Rate Summary Data'!W46=0,0,'Run @ Rate Summary Data'!W46)","v":""},{"$f":"('Run @ Rate Summary Data'!AE46)","v":""},0,0]
[27,{"$f":"IFERROR('Capacity Plan'!D47,\"\")","v":0},{"$f":"'Capacity Plan'!AD47","v":""},{"$f":"'Capacity Plan'!AM47","v":""},{"$f":"'Capacity Plan'!T47","v":""},{"$f":"IF(C40=\"\",\"\",'Capacity Plan'!U47)","v":""},{"$f":"'Capacity Plan'!AC47","v":""},{"$f":"('Run @ Rate Summary Data'!V47)","v":""},{"$f":"IF('Run @ Rate Summary Data'!W47=0,0,'Run @ Rate Summary Data'!W47)","v":""},{"$f":"('Run @ Rate Summary Data'!AE47)","v":""},0,0]
[28,{"$f":"IFERROR('Capacity Plan'!D48,\"\")","v":0},{"$f":"'Capacity Plan'!AD48","v":""},{"$f":"'Capacity Plan'!AM48","v":""},{"$f":"'Capacity Plan'!T48","v":""},{"$f":"IF(C41=\"\",\"\",'Capacity Plan'!U48)","v":""},{"$f":"'Capacity Plan'!AC48","v":""},{"$f":"('Run @ Rate Summary Data'!V48)","v":""},{"$f":"IF('Run @ Rate Summary Data'!W48=0,0,'Run @ Rate Summary Data'!W48)","v":""},{"$f":"('Run @ Rate Summary Data'!AE48)","v":""},0,0]
[29,{"$f":"IFERROR('Capacity Plan'!D49,\"\")","v":0},{"$f":"'Capacity Plan'!AD49","v":""},{"$f":"'Capacity Plan'!AM49","v":""},{"$f":"'Capacity Plan'!T49","v":""},{"$f":"IF(C42=\"\",\"\",'Capacity Plan'!U49)","v":""},{"$f":"'Capacity Plan'!AC49","v":""},{"$f":"('Run @ Rate Summary Data'!V49)","v":""},{"$f":"IF('Run @ Rate Summary Data'!W49=0,0,'Run @ Rate Summary Data'!W49)","v":""},{"$f":"('Run @ Rate Summary Data'!AE49)","v":""},0,0]
[30,{"$f":"IFERROR('Capacity Plan'!D50,\"\")","v":0},{"$f":"'Capacity Plan'!AD50","v":""},{"$f":"'Capacity Plan'!AM50","v":""},{"$f":"'Capacity Plan'!T50","v":""},{"$f":"IF(C43=\"\",\"\",'Capacity Plan'!U50)","v":""},{"$f":"'Capacity Plan'!AC50","v":""},{"$f":"('Run @ Rate Summary Data'!V50)","v":""},{"$f":"IF('Run @ Rate Summary Data'!W50=0,0,'Run @ Rate Summary Data'!W50)","v":""},{"$f":"('Run @ Rate Summary Data'!AE50)","v":""},0,0]
[null,null,null,null,null,null,null,"Answ:"]
["Were the planned downtime items consistent with the capacity plan: i.e.(maintenance, change-overs, breaks, and lunches)?  "]
["Was the unplanned downtime within the forecasted daily expectations?(Capacity Plan)"]
["Was the line staffed by operators who work during normal production?"]
["Did the suppliers and subsuppliers have all subcontractors confirm their ability to meet capacity, quality and delivery requirements in writing?"]
["Is the planned scrap % equal to or greater than the actual scrap %?    (Autocalculated)",null,null,null,null,null,null,null,null,{"$f":"IF(SUM(K14:K43)>0,\"Yes\",\"No\")","v":"No"}]
[{"$f":"IF(J49=\"YES\",J52,D44)","v":0},null,null,null,null,null,null,null,null,{"$f":"IF(SUM(L14:L43)>0,\"Yes\",\"No\")","v":"No"}]
[{"$f":"IF(J49=\"YES\",J54,D44)","v":0}]
[null,null,null,null,null,null,null,null,null,"If the actual scrap % is higher than the planned does it jeopardize QTC?"]
["Least Efficient OEE:",null,null,"Constraint Process OEE:"]
[{"$f":"MIN('Run @ Rate Summary Data'!AG21:AG50)","v":0},null,null,{"$f":"MAX('Run @ Rate Summary Data'!AG21:AG50)","v":0},null,null,null,null,"Pass:  ","Has the sub-supplier's Run @ Rate been validated to plan for this additional scrap?"]
["Operation Responsible",null,null,"Operation Responsible",null,null,null,null,"Fail:  ","Yes"]
[{"$f":"IFERROR(VLOOKUP(2,'Run @ Rate Summary Data'!B21:D50,3,FALSE),\"\")","v":""},null,null,{"$f":"IFERROR(VLOOKUP(1,'Run @ Rate Summary Data'!C21:D50,2,FALSE),\"\")","v":""},null,null,null,null,null,"No"]
[]
["Responsibility",null,"Name",null,"Signature",null,null,"Contact Number",null,"Date"]
["Supplier Representative"]
["Nexteer Automotive AQE/SQE"]
[]
["Comments:"]
[]
[]
[]
["Note:  Refer to the rest of the Run@Rate workbook to see more detailed information."]

{"sheet":"Extended R@R","index":38,"n_rows":265,"n_cols":99,"rows_kept":265,"cut":false,"hidden":false,"merged":[[0,0,0,18],[262,2,264,2],[222,2,224,2],[226,2,228,2],[230,2,232,2],[234,2,236,2],[238,2,240,2],[242,2,244,2],[246,2,248,2],[250,2,252,2],[254,2,256,2],[258,2,260,2],[218,2,220,2],[198,2,200,2],[202,2,204,2],[206,2,208,2],[210,2,212,2],[214,2,216,2],[178,2,180,2],[182,2,184,2],[186,2,188,2],[190,2,192,2],[194,2,196,2],[158,2,160,2],[162,2,164,2],[166,2,168,2],[170,2,172,2],[174,2,176,2],[146,2,148,2],[150,2,152,2],[154,2,156,2],[7,49,11,49],[7,46,11,46],[7,43,11,43],[142,2,144,2],[98,95,101,96],[102,95,105,96],[106,95,109,96],[86,95,89,96],[90,95,93,96],[94,95,97,96],[134,95,137,96],[122,95,125,96],[126,95,129,96],[130,95,133,96],[110,95,113,96],[114,95,117,96],[118,95,121,96],[82,95,85,96],[62,95,65,96],[66,95,69,96],[70,95,73,96],[50,95,53,96],[54,95,57,96],[58,95,61,96],[74,95,77,96],[78,95,81,96],[38,95,41,96],[42,95,45,96],[46,95,49,96],[26,95,29,96],[30,95,33,96],[34,95,37,96],[22,95,25,96],[7,93,11,93],[7,94,11,94],[7,95,11,96],[7,82,11,82],[7,91,11,91],[7,88,11,88],[7,85,11,85],[7,92,11,92],[7,79,11,79],[12,95,12,96],[14,95,17,96],[18,95,21,96],[7,76,11,76],[7,73,11,73],[7,37,11,37],[7,70,11,70],[7,67,11,67],[7,64,11,64],[7,61,11,61],[7,40,11,40],[7,58,11,58],[7,55,11,55],[7,52,11,52]]}
["Extended R@R = (This form is used if % machine loading allocation is >50% and not a batch process)"]
[null,null,null,null,null,null,null,null,null,null,null,null,null,null,null,null,null,null,null,null,null,null,null,null,null,null,null,null,null,null,null,null,null,null,null,null,null,null,null,null,null,null,null,null,null,null,null,null,null,null,null,null,null,null,null,null,null,null,null,null,null,null,null,null,null,null,null,null,null,null,null,null,null,null,null,null,null,null,null,null,null,null,null,null,null,null,null,null,null,null,null,null,{"$f":"IF(E140=CO3,2,0)","v":2}]
[]
[]
[]
[null,null,{"$f":"E16","v":0}]
[null,null,{"$f":"E17","v":0}]
[null,null,{"$f":"'Capacity Plan'!D21","v":0},null,"Inv\nEnd of Shift",{"$f":"'Capacity Plan'!$D22","v":0},null,"Inv\nEnd of Shift",{"$f":"'Capacity Plan'!$D23","v":0},null,"Inv\nEnd of Shift",{"$f":"'Capacity Plan'!$D24","v":0},null,"Inv\nEnd of Shift",{"$f":"'Capacity Plan'!$D25","v":0},null,"Inv\nEnd of Shift",{"$f":"'Capacity Plan'!$D26","v":0},null,"Inv\nEnd of Shift",{"$f":"'Capacity Plan'!$D27","v":0},null,"Inv\nEnd of Shift",{"$f":"'Capacity Plan'!$D28","v":0},null,"Inv\nEnd of Shift",{"$f":"'Capacity Plan'!$D29","v":0},null,"Inv\nEnd of Shift",{"$f":"'Capacity Plan'!$D30","v":0},null,"Inv\nEnd of Shift",{"$f":"'Capacity Plan'!$D31","v":0},null,"Inv\nEnd of Shift",{"$f":"'Capacity Plan'!$D32","v":0},null,"Inv\nEnd of Shift",{"$f":"'Capacity Plan'!$D33","v":0},null,"Inv\nEnd of Shift",{"$f":"'Capacity Plan'!$D34","v":0},null,"Inv\nEnd of Shift",{"$f":"'Capacity Plan'!$D35","v":0},null,"Inv\nEnd of Shift",{"$f":"'Capacity Plan'!$D36","v":0},null,"Inv\nEnd of Shift",{"$f":"'Capacity Plan'!$D37","v":0},null,"Inv\nEnd of Shift",{"$f":"'Capacity Plan'!$D38","v":0},null,"Inv\nEnd of Shift",{"$f":"'Capacity Plan'!$D39","v":0},null,"Inv\nEnd of Shift",{"$f":"'Capacity Plan'!$D40","v":0},null,"Inv\nEnd of Shift",{"$f":"'Capacity Plan'!$D41","v":0},null,"Inv\nEnd of Shift",{"$f":"'Capacity Plan'!$D42","v":0},null,"Inv\nEnd of Shift",{"$f":"'Capacity Plan'!$D43","v":0},null,"Inv\nEnd of Shift",{"$f":"'Capacity Plan'!$D44","v":0},null,"Inv\nEnd of Shift",{"$f":"'Capacity Plan'!$D45","v":0},null,"Inv\nEnd of Shift",{"$f":"'Capacity Plan'!$D46","v":0},null,"Inv\nEnd of Shift",{"$f":"'Capacity Plan'!$D47","v":0},null,"Inv\nEnd of Shift",{"$f":"'Capacity Plan'!$D48","v":0},null,"Inv\nEnd of Shift",{"$f":"'Capacity Plan'!$D49","v":0},null,"Inv\nEnd of Shift",{"$f":"'Capacity Plan'!$D50","v":0},null,"Inv\nEnd of Shift","Actual Daily Production","Planned Daily Production","Inventory Shipped","Comments"]
[null,null,"cycle time (s):",null,null,"cycle time (s):",null,null,"cycle time (s):",null,null,"cycle time (s):",null,null,"cycle time (s):",null,null,"cycle time (s):",null,null,"cycle time (s):",null,null,"cycle time (s):",null,null,"cycle time (s):",null,null,"cycle time (s):",null,null,"cycle time (s):",null,null,"cycle time (s):",null,null,"cycle time (s):",null,null,"cycle time (s):",null,null,"cycle time (s):",null,null,"cycle time (s):",null,null,"cycle time (s):",null,null,"cycle time (s):",null,null,"cycle time (s):",null,null,"cycle time (s):",null,null,"cycle time (s):",null,null,"cycle time (s):",null,null,"cycle time (s):",null,null,"cycle time (s):",null,null,"cycle time (s):",null,null,"cycle time (s):",null,null,"cycle time (s):",null,null,"cycle time (s):",null,null,"cycle time (s):",null,null,"cycle time (s):"]
[null,null,{"$f":"'Capacity Plan'!$L21","v":0},null,null,{"$f":"'Capacity Plan'!$L22","v":0},null,null,{"$f":"'Capacity Plan'!$L23","v":0},null,null,{"$f":"'Capacity Plan'!$L24","v":0},null,null,{"$f":"'Capacity Plan'!$L25","v":0},null,null,{"$f":"'Capacity Plan'!$L26","v":0},null,null,{"$f":"'Capacity Plan'!$L27","v":0},null,null,{"$f":"'Capacity Plan'!$L28","v":0},null,null,{"$f":"'Capacity Plan'!$L29","v":0},null,null,{"$f":"'Capacity Plan'!$L30","v":0},null,null,{"$f":"'Capacity Plan'!$L31","v":0},null,null,{"$f":"'Capacity Plan'!$L32","v":0},null,null,{"$f":"'Capacity Plan'!$L33","v":0},null,null,{"$f":"'Capacity Plan'!$L34","v":0},null,null,{"$f":"'Capacity Plan'!$L35","v":0},null,null,{"$f":"'Capacity Plan'!$L36","v":0},null,null,{"$f":"'Capacity Plan'!$L37","v":0},null,null,{"$f":"'Capacity Plan'!$L38","v":0},null,null,{"$f":"'Capacity Plan'!$L39","v":0},null,null,{"$f":"'Capacity Plan'!$L40","v":0},null,null,{"$f":"'Capacity Plan'!$L41","v":0},null,null,{"$f":"'Capacity Plan'!$L42","v":0},null,null,{"$f":"'Capacity Plan'!$L43","v":0},null,null,{"$f":"'Capacity Plan'!$L44","v":0},null,null,{"$f":"'Capacity Plan'!$L45","v":0},null,null,{"$f":"'Capacity Plan'!$L46","v":0},null,null,{"$f":"'Capacity Plan'!$L47","v":0},null,null,{"$f":"'Capacity Plan'!$L48","v":0},null,null,{"$f":"'Capacity Plan'!$L49","v":0},null,null,{"$f":"'Capacity Plan'!$L50","v":0}]
[null,null,"prts/cycle:",null,null,"prts/cycle:",null,null,"prts/cycle:",null,null,"prts/cycle:",null,null,"prts/cycle:",null,null,"prts/cycle:",null,null,"prts/cycle:",null,null,"prts/cycle:",null,null,"prts/cycle:",null,null,"prts/cycle:",null,null,"prts/cycle:",null,null,"prts/cycle:",null,null,"prts/cycle:",null,null,"prts/cycle:",null,null,"prts/cycle:",null,null,"prts/cycle:",null,null,"prts/cycle:",null,null,"prts/cycle:",null,null,"prts/cycle:",null,null,"prts/cycle:",null,null,"prts/cycle:",null,null,"prts/cycle:",null,null,"prts/cycle:",null,null,"prts/cycle:",null,null,"prts/cycle:",null,null,"prts/cycle:",null,null,"prts/cycle:",null,null,"prts/cycle:",null,null,"prts/cycle:",null,null,"prts/cycle:"]
[null,null,{"$f":"'Capacity Plan'!$M21","v":0},null,null,{"$f":"'Capacity Plan'!$M22","v":0},null,null,{"$f":"'Capacity Plan'!$M23","v":0},null,null,{"$f":"'Capacity Plan'!$M24","v":0},null,null,{"$f":"'Capacity Plan'!$M25","v":0},null,null,{"$f":"'Capacity Plan'!$M26","v":0},null,null,{"$f":"'Capacity Plan'!$M27","v":0},null,null,{"$f":"'Capacity Plan'!$M28","v":0},null,null,{"$f":"'Capacity Plan'!$M29","v":0},null,null,{"$f":"'Capacity Plan'!$M30","v":0},null,null,{"$f":"'Capacity Plan'!$M31","v":0},null,null,{"$f":"'Capacity Plan'!$M32","v":0},null,null,{"$f":"'Capacity Plan'!$M32","v":0},null,null,{"$f":"'Capacity Plan'!$M33","v":0},null,null,{"$f":"'Capacity Plan'!$M34","v":0},null,null,{"$f":"'Capacity Plan'!$M35","v":0},null,null,{"$f":"'Capacity Plan'!$M36","v":0},null,null,{"$f":"'Capacity Plan'!$M37","v":0},null,null,{"$f":"'Capacity Plan'!$M38","v":0},null,null,{"$f":"'Capacity Plan'!$M39","v":0},null,null,{"$f":"'Capacity Plan'!$M40","v":0},null,null,{"$f":"'Capacity Plan'!$M41","v":0},null,null,{"$f":"'Capacity Plan'!$M42","v":0},null,null,{"$f":"'Capacity Plan'!$M43","v":0},null,null,{"$f":"'Capacity Plan'!$M44","v":0},null,null,{"$f":"'Capacity Plan'!$M45","v":0},null,null,{"$f":"'Capacity Plan'!$M46","v":0},null,null,{"$f":"'Capacity Plan'!$M47","v":0},null,null,{"$f":"'Capacity Plan'!$M48","v":0},null,null,{"$f":"'Capacity Plan'!$M49","v":0}]
[null,null,"Good","Reject",null,"Good","Reject",null,"Good","Reject",null,"Good","Reject",null,"Good ","Reject",null,"Good","Reject",null,"Good","Reject",null,"Good","Reject",null,"Good","Reject",null,"Good","Reject",null,"Good","Reject",null,"Good","Reject",null,"Good","Reject",null,"Good","Reject",null,"Good","Reject",null,"Good","Reject",null,"Good","Reject",null,"Good","Reject",null,"Good","Reject",null,"Good","Reject",null,"Good","Reject",null,"Good","Reject",null,"Good","Reject",null,"Good","Reject",null,"Good","Reject",null,"Good","Reject",null,"Good","Reject",null,"Good","Reject",null,"Good","Reject",null,"Good","Reject"]
["Date","Shift"]
["2019-01-01","3rd",null,null,null,null,null,null,null,null,null,null,null,null,null,null,null,null,null,null,null,null,null,null,null,null,null,null,null,null,null,null,null,null,null,null,null,null,null,null,null,null,null,null,null,null,null,null,null,null,null,null,null,null,null,null,null,null,null,null,null,null,null,null,null,null,null,null,null,null,null,null,null,null,null,null,null,null,null,null,null,null,null,null,null,null,null,null,null,null,null,null,{"$f":"MIN(CN15,CK15,CH15,CE15,CB15,BY15,BV15,BS15,BP15,BM15,BJ15,BG15,BD15,BA15,AX15,AU15,AR15,AO15,AL15,AI15,AF15,AC15,Z15,W15,T15,Q15,N15,K15,H15,E15)","v":0},{"$f":"CP18/3","v":0},{"$f":"HLOOKUP(MAX(E$140:CN$140),$E$140:$CN$145,4,FALSE)","v":0},null,null,null,{"$f":"IF(SUMIF('Capacity Plan'!$B$21:$B$50,'Capacity Plan'!$B21,'Capacity Plan'!$AC$21:$AC$50)=0,\"\",SUMIF('Capacity Plan'!$B$21:$B$50,'Capacity Plan'!$B21,'Capacity Plan'!$AC$21:$AC$50))","v":""}]
[null,"1st",null,null,null,null,null,null,null,null,null,null,null,null,null,null,null,null,null,null,null,null,null,null,null,null,null,null,null,null,null,null,null,null,null,null,null,null,null,null,null,null,null,null,null,null,null,null,null,null,null,null,null,null,null,null,null,null,null,null,null,null,null,null,null,null,null,null,null,null,null,null,null,null,null,null,null,null,null,null,null,null,null,null,null,null,null,null,null,null,null,null,{"$f":"MIN(CN16,CK16,CH16,CE16,CB16,BY16,BV16,BS16,BP16,BM16,BJ16,BG16,BD16,BA16,AX16,AU16,AR16,AO16,AL16,AI16,AF16,AC16,Z16,W16,T16,Q16,N16,K16,H16,E16)","v":0},{"$f":"CP18/3","v":0},{"$f":"HLOOKUP(MAX(E$140:CN$140),$E$140:$CN$145,5,FALSE)","v":0},null,null,null,{"$f":"IF(SUMIF('Capacity Plan'!$B$21:$B$50,'Capacity Plan'!$B22,'Capacity Plan'!$AC$21:$AC$50)=0,\"\",SUMIF('Capacity Plan'!$B$21:$B$50,'Capacity Plan'!$B22,'Capacity Plan'!$AC$21:$AC$50))","v":""}]
[null,"2nd",null,null,null,null,null,null,null,null,null,null,null,null,null,null,null,null,null,null,null,null,null,null,null,null,null,null,null,null,null,null,null,null,null,null,null,null,null,null,null,null,null,null,null,null,null,null,null,null,null,null,null,null,null,null,null,null,null,null,null,null,null,null,null,null,null,null,null,null,null,null,null,null,null,null,null,null,null,null,null,null,null,null,null,null,null,null,null,null,null,null,0,{"$f":"CP18/3","v":0},{"$f":"HLOOKUP(MAX(E$140:CN$140),$E$140:$CN$145,6,FALSE)","v":0},null,null,null,{"$f":"IF(SUMIF('Capacity Plan'!$B$21:$B$50,'Capacity Plan'!$B23,'Capacity Plan'!$AC$21:$AC$50)=0,\"\",SUMIF('Capacity Plan'!$B$21:$B$50,'Capacity Plan'!$B23,'Capacity Plan'!$AC$21:$AC$50))","v":""}]
[null,"Total",{"$f":"SUM(C15:C17)","v":0},{"$f":"SUM(D15:D17)","v":0},{"$f":"IF(E15+E16+E17=0,\"\",E15+E16+E17)","v":""},{"$f":"SUM(F15:F17)","v":0},0,{"$f":"IF(H15+H16+H17=0,\"\",H15+H16+H17)","v":""},0,0,{"$f":"IF(K15+K16+K17=0,\"\",K15+K16+K17)","v":""},0,0,{"$f":"IF(N15+N16+N17=0,\"\",N15+N16+N17)","v":""},0,0,{"$f":"IF(Q15+Q16+Q17=0,\"\",Q15+Q16+Q17)","v":""},0,0,{"$f":"IF(T15+T16+T17=0,\"\",T15+T16+T17)","v":""},0,0,{"$f":"IF(W15+W16+W17=0,\"\",W15+W16+W17)","v":""},0,0,{"$f":"IF(Z15+Z16+Z17=0,\"\",Z15+Z16+Z17)","v":""},0,0,{"$f":"IF(AC15+AC16+AC17=0,\"\",AC15+AC16+AC17)","v":""},0,0,{"$f":"IF(AF15+AF16+AF17=0,\"\",AF15+AF16+AF17)","v":""},{"$f":"SUM(AG15:AG17)","v":0},{"$f":"SUM(AH15:AH17)","v":0},{"$f":"IF(AI15+AI16+AI17=0,\"\",AI15+AI16+AI17)","v":""},{"$f":"SUM(AJ15:AJ17)","v":0},{"$f":"SUM(AK15:AK17)","v":0},{"$f":"IF(AL15+AL16+AL17=0,\"\",AL15+AL16+AL17)","v":""},{"$f":"SUM(AM15:AM17)","v":0},{"$f":"SUM(AN15:AN17)","v":0},{"$f":"IF(AO15+AO16+AO17=0,\"\",AO15+AO16+AO17)","v":""},{"$f":"SUM(AP15:AP17)","v":0},{"$f":"SUM(AQ15:AQ17)","v":0},{"$f":"IF(AR15+AR16+AR17=0,\"\",AR15+AR16+AR17)","v":""},{"$f":"SUM(AS15:AS17)","v":0},{"$f":"SUM(AT15:AT17)","v":0},{"$f":"IF(AU15+AU16+AU17=0,\"\",AU15+AU16+AU17)","v":""},{"$f":"SUM(AV15:AV17)","v":0},{"$f":"SUM(AW15:AW17)","v":0},{"$f":"IF(AX15+AX16+AX17=0,\"\",AX15+AX16+AX17)","v":""},{"$f":"SUM(AY15:AY17)","v":0},{"$f":"SUM(AZ15:AZ17)","v":0},{"$f":"IF(BA15+BA16+BA17=0,\"\",BA15+BA16+BA17)","v":""},{"$f":"SUM(BB15:BB17)","v":0},{"$f":"SUM(BC15:BC17)","v":0},{"$f":"IF(BD15+BD16+BD17=0,\"\",BD15+BD16+BD17)","v":""},{"$f":"SUM(BE15:BE17)","v":0},{"$f":"SUM(BF15:BF17)","v":0},{"$f":"IF(BG15+BG16+BG17=0,\"\",BG15+BG16+BG17)","v":""},{"$f":"SUM(BH15:BH17)","v":0},{"$f":"SUM(BI15:BI17)","v":0},{"$f":"IF(BJ15+BJ16+BJ17=0,\"\",BJ15+BJ16+BJ17)","v":""},{"$f":"SUM(BK15:BK17)","v":0},{"$f":"SUM(BL15:BL17)","v":0},{"$f":"IF(BM15+BM16+BM17=0,\"\",BM15+BM16+BM17)","v":""},{"$f":"SUM(BN15:BN17)","v":0},{"$f":"SUM(BO15:BO17)","v":0},{"$f":"IF(BP15+BP16+BP17=0,\"\",BP15+BP16+BP17)","v":""},{"$f":"SUM(BQ15:BQ17)","v":0},{"$f":"SUM(BR15:BR17)","v":0},{"$f":"IF(BS15+BS16+BS17=0,\"\",BS15+BS16+BS17)","v":""},{"$f":"SUM(BT15:BT17)","v":0},{"$f":"SUM(BU15:BU17)","v":0},{"$f":"IF(BV15+BV16+BV17=0,\"\",BV15+BV16+BV17)","v":""},{"$f":"SUM(BW15:BW17)","v":0},{"$f":"SUM(BX15:BX17)","v":0},{"$f":"IF(BY15+BY16+BY17=0,\"\",BY15+BY16+BY17)","v":""},{"$f":"SUM(BZ15:BZ17)","v":0},{"$f":"SUM(CA15:CA17)","v":0},{"$f":"IF(CB15+CB16+CB17=0,\"\",CB15+CB16+CB17)","v":""},{"$f":"SUM(CC15:CC17)","v":0},{"$f":"SUM(CD15:CD17)","v":0},{"$f":"IF(CE15+CE16+CE17=0,\"\",CE15+CE16+CE17)","v":""},{"$f":"SUM(CF15:CF17)","v":0},{"$f":"SUM(CG15:CG17)","v":0},{"$f":"IF(CH15+CH16+CH17=0,\"\",CH15+CH16+CH17)","v":""},{"$f":"SUM(CI15:CI17)","v":0},{"$f":"SUM(CJ15:CJ17)","v":0},{"$f":"IF(CK15+CK16+CK17=0,\"\",CK15+CK16+CK17)","v":""},{"$f":"SUM(CL15:CL17)","v":0},{"$f":"SUM(CM15:CM17)","v":0},{"$f":"IF(CN15+CN16+CN17=0,\"\",CN15+CN16+CN17)","v":""},0,{"$f":"MIN(CU15:CU44)","v":0},{"$f":"SUM(CQ15:CQ17)","v":0},null,null,null,{"$f":"IF(SUMIF('Capacity Plan'!$B$21:$B$50,'Capacity Plan'!$B24,'Capacity Plan'!$AC$21:$AC$50)=0,\"\",SUMIF('Capacity Plan'!$B$21:$B$50,'Capacity Plan'!$B24,'Capacity Plan'!$AC$21:$AC$50))","v":""}]
[{"$f":"A15+1","v":"2019-01-02"},"3rd",null,null,null,null,null,null,null,null,null,null,null,null,null,null,null,null,null,null,null,null,null,null,null,null,null,null,null,null,null,null,null,null,null,null,null,null,null,null,null,null,null,null,null,null,null,null,null,null,null,null,null,null,null,null,null,null,null,null,null,null,null,null,null,null,null,null,null,null,null,null,null,null,null,null,null,null,null,null,null,null,null,null,null,null,null,null,null,null,null,null,0,null,{"$f":"HLOOKUP(MAX(E$140:CN$140),$E$140:$CN$250,8,FALSE)","v":0},null,null,null,{"$f":"IF(SUMIF('Capacity Plan'!$B$21:$B$50,'Capacity Plan'!$B25,'Capacity Plan'!$AC$21:$AC$50)=0,\"\",SUMIF('Capacity Plan'!$B$21:$B$50,'Capacity Plan'!$B25,'Capacity Plan'!$AC$21:$AC$50))","v":""}]
[null,"1st",null,null,null,null,null,null,null,null,null,null,null,null,null,null,null,null,null,null,null,null,null,null,null,null,null,null,null,null,null,null,null,null,null,null,null,null,null,null,null,null,null,null,null,null,null,null,null,null,null,null,null,null,null,null,null,null,null,null,null,null,null,null,null,null,null,null,null,null,null,null,null,null,null,null,null,null,null,null,null,null,null,null,null,null,null,null,null,null,null,null,0,null,{"$f":"HLOOKUP(MAX(E$140:CN$140),$E$140:$CN$250,9,FALSE)","v":0},null,null,null,{"$f":"IF(SUMIF('Capacity Plan'!$B$21:$B$50,'Capacity Plan'!$B26,'Capacity Plan'!$AC$21:$AC$50)=0,\"\",SUMIF('Capacity Plan'!$B$21:$B$50,'Capacity Plan'!$B26,'Capacity Plan'!$AC$21:$AC$50))","v":""}]
[null,"2nd",null,null,null,null,null,null,null,null,null,null,null,null,null,null,null,null,null,null,null,null,null,null,null,null,null,null,null,null,null,null,null,null,null,null,null,null,null,null,null,null,null,null,null,null,null,null,null,null,null,null,null,null,null,null,null,null,null,null,null,null,null,null,null,null,null,null,null,null,null,null,null,null,null,null,null,null,null,null,null,null,null,null,null,null,null,null,null,null,null,null,0,null,{"$f":"HLOOKUP(MAX(E$140:CN$140),$E$140:$CN$250,10,FALSE)","v":0},null,null,null,{"$f":"IF(SUMIF('Capacity Plan'!$B$21:$B$50,'Capacity Plan'!$B27,'Capacity Plan'!$AC$21:$AC$50)=0,\"\",SUMIF('Capacity Plan'!$B$21:$B$50,'Capacity Plan'!$B27,'Capacity Plan'!$AC$21:$AC$50))","v":""}]
[null,"Total",{"$f":"SUM(C19:C21)","v":0},{"$f":"SUM(D19:D21)","v":0},{"$f":"IF(E19+E20+E21=0,\"\",E19+E20+E21)","v":""},{"$f":"SUM(F19:F21)","v":0},{"$f":"SUM(G19:G21)","v":0},{"$f":"IF(H19+H20+H21=0,\"\",H19+H20+H21)","v":""},{"$f":"SUM(I19:I21)","v":0},{"$f":"SUM(J19:J21)","v":0},{"$f":"IF(K19+K20+K21=0,\"\",K19+K20+K21)","v":""},{"$f":"SUM(L19:L21)","v":0},{"$f":"SUM(M19:M21)","v":0},{"$f":"IF(N19+N20+N21=0,\"\",N19+N20+N21)","v":""},{"$f":"SUM(O19:O21)","v":0},{"$f":"SUM(P19:P21)","v":0},{"$f":"IF(Q19+Q20+Q21=0,\"\",Q19+Q20+Q21)","v":""},{"$f":"SUM(R19:R21)","v":0},{"$f":"SUM(S19:S21)","v":0},{"$f":"IF(T19+T20+T21=0,\"\",T19+T20+T21)","v":""},{"$f":"SUM(U19:U21)","v":0},{"$f":"SUM(V19:V21)","v":0},{"$f":"IF(W19+W20+W21=0,\"\",W19+W20+W21)","v":""},{"$f":"SUM(X19:X21)","v":0},{"$f":"SUM(Y19:Y21)","v":0},{"$f":"IF(Z19+Z20+Z21=0,\"\",Z19+Z20+Z21)","v":""},{"$f":"SUM(AA19:AA21)","v":0},{"$f":"SUM(AB19:AB21)","v":0},{"$f":"IF(AC19+AC20+AC21=0,\"\",AC19+AC20+AC21)","v":""},{"$f":"SUM(AD19:AD21)","v":0},{"$f":"SUM(AE19:AE21)","v":0},{"$f":"IF(AF19+AF20+AF21=0,\"\",AF19+AF20+AF21)","v":""},{"$f":"SUM(AG19:AG21)","v":0},{"$f":"SUM(AH19:AH21)","v":0},{"$f":"IF(AI19+AI20+AI21=0,\"\",AI19+AI20+AI21)","v":""},{"$f":"SUM(AJ19:AJ21)","v":0},{"$f":"SUM(AK19:AK21)","v":0},{"$f":"IF(AL19+AL20+AL21=0,\"\",AL19+AL20+AL21)","v":""},{"$f":"SUM(AM19:AM21)","v":0},{"$f":"SUM(AN19:AN21)","v":0},{"$f":"IF(AO19+AO20+AO21=0,\"\",AO19+AO20+AO21)","v":""},{"$f":"SUM(AP19:AP21)","v":0},{"$f":"SUM(AQ19:AQ21)","v":0},{"$f":"IF(AR19+AR20+AR21=0,\"\",AR19+AR20+AR21)","v":""},{"$f":"SUM(AS19:AS21)","v":0},{"$f":"SUM(AT19:AT21)","v":0},{"$f":"IF(AU19+AU20+AU21=0,\"\",AU19+AU20+AU21)","v":""},{"$f":"SUM(AV19:AV21)","v":0},{"$f":"SUM(AW19:AW21)","v":0},{"$f":"IF(AX19+AX20+AX21=0,\"\",AX19+AX20+AX21)","v":""},{"$f":"SUM(AY19:AY21)","v":0},{"$f":"SUM(AZ19:AZ21)","v":0},{"$f":"IF(BA19+BA20+BA21=0,\"\",BA19+BA20+BA21)","v":""},{"$f":"SUM(BB19:BB21)","v":0},{"$f":"SUM(BC19:BC21)","v":0},{"$f":"IF(BD19+BD20+BD21=0,\"\",BD19+BD20+BD21)","v":""},{"$f":"SUM(BE19:BE21)","v":0},{"$f":"SUM(BF19:BF21)","v":0},{"$f":"IF(BG19+BG20+BG21=0,\"\",BG19+BG20+BG21)","v":""},{"$f":"SUM(BH19:BH21)","v":0},{"$f":"SUM(BI19:BI21)","v":0},{"$f":"IF(BJ19+BJ20+BJ21=0,\"\",BJ19+BJ20+BJ21)","v":""},{"$f":"SUM(BK19:BK21)","v":0},{"$f":"SUM(BL19:BL21)","v":0},{"$f":"IF(BM19+BM20+BM21=0,\"\",BM19+BM20+BM21)","v":""},{"$f":"SUM(BN19:BN21)","v":0},{"$f":"SUM(BO19:BO21)","v":0},{"$f":"IF(BP19+BP20+BP21=0,\"\",BP19+BP20+BP21)","v":""},{"$f":"SUM(BQ19:BQ21)","v":0},{"$f":"SUM(BR19:BR21)","v":0},{"$f":"IF(BS19+BS20+BS21=0,\"\",BS19+BS20+BS21)","v":""},{"$f":"SUM(BT19:BT21)","v":0},{"$f":"SUM(BU19:BU21)","v":0},{"$f":"IF(BV19+BV20+BV21=0,\"\",BV19+BV20+BV21)","v":""},{"$f":"SUM(BW19:BW21)","v":0},{"$f":"SUM(BX19:BX21)","v":0},{"$f":"IF(BY19+BY20+BY21=0,\"\",BY19+BY20+BY21)","v":""},{"$f":"SUM(BZ19:BZ21)","v":0},{"$f":"SUM(CA19:CA21)","v":0},{"$f":"IF(CB19+CB20+CB21=0,\"\",CB19+CB20+CB21)","v":""},{"$f":"SUM(CC19:CC21)","v":0},{"$f":"SUM(CD19:CD21)","v":0},{"$f":"IF(CE19+CE20+CE21=0,\"\",CE19+CE20+CE21)","v":""},{"$f":"SUM(CF19:CF21)","v":0},{"$f":"SUM(CG19:CG21)","v":0},{"$f":"IF(CH19+CH20+CH21=0,\"\",CH19+CH20+CH21)","v":""},{"$f":"SUM(CI19:CI21)","v":0},{"$f":"SUM(CJ19:CJ21)","v":0},{"$f":"IF(CK19+CK20+CK21=0,\"\",CK19+CK20+CK21)","v":""},{"$f":"SUM(CL19:CL21)","v":0},{"$f":"SUM(CM19:CM21)","v":0},{"$f":"IF(CN19+CN20+CN21=0,\"\",CN19+CN20+CN21)","v":""},0,{"$f":"SUM(CP19:CP21)","v":0},{"$f":"SUM(CQ19:CQ21)","v":0},null,null,null,{"$f":"IF(SUMIF('Capacity Plan'!$B$21:$B$50,'Capacity Plan'!$B28,'Capacity Plan'!$AC$21:$AC$50)=0,\"\",SUMIF('Capacity Plan'!$B$21:$B$50,'Capacity Plan'!$B28,'Capacity Plan'!$AC$21:$AC$50))","v":""}]
[{"$f":"A19+1","v":"2019-01-03"},"3rd",null,null,null,null,null,null,null,null,null,null,null,null,null,null,null,null,null,null,null,null,null,null,null,null,null,null,null,null,null,null,null,null,null,null,null,null,null,null,null,null,null,null,null,null,null,null,null,null,null,null,null,null,null,null,null,null,null,null,null,null,null,null,null,null,null,null,null,null,null,null,null,null,null,null,null,null,null,null,null,null,null,null,null,null,null,null,null,null,null,null,0,null,{"$f":"HLOOKUP(MAX(E$140:CN$140),$E$140:$CN$250,12,FALSE)","v":0},null,null,null,{"$f":"IF(SUMIF('Capacity Plan'!$B$21:$B$50,'Capacity Plan'!$B29,'Capacity Plan'!$AC$21:$AC$50)=0,\"\",SUMIF('Capacity Plan'!$B$21:$B$50,'Capacity Plan'!$B29,'Capacity Plan'!$AC$21:$AC$50))","v":""}]
[null,"1st",null,null,null,null,null,null,null,null,null,null,null,null,null,null,null,null,null,null,null,null,null,null,null,null,null,null,null,null,null,null,null,null,null,null,null,null,null,null,null,null,null,null,null,null,null,null,null,null,null,null,null,null,null,null,null,null,null,null,null,null,null,null,null,null,null,null,null,null,null,null,null,null,null,null,null,null,null,null,null,null,null,null,null,null,null,null,null,null,null,null,0,null,{"$f":"HLOOKUP(MAX(E$140:CN$140),$E$140:$CN$250,13,FALSE)","v":0},null,null,null,{"$f":"IF(SUMIF('Capacity Plan'!$B$21:$B$50,'Capacity Plan'!$B30,'Capacity Plan'!$AC$21:$AC$50)=0,\"\",SUMIF('Capacity Plan'!$B$21:$B$50,'Capacity Plan'!$B30,'Capacity Plan'!$AC$21:$AC$50))","v":""}]
[null,"2nd",null,null,null,null,null,null,null,null,null,null,null,null,null,null,null,null,null,null,null,null,null,null,null,null,null,null,null,null,null,null,null,null,null,null,null,null,null,null,null,null,null,null,null,null,null,null,null,null,null,null,null,null,null,null,null,null,null,null,null,null,null,null,null,null,null,null,null,null,null,null,null,null,null,null,null,null,null,null,null,null,null,null,null,null,null,null,null,null,null,null,0,null,{"$f":"HLOOKUP(MAX(E$140:CN$140),$E$140:$CN$250,14,FALSE)","v":0},null,null,null,{"$f":"IF(SUMIF('Capacity Plan'!$B$21:$B$50,'Capacity Plan'!$B31,'Capacity Plan'!$AC$21:$AC$50)=0,\"\",SUMIF('Capacity Plan'!$B$21:$B$50,'Capacity Plan'!$B31,'Capacity Plan'!$AC$21:$AC$50))","v":""}]
[null,"Total",{"$f":"SUM(C23:C25)","v":0},{"$f":"SUM(D23:D25)","v":0},{"$f":"IF(E23+E24+E25=0,\"\",E23+E24+E25)","v":""},{"$f":"SUM(F23:F25)","v":0},{"$f":"SUM(G23:G25)","v":0},{"$f":"IF(H23+H24+H25=0,\"\",H23+H24+H25)","v":""},{"$f":"SUM(I23:I25)","v":0},{"$f":"SUM(J23:J25)","v":0},{"$f":"IF(K23+K24+K25=0,\"\",K23+K24+K25)","v":""},{"$f":"SUM(L23:L25)","v":0},{"$f":"SUM(M23:M25)","v":0},{"$f":"IF(N23+N24+N25=0,\"\",N23+N24+N25)","v":""},{"$f":"SUM(O23:O25)","v":0},{"$f":"SUM(P23:P25)","v":0},{"$f":"IF(Q23+Q24+Q25=0,\"\",Q23+Q24+Q25)","v":""},{"$f":"SUM(R23:R25)","v":0},{"$f":"SUM(S23:S25)","v":0},{"$f":"IF(T23+T24+T25=0,\"\",T23+T24+T25)","v":""},{"$f":"SUM(U23:U25)","v":0},{"$f":"SUM(V23:V25)","v":0},{"$f":"IF(W23+W24+W25=0,\"\",W23+W24+W25)","v":""},{"$f":"SUM(X23:X25)","v":0},{"$f":"SUM(Y23:Y25)","v":0},{"$f":"IF(Z23+Z24+Z25=0,\"\",Z23+Z24+Z25)","v":""},{"$f":"SUM(AA23:AA25)","v":0},{"$f":"SUM(AB23:AB25)","v":0},{"$f":"IF(AC23+AC24+AC25=0,\"\",AC23+AC24+AC25)","v":""},{"$f":"SUM(AD23:AD25)","v":0},{"$f":"SUM(AE23:AE25)","v":0},{"$f":"IF(AF23+AF24+AF25=0,\"\",AF23+AF24+AF25)","v":""},{"$f":"SUM(AG23:AG25)","v":0},{"$f":"SUM(AH23:AH25)","v":0},{"$f":"IF(AI23+AI24+AI25=0,\"\",AI23+AI24+AI25)","v":""},{"$f":"SUM(AJ23:AJ25)","v":0},{"$f":"SUM(AK23:AK25)","v":0},{"$f":"IF(AL23+AL24+AL25=0,\"\",AL23+AL24+AL25)","v":""},{"$f":"SUM(AM23:AM25)","v":0},{"$f":"SUM(AN23:AN25)","v":0},{"$f":"IF(AO23+AO24+AO25=0,\"\",AO23+AO24+AO25)","v":""},{"$f":"SUM(AP23:AP25)","v":0},{"$f":"SUM(AQ23:AQ25)","v":0},{"$f":"IF(AR23+AR24+AR25=0,\"\",AR23+AR24+AR25)","v":""},{"$f":"SUM(AS23:AS25)","v":0},{"$f":"SUM(AT23:AT25)","v":0},{"$f":"IF(AU23+AU24+AU25=0,\"\",AU23+AU24+AU25)","v":""},{"$f":"SUM(AV23:AV25)","v":0},{"$f":"SUM(AW23:AW25)","v":0},{"$f":"IF(AX23+AX24+AX25=0,\"\",AX23+AX24+AX25)","v":""},{"$f":"SUM(AY23:AY25)","v":0},{"$f":"SUM(AZ23:AZ25)","v":0},{"$f":"IF(BA23+BA24+BA25=0,\"\",BA23+BA24+BA25)","v":""},{"$f":"SUM(BB23:BB25)","v":0},{"$f":"SUM(BC23:BC25)","v":0},{"$f":"IF(BD23+BD24+BD25=0,\"\",BD23+BD24+BD25)","v":""},{"$f":"SUM(BE23:BE25)","v":0},{"$f":"SUM(BF23:BF25)","v":0},{"$f":"IF(BG23+BG24+BG25=0,\"\",BG23+BG24+BG25)","v":""},{"$f":"SUM(BH23:BH25)","v":0},{"$f":"SUM(BI23:BI25)","v":0},{"$f":"IF(BJ23+BJ24+BJ25=0,\"\",BJ23+BJ24+BJ25)","v":""},{"$f":"SUM(BK23:BK25)","v":0},{"$f":"SUM(BL23:BL25)","v":0},{"$f":"IF(BM23+BM24+BM25=0,\"\",BM23+BM24+BM25)","v":""},{"$f":"SUM(BN23:BN25)","v":0},{"$f":"SUM(BO23:BO25)","v":0},{"$f":"IF(BP23+BP24+BP25=0,\"\",BP23+BP24+BP25)","v":""},{"$f":"SUM(BQ23:BQ25)","v":0},{"$f":"SUM(BR23:BR25)","v":0},{"$f":"IF(BS23+BS24+BS25=0,\"\",BS23+BS24+BS25)","v":""},{"$f":"SUM(BT23:BT25)","v":0},{"$f":"SUM(BU23:BU25)","v":0},{"$f":"IF(BV23+BV24+BV25=0,\"\",BV23+BV24+BV25)","v":""},{"$f":"SUM(BW23:BW25)","v":0},{"$f":"SUM(BX23:BX25)","v":0},{"$f":"IF(BY23+BY24+BY25=0,\"\",BY23+BY24+BY25)","v":""},{"$f":"SUM(BZ23:BZ25)","v":0},{"$f":"SUM(CA23:CA25)","v":0},{"$f":"IF(CB23+CB24+CB25=0,\"\",CB23+CB24+CB25)","v":""},{"$f":"SUM(CC23:CC25)","v":0},{"$f":"SUM(CD23:CD25)","v":0},{"$f":"IF(CE23+CE24+CE25=0,\"\",CE23+CE24+CE25)","v":""},{"$f":"SUM(CF23:CF25)","v":0},{"$f":"SUM(CG23:CG25)","v":0},{"$f":"IF(CH23+CH24+CH25=0,\"\",CH23+CH24+CH25)","v":""},{"$f":"SUM(CI23:CI25)","v":0},{"$f":"SUM(CJ23:CJ25)","v":0},{"$f":"IF(CK23+CK24+CK25=0,\"\",CK23+CK24+CK25)","v":""},{"$f":"SUM(CL23:CL25)","v":0},{"$f":"SUM(CM23:CM25)","v":0},{"$f":"IF(CN23+CN24+CN25=0,\"\",CN23+CN24+CN25)","v":""},0,{"$f":"SUM(CP23:CP25)","v":0},{"$f":"SUM(CQ23:CQ25)","v":0},null,null,null,{"$f":"IF(SUMIF('Capacity Plan'!$B$21:$B$50,'Capacity Plan'!$B32,'Capacity Plan'!$AC$21:$AC$50)=0,\"\",SUMIF('Capacity Plan'!$B$21:$B$50,'Capacity Plan'!$B32,'Capacity Plan'!$AC$21:$AC$50))","v":""}]
[{"$f":"A23+1","v":"2019-01-04"},"3rd",null,null,null,null,null,null,null,null,null,null,null,null,null,null,null,null,null,null,null,null,null,null,null,null,null,null,null,null,null,null,null,null,null,null,null,null,null,null,null,null,null,null,null,null,null,null,null,null,null,null,null,null,null,null,null,null,null,null,null,null,null,null,null,null,null,null,null,null,null,null,null,null,null,null,null,null,null,null,null,null,null,null,null,null,null,null,null,null,null,null,0,null,{"$f":"HLOOKUP(MAX(E$140:CN$140),$E$140:$CN$250,16,FALSE)","v":0},null,null,null,{"$f":"IF(SUMIF('Capacity Plan'!$B$21:$B$50,'Capacity Plan'!$B33,'Capacity Plan'!$AC$21:$AC$50)=0,\"\",SUMIF('Capacity Plan'!$B$21:$B$50,'Capacity Plan'!$B33,'Capacity Plan'!$AC$21:$AC$50))","v":""}]
[null,"1st",null,null,null,null,null,null,null,null,null,null,null,null,null,null,null,null,null,null,null,null,null,null,null,null,null,null,null,null,null,null,null,null,null,null,null,null,null,null,null,null,null,null,null,null,null,null,null,null,null,null,null,null,null,null,null,null,null,null,null,null,null,null,null,null,null,null,null,null,null,null,null,null,null,null,null,null,null,null,null,null,null,null,null,null,null,null,null,null,null,null,0,null,{"$f":"HLOOKUP(MAX(E$140:CN$140),$E$140:$CN$250,17,FALSE)","v":0},null,null,null,{"$f":"IF(SUMIF('Capacity Plan'!$B$21:$B$50,'Capacity Plan'!$B34,'Capacity Plan'!$AC$21:$AC$50)=0,\"\",SUMIF('Capacity Plan'!$B$21:$B$50,'Capacity Plan'!$B34,'Capacity Plan'!$AC$21:$AC$50))","v":""}]
[null,"2nd",null,null,null,null,null,null,null,null,null,null,null,null,null,null,null,null,null,null,null,null,null,null,null,null,null,null,null,null,null,null,null,null,null,null,null,null,null,null,null,null,null,null,null,null,null,null,null,null,null,null,null,null,null,null,null,null,null,null,null,null,null,null,null,null,null,null,null,null,null,null,null,null,null,null,null,null,null,null,null,null,null,null,null,null,null,null,null,null,null,null,0,null,{"$f":"HLOOKUP(MAX(E$140:CN$140),$E$140:$CN$250,18,FALSE)","v":0},null,null,null,{"$f":"IF(SUMIF('Capacity Plan'!$B$21:$B$50,'Capacity Plan'!$B35,'Capacity Plan'!$AC$21:$AC$50)=0,\"\",SUMIF('Capacity Plan'!$B$21:$B$50,'Capacity Plan'!$B35,'Capacity Plan'!$AC$21:$AC$50))","v":""}]
[null,"Total",{"$f":"SUM(C27:C29)","v":0},{"$f":"SUM(D27:D29)","v":0},{"$f":"IF(E27+E28+E29=0,\"\",E27+E28+E29)","v":""},{"$f":"SUM(F27:F29)","v":0},{"$f":"SUM(G27:G29)","v":0},{"$f":"IF(H27+H28+H29=0,\"\",H27+H28+H29)","v":""},{"$f":"SUM(I27:I29)","v":0},{"$f":"SUM(J27:J29)","v":0},{"$f":"IF(K27+K28+K29=0,\"\",K27+K28+K29)","v":""},{"$f":"SUM(L27:L29)","v":0},{"$f":"SUM(M27:M29)","v":0},{"$f":"IF(N27+N28+N29=0,\"\",N27+N28+N29)","v":""},{"$f":"SUM(O27:O29)","v":0},{"$f":"SUM(P27:P29)","v":0},{"$f":"IF(Q27+Q28+Q29=0,\"\",Q27+Q28+Q29)","v":""},{"$f":"SUM(R27:R29)","v":0},{"$f":"SUM(S27:S29)","v":0},{"$f":"IF(T27+T28+T29=0,\"\",T27+T28+T29)","v":""},{"$f":"SUM(U27:U29)","v":0},{"$f":"SUM(V27:V29)","v":0},{"$f":"IF(W27+W28+W29=0,\"\",W27+W28+W29)","v":""},{"$f":"SUM(X27:X29)","v":0},{"$f":"SUM(Y27:Y29)","v":0},{"$f":"IF(Z27+Z28+Z29=0,\"\",Z27+Z28+Z29)","v":""},{"$f":"SUM(AA27:AA29)","v":0},{"$f":"SUM(AB27:AB29)","v":0},{"$f":"IF(AC27+AC28+AC29=0,\"\",AC27+AC28+AC29)","v":""},{"$f":"SUM(AD27:AD29)","v":0},{"$f":"SUM(AE27:AE29)","v":0},{"$f":"IF(AF27+AF28+AF29=0,\"\",AF27+AF28+AF29)","v":""},{"$f":"SUM(AG27:AG29)","v":0},{"$f":"SUM(AH27:AH29)","v":0},{"$f":"IF(AI27+AI28+AI29=0,\"\",AI27+AI28+AI29)","v":""},{"$f":"SUM(AJ27:AJ29)","v":0},{"$f":"SUM(AK27:AK29)","v":0},{"$f":"IF(AL27+AL28+AL29=0,\"\",AL27+AL28+AL29)","v":""},{"$f":"SUM(AM27:AM29)","v":0},{"$f":"SUM(AN27:AN29)","v":0},{"$f":"IF(AO27+AO28+AO29=0,\"\",AO27+AO28+AO29)","v":""},{"$f":"SUM(AP27:AP29)","v":0},{"$f":"SUM(AQ27:AQ29)","v":0},{"$f":"IF(AR27+AR28+AR29=0,\"\",AR27+AR28+AR29)","v":""},{"$f":"SUM(AS27:AS29)","v":0},{"$f":"SUM(AT27:AT29)","v":0},{"$f":"IF(AU27+AU28+AU29=0,\"\",AU27+AU28+AU29)","v":""},{"$f":"SUM(AV27:AV29)","v":0},{"$f":"SUM(AW27:AW29)","v":0},{"$f":"IF(AX27+AX28+AX29=0,\"\",AX27+AX28+AX29)","v":""},{"$f":"SUM(AY27:AY29)","v":0},{"$f":"SUM(AZ27:AZ29)","v":0},{"$f":"IF(BA27+BA28+BA29=0,\"\",BA27+BA28+BA29)","v":""},{"$f":"SUM(BB27:BB29)","v":0},{"$f":"SUM(BC27:BC29)","v":0},{"$f":"IF(BD27+BD28+BD29=0,\"\",BD27+BD28+BD29)","v":""},{"$f":"SUM(BE27:BE29)","v":0},{"$f":"SUM(BF27:BF29)","v":0},{"$f":"IF(BG27+BG28+BG29=0,\"\",BG27+BG28+BG29)","v":""},{"$f":"SUM(BH27:BH29)","v":0},{"$f":"SUM(BI27:BI29)","v":0},{"$f":"IF(BJ27+BJ28+BJ29=0,\"\",BJ27+BJ28+BJ29)","v":""},{"$f":"SUM(BK27:BK29)","v":0},{"$f":"SUM(BL27:BL29)","v":0},{"$f":"IF(BM27+BM28+BM29=0,\"\",BM27+BM28+BM29)","v":""},{"$f":"SUM(BN27:BN29)","v":0},{"$f":"SUM(BO27:BO29)","v":0},{"$f":"IF(BP27+BP28+BP29=0,\"\",BP27+BP28+BP29)","v":""},{"$f":"SUM(BQ27:BQ29)","v":0},{"$f":"SUM(BR27:BR29)","v":0},{"$f":"IF(BS27+BS28+BS29=0,\"\",BS27+BS28+BS29)","v":""},{"$f":"SUM(BT27:BT29)","v":0},{"$f":"SUM(BU27:BU29)","v":0},{"$f":"IF(BV27+BV28+BV29=0,\"\",BV27+BV28+BV29)","v":""},{"$f":"SUM(BW27:BW29)","v":0},{"$f":"SUM(BX27:BX29)","v":0},{"$f":"IF(BY27+BY28+BY29=0,\"\",BY27+BY28+BY29)","v":""},{"$f":"SUM(BZ27:BZ29)","v":0},{"$f":"SUM(CA27:CA29)","v":0},{"$f":"IF(CB27+CB28+CB29=0,\"\",CB27+CB28+CB29)","v":""},{"$f":"SUM(CC27:CC29)","v":0},{"$f":"SUM(CD27:CD29)","v":0},{"$f":"IF(CE27+CE28+CE29=0,\"\",CE27+CE28+CE29)","v":""},{"$f":"SUM(CF27:CF29)","v":0},{"$f":"SUM(CG27:CG29)","v":0},{"$f":"IF(CH27+CH28+CH29=0,\"\",CH27+CH28+CH29)","v":""},{"$f":"SUM(CI27:CI29)","v":0},{"$f":"SUM(CJ27:CJ29)","v":0},{"$f":"IF(CK27+CK28+CK29=0,\"\",CK27+CK28+CK29)","v":""},{"$f":"SUM(CL27:CL29)","v":0},{"$f":"SUM(CM27:CM29)","v":0},{"$f":"IF(CN27+CN28+CN29=0,\"\",CN27+CN28+CN29)","v":""},0,{"$f":"SUM(CP27:CP29)","v":0},{"$f":"SUM(CQ27:CQ29)","v":0},null,null,null,{"$f":"IF(SUMIF('Capacity Plan'!$B$21:$B$50,'Capacity Plan'!$B36,'Capacity Plan'!$AC$21:$AC$50)=0,\"\",SUMIF('Capacity Plan'!$B$21:$B$50,'Capacity Plan'!$B36,'Capacity Plan'!$AC$21:$AC$50))","v":""}]
[{"$f":"A27+1","v":"2019-01-05"},"3rd",null,null,null,null,null,null,null,null,null,null,null,null,null,null,null,null,null,null,null,null,null,null,null,null,null,null,null,null,null,null,null,null,null,null,null,null,null,null,null,null,null,null,null,null,null,null,null,null,null,null,null,null,null,null,null,null,null,null,null,null,null,null,null,null,null,null,null,null,null,null,null,null,null,null,null,null,null,null,null,null,null,null,null,null,null,null,null,null,null,null,0,null,{"$f":"HLOOKUP(MAX(E$140:CN$140),$E$140:$CN$250,20,FALSE)","v":0},null,null,null,{"$f":"IF(SUMIF('Capacity Plan'!$B$21:$B$50,'Capacity Plan'!$B37,'Capacity Plan'!$AC$21:$AC$50)=0,\"\",SUMIF('Capacity Plan'!$B$21:$B$50,'Capacity Plan'!$B37,'Capacity Plan'!$AC$21:$AC$50))","v":""}]
[null,"1st",null,null,null,null,null,null,null,null,null,null,null,null,null,null,null,null,null,null,null,null,null,null,null,null,null,null,null,null,null,null,null,null,null,null,null,null,null,null,null,null,null,null,null,null,null,null,null,null,null,null,null,null,null,null,null,null,null,null,null,null,null,null,null,null,null,null,null,null,null,null,null,null,null,null,null,null,null,null,null,null,null,null,null,null,null,null,null,null,null,null,0,null,{"$f":"HLOOKUP(MAX(E$140:CN$140),$E$140:$CN$250,21,FALSE)","v":0},null,null,null,{"$f":"IF(SUMIF('Capacity Plan'!$B$21:$B$50,'Capacity Plan'!$B38,'Capacity Plan'!$AC$21:$AC$50)=0,\"\",SUMIF('Capacity Plan'!$B$21:$B$50,'Capacity Plan'!$B38,'Capacity Plan'!$AC$21:$AC$50))","v":""}]
[null,"2nd",null,null,null,null,null,null,null,null,null,null,null,null,null,null,null,null,null,null,null,null,null,null,null,null,null,null,null,null,null,null,null,null,null,null,null,null,null,null,null,null,null,null,null,null,null,null,null,null,null,null,null,null,null,null,null,null,null,null,null,null,null,null,null,null,null,null,null,null,null,null,null,null,null,null,null,null,null,null,null,null,null,null,null,null,null,null,null,null,null,null,0,null,{"$f":"HLOOKUP(MAX(E$140:CN$140),$E$140:$CN$250,22,FALSE)","v":0},null,null,null,{"$f":"IF(SUMIF('Capacity Plan'!$B$21:$B$50,'Capacity Plan'!$B39,'Capacity Plan'!$AC$21:$AC$50)=0,\"\",SUMIF('Capacity Plan'!$B$21:$B$50,'Capacity Plan'!$B39,'Capacity Plan'!$AC$21:$AC$50))","v":""}]
[null,"Total",{"$f":"SUM(C31:C33)","v":0},{"$f":"SUM(D31:D33)","v":0},{"$f":"IF(E31+E32+E33=0,\"\",E31+E32+E33)","v":""},{"$f":"SUM(F31:F33)","v":0},{"$f":"SUM(G31:G33)","v":0},{"$f":"IF(H31+H32+H33=0,\"\",H31+H32+H33)","v":""},{"$f":"SUM(I31:I33)","v":0},{"$f":"SUM(J31:J33)","v":0},{"$f":"IF(K31+K32+K33=0,\"\",K31+K32+K33)","v":""},{"$f":"SUM(L31:L33)","v":0},{"$f":"SUM(M31:M33)","v":0},{"$f":"IF(N31+N32+N33=0,\"\",N31+N32+N33)","v":""},{"$f":"SUM(O31:O33)","v":0},{"$f":"SUM(P31:P33)","v":0},{"$f":"IF(Q31+Q32+Q33=0,\"\",Q31+Q32+Q33)","v":""},{"$f":"SUM(R31:R33)","v":0},{"$f":"SUM(S31:S33)","v":0},{"$f":"IF(T31+T32+T33=0,\"\",T31+T32+T33)","v":""},{"$f":"SUM(U31:U33)","v":0},{"$f":"SUM(V31:V33)","v":0},{"$f":"IF(W31+W32+W33=0,\"\",W31+W32+W33)","v":""},{"$f":"SUM(X31:X33)","v":0},{"$f":"SUM(Y31:Y33)","v":0},{"$f":"IF(Z31+Z32+Z33=0,\"\",Z31+Z32+Z33)","v":""},{"$f":"SUM(AA31:AA33)","v":0},{"$f":"SUM(AB31:AB33)","v":0},{"$f":"IF(AC31+AC32+AC33=0,\"\",AC31+AC32+AC33)","v":""},{"$f":"SUM(AD31:AD33)","v":0},{"$f":"SUM(AE31:AE33)","v":0},{"$f":"IF(AF31+AF32+AF33=0,\"\",AF31+AF32+AF33)","v":""},{"$f":"SUM(AG31:AG33)","v":0},{"$f":"SUM(AH31:AH33)","v":0},{"$f":"IF(AI31+AI32+AI33=0,\"\",AI31+AI32+AI33)","v":""},{"$f":"SUM(AJ31:AJ33)","v":0},{"$f":"SUM(AK31:AK33)","v":0},{"$f":"IF(AL31+AL32+AL33=0,\"\",AL31+AL32+AL33)","v":""},{"$f":"SUM(AM31:AM33)","v":0},{"$f":"SUM(AN31:AN33)","v":0},{"$f":"IF(AO31+AO32+AO33=0,\"\",AO31+AO32+AO33)","v":""},{"$f":"SUM(AP31:AP33)","v":0},{"$f":"SUM(AQ31:AQ33)","v":0},{"$f":"IF(AR31+AR32+AR33=0,\"\",AR31+AR32+AR33)","v":""},{"$f":"SUM(AS31:AS33)","v":0},{"$f":"SUM(AT31:AT33)","v":0},{"$f":"IF(AU31+AU32+AU33=0,\"\",AU31+AU32+AU33)","v":""},{"$f":"SUM(AV31:AV33)","v":0},{"$f":"SUM(AW31:AW33)","v":0},{"$f":"IF(AX31+AX32+AX33=0,\"\",AX31+AX32+AX33)","v":""},{"$f":"SUM(AY31:AY33)","v":0},{"$f":"SUM(AZ31:AZ33)","v":0},{"$f":"IF(BA31+BA32+BA33=0,\"\",BA31+BA32+BA33)","v":""},{"$f":"SUM(BB31:BB33)","v":0},{"$f":"SUM(BC31:BC33)","v":0},{"$f":"IF(BD31+BD32+BD33=0,\"\",BD31+BD32+BD33)","v":""},{"$f":"SUM(BE31:BE33)","v":0},{"$f":"SUM(BF31:BF33)","v":0},{"$f":"IF(BG31+BG32+BG33=0,\"\",BG31+BG32+BG33)","v":""},{"$f":"SUM(BH31:BH33)","v":0},{"$f":"SUM(BI31:BI33)","v":0},{"$f":"IF(BJ31+BJ32+BJ33=0,\"\",BJ31+BJ32+BJ33)","v":""},{"$f":"SUM(BK31:BK33)","v":0},{"$f":"SUM(BL31:BL33)","v":0},{"$f":"IF(BM31+BM32+BM33=0,\"\",BM31+BM32+BM33)","v":""},{"$f":"SUM(BN31:BN33)","v":0},{"$f":"SUM(BO31:BO33)","v":0},{"$f":"IF(BP31+BP32+BP33=0,\"\",BP31+BP32+BP33)","v":""},{"$f":"SUM(BQ31:BQ33)","v":0},{"$f":"SUM(BR31:BR33)","v":0},{"$f":"IF(BS31+BS32+BS33=0,\"\",BS31+BS32+BS33)","v":""},{"$f":"SUM(BT31:BT33)","v":0},{"$f":"SUM(BU31:BU33)","v":0},{"$f":"IF(BV31+BV32+BV33=0,\"\",BV31+BV32+BV33)","v":""},{"$f":"SUM(BW31:BW33)","v":0},{"$f":"SUM(BX31:BX33)","v":0},{"$f":"IF(BY31+BY32+BY33=0,\"\",BY31+BY32+BY33)","v":""},{"$f":"SUM(BZ31:BZ33)","v":0},{"$f":"SUM(CA31:CA33)","v":0},{"$f":"IF(CB31+CB32+CB33=0,\"\",CB31+CB32+CB33)","v":""},{"$f":"SUM(CC31:CC33)","v":0},{"$f":"SUM(CD31:CD33)","v":0},{"$f":"IF(CE31+CE32+CE33=0,\"\",CE31+CE32+CE33)","v":""},{"$f":"SUM(CF31:CF33)","v":0},{"$f":"SUM(CG31:CG33)","v":0},{"$f":"IF(CH31+CH32+CH33=0,\"\",CH31+CH32+CH33)","v":""},{"$f":"SUM(CI31:CI33)","v":0},{"$f":"SUM(CJ31:CJ33)","v":0},{"$f":"IF(CK31+CK32+CK33=0,\"\",CK31+CK32+CK33)","v":""},{"$f":"SUM(CL31:CL33)","v":0},{"$f":"SUM(CM31:CM33)","v":0},{"$f":"IF(CN31+CN32+CN33=0,\"\",CN31+CN32+CN33)","v":""},0,{"$f":"SUM(CP31:CP33)","v":0},{"$f":"SUM(CQ31:CQ33)","v":0},null,null,null,{"$f":"IF(SUMIF('Capacity Plan'!$B$21:$B$50,'Capacity Plan'!$B40,'Capacity Plan'!$AC$21:$AC$50)=0,\"\",SUMIF('Capacity Plan'!$B$21:$B$50,'Capacity Plan'!$B40,'Capacity Plan'!$AC$21:$AC$50))","v":""}]
[{"$f":"A31+1","v":"2019-01-06"},"3rd",null,null,null,null,null,null,null,null,null,null,null,null,null,null,null,null,null,null,null,null,null,null,null,null,null,null,null,null,null,null,null,null,null,null,null,null,null,null,null,null,null,null,null,null,null,null,null,null,null,null,null,null,null,null,null,null,null,null,null,null,null,null,null,null,null,null,null,null,null,null,null,null,null,null,null,null,null,null,null,null,null,null,null,null,null,null,null,null,null,null,0,null,{"$f":"HLOOKUP(MAX(E$140:CN$140),$E$140:$CN$250,24,FALSE)","v":0},null,null,null,{"$f":"IF(SUMIF('Capacity Plan'!$B$21:$B$50,'Capacity Plan'!$B41,'Capacity Plan'!$AC$21:$AC$50)=0,\"\",SUMIF('Capacity Plan'!$B$21:$B$50,'Capacity Plan'!$B41,'Capacity Plan'!$AC$21:$AC$50))","v":""}]
[null,"1st",null,null,null,null,null,null,null,null,null,null,null,null,null,null,null,null,null,null,null,null,null,null,null,null,null,null,null,null,null,null,null,null,null,null,null,null,null,null,null,null,null,null,null,null,null,null,null,null,null,null,null,null,null,null,null,null,null,null,null,null,null,null,null,null,null,null,null,null,null,null,null,null,null,null,null,null,null,null,null,null,null,null,null,null,null,null,null,null,null,null,0,null,{"$f":"HLOOKUP(MAX(E$140:CN$140),$E$140:$CN$250,25,FALSE)","v":0},null,null,null,{"$f":"IF(SUMIF('Capacity Plan'!$B$21:$B$50,'Capacity Plan'!$B42,'Capacity Plan'!$AC$21:$AC$50)=0,\"\",SUMIF('Capacity Plan'!$B$21:$B$50,'Capacity Plan'!$B42,'Capacity Plan'!$AC$21:$AC$50))","v":""}]
[null,"2nd",null,null,null,null,null,null,null,null,null,null,null,null,null,null,null,null,null,null,null,null,null,null,null,null,null,null,null,null,null,null,null,null,null,null,null,null,null,null,null,null,null,null,null,null,null,null,null,null,null,null,null,null,null,null,null,null,null,null,null,null,null,null,null,null,null,null,null,null,null,null,null,null,null,null,null,null,null,null,null,null,null,null,null,null,null,null,null,null,null,null,0,null,{"$f":"HLOOKUP(MAX(E$140:CN$140),$E$140:$CN$250,26,FALSE)","v":0},null,null,null,{"$f":"IF(SUMIF('Capacity Plan'!$B$21:$B$50,'Capacity Plan'!$B43,'Capacity Plan'!$AC$21:$AC$50)=0,\"\",SUMIF('Capacity Plan'!$B$21:$B$50,'Capacity Plan'!$B43,'Capacity Plan'!$AC$21:$AC$50))","v":""}]
[null,"Total",{"$f":"SUM(C35:C37)","v":0},{"$f":"SUM(D35:D37)","v":0},{"$f":"IF(E35+E36+E37=0,\"\",E35+E36+E37)","v":""},{"$f":"SUM(F35:F37)","v":0},{"$f":"SUM(G35:G37)","v":0},{"$f":"IF(H35+H36+H37=0,\"\",H35+H36+H37)","v":""},{"$f":"SUM(I35:I37)","v":0},{"$f":"SUM(J35:J37)","v":0},{"$f":"IF(K35+K36+K37=0,\"\",K35+K36+K37)","v":""},{"$f":"SUM(L35:L37)","v":0},{"$f":"SUM(M35:M37)","v":0},{"$f":"IF(N35+N36+N37=0,\"\",N35+N36+N37)","v":""},{"$f":"SUM(O35:O37)","v":0},{"$f":"SUM(P35:P37)","v":0},{"$f":"IF(Q35+Q36+Q37=0,\"\",Q35+Q36+Q37)","v":""},{"$f":"SUM(R35:R37)","v":0},{"$f":"SUM(S35:S37)","v":0},{"$f":"IF(T35+T36+T37=0,\"\",T35+T36+T37)","v":""},{"$f":"SUM(U35:U37)","v":0},{"$f":"SUM(V35:V37)","v":0},{"$f":"IF(W35+W36+W37=0,\"\",W35+W36+W37)","v":""},{"$f":"SUM(X35:X37)","v":0},{"$f":"SUM(Y35:Y37)","v":0},{"$f":"IF(Z35+Z36+Z37=0,\"\",Z35+Z36+Z37)","v":""},{"$f":"SUM(AA35:AA37)","v":0},{"$f":"SUM(AB35:AB37)","v":0},{"$f":"IF(AC35+AC36+AC37=0,\"\",AC35+AC36+AC37)","v":""},{"$f":"SUM(AD35:AD37)","v":0},{"$f":"SUM(AE35:AE37)","v":0},{"$f":"IF(AF35+AF36+AF37=0,\"\",AF35+AF36+AF37)","v":""},{"$f":"SUM(AG35:AG37)","v":0},{"$f":"SUM(AH35:AH37)","v":0},{"$f":"IF(AI35+AI36+AI37=0,\"\",AI35+AI36+AI37)","v":""},{"$f":"SUM(AJ35:AJ37)","v":0},{"$f":"SUM(AK35:AK37)","v":0},{"$f":"IF(AL35+AL36+AL37=0,\"\",AL35+AL36+AL37)","v":""},{"$f":"SUM(AM35:AM37)","v":0},{"$f":"SUM(AN35:AN37)","v":0},{"$f":"IF(AO35+AO36+AO37=0,\"\",AO35+AO36+AO37)","v":""},{"$f":"SUM(AP35:AP37)","v":0},{"$f":"SUM(AQ35:AQ37)","v":0},{"$f":"IF(AR35+AR36+AR37=0,\"\",AR35+AR36+AR37)","v":""},{"$f":"SUM(AS35:AS37)","v":0},{"$f":"SUM(AT35:AT37)","v":0},{"$f":"IF(AU35+AU36+AU37=0,\"\",AU35+AU36+AU37)","v":""},{"$f":"SUM(AV35:AV37)","v":0},{"$f":"SUM(AW35:AW37)","v":0},{"$f":"IF(AX35+AX36+AX37=0,\"\",AX35+AX36+AX37)","v":""},{"$f":"SUM(AY35:AY37)","v":0},{"$f":"SUM(AZ35:AZ37)","v":0},{"$f":"IF(BA35+BA36+BA37=0,\"\",BA35+BA36+BA37)","v":""},{"$f":"SUM(BB35:BB37)","v":0},{"$f":"SUM(BC35:BC37)","v":0},{"$f":"IF(BD35+BD36+BD37=0,\"\",BD35+BD36+BD37)","v":""},{"$f":"SUM(BE35:BE37)","v":0},{"$f":"SUM(BF35:BF37)","v":0},{"$f":"IF(BG35+BG36+BG37=0,\"\",BG35+BG36+BG37)","v":""},{"$f":"SUM(BH35:BH37)","v":0},{"$f":"SUM(BI35:BI37)","v":0},{"$f":"IF(BJ35+BJ36+BJ37=0,\"\",BJ35+BJ36+BJ37)","v":""},{"$f":"SUM(BK35:BK37)","v":0},{"$f":"SUM(BL35:BL37)","v":0},{"$f":"IF(BM35+BM36+BM37=0,\"\",BM35+BM36+BM37)","v":""},{"$f":"SUM(BN35:BN37)","v":0},{"$f":"SUM(BO35:BO37)","v":0},{"$f":"IF(BP35+BP36+BP37=0,\"\",BP35+BP36+BP37)","v":""},{"$f":"SUM(BQ35:BQ37)","v":0},{"$f":"SUM(BR35:BR37)","v":0},{"$f":"IF(BS35+BS36+BS37=0,\"\",BS35+BS36+BS37)","v":""},{"$f":"SUM(BT35:BT37)","v":0},{"$f":"SUM(BU35:BU37)","v":0},{"$f":"IF(BV35+BV36+BV37=0,\"\",BV35+BV36+BV37)","v":""},{"$f":"SUM(BW35:BW37)","v":0},{"$f":"SUM(BX35:BX37)","v":0},{"$f":"IF(BY35+BY36+BY37=0,\"\",BY35+BY36+BY37)","v":""},{"$f":"SUM(BZ35:BZ37)","v":0},{"$f":"SUM(CA35:CA37)","v":0},{"$f":"IF(CB35+CB36+CB37=0,\"\",CB35+CB36+CB37)","v":""},{"$f":"SUM(CC35:CC37)","v":0},{"$f":"SUM(CD35:CD37)","v":0},{"$f":"IF(CE35+CE36+CE37=0,\"\",CE35+CE36+CE37)","v":""},{"$f":"SUM(CF35:CF37)","v":0},{"$f":"SUM(CG35:CG37)","v":0},{"$f":"IF(CH35+CH36+CH37=0,\"\",CH35+CH36+CH37)","v":""},{"$f":"SUM(CI35:CI37)","v":0},{"$f":"SUM(CJ35:CJ37)","v":0},{"$f":"IF(CK35+CK36+CK37=0,\"\",CK35+CK36+CK37)","v":""},{"$f":"SUM(CL35:CL37)","v":0},{"$f":"SUM(CM35:CM37)","v":0},{"$f":"IF(CN35+CN36+CN37=0,\"\",CN35+CN36+CN37)","v":""},0,{"$f":"SUM(CP35:CP37)","v":0},{"$f":"SUM(CQ35:CQ37)","v":0},null,null,null,{"$f":"IF(SUMIF('Capacity Plan'!$B$21:$B$50,'Capacity Plan'!$B44,'Capacity Plan'!$AC$21:$AC$50)=0,\"\",SUMIF('Capacity Plan'!$B$21:$B$50,'Capacity Plan'!$B44,'Capacity Plan'!$AC$21:$AC$50))","v":""}]
[{"$f":"A35+1","v":"2019-01-07"},"3rd",null,null,null,null,null,null,null,null,null,null,null,null,null,null,null,null,null,null,null,null,null,null,null,null,null,null,null,null,null,null,null,null,null,null,null,null,null,null,null,null,null,null,null,null,null,null,null,null,null,null,null,null,null,null,null,null,null,null,null,null,null,null,null,null,null,null,null,null,null,null,null,null,null,null,null,null,null,null,null,null,null,null,null,null,null,null,null,null,null,null,0,null,{"$f":"HLOOKUP(MAX(E$140:CN$140),$E$140:$CN$250,28,FALSE)","v":0},null,null,null,{"$f":"IF(SUMIF('Capacity Plan'!$B$21:$B$50,'Capacity Plan'!$B45,'Capacity Plan'!$AC$21:$AC$50)=0,\"\",SUMIF('Capacity Plan'!$B$21:$B$50,'Capacity Plan'!$B45,'Capacity Plan'!$AC$21:$AC$50))","v":""}]
[null,"1st",null,null,null,null,null,null,null,null,null,null,null,null,null,null,null,null,null,null,null,null,null,null,null,null,null,null,null,null,null,null,null,null,null,null,null,null,null,null,null,null,null,null,null,null,null,null,null,null,null,null,null,null,null,null,null,null,null,null,null,null,null,null,null,null,null,null,null,null,null,null,null,null,null,null,null,null,null,null,null,null,null,null,null,null,null,null,null,null,null,null,0,null,{"$f":"HLOOKUP(MAX(E$140:CN$140),$E$140:$CN$250,29,FALSE)","v":0},null,null,null,{"$f":"IF(SUMIF('Capacity Plan'!$B$21:$B$50,'Capacity Plan'!$B46,'Capacity Plan'!$AC$21:$AC$50)=0,\"\",SUMIF('Capacity Plan'!$B$21:$B$50,'Capacity Plan'!$B46,'Capacity Plan'!$AC$21:$AC$50))","v":""}]
[null,"2nd",null,null,null,null,null,null,null,null,null,null,null,null,null,null,null,null,null,null,null,null,null,null,null,null,null,null,null,null,null,null,null,null,null,null,null,null,null,null,null,null,null,null,null,null,null,null,null,null,null,null,null,null,null,null,null,null,null,null,null,null,null,null,null,null,null,null,null,null,null,null,null,null,null,null,null,null,null,null,null,null,null,null,null,null,null,null,null,null,null,null,0,null,{"$f":"HLOOKUP(MAX(E$140:CN$140),$E$140:$CN$250,30,FALSE)","v":0},null,null,null,{"$f":"IF(SUMIF('Capacity Plan'!$B$21:$B$50,'Capacity Plan'!$B47,'Capacity Plan'!$AC$21:$AC$50)=0,\"\",SUMIF('Capacity Plan'!$B$21:$B$50,'Capacity Plan'!$B47,'Capacity Plan'!$AC$21:$AC$50))","v":""}]
[null,"Total",{"$f":"SUM(C39:C41)","v":0},{"$f":"SUM(D39:D41)","v":0},{"$f":"IF(E39+E40+E41=0,\"\",E39+E40+E41)","v":""},{"$f":"SUM(F39:F41)","v":0},{"$f":"SUM(G39:G41)","v":0},{"$f":"IF(H39+H40+H41=0,\"\",H39+H40+H41)","v":""},{"$f":"SUM(I39:I41)","v":0},{"$f":"SUM(J39:J41)","v":0},{"$f":"IF(K39+K40+K41=0,\"\",K39+K40+K41)","v":""},{"$f":"SUM(L39:L41)","v":0},{"$f":"SUM(M39:M41)","v":0},{"$f":"IF(N39+N40+N41=0,\"\",N39+N40+N41)","v":""},{"$f":"SUM(O39:O41)","v":0},{"$f":"SUM(P39:P41)","v":0},{"$f":"IF(Q39+Q40+Q41=0,\"\",Q39+Q40+Q41)","v":""},{"$f":"SUM(R39:R41)","v":0},{"$f":"SUM(S39:S41)","v":0},{"$f":"IF(T39+T40+T41=0,\"\",T39+T40+T41)","v":""},{"$f":"SUM(U39:U41)","v":0},{"$f":"SUM(V39:V41)","v":0},{"$f":"IF(W39+W40+W41=0,\"\",W39+W40+W41)","v":""},{"$f":"SUM(X39:X41)","v":0},{"$f":"SUM(Y39:Y41)","v":0},{"$f":"IF(Z39+Z40+Z41=0,\"\",Z39+Z40+Z41)","v":""},{"$f":"SUM(AA39:AA41)","v":0},{"$f":"SUM(AB39:AB41)","v":0},{"$f":"IF(AC39+AC40+AC41=0,\"\",AC39+AC40+AC41)","v":""},{"$f":"SUM(AD39:AD41)","v":0},{"$f":"SUM(AE39:AE41)","v":0},{"$f":"IF(AF39+AF40+AF41=0,\"\",AF39+AF40+AF41)","v":""},{"$f":"SUM(AG39:AG41)","v":0},{"$f":"SUM(AH39:AH41)","v":0},{"$f":"IF(AI39+AI40+AI41=0,\"\",AI39+AI40+AI41)","v":""},{"$f":"SUM(AJ39:AJ41)","v":0},{"$f":"SUM(AK39:AK41)","v":0},{"$f":"IF(AL39+AL40+AL41=0,\"\",AL39+AL40+AL41)","v":""},{"$f":"SUM(AM39:AM41)","v":0},{"$f":"SUM(AN39:AN41)","v":0},{"$f":"IF(AO39+AO40+AO41=0,\"\",AO39+AO40+AO41)","v":""},{"$f":"SUM(AP39:AP41)","v":0},{"$f":"SUM(AQ39:AQ41)","v":0},{"$f":"IF(AR39+AR40+AR41=0,\"\",AR39+AR40+AR41)","v":""},{"$f":"SUM(AS39:AS41)","v":0},{"$f":"SUM(AT39:AT41)","v":0},{"$f":"IF(AU39+AU40+AU41=0,\"\",AU39+AU40+AU41)","v":""},{"$f":"SUM(AV39:AV41)","v":0},{"$f":"SUM(AW39:AW41)","v":0},{"$f":"IF(AX39+AX40+AX41=0,\"\",AX39+AX40+AX41)","v":""},{"$f":"SUM(AY39:AY41)","v":0},{"$f":"SUM(AZ39:AZ41)","v":0},{"$f":"IF(BA39+BA40+BA41=0,\"\",BA39+BA40+BA41)","v":""},{"$f":"SUM(BB39:BB41)","v":0},{"$f":"SUM(BC39:BC41)","v":0},{"$f":"IF(BD39+BD40+BD41=0,\"\",BD39+BD40+BD41)","v":""},{"$f":"SUM(BE39:BE41)","v":0},{"$f":"SUM(BF39:BF41)","v":0},{"$f":"IF(BG39+BG40+BG41=0,\"\",BG39+BG40+BG41)","v":""},{"$f":"SUM(BH39:BH41)","v":0},{"$f":"SUM(BI39:BI41)","v":0},{"$f":"IF(BJ39+BJ40+BJ41=0,\"\",BJ39+BJ40+BJ41)","v":""},{"$f":"SUM(BK39:BK41)","v":0},{"$f":"SUM(BL39:BL41)","v":0},{"$f":"IF(BM39+BM40+BM41=0,\"\",BM39+BM40+BM41)","v":""},{"$f":"SUM(BN39:BN41)","v":0},{"$f":"SUM(BO39:BO41)","v":0},{"$f":"IF(BP39+BP40+BP41=0,\"\",BP39+BP40+BP41)","v":""},{"$f":"SUM(BQ39:BQ41)","v":0},{"$f":"SUM(BR39:BR41)","v":0},{"$f":"IF(BS39+BS40+BS41=0,\"\",BS39+BS40+BS41)","v":""},{"$f":"SUM(BT39:BT41)","v":0},{"$f":"SUM(BU39:BU41)","v":0},{"$f":"IF(BV39+BV40+BV41=0,\"\",BV39+BV40+BV41)","v":""},{"$f":"SUM(BW39:BW41)","v":0},{"$f":"SUM(BX39:BX41)","v":0},{"$f":"IF(BY39+BY40+BY41=0,\"\",BY39+BY40+BY41)","v":""},{"$f":"SUM(BZ39:BZ41)","v":0},{"$f":"SUM(CA39:CA41)","v":0},{"$f":"IF(CB39+CB40+CB41=0,\"\",CB39+CB40+CB41)","v":""},{"$f":"SUM(CC39:CC41)","v":0},{"$f":"SUM(CD39:CD41)","v":0},{"$f":"IF(CE39+CE40+CE41=0,\"\",CE39+CE40+CE41)","v":""},{"$f":"SUM(CF39:CF41)","v":0},{"$f":"SUM(CG39:CG41)","v":0},{"$f":"IF(CH39+CH40+CH41=0,\"\",CH39+CH40+CH41)","v":""},{"$f":"SUM(CI39:CI41)","v":0},{"$f":"SUM(CJ39:CJ41)","v":0},{"$f":"IF(CK39+CK40+CK41=0,\"\",CK39+CK40+CK41)","v":""},{"$f":"SUM(CL39:CL41)","v":0},{"$f":"SUM(CM39:CM41)","v":0},{"$f":"IF(CN39+CN40+CN41=0,\"\",CN39+CN40+CN41)","v":""},0,{"$f":"SUM(CP39:CP41)","v":0},{"$f":"SUM(CQ39:CQ41)","v":0},null,null,null,{"$f":"IF(SUMIF('Capacity Plan'!$B$21:$B$50,'Capacity Plan'!$B48,'Capacity Plan'!$AC$21:$AC$50)=0,\"\",SUMIF('Capacity Plan'!$B$21:$B$50,'Capacity Plan'!$B48,'Capacity Plan'!$AC$21:$AC$50))","v":""}]
[{"$f":"A39+1","v":"2019-01-08"},"3rd",null,null,null,null,null,null,null,null,null,null,null,null,null,null,null,null,null,null,null,null,null,null,null,null,null,null,null,null,null,null,null,null,null,null,null,null,null,null,null,null,null,null,null,null,null,null,null,null,null,null,null,null,null,null,null,null,null,null,null,null,null,null,null,null,null,null,null,null,null,null,null,null,null,null,null,null,null,null,null,null,null,null,null,null,null,null,null,null,null,null,0,null,{"$f":"HLOOKUP(MAX(E$140:CN$140),$E$140:$CN$250,32,FALSE)","v":0},null,null,null,{"$f":"IF(SUMIF('Capacity Plan'!$B$21:$B$50,'Capacity Plan'!$B49,'Capacity Plan'!$AC$21:$AC$50)=0,\"\",SUMIF('Capacity Plan'!$B$21:$B$50,'Capacity Plan'!$B49,'Capacity Plan'!$AC$21:$AC$50))","v":""}]
[null,"1st",null,null,null,null,null,null,null,null,null,null,null,null,null,null,null,null,null,null,null,null,null,null,null,null,null,null,null,null,null,null,null,null,null,null,null,null,null,null,null,null,null,null,null,null,null,null,null,null,null,null,null,null,null,null,null,null,null,null,null,null,null,null,null,null,null,null,null,null,null,null,null,null,null,null,null,null,null,null,null,null,null,null,null,null,null,null,null,null,null,null,0,null,{"$f":"HLOOKUP(MAX(E$140:CN$140),$E$140:$CN$250,33,FALSE)","v":0},null,null,null,{"$f":"IF(SUMIF('Capacity Plan'!$B$21:$B$50,'Capacity Plan'!$B50,'Capacity Plan'!$AC$21:$AC$50)=0,\"\",SUMIF('Capacity Plan'!$B$21:$B$50,'Capacity Plan'!$B50,'Capacity Plan'!$AC$21:$AC$50))","v":""}]
[null,"2nd",null,null,null,null,null,null,null,null,null,null,null,null,null,null,null,null,null,null,null,null,null,null,null,null,null,null,null,null,null,null,null,null,null,null,null,null,null,null,null,null,null,null,null,null,null,null,null,null,null,null,null,null,null,null,null,null,null,null,null,null,null,null,null,null,null,null,null,null,null,null,null,null,null,null,null,null,null,null,null,null,null,null,null,null,null,null,null,null,null,null,0,null,{"$f":"HLOOKUP(MAX(E$140:CN$140),$E$140:$CN$250,34,FALSE)","v":0}]
[null,"Total",{"$f":"SUM(C43:C45)","v":0},{"$f":"SUM(D43:D45)","v":0},{"$f":"IF(E43+E44+E45=0,\"\",E43+E44+E45)","v":""},{"$f":"SUM(F43:F45)","v":0},{"$f":"SUM(G43:G45)","v":0},{"$f":"IF(H43+H44+H45=0,\"\",H43+H44+H45)","v":""},{"$f":"SUM(I43:I45)","v":0},{"$f":"SUM(J43:J45)","v":0},{"$f":"IF(K43+K44+K45=0,\"\",K43+K44+K45)","v":""},{"$f":"SUM(L43:L45)","v":0},{"$f":"SUM(M43:M45)","v":0},{"$f":"IF(N43+N44+N45=0,\"\",N43+N44+N45)","v":""},{"$f":"SUM(O43:O45)","v":0},{"$f":"SUM(P43:P45)","v":0},{"$f":"IF(Q43+Q44+Q45=0,\"\",Q43+Q44+Q45)","v":""},{"$f":"SUM(R43:R45)","v":0},{"$f":"SUM(S43:S45)","v":0},{"$f":"IF(T43+T44+T45=0,\"\",T43+T44+T45)","v":""},{"$f":"SUM(U43:U45)","v":0},{"$f":"SUM(V43:V45)","v":0},{"$f":"IF(W43+W44+W45=0,\"\",W43+W44+W45)","v":""},{"$f":"SUM(X43:X45)","v":0},{"$f":"SUM(Y43:Y45)","v":0},{"$f":"IF(Z43+Z44+Z45=0,\"\",Z43+Z44+Z45)","v":""},{"$f":"SUM(AA43:AA45)","v":0},{"$f":"SUM(AB43:AB45)","v":0},{"$f":"IF(AC43+AC44+AC45=0,\"\",AC43+AC44+AC45)","v":""},{"$f":"SUM(AD43:AD45)","v":0},{"$f":"SUM(AE43:AE45)","v":0},{"$f":"IF(AF43+AF44+AF45=0,\"\",AF43+AF44+AF45)","v":""},{"$f":"SUM(AG43:AG45)","v":0},{"$f":"SUM(AH43:AH45)","v":0},{"$f":"IF(AI43+AI44+AI45=0,\"\",AI43+AI44+AI45)","v":""},{"$f":"SUM(AJ43:AJ45)","v":0},{"$f":"SUM(AK43:AK45)","v":0},{"$f":"IF(AL43+AL44+AL45=0,\"\",AL43+AL44+AL45)","v":""},{"$f":"SUM(AM43:AM45)","v":0},{"$f":"SUM(AN43:AN45)","v":0},{"$f":"IF(AO43+AO44+AO45=0,\"\",AO43+AO44+AO45)","v":""},{"$f":"SUM(AP43:AP45)","v":0},{"$f":"SUM(AQ43:AQ45)","v":0},{"$f":"IF(AR43+AR44+AR45=0,\"\",AR43+AR44+AR45)","v":""},{"$f":"SUM(AS43:AS45)","v":0},{"$f":"SUM(AT43:AT45)","v":0},{"$f":"IF(AU43+AU44+AU45=0,\"\",AU43+AU44+AU45)","v":""},{"$f":"SUM(AV43:AV45)","v":0},{"$f":"SUM(AW43:AW45)","v":0},{"$f":"IF(AX43+AX44+AX45=0,\"\",AX43+AX44+AX45)","v":""},{"$f":"SUM(AY43:AY45)","v":0},{"$f":"SUM(AZ43:AZ45)","v":0},{"$f":"IF(BA43+BA44+BA45=0,\"\",BA43+BA44+BA45)","v":""},{"$f":"SUM(BB43:BB45)","v":0},{"$f":"SUM(BC43:BC45)","v":0},{"$f":"IF(BD43+BD44+BD45=0,\"\",BD43+BD44+BD45)","v":""},{"$f":"SUM(BE43:BE45)","v":0},{"$f":"SUM(BF43:BF45)","v":0},{"$f":"IF(BG43+BG44+BG45=0,\"\",BG43+BG44+BG45)","v":""},{"$f":"SUM(BH43:BH45)","v":0},{"$f":"SUM(BI43:BI45)","v":0},{"$f":"IF(BJ43+BJ44+BJ45=0,\"\",BJ43+BJ44+BJ45)","v":""},{"$f":"SUM(BK43:BK45)","v":0},{"$f":"SUM(BL43:BL45)","v":0},{"$f":"IF(BM43+BM44+BM45=0,\"\",BM43+BM44+BM45)","v":""},{"$f":"SUM(BN43:BN45)","v":0},{"$f":"SUM(BO43:BO45)","v":0},{"$f":"IF(BP43+BP44+BP45=0,\"\",BP43+BP44+BP45)","v":""},{"$f":"SUM(BQ43:BQ45)","v":0},{"$f":"SUM(BR43:BR45)","v":0},{"$f":"IF(BS43+BS44+BS45=0,\"\",BS43+BS44+BS45)","v":""},{"$f":"SUM(BT43:BT45)","v":0},{"$f":"SUM(BU43:BU45)","v":0},{"$f":"IF(BV43+BV44+BV45=0,\"\",BV43+BV44+BV45)","v":""},{"$f":"SUM(BW43:BW45)","v":0},{"$f":"SUM(BX43:BX45)","v":0},{"$f":"IF(BY43+BY44+BY45=0,\"\",BY43+BY44+BY45)","v":""},{"$f":"SUM(BZ43:BZ45)","v":0},{"$f":"SUM(CA43:CA45)","v":0},{"$f":"IF(CB43+CB44+CB45=0,\"\",CB43+CB44+CB45)","v":""},{"$f":"SUM(CC43:CC45)","v":0},{"$f":"SUM(CD43:CD45)","v":0},{"$f":"IF(CE43+CE44+CE45=0,\"\",CE43+CE44+CE45)","v":""},{"$f":"SUM(CF43:CF45)","v":0},{"$f":"SUM(CG43:CG45)","v":0},{"$f":"IF(CH43+CH44+CH45=0,\"\",CH43+CH44+CH45)","v":""},{"$f":"SUM(CI43:CI45)","v":0},{"$f":"SUM(CJ43:CJ45)","v":0},{"$f":"IF(CK43+CK44+CK45=0,\"\",CK43+CK44+CK45)","v":""},{"$f":"SUM(CL43:CL45)","v":0},{"$f":"SUM(CM43:CM45)","v":0},{"$f":"IF(CN43+CN44+CN45=0,\"\",CN43+CN44+CN45)","v":""},0,{"$f":"SUM(CP43:CP45)","v":0},{"$f":"SUM(CQ43:CQ45)","v":0}]
[{"$f":"A43+1","v":"2019-01-09"},"3rd",null,null,null,null,null,null,null,null,null,null,null,null,null,null,null,null,null,null,null,null,null,null,null,null,null,null,null,null,null,null,null,null,null,null,null,null,null,null,null,null,null,null,null,null,null,null,null,null,null,null,null,null,null,null,null,null,null,null,null,null,null,null,null,null,null,null,null,null,null,null,null,null,null,null,null,null,null,null,null,null,null,null,null,null,null,null,null,null,null,null,0,null,{"$f":"HLOOKUP(MAX(E$140:CN$140),$E$140:$CN$250,36,FALSE)","v":0}]
[null,"1st",null,null,null,null,null,null,null,null,null,null,null,null,null,null,null,null,null,null,null,null,null,null,null,null,null,null,null,null,null,null,null,null,null,null,null,null,null,null,null,null,null,null,null,null,null,null,null,null,null,null,null,null,null,null,null,null,null,null,null,null,null,null,null,null,null,null,null,null,null,null,null,null,null,null,null,null,null,null,null,null,null,null,null,null,null,null,null,null,null,null,0,null,{"$f":"HLOOKUP(MAX(E$140:CN$140),$E$140:$CN$250,37,FALSE)","v":0}]
[null,"2nd",null,null,null,null,null,null,null,null,null,null,null,null,null,null,null,null,null,null,null,null,null,null,null,null,null,null,null,null,null,null,null,null,null,null,null,null,null,null,null,null,null,null,null,null,null,null,null,null,null,null,null,null,null,null,null,null,null,null,null,null,null,null,null,null,null,null,null,null,null,null,null,null,null,null,null,null,null,null,null,null,null,null,null,null,null,null,null,null,null,null,0,null,{"$f":"HLOOKUP(MAX(E$140:CN$140),$E$140:$CN$250,38,FALSE)","v":0}]
[null,"Total",{"$f":"SUM(C47:C49)","v":0},{"$f":"SUM(D47:D49)","v":0},{"$f":"IF(E47+E48+E49=0,\"\",E47+E48+E49)","v":""},{"$f":"SUM(F47:F49)","v":0},{"$f":"SUM(G47:G49)","v":0},{"$f":"IF(H47+H48+H49=0,\"\",H47+H48+H49)","v":""},{"$f":"SUM(I47:I49)","v":0},{"$f":"SUM(J47:J49)","v":0},{"$f":"IF(K47+K48+K49=0,\"\",K47+K48+K49)","v":""},{"$f":"SUM(L47:L49)","v":0},{"$f":"SUM(M47:M49)","v":0},{"$f":"IF(N47+N48+N49=0,\"\",N47+N48+N49)","v":""},{"$f":"SUM(O47:O49)","v":0},{"$f":"SUM(P47:P49)","v":0},{"$f":"IF(Q47+Q48+Q49=0,\"\",Q47+Q48+Q49)","v":""},{"$f":"SUM(R47:R49)","v":0},{"$f":"SUM(S47:S49)","v":0},{"$f":"IF(T47+T48+T49=0,\"\",T47+T48+T49)","v":""},{"$f":"SUM(U47:U49)","v":0},{"$f":"SUM(V47:V49)","v":0},{"$f":"IF(W47+W48+W49=0,\"\",W47+W48+W49)","v":""},{"$f":"SUM(X47:X49)","v":0},{"$f":"SUM(Y47:Y49)","v":0},{"$f":"IF(Z47+Z48+Z49=0,\"\",Z47+Z48+Z49)","v":""},{"$f":"SUM(AA47:AA49)","v":0},{"$f":"SUM(AB47:AB49)","v":0},{"$f":"IF(AC47+AC48+AC49=0,\"\",AC47+AC48+AC49)","v":""},{"$f":"SUM(AD47:AD49)","v":0},{"$f":"SUM(AE47:AE49)","v":0},{"$f":"IF(AF47+AF48+AF49=0,\"\",AF47+AF48+AF49)","v":""},{"$f":"SUM(AG47:AG49)","v":0},{"$f":"SUM(AH47:AH49)","v":0},{"$f":"IF(AI47+AI48+AI49=0,\"\",AI47+AI48+AI49)","v":""},{"$f":"SUM(AJ47:AJ49)","v":0},{"$f":"SUM(AK47:AK49)","v":0},{"$f":"IF(AL47+AL48+AL49=0,\"\",AL47+AL48+AL49)","v":""},{"$f":"SUM(AM47:AM49)","v":0},{"$f":"SUM(AN47:AN49)","v":0},{"$f":"IF(AO47+AO48+AO49=0,\"\",AO47+AO48+AO49)","v":""},{"$f":"SUM(AP47:AP49)","v":0},{"$f":"SUM(AQ47:AQ49)","v":0},{"$f":"IF(AR47+AR48+AR49=0,\"\",AR47+AR48+AR49)","v":""},{"$f":"SUM(AS47:AS49)","v":0},{"$f":"SUM(AT47:AT49)","v":0},{"$f":"IF(AU47+AU48+AU49=0,\"\",AU47+AU48+AU49)","v":""},{"$f":"SUM(AV47:AV49)","v":0},{"$f":"SUM(AW47:AW49)","v":0},{"$f":"IF(AX47+AX48+AX49=0,\"\",AX47+AX48+AX49)","v":""},{"$f":"SUM(AY47:AY49)","v":0},{"$f":"SUM(AZ47:AZ49)","v":0},{"$f":"IF(BA47+BA48+BA49=0,\"\",BA47+BA48+BA49)","v":""},{"$f":"SUM(BB47:BB49)","v":0},{"$f":"SUM(BC47:BC49)","v":0},{"$f":"IF(BD47+BD48+BD49=0,\"\",BD47+BD48+BD49)","v":""},{"$f":"SUM(BE47:BE49)","v":0},{"$f":"SUM(BF47:BF49)","v":0},{"$f":"IF(BG47+BG48+BG49=0,\"\",BG47+BG48+BG49)","v":""},{"$f":"SUM(BH47:BH49)","v":0},{"$f":"SUM(BI47:BI49)","v":0},{"$f":"IF(BJ47+BJ48+BJ49=0,\"\",BJ47+BJ48+BJ49)","v":""},{"$f":"SUM(BK47:BK49)","v":0},{"$f":"SUM(BL47:BL49)","v":0},{"$f":"IF(BM47+BM48+BM49=0,\"\",BM47+BM48+BM49)","v":""},{"$f":"SUM(BN47:BN49)","v":0},{"$f":"SUM(BO47:BO49)","v":0},{"$f":"IF(BP47+BP48+BP49=0,\"\",BP47+BP48+BP49)","v":""},{"$f":"SUM(BQ47:BQ49)","v":0},{"$f":"SUM(BR47:BR49)","v":0},{"$f":"IF(BS47+BS48+BS49=0,\"\",BS47+BS48+BS49)","v":""},{"$f":"SUM(BT47:BT49)","v":0},{"$f":"SUM(BU47:BU49)","v":0},{"$f":"IF(BV47+BV48+BV49=0,\"\",BV47+BV48+BV49)","v":""},{"$f":"SUM(BW47:BW49)","v":0},{"$f":"SUM(BX47:BX49)","v":0},{"$f":"IF(BY47+BY48+BY49=0,\"\",BY47+BY48+BY49)","v":""},{"$f":"SUM(BZ47:BZ49)","v":0},{"$f":"SUM(CA47:CA49)","v":0},{"$f":"IF(CB47+CB48+CB49=0,\"\",CB47+CB48+CB49)","v":""},{"$f":"SUM(CC47:CC49)","v":0},{"$f":"SUM(CD47:CD49)","v":0},{"$f":"IF(CE47+CE48+CE49=0,\"\",CE47+CE48+CE49)","v":""},{"$f":"SUM(CF47:CF49)","v":0},{"$f":"SUM(CG47:CG49)","v":0},{"$f":"IF(CH47+CH48+CH49=0,\"\",CH47+CH48+CH49)","v":""},{"$f":"SUM(CI47:CI49)","v":0},{"$f":"SUM(CJ47:CJ49)","v":0},{"$f":"IF(CK47+CK48+CK49=0,\"\",CK47+CK48+CK49)","v":""},{"$f":"SUM(CL47:CL49)","v":0},{"$f":"SUM(CM47:CM49)","v":0},{"$f":"IF(CN47+CN48+CN49=0,\"\",CN47+CN48+CN49)","v":""},0,{"$f":"SUM(CP47:CP49)","v":0},{"$f":"SUM(CQ47:CQ49)","v":0}]
[{"$f":"A47+1","v":"2019-01-10"},"3rd",null,null,null,null,null,null,null,null,null,null,null,null,null,null,null,null,null,null,null,null,null,null,null,null,null,null,null,null,null,null,null,null,null,null,null,null,null,null,null,null,null,null,null,null,null,null,null,null,null,null,null,null,null,null,null,null,null,null,null,null,null,null,null,null,null,null,null,null,null,null,null,null,null,null,null,null,null,null,null,null,null,null,null,null,null,null,null,null,null,null,0,null,{"$f":"HLOOKUP(MAX(E$140:CN$140),$E$140:$CN$250,40,FALSE)","v":0}]
[null,"1st",null,null,null,null,null,null,null,null,null,null,null,null,null,null,null,null,null,null,null,null,null,null,null,null,null,null,null,null,null,null,null,null,null,null,null,null,null,null,null,null,null,null,null,null,null,null,null,null,null,null,null,null,null,null,null,null,null,null,null,null,null,null,null,null,null,null,null,null,null,null,null,null,null,null,null,null,null,null,null,null,null,null,null,null,null,null,null,null,null,null,0,null,{"$f":"HLOOKUP(MAX(E$140:CN$140),$E$140:$CN$250,41,FALSE)","v":0}]
[null,"2nd",null,null,null,null,null,null,null,null,null,null,null,null,null,null,null,null,null,null,null,null,null,null,null,null,null,null,null,null,null,null,null,null,null,null,null,null,null,null,null,null,null,null,null,null,null,null,null,null,null,null,null,null,null,null,null,null,null,null,null,null,null,null,null,null,null,null,null,null,null,null,null,null,null,null,null,null,null,null,null,null,null,null,null,null,null,null,null,null,null,null,0,null,{"$f":"HLOOKUP(MAX(E$140:CN$140),$E$140:$CN$250,42,FALSE)","v":0}]
[null,"Total",{"$f":"SUM(C51:C53)","v":0},{"$f":"SUM(D51:D53)","v":0},{"$f":"IF(E51+E52+E53=0,\"\",E51+E52+E53)","v":""},{"$f":"SUM(F51:F53)","v":0},{"$f":"SUM(G51:G53)","v":0},{"$f":"IF(H51+H52+H53=0,\"\",H51+H52+H53)","v":""},{"$f":"SUM(I51:I53)","v":0},{"$f":"SUM(J51:J53)","v":0},{"$f":"IF(K51+K52+K53=0,\"\",K51+K52+K53)","v":""},{"$f":"SUM(L51:L53)","v":0},{"$f":"SUM(M51:M53)","v":0},{"$f":"IF(N51+N52+N53=0,\"\",N51+N52+N53)","v":""},{"$f":"SUM(O51:O53)","v":0},{"$f":"SUM(P51:P53)","v":0},{"$f":"IF(Q51+Q52+Q53=0,\"\",Q51+Q52+Q53)","v":""},{"$f":"SUM(R51:R53)","v":0},{"$f":"SUM(S51:S53)","v":0},{"$f":"IF(T51+T52+T53=0,\"\",T51+T52+T53)","v":""},{"$f":"SUM(U51:U53)","v":0},{"$f":"SUM(V51:V53)","v":0},{"$f":"IF(W51+W52+W53=0,\"\",W51+W52+W53)","v":""},{"$f":"SUM(X51:X53)","v":0},{"$f":"SUM(Y51:Y53)","v":0},{"$f":"IF(Z51+Z52+Z53=0,\"\",Z51+Z52+Z53)","v":""},{"$f":"SUM(AA51:AA53)","v":0},{"$f":"SUM(AB51:AB53)","v":0},{"$f":"IF(AC51+AC52+AC53=0,\"\",AC51+AC52+AC53)","v":""},{"$f":"SUM(AD51:AD53)","v":0},{"$f":"SUM(AE51:AE53)","v":0},{"$f":"IF(AF51+AF52+AF53=0,\"\",AF51+AF52+AF53)","v":""},{"$f":"SUM(AG51:AG53)","v":0},{"$f":"SUM(AH51:AH53)","v":0},{"$f":"IF(AI51+AI52+AI53=0,\"\",AI51+AI52+AI53)","v":""},{"$f":"SUM(AJ51:AJ53)","v":0},{"$f":"SUM(AK51:AK53)","v":0},{"$f":"IF(AL51+AL52+AL53=0,\"\",AL51+AL52+AL53)","v":""},{"$f":"SUM(AM51:AM53)","v":0},{"$f":"SUM(AN51:AN53)","v":0},{"$f":"IF(AO51+AO52+AO53=0,\"\",AO51+AO52+AO53)","v":""},{"$f":"SUM(AP51:AP53)","v":0},{"$f":"SUM(AQ51:AQ53)","v":0},{"$f":"IF(AR51+AR52+AR53=0,\"\",AR51+AR52+AR53)","v":""},{"$f":"SUM(AS51:AS53)","v":0},{"$f":"SUM(AT51:AT53)","v":0},{"$f":"IF(AU51+AU52+AU53=0,\"\",AU51+AU52+AU53)","v":""},{"$f":"SUM(AV51:AV53)","v":0},{"$f":"SUM(AW51:AW53)","v":0},{"$f":"IF(AX51+AX52+AX53=0,\"\",AX51+AX52+AX53)","v":""},{"$f":"SUM(AY51:AY53)","v":0},{"$f":"SUM(AZ51:AZ53)","v":0},{"$f":"IF(BA51+BA52+BA53=0,\"\",BA51+BA52+BA53)","v":""},{"$f":"SUM(BB51:BB53)","v":0},{"$f":"SUM(BC51:BC53)","v":0},{"$f":"IF(BD51+BD52+BD53=0,\"\",BD51+BD52+BD53)","v":""},{"$f":"SUM(BE51:BE53)","v":0},{"$f":"SUM(BF51:BF53)","v":0},{"$f":"IF(BG51+BG52+BG53=0,\"\",BG51+BG52+BG53)","v":""},{"$f":"SUM(BH51:BH53)","v":0},{"$f":"SUM(BI51:BI53)","v":0},{"$f":"IF(BJ51+BJ52+BJ53=0,\"\",BJ51+BJ52+BJ53)","v":""},{"$f":"SUM(BK51:BK53)","v":0},{"$f":"SUM(BL51:BL53)","v":0},{"$f":"IF(BM51+BM52+BM53=0,\"\",BM51+BM52+BM53)","v":""},{"$f":"SUM(BN51:BN53)","v":0},{"$f":"SUM(BO51:BO53)","v":0},{"$f":"IF(BP51+BP52+BP53=0,\"\",BP51+BP52+BP53)","v":""},{"$f":"SUM(BQ51:BQ53)","v":0},{"$f":"SUM(BR51:BR53)","v":0},{"$f":"IF(BS51+BS52+BS53=0,\"\",BS51+BS52+BS53)","v":""},{"$f":"SUM(BT51:BT53)","v":0},{"$f":"SUM(BU51:BU53)","v":0},{"$f":"IF(BV51+BV52+BV53=0,\"\",BV51+BV52+BV53)","v":""},{"$f":"SUM(BW51:BW53)","v":0},{"$f":"SUM(BX51:BX53)","v":0},{"$f":"IF(BY51+BY52+BY53=0,\"\",BY51+BY52+BY53)","v":""},{"$f":"SUM(BZ51:BZ53)","v":0},{"$f":"SUM(CA51:CA53)","v":0},{"$f":"IF(CB51+CB52+CB53=0,\"\",CB51+CB52+CB53)","v":""},{"$f":"SUM(CC51:CC53)","v":0},{"$f":"SUM(CD51:CD53)","v":0},{"$f":"IF(CE51+CE52+CE53=0,\"\",CE51+CE52+CE53)","v":""},{"$f":"SUM(CF51:CF53)","v":0},{"$f":"SUM(CG51:CG53)","v":0},{"$f":"IF(CH51+CH52+CH53=0,\"\",CH51+CH52+CH53)","v":""},{"$f":"SUM(CI51:CI53)","v":0},{"$f":"SUM(CJ51:CJ53)","v":0},{"$f":"IF(CK51+CK52+CK53=0,\"\",CK51+CK52+CK53)","v":""},{"$f":"SUM(CL51:CL53)","v":0},{"$f":"SUM(CM51:CM53)","v":0},{"$f":"IF(CN51+CN52+CN53=0,\"\",CN51+CN52+CN53)","v":""},0,{"$f":"SUM(CP51:CP53)","v":0},{"$f":"SUM(CQ51:CQ53)","v":0}]
[{"$f":"A51+1","v":"2019-01-11"},"3rd",null,null,null,null,null,null,null,null,null,null,null,null,null,null,null,null,null,null,null,null,null,null,null,null,null,null,null,null,null,null,null,null,null,null,null,null,null,null,null,null,null,null,null,null,null,null,null,null,null,null,null,null,null,null,null,null,null,null,null,null,null,null,null,null,null,null,null,null,null,null,null,null,null,null,null,null,null,null,null,null,null,null,null,null,null,null,null,null,null,null,0,null,{"$f":"HLOOKUP(MAX(E$140:CN$140),$E$140:$CN$250,44,FALSE)","v":0}]
[null,"1st",null,null,null,null,null,null,null,null,null,null,null,null,null,null,null,null,null,null,null,null,null,null,null,null,null,null,null,null,null,null,null,null,null,null,null,null,null,null,null,null,null,null,null,null,null,null,null,null,null,null,null,null,null,null,null,null,null,null,null,null,null,null,null,null,null,null,null,null,null,null,null,null,null,null,null,null,null,null,null,null,null,null,null,null,null,null,null,null,null,null,0,null,{"$f":"HLOOKUP(MAX(E$140:CN$140),$E$140:$CN$250,45,FALSE)","v":0}]
[null,"2nd",null,null,null,null,null,null,null,null,null,null,null,null,null,null,null,null,null,null,null,null,null,null,null,null,null,null,null,null,null,null,null,null,null,null,null,null,null,null,null,null,null,null,null,null,null,null,null,null,null,null,null,null,null,null,null,null,null,null,null,null,null,null,null,null,null,null,null,null,null,null,null,null,null,null,null,null,null,null,null,null,null,null,null,null,null,null,null,null,null,null,0,null,{"$f":"HLOOKUP(MAX(E$140:CN$140),$E$140:$CN$250,46,FALSE)","v":0}]
[null,"Total",{"$f":"SUM(C55:C57)","v":0},{"$f":"SUM(D55:D57)","v":0},{"$f":"IF(E55+E56+E57=0,\"\",E55+E56+E57)","v":""},{"$f":"SUM(F55:F57)","v":0},{"$f":"SUM(G55:G57)","v":0},{"$f":"IF(H55+H56+H57=0,\"\",H55+H56+H57)","v":""},{"$f":"SUM(I55:I57)","v":0},{"$f":"SUM(J55:J57)","v":0},{"$f":"IF(K55+K56+K57=0,\"\",K55+K56+K57)","v":""},{"$f":"SUM(L55:L57)","v":0},{"$f":"SUM(M55:M57)","v":0},{"$f":"IF(N55+N56+N57=0,\"\",N55+N56+N57)","v":""},{"$f":"SUM(O55:O57)","v":0},{"$f":"SUM(P55:P57)","v":0},{"$f":"IF(Q55+Q56+Q57=0,\"\",Q55+Q56+Q57)","v":""},{"$f":"SUM(R55:R57)","v":0},{"$f":"SUM(S55:S57)","v":0},{"$f":"IF(T55+T56+T57=0,\"\",T55+T56+T57)","v":""},{"$f":"SUM(U55:U57)","v":0},{"$f":"SUM(V55:V57)","v":0},{"$f":"IF(W55+W56+W57=0,\"\",W55+W56+W57)","v":""},{"$f":"SUM(X55:X57)","v":0},{"$f":"SUM(Y55:Y57)","v":0},{"$f":"IF(Z55+Z56+Z57=0,\"\",Z55+Z56+Z57)","v":""},{"$f":"SUM(AA55:AA57)","v":0},{"$f":"SUM(AB55:AB57)","v":0},{"$f":"IF(AC55+AC56+AC57=0,\"\",AC55+AC56+AC57)","v":""},{"$f":"SUM(AD55:AD57)","v":0},{"$f":"SUM(AE55:AE57)","v":0},{"$f":"IF(AF55+AF56+AF57=0,\"\",AF55+AF56+AF57)","v":""},{"$f":"SUM(AG55:AG57)","v":0},{"$f":"SUM(AH55:AH57)","v":0},{"$f":"IF(AI55+AI56+AI57=0,\"\",AI55+AI56+AI57)","v":""},{"$f":"SUM(AJ55:AJ57)","v":0},{"$f":"SUM(AK55:AK57)","v":0},{"$f":"IF(AL55+AL56+AL57=0,\"\",AL55+AL56+AL57)","v":""},{"$f":"SUM(AM55:AM57)","v":0},{"$f":"SUM(AN55:AN57)","v":0},{"$f":"IF(AO55+AO56+AO57=0,\"\",AO55+AO56+AO57)","v":""},{"$f":"SUM(AP55:AP57)","v":0},{"$f":"SUM(AQ55:AQ57)","v":0},{"$f":"IF(AR55+AR56+AR57=0,\"\",AR55+AR56+AR57)","v":""},{"$f":"SUM(AS55:AS57)","v":0},{"$f":"SUM(AT55:AT57)","v":0},{"$f":"IF(AU55+AU56+AU57=0,\"\",AU55+AU56+AU57)","v":""},{"$f":"SUM(AV55:AV57)","v":0},{"$f":"SUM(AW55:AW57)","v":0},{"$f":"IF(AX55+AX56+AX57=0,\"\",AX55+AX56+AX57)","v":""},{"$f":"SUM(AY55:AY57)","v":0},{"$f":"SUM(AZ55:AZ57)","v":0},{"$f":"IF(BA55+BA56+BA57=0,\"\",BA55+BA56+BA57)","v":""},{"$f":"SUM(BB55:BB57)","v":0},{"$f":"SUM(BC55:BC57)","v":0},{"$f":"IF(BD55+BD56+BD57=0,\"\",BD55+BD56+BD57)","v":""},{"$f":"SUM(BE55:BE57)","v":0},{"$f":"SUM(BF55:BF57)","v":0},{"$f":"IF(BG55+BG56+BG57=0,\"\",BG55+BG56+BG57)","v":""},{"$f":"SUM(BH55:BH57)","v":0},{"$f":"SUM(BI55:BI57)","v":0},{"$f":"IF(BJ55+BJ56+BJ57=0,\"\",BJ55+BJ56+BJ57)","v":""},{"$f":"SUM(BK55:BK57)","v":0},{"$f":"SUM(BL55:BL57)","v":0},{"$f":"IF(BM55+BM56+BM57=0,\"\",BM55+BM56+BM57)","v":""},{"$f":"SUM(BN55:BN57)","v":0},{"$f":"SUM(BO55:BO57)","v":0},{"$f":"IF(BP55+BP56+BP57=0,\"\",BP55+BP56+BP57)","v":""},{"$f":"SUM(BQ55:BQ57)","v":0},{"$f":"SUM(BR55:BR57)","v":0},{"$f":"IF(BS55+BS56+BS57=0,\"\",BS55+BS56+BS57)","v":""},{"$f":"SUM(BT55:BT57)","v":0},{"$f":"SUM(BU55:BU57)","v":0},{"$f":"IF(BV55+BV56+BV57=0,\"\",BV55+BV56+BV57)","v":""},{"$f":"SUM(BW55:BW57)","v":0},{"$f":"SUM(BX55:BX57)","v":0},{"$f":"IF(BY55+BY56+BY57=0,\"\",BY55+BY56+BY57)","v":""},{"$f":"SUM(BZ55:BZ57)","v":0},{"$f":"SUM(CA55:CA57)","v":0},{"$f":"IF(CB55+CB56+CB57=0,\"\",CB55+CB56+CB57)","v":""},{"$f":"SUM(CC55:CC57)","v":0},{"$f":"SUM(CD55:CD57)","v":0},{"$f":"IF(CE55+CE56+CE57=0,\"\",CE55+CE56+CE57)","v":""},{"$f":"SUM(CF55:CF57)","v":0},{"$f":"SUM(CG55:CG57)","v":0},{"$f":"IF(CH55+CH56+CH57=0,\"\",CH55+CH56+CH57)","v":""},{"$f":"SUM(CI55:CI57)","v":0},{"$f":"SUM(CJ55:CJ57)","v":0},{"$f":"IF(CK55+CK56+CK57=0,\"\",CK55+CK56+CK57)","v":""},{"$f":"SUM(CL55:CL57)","v":0},{"$f":"SUM(CM55:CM57)","v":0},{"$f":"IF(CN55+CN56+CN57=0,\"\",CN55+CN56+CN57)","v":""},0,{"$f":"SUM(CP55:CP57)","v":0},{"$f":"SUM(CQ55:CQ57)","v":0}]
[{"$f":"A55+1","v":"2019-01-12"},"3rd",null,null,null,null,null,null,null,null,null,null,null,null,null,null,null,null,null,null,null,null,null,null,null,null,null,null,null,null,null,null,null,null,null,null,null,null,null,null,null,null,null,null,null,null,null,null,null,null,null,null,null,null,null,null,null,null,null,null,null,null,null,null,null,null,null,null,null,null,null,null,null,null,null,null,null,null,null,null,null,null,null,null,null,null,null,null,null,null,null,null,0,null,{"$f":"HLOOKUP(MAX(E$140:CN$140),$E$140:$CN$250,48,FALSE)","v":0}]
[null,"1st",null,null,null,null,null,null,null,null,null,null,null,null,null,null,null,null,null,null,null,null,null,null,null,null,null,null,null,null,null,null,null,null,null,null,null,null,null,null,null,null,null,null,null,null,null,null,null,null,null,null,null,null,null,null,null,null,null,null,null,null,null,null,null,null,null,null,null,null,null,null,null,null,null,null,null,null,null,null,null,null,null,null,null,null,null,null,null,null,null,null,0,null,{"$f":"HLOOKUP(MAX(E$140:CN$140),$E$140:$CN$250,49,FALSE)","v":0}]
[null,"2nd",null,null,null,null,null,null,null,null,null,null,null,null,null,null,null,null,null,null,null,null,null,null,null,null,null,null,null,null,null,null,null,null,null,null,null,null,null,null,null,null,null,null,null,null,null,null,null,null,null,null,null,null,null,null,null,null,null,null,null,null,null,null,null,null,null,null,null,null,null,null,null,null,null,null,null,null,null,null,null,null,null,null,null,null,null,null,null,null,null,null,0,null,{"$f":"HLOOKUP(MAX(E$140:CN$140),$E$140:$CN$250,50,FALSE)","v":0}]
[null,"Total",{"$f":"SUM(C59:C61)","v":0},{"$f":"SUM(D59:D61)","v":0},{"$f":"IF(E59+E60+E61=0,\"\",E59+E60+E61)","v":""},{"$f":"SUM(F59:F61)","v":0},{"$f":"SUM(G59:G61)","v":0},{"$f":"IF(H59+H60+H61=0,\"\",H59+H60+H61)","v":""},{"$f":"SUM(I59:I61)","v":0},{"$f":"SUM(J59:J61)","v":0},{"$f":"IF(K59+K60+K61=0,\"\",K59+K60+K61)","v":""},{"$f":"SUM(L59:L61)","v":0},{"$f":"SUM(M59:M61)","v":0},{"$f":"IF(N59+N60+N61=0,\"\",N59+N60+N61)","v":""},{"$f":"SUM(O59:O61)","v":0},{"$f":"SUM(P59:P61)","v":0},{"$f":"IF(Q59+Q60+Q61=0,\"\",Q59+Q60+Q61)","v":""},{"$f":"SUM(R59:R61)","v":0},{"$f":"SUM(S59:S61)","v":0},{"$f":"IF(T59+T60+T61=0,\"\",T59+T60+T61)","v":""},{"$f":"SUM(U59:U61)","v":0},{"$f":"SUM(V59:V61)","v":0},{"$f":"IF(W59+W60+W61=0,\"\",W59+W60+W61)","v":""},{"$f":"SUM(X59:X61)","v":0},{"$f":"SUM(Y59:Y61)","v":0},{"$f":"IF(Z59+Z60+Z61=0,\"\",Z59+Z60+Z61)","v":""},{"$f":"SUM(AA59:AA61)","v":0},{"$f":"SUM(AB59:AB61)","v":0},{"$f":"IF(AC59+AC60+AC61=0,\"\",AC59+AC60+AC61)","v":""},{"$f":"SUM(AD59:AD61)","v":0},{"$f":"SUM(AE59:AE61)","v":0},{"$f":"IF(AF59+AF60+AF61=0,\"\",AF59+AF60+AF61)","v":""},{"$f":"SUM(AG59:AG61)","v":0},{"$f":"SUM(AH59:AH61)","v":0},{"$f":"IF(AI59+AI60+AI61=0,\"\",AI59+AI60+AI61)","v":""},{"$f":"SUM(AJ59:AJ61)","v":0},{"$f":"SUM(AK59:AK61)","v":0},{"$f":"IF(AL59+AL60+AL61=0,\"\",AL59+AL60+AL61)","v":""},{"$f":"SUM(AM59:AM61)","v":0},{"$f":"SUM(AN59:AN61)","v":0},{"$f":"IF(AO59+AO60+AO61=0,\"\",AO59+AO60+AO61)","v":""},{"$f":"SUM(AP59:AP61)","v":0},{"$f":"SUM(AQ59:AQ61)","v":0},{"$f":"IF(AR59+AR60+AR61=0,\"\",AR59+AR60+AR61)","v":""},{"$f":"SUM(AS59:AS61)","v":0},{"$f":"SUM(AT59:AT61)","v":0},{"$f":"IF(AU59+AU60+AU61=0,\"\",AU59+AU60+AU61)","v":""},{"$f":"SUM(AV59:AV61)","v":0},{"$f":"SUM(AW59:AW61)","v":0},{"$f":"IF(AX59+AX60+AX61=0,\"\",AX59+AX60+AX61)","v":""},{"$f":"SUM(AY59:AY61)","v":0},{"$f":"SUM(AZ59:AZ61)","v":0},{"$f":"IF(BA59+BA60+BA61=0,\"\",BA59+BA60+BA61)","v":""},{"$f":"SUM(BB59:BB61)","v":0},{"$f":"SUM(BC59:BC61)","v":0},{"$f":"IF(BD59+BD60+BD61=0,\"\",BD59+BD60+BD61)","v":""},{"$f":"SUM(BE59:BE61)","v":0},{"$f":"SUM(BF59:BF61)","v":0},{"$f":"IF(BG59+BG60+BG61=0,\"\",BG59+BG60+BG61)","v":""},{"$f":"SUM(BH59:BH61)","v":0},{"$f":"SUM(BI59:BI61)","v":0},{"$f":"IF(BJ59+BJ60+BJ61=0,\"\",BJ59+BJ60+BJ61)","v":""},{"$f":"SUM(BK59:BK61)","v":0},{"$f":"SUM(BL59:BL61)","v":0},{"$f":"IF(BM59+BM60+BM61=0,\"\",BM59+BM60+BM61)","v":""},{"$f":"SUM(BN59:BN61)","v":0},{"$f":"SUM(BO59:BO61)","v":0},{"$f":"IF(BP59+BP60+BP61=0,\"\",BP59+BP60+BP61)","v":""},{"$f":"SUM(BQ59:BQ61)","v":0},{"$f":"SUM(BR59:BR61)","v":0},{"$f":"IF(BS59+BS60+BS61=0,\"\",BS59+BS60+BS61)","v":""},{"$f":"SUM(BT59:BT61)","v":0},{"$f":"SUM(BU59:BU61)","v":0},{"$f":"IF(BV59+BV60+BV61=0,\"\",BV59+BV60+BV61)","v":""},{"$f":"SUM(BW59:BW61)","v":0},{"$f":"SUM(BX59:BX61)","v":0},{"$f":"IF(BY59+BY60+BY61=0,\"\",BY59+BY60+BY61)","v":""},{"$f":"SUM(BZ59:BZ61)","v":0},{"$f":"SUM(CA59:CA61)","v":0},{"$f":"IF(CB59+CB60+CB61=0,\"\",CB59+CB60+CB61)","v":""},{"$f":"SUM(CC59:CC61)","v":0},{"$f":"SUM(CD59:CD61)","v":0},{"$f":"IF(CE59+CE60+CE61=0,\"\",CE59+CE60+CE61)","v":""},{"$f":"SUM(CF59:CF61)","v":0},{"$f":"SUM(CG59:CG61)","v":0},{"$f":"IF(CH59+CH60+CH61=0,\"\",CH59+CH60+CH61)","v":""},{"$f":"SUM(CI59:CI61)","v":0},{"$f":"SUM(CJ59:CJ61)","v":0},{"$f":"IF(CK59+CK60+CK61=0,\"\",CK59+CK60+CK61)","v":""},{"$f":"SUM(CL59:CL61)","v":0},{"$f":"SUM(CM59:CM61)","v":0},{"$f":"IF(CN59+CN60+CN61=0,\"\",CN59+CN60+CN61)","v":""},0,{"$f":"SUM(CP59:CP61)","v":0},{"$f":"SUM(CQ59:CQ61)","v":0}]
[{"$f":"A59+1","v":"2019-01-13"},"3rd",null,null,null,null,null,null,null,null,null,null,null,null,null,null,null,null,null,null,null,null,null,null,null,null,null,null,null,null,null,null,null,null,null,null,null,null,null,null,null,null,null,null,null,null,null,null,null,null,null,null,null,null,null,null,null,null,null,null,null,null,null,null,null,null,null,null,null,null,null,null,null,null,null,null,null,null,null,null,null,null,null,null,null,null,null,null,null,null,null,null,0,null,{"$f":"HLOOKUP(MAX(E$140:CN$140),$E$140:$CN$250,52,FALSE)","v":0}]
[null,"1st",null,null,null,null,null,null,null,null,null,null,null,null,null,null,null,null,null,null,null,null,null,null,null,null,null,null,null,null,null,null,null,null,null,null,null,null,null,null,null,null,null,null,null,null,null,null,null,null,null,null,null,null,null,null,null,null,null,null,null,null,null,null,null,null,null,null,null,null,null,null,null,null,null,null,null,null,null,null,null,null,null,null,null,null,null,null,null,null,null,null,0,null,{"$f":"HLOOKUP(MAX(E$140:CN$140),$E$140:$CN$250,53,FALSE)","v":0}]
[null,"2nd",null,null,null,null,null,null,null,null,null,null,null,null,null,null,null,null,null,null,null,null,null,null,null,null,null,null,null,null,null,null,null,null,null,null,null,null,null,null,null,null,null,null,null,null,null,null,null,null,null,null,null,null,null,null,null,null,null,null,null,null,null,null,null,null,null,null,null,null,null,null,null,null,null,null,null,null,null,null,null,null,null,null,null,null,null,null,null,null,null,null,0,null,{"$f":"HLOOKUP(MAX(E$140:CN$140),$E$140:$CN$250,54,FALSE)","v":0}]
[null,"Total",{"$f":"SUM(C63:C65)","v":0},{"$f":"SUM(D63:D65)","v":0},{"$f":"IF(E63+E64+E65=0,\"\",E63+E64+E65)","v":""},{"$f":"SUM(F63:F65)","v":0},{"$f":"SUM(G63:G65)","v":0},{"$f":"IF(H63+H64+H65=0,\"\",H63+H64+H65)","v":""},{"$f":"SUM(I63:I65)","v":0},{"$f":"SUM(J63:J65)","v":0},{"$f":"IF(K63+K64+K65=0,\"\",K63+K64+K65)","v":""},{"$f":"SUM(L63:L65)","v":0},{"$f":"SUM(M63:M65)","v":0},{"$f":"IF(N63+N64+N65=0,\"\",N63+N64+N65)","v":""},{"$f":"SUM(O63:O65)","v":0},{"$f":"SUM(P63:P65)","v":0},{"$f":"IF(Q63+Q64+Q65=0,\"\",Q63+Q64+Q65)","v":""},{"$f":"SUM(R63:R65)","v":0},{"$f":"SUM(S63:S65)","v":0},{"$f":"IF(T63+T64+T65=0,\"\",T63+T64+T65)","v":""},{"$f":"SUM(U63:U65)","v":0},{"$f":"SUM(V63:V65)","v":0},{"$f":"IF(W63+W64+W65=0,\"\",W63+W64+W65)","v":""},{"$f":"SUM(X63:X65)","v":0},{"$f":"SUM(Y63:Y65)","v":0},{"$f":"IF(Z63+Z64+Z65=0,\"\",Z63+Z64+Z65)","v":""},{"$f":"SUM(AA63:AA65)","v":0},{"$f":"SUM(AB63:AB65)","v":0},{"$f":"IF(AC63+AC64+AC65=0,\"\",AC63+AC64+AC65)","v":""},{"$f":"SUM(AD63:AD65)","v":0},{"$f":"SUM(AE63:AE65)","v":0},{"$f":"IF(AF63+AF64+AF65=0,\"\",AF63+AF64+AF65)","v":""},{"$f":"SUM(AG63:AG65)","v":0},{"$f":"SUM(AH63:AH65)","v":0},{"$f":"IF(AI63+AI64+AI65=0,\"\",AI63+AI64+AI65)","v":""},{"$f":"SUM(AJ63:AJ65)","v":0},{"$f":"SUM(AK63:AK65)","v":0},{"$f":"IF(AL63+AL64+AL65=0,\"\",AL63+AL64+AL65)","v":""},{"$f":"SUM(AM63:AM65)","v":0},{"$f":"SUM(AN63:AN65)","v":0},{"$f":"IF(AO63+AO64+AO65=0,\"\",AO63+AO64+AO65)","v":""},{"$f":"SUM(AP63:AP65)","v":0},{"$f":"SUM(AQ63:AQ65)","v":0},{"$f":"IF(AR63+AR64+AR65=0,\"\",AR63+AR64+AR65)","v":""},{"$f":"SUM(AS63:AS65)","v":0},{"$f":"SUM(AT63:AT65)","v":0},{"$f":"IF(AU63+AU64+AU65=0,\"\",AU63+AU64+AU65)","v":""},{"$f":"SUM(AV63:AV65)","v":0},{"$f":"SUM(AW63:AW65)","v":0},{"$f":"IF(AX63+AX64+AX65=0,\"\",AX63+AX64+AX65)","v":""},{"$f":"SUM(AY63:AY65)","v":0},{"$f":"SUM(AZ63:AZ65)","v":0},{"$f":"IF(BA63+BA64+BA65=0,\"\",BA63+BA64+BA65)","v":""},{"$f":"SUM(BB63:BB65)","v":0},{"$f":"SUM(BC63:BC65)","v":0},{"$f":"IF(BD63+BD64+BD65=0,\"\",BD63+BD64+BD65)","v":""},{"$f":"SUM(BE63:BE65)","v":0},{"$f":"SUM(BF63:BF65)","v":0},{"$f":"IF(BG63+BG64+BG65=0,\"\",BG63+BG64+BG65)","v":""},{"$f":"SUM(BH63:BH65)","v":0},{"$f":"SUM(BI63:BI65)","v":0},{"$f":"IF(BJ63+BJ64+BJ65=0,\"\",BJ63+BJ64+BJ65)","v":""},{"$f":"SUM(BK63:BK65)","v":0},{"$f":"SUM(BL63:BL65)","v":0},{"$f":"IF(BM63+BM64+BM65=0,\"\",BM63+BM64+BM65)","v":""},{"$f":"SUM(BN63:BN65)","v":0},{"$f":"SUM(BO63:BO65)","v":0},{"$f":"IF(BP63+BP64+BP65=0,\"\",BP63+BP64+BP65)","v":""},{"$f":"SUM(BQ63:BQ65)","v":0},{"$f":"SUM(BR63:BR65)","v":0},{"$f":"IF(BS63+BS64+BS65=0,\"\",BS63+BS64+BS65)","v":""},{"$f":"SUM(BT63:BT65)","v":0},{"$f":"SUM(BU63:BU65)","v":0},{"$f":"IF(BV63+BV64+BV65=0,\"\",BV63+BV64+BV65)","v":""},{"$f":"SUM(BW63:BW65)","v":0},{"$f":"SUM(BX63:BX65)","v":0},{"$f":"IF(BY63+BY64+BY65=0,\"\",BY63+BY64+BY65)","v":""},{"$f":"SUM(BZ63:BZ65)","v":0},{"$f":"SUM(CA63:CA65)","v":0},{"$f":"IF(CB63+CB64+CB65=0,\"\",CB63+CB64+CB65)","v":""},{"$f":"SUM(CC63:CC65)","v":0},{"$f":"SUM(CD63:CD65)","v":0},{"$f":"IF(CE63+CE64+CE65=0,\"\",CE63+CE64+CE65)","v":""},{"$f":"SUM(CF63:CF65)","v":0},{"$f":"SUM(CG63:CG65)","v":0},{"$f":"IF(CH63+CH64+CH65=0,\"\",CH63+CH64+CH65)","v":""},{"$f":"SUM(CI63:CI65)","v":0},{"$f":"SUM(CJ63:CJ65)","v":0},{"$f":"IF(CK63+CK64+CK65=0,\"\",CK63+CK64+CK65)","v":""},{"$f":"SUM(CL63:CL65)","v":0},{"$f":"SUM(CM63:CM65)","v":0},{"$f":"IF(CN63+CN64+CN65=0,\"\",CN63+CN64+CN65)","v":""},0,{"$f":"SUM(CP63:CP65)","v":0},{"$f":"SUM(CQ63:CQ65)","v":0}]
[{"$f":"A63+1","v":"2019-01-14"},"3rd",null,null,null,null,null,null,null,null,null,null,null,null,null,null,null,null,null,null,null,null,null,null,null,null,null,null,null,null,null,null,null,null,null,null,null,null,null,null,null,null,null,null,null,null,null,null,null,null,null,null,null,null,null,null,null,null,null,null,null,null,null,null,null,null,null,null,null,null,null,null,null,null,null,null,null,null,null,null,null,null,null,null,null,null,null,null,null,null,null,null,0,null,{"$f":"HLOOKUP(MAX(E$140:CN$140),$E$140:$CN$250,56,FALSE)","v":0}]
[null,"1st",null,null,null,null,null,null,null,null,null,null,null,null,null,null,null,null,null,null,null,null,null,null,null,null,null,null,null,null,null,null,null,null,null,null,null,null,null,null,null,null,null,null,null,null,null,null,null,null,null,null,null,null,null,null,null,null,null,null,null,null,null,null,null,null,null,null,null,null,null,null,null,null,null,null,null,null,null,null,null,null,null,null,null,null,null,null,null,null,null,null,0,null,{"$f":"HLOOKUP(MAX(E$140:CN$140),$E$140:$CN$250,57,FALSE)","v":0}]
[null,"2nd",null,null,null,null,null,null,null,null,null,null,null,null,null,null,null,null,null,null,null,null,null,null,null,null,null,null,null,null,null,null,null,null,null,null,null,null,null,null,null,null,null,null,null,null,null,null,null,null,null,null,null,null,null,null,null,null,null,null,null,null,null,null,null,null,null,null,null,null,null,null,null,null,null,null,null,null,null,null,null,null,null,null,null,null,null,null,null,null,null,null,0,null,{"$f":"HLOOKUP(MAX(E$140:CN$140),$E$140:$CN$250,58,FALSE)","v":0}]
[null,"Total",{"$f":"SUM(C67:C69)","v":0},{"$f":"SUM(D67:D69)","v":0},{"$f":"IF(E67+E68+E69=0,\"\",E67+E68+E69)","v":""},{"$f":"SUM(F67:F69)","v":0},{"$f":"SUM(G67:G69)","v":0},{"$f":"IF(H67+H68+H69=0,\"\",H67+H68+H69)","v":""},{"$f":"SUM(I67:I69)","v":0},{"$f":"SUM(J67:J69)","v":0},{"$f":"IF(K67+K68+K69=0,\"\",K67+K68+K69)","v":""},{"$f":"SUM(L67:L69)","v":0},{"$f":"SUM(M67:M69)","v":0},{"$f":"IF(N67+N68+N69=0,\"\",N67+N68+N69)","v":""},{"$f":"SUM(O67:O69)","v":0},{"$f":"SUM(P67:P69)","v":0},{"$f":"IF(Q67+Q68+Q69=0,\"\",Q67+Q68+Q69)","v":""},{"$f":"SUM(R67:R69)","v":0},{"$f":"SUM(S67:S69)","v":0},{"$f":"IF(T67+T68+T69=0,\"\",T67+T68+T69)","v":""},{"$f":"SUM(U67:U69)","v":0},{"$f":"SUM(V67:V69)","v":0},{"$f":"IF(W67+W68+W69=0,\"\",W67+W68+W69)","v":""},{"$f":"SUM(X67:X69)","v":0},{"$f":"SUM(Y67:Y69)","v":0},{"$f":"IF(Z67+Z68+Z69=0,\"\",Z67+Z68+Z69)","v":""},{"$f":"SUM(AA67:AA69)","v":0},{"$f":"SUM(AB67:AB69)","v":0},{"$f":"IF(AC67+AC68+AC69=0,\"\",AC67+AC68+AC69)","v":""},{"$f":"SUM(AD67:AD69)","v":0},{"$f":"SUM(AE67:AE69)","v":0},{"$f":"IF(AF67+AF68+AF69=0,\"\",AF67+AF68+AF69)","v":""},{"$f":"SUM(AG67:AG69)","v":0},{"$f":"SUM(AH67:AH69)","v":0},{"$f":"IF(AI67+AI68+AI69=0,\"\",AI67+AI68+AI69)","v":""},{"$f":"SUM(AJ67:AJ69)","v":0},{"$f":"SUM(AK67:AK69)","v":0},{"$f":"IF(AL67+AL68+AL69=0,\"\",AL67+AL68+AL69)","v":""},{"$f":"SUM(AM67:AM69)","v":0},{"$f":"SUM(AN67:AN69)","v":0},{"$f":"IF(AO67+AO68+AO69=0,\"\",AO67+AO68+AO69)","v":""},{"$f":"SUM(AP67:AP69)","v":0},{"$f":"SUM(AQ67:AQ69)","v":0},{"$f":"IF(AR67+AR68+AR69=0,\"\",AR67+AR68+AR69)","v":""},{"$f":"SUM(AS67:AS69)","v":0},{"$f":"SUM(AT67:AT69)","v":0},{"$f":"IF(AU67+AU68+AU69=0,\"\",AU67+AU68+AU69)","v":""},{"$f":"SUM(AV67:AV69)","v":0},{"$f":"SUM(AW67:AW69)","v":0},{"$f":"IF(AX67+AX68+AX69=0,\"\",AX67+AX68+AX69)","v":""},{"$f":"SUM(AY67:AY69)","v":0},{"$f":"SUM(AZ67:AZ69)","v":0},{"$f":"IF(BA67+BA68+BA69=0,\"\",BA67+BA68+BA69)","v":""},{"$f":"SUM(BB67:BB69)","v":0},{"$f":"SUM(BC67:BC69)","v":0},{"$f":"IF(BD67+BD68+BD69=0,\"\",BD67+BD68+BD69)","v":""},{"$f":"SUM(BE67:BE69)","v":0},{"$f":"SUM(BF67:BF69)","v":0},{"$f":"IF(BG67+BG68+BG69=0,\"\",BG67+BG68+BG69)","v":""},{"$f":"SUM(BH67:BH69)","v":0},{"$f":"SUM(BI67:BI69)","v":0},{"$f":"IF(BJ67+BJ68+BJ69=0,\"\",BJ67+BJ68+BJ69)","v":""},{"$f":"SUM(BK67:BK69)","v":0},{"$f":"SUM(BL67:BL69)","v":0},{"$f":"IF(BM67+BM68+BM69=0,\"\",BM67+BM68+BM69)","v":""},{"$f":"SUM(BN67:BN69)","v":0},{"$f":"SUM(BO67:BO69)","v":0},{"$f":"IF(BP67+BP68+BP69=0,\"\",BP67+BP68+BP69)","v":""},{"$f":"SUM(BQ67:BQ69)","v":0},{"$f":"SUM(BR67:BR69)","v":0},{"$f":"IF(BS67+BS68+BS69=0,\"\",BS67+BS68+BS69)","v":""},{"$f":"SUM(BT67:BT69)","v":0},{"$f":"SUM(BU67:BU69)","v":0},{"$f":"IF(BV67+BV68+BV69=0,\"\",BV67+BV68+BV69)","v":""},{"$f":"SUM(BW67:BW69)","v":0},{"$f":"SUM(BX67:BX69)","v":0},{"$f":"IF(BY67+BY68+BY69=0,\"\",BY67+BY68+BY69)","v":""},{"$f":"SUM(BZ67:BZ69)","v":0},{"$f":"SUM(CA67:CA69)","v":0},{"$f":"IF(CB67+CB68+CB69=0,\"\",CB67+CB68+CB69)","v":""},{"$f":"SUM(CC67:CC69)","v":0},{"$f":"SUM(CD67:CD69)","v":0},{"$f":"IF(CE67+CE68+CE69=0,\"\",CE67+CE68+CE69)","v":""},{"$f":"SUM(CF67:CF69)","v":0},{"$f":"SUM(CG67:CG69)","v":0},{"$f":"IF(CH67+CH68+CH69=0,\"\",CH67+CH68+CH69)","v":""},{"$f":"SUM(CI67:CI69)","v":0},{"$f":"SUM(CJ67:CJ69)","v":0},{"$f":"IF(CK67+CK68+CK69=0,\"\",CK67+CK68+CK69)","v":""},{"$f":"SUM(CL67:CL69)","v":0},{"$f":"SUM(CM67:CM69)","v":0},{"$f":"IF(CN67+CN68+CN69=0,\"\",CN67+CN68+CN69)","v":""},0,{"$f":"SUM(CP67:CP69)","v":0},{"$f":"SUM(CQ67:CQ69)","v":0}]
[{"$f":"A67+1","v":"2019-01-15"},"3rd",null,null,null,null,null,null,null,null,null,null,null,null,null,null,null,null,null,null,null,null,null,null,null,null,null,null,null,null,null,null,null,null,null,null,null,null,null,null,null,null,null,null,null,null,null,null,null,null,null,null,null,null,null,null,null,null,null,null,null,null,null,null,null,null,null,null,null,null,null,null,null,null,null,null,null,null,null,null,null,null,null,null,null,null,null,null,null,null,null,null,0,null,{"$f":"HLOOKUP(MAX(E$140:CN$140),$E$140:$CN$250,60,FALSE)","v":0}]
[null,"1st",null,null,null,null,null,null,null,null,null,null,null,null,null,null,null,null,null,null,null,null,null,null,null,null,null,null,null,null,null,null,null,null,null,null,null,null,null,null,null,null,null,null,null,null,null,null,null,null,null,null,null,null,null,null,null,null,null,null,null,null,null,null,null,null,null,null,null,null,null,null,null,null,null,null,null,null,null,null,null,null,null,null,null,null,null,null,null,null,null,null,0,null,{"$f":"HLOOKUP(MAX(E$140:CN$140),$E$140:$CN$250,61,FALSE)","v":0}]
[null,"2nd",null,null,null,null,null,null,null,null,null,null,null,null,null,null,null,null,null,null,null,null,null,null,null,null,null,null,null,null,null,null,null,null,null,null,null,null,null,null,null,null,null,null,null,null,null,null,null,null,null,null,null,null,null,null,null,null,null,null,null,null,null,null,null,null,null,null,null,null,null,null,null,null,null,null,null,null,null,null,null,null,null,null,null,null,null,null,null,null,null,null,0,null,{"$f":"HLOOKUP(MAX(E$140:CN$140),$E$140:$CN$250,62,FALSE)","v":0}]
[null,"Total",{"$f":"SUM(C71:C73)","v":0},{"$f":"SUM(D71:D73)","v":0},{"$f":"IF(E71+E72+E73=0,\"\",E71+E72+E73)","v":""},{"$f":"SUM(F71:F73)","v":0},{"$f":"SUM(G71:G73)","v":0},{"$f":"IF(H71+H72+H73=0,\"\",H71+H72+H73)","v":""},{"$f":"SUM(I71:I73)","v":0},{"$f":"SUM(J71:J73)","v":0},{"$f":"IF(K71+K72+K73=0,\"\",K71+K72+K73)","v":""},{"$f":"SUM(L71:L73)","v":0},{"$f":"SUM(M71:M73)","v":0},{"$f":"IF(N71+N72+N73=0,\"\",N71+N72+N73)","v":""},{"$f":"SUM(O71:O73)","v":0},{"$f":"SUM(P71:P73)","v":0},{"$f":"IF(Q71+Q72+Q73=0,\"\",Q71+Q72+Q73)","v":""},{"$f":"SUM(R71:R73)","v":0},{"$f":"SUM(S71:S73)","v":0},{"$f":"IF(T71+T72+T73=0,\"\",T71+T72+T73)","v":""},{"$f":"SUM(U71:U73)","v":0},{"$f":"SUM(V71:V73)","v":0},{"$f":"IF(W71+W72+W73=0,\"\",W71+W72+W73)","v":""},{"$f":"SUM(X71:X73)","v":0},{"$f":"SUM(Y71:Y73)","v":0},{"$f":"IF(Z71+Z72+Z73=0,\"\",Z71+Z72+Z73)","v":""},{"$f":"SUM(AA71:AA73)","v":0},{"$f":"SUM(AB71:AB73)","v":0},{"$f":"IF(AC71+AC72+AC73=0,\"\",AC71+AC72+AC73)","v":""},{"$f":"SUM(AD71:AD73)","v":0},{"$f":"SUM(AE71:AE73)","v":0},{"$f":"IF(AF71+AF72+AF73=0,\"\",AF71+AF72+AF73)","v":""},{"$f":"SUM(AG71:AG73)","v":0},{"$f":"SUM(AH71:AH73)","v":0},{"$f":"IF(AI71+AI72+AI73=0,\"\",AI71+AI72+AI73)","v":""},{"$f":"SUM(AJ71:AJ73)","v":0},{"$f":"SUM(AK71:AK73)","v":0},{"$f":"IF(AL71+AL72+AL73=0,\"\",AL71+AL72+AL73)","v":""},{"$f":"SUM(AM71:AM73)","v":0},{"$f":"SUM(AN71:AN73)","v":0},{"$f":"IF(AO71+AO72+AO73=0,\"\",AO71+AO72+AO73)","v":""},{"$f":"SUM(AP71:AP73)","v":0},{"$f":"SUM(AQ71:AQ73)","v":0},{"$f":"IF(AR71+AR72+AR73=0,\"\",AR71+AR72+AR73)","v":""},{"$f":"SUM(AS71:AS73)","v":0},{"$f":"SUM(AT71:AT73)","v":0},{"$f":"IF(AU71+AU72+AU73=0,\"\",AU71+AU72+AU73)","v":""},{"$f":"SUM(AV71:AV73)","v":0},{"$f":"SUM(AW71:AW73)","v":0},{"$f":"IF(AX71+AX72+AX73=0,\"\",AX71+AX72+AX73)","v":""},{"$f":"SUM(AY71:AY73)","v":0},{"$f":"SUM(AZ71:AZ73)","v":0},{"$f":"IF(BA71+BA72+BA73=0,\"\",BA71+BA72+BA73)","v":""},{"$f":"SUM(BB71:BB73)","v":0},{"$f":"SUM(BC71:BC73)","v":0},{"$f":"IF(BD71+BD72+BD73=0,\"\",BD71+BD72+BD73)","v":""},{"$f":"SUM(BE71:BE73)","v":0},{"$f":"SUM(BF71:BF73)","v":0},{"$f":"IF(BG71+BG72+BG73=0,\"\",BG71+BG72+BG73)","v":""},{"$f":"SUM(BH71:BH73)","v":0},{"$f":"SUM(BI71:BI73)","v":0},{"$f":"IF(BJ71+BJ72+BJ73=0,\"\",BJ71+BJ72+BJ73)","v":""},{"$f":"SUM(BK71:BK73)","v":0},{"$f":"SUM(BL71:BL73)","v":0},{"$f":"IF(BM71+BM72+BM73=0,\"\",BM71+BM72+BM73)","v":""},{"$f":"SUM(BN71:BN73)","v":0},{"$f":"SUM(BO71:BO73)","v":0},{"$f":"IF(BP71+BP72+BP73=0,\"\",BP71+BP72+BP73)","v":""},{"$f":"SUM(BQ71:BQ73)","v":0},{"$f":"SUM(BR71:BR73)","v":0},{"$f":"IF(BS71+BS72+BS73=0,\"\",BS71+BS72+BS73)","v":""},{"$f":"SUM(BT71:BT73)","v":0},{"$f":"SUM(BU71:BU73)","v":0},{"$f":"IF(BV71+BV72+BV73=0,\"\",BV71+BV72+BV73)","v":""},{"$f":"SUM(BW71:BW73)","v":0},{"$f":"SUM(BX71:BX73)","v":0},{"$f":"IF(BY71+BY72+BY73=0,\"\",BY71+BY72+BY73)","v":""},{"$f":"SUM(BZ71:BZ73)","v":0},{"$f":"SUM(CA71:CA73)","v":0},{"$f":"IF(CB71+CB72+CB73=0,\"\",CB71+CB72+CB73)","v":""},{"$f":"SUM(CC71:CC73)","v":0},{"$f":"SUM(CD71:CD73)","v":0},{"$f":"IF(CE71+CE72+CE73=0,\"\",CE71+CE72+CE73)","v":""},{"$f":"SUM(CF71:CF73)","v":0},{"$f":"SUM(CG71:CG73)","v":0},{"$f":"IF(CH71+CH72+CH73=0,\"\",CH71+CH72+CH73)","v":""},{"$f":"SUM(CI71:CI73)","v":0},{"$f":"SUM(CJ71:CJ73)","v":0},{"$f":"IF(CK71+CK72+CK73=0,\"\",CK71+CK72+CK73)","v":""},{"$f":"SUM(CL71:CL73)","v":0},{"$f":"SUM(CM71:CM73)","v":0},{"$f":"IF(CN71+CN72+CN73=0,\"\",CN71+CN72+CN73)","v":""},0,{"$f":"SUM(CP71:CP73)","v":0},{"$f":"SUM(CQ71:CQ73)","v":0}]
[{"$f":"A71+1","v":"2019-01-16"},"3rd",null,null,null,null,null,null,null,null,null,null,null,null,null,null,null,null,null,null,null,null,null,null,null,null,null,null,null,null,null,null,null,null,null,null,null,null,null,null,null,null,null,null,null,null,null,null,null,null,null,null,null,null,null,null,null,null,null,null,null,null,null,null,null,null,null,null,null,null,null,null,null,null,null,null,null,null,null,null,null,null,null,null,null,null,null,null,null,null,null,null,0,null,{"$f":"HLOOKUP(MAX(E$140:CN$140),$E$140:$CN$250,64,FALSE)","v":0}]
[null,"1st",null,null,null,null,null,null,null,null,null,null,null,null,null,null,null,null,null,null,null,null,null,null,null,null,null,null,null,null,null,null,null,null,null,null,null,null,null,null,null,null,null,null,null,null,null,null,null,null,null,null,null,null,null,null,null,null,null,null,null,null,null,null,null,null,null,null,null,null,null,null,null,null,null,null,null,null,null,null,null,null,null,null,null,null,null,null,null,null,null,null,0,null,{"$f":"HLOOKUP(MAX(E$140:CN$140),$E$140:$CN$250,65,FALSE)","v":0}]
[null,"2nd",null,null,null,null,null,null,null,null,null,null,null,null,null,null,null,null,null,null,null,null,null,null,null,null,null,null,null,null,null,null,null,null,null,null,null,null,null,null,null,null,null,null,null,null,null,null,null,null,null,null,null,null,null,null,null,null,null,null,null,null,null,null,null,null,null,null,null,null,null,null,null,null,null,null,null,null,null,null,null,null,null,null,null,null,null,null,null,null,null,null,0,null,{"$f":"HLOOKUP(MAX(E$140:CN$140),$E$140:$CN$250,66,FALSE)","v":0}]
[null,"Total",{"$f":"SUM(C75:C77)","v":0},{"$f":"SUM(D75:D77)","v":0},{"$f":"IF(E75+E76+E77=0,\"\",E75+E76+E77)","v":""},{"$f":"SUM(F75:F77)","v":0},{"$f":"SUM(G75:G77)","v":0},{"$f":"IF(H75+H76+H77=0,\"\",H75+H76+H77)","v":""},{"$f":"SUM(I75:I77)","v":0},{"$f":"SUM(J75:J77)","v":0},{"$f":"IF(K75+K76+K77=0,\"\",K75+K76+K77)","v":""},{"$f":"SUM(L75:L77)","v":0},{"$f":"SUM(M75:M77)","v":0},{"$f":"IF(N75+N76+N77=0,\"\",N75+N76+N77)","v":""},{"$f":"SUM(O75:O77)","v":0},{"$f":"SUM(P75:P77)","v":0},{"$f":"IF(Q75+Q76+Q77=0,\"\",Q75+Q76+Q77)","v":""},{"$f":"SUM(R75:R77)","v":0},{"$f":"SUM(S75:S77)","v":0},{"$f":"IF(T75+T76+T77=0,\"\",T75+T76+T77)","v":""},{"$f":"SUM(U75:U77)","v":0},{"$f":"SUM(V75:V77)","v":0},{"$f":"IF(W75+W76+W77=0,\"\",W75+W76+W77)","v":""},{"$f":"SUM(X75:X77)","v":0},{"$f":"SUM(Y75:Y77)","v":0},{"$f":"IF(Z75+Z76+Z77=0,\"\",Z75+Z76+Z77)","v":""},{"$f":"SUM(AA75:AA77)","v":0},{"$f":"SUM(AB75:AB77)","v":0},{"$f":"IF(AC75+AC76+AC77=0,\"\",AC75+AC76+AC77)","v":""},{"$f":"SUM(AD75:AD77)","v":0},{"$f":"SUM(AE75:AE77)","v":0},{"$f":"IF(AF75+AF76+AF77=0,\"\",AF75+AF76+AF77)","v":""},{"$f":"SUM(AG75:AG77)","v":0},{"$f":"SUM(AH75:AH77)","v":0},{"$f":"IF(AI75+AI76+AI77=0,\"\",AI75+AI76+AI77)","v":""},{"$f":"SUM(AJ75:AJ77)","v":0},{"$f":"SUM(AK75:AK77)","v":0},{"$f":"IF(AL75+AL76+AL77=0,\"\",AL75+AL76+AL77)","v":""},{"$f":"SUM(AM75:AM77)","v":0},{"$f":"SUM(AN75:AN77)","v":0},{"$f":"IF(AO75+AO76+AO77=0,\"\",AO75+AO76+AO77)","v":""},{"$f":"SUM(AP75:AP77)","v":0},{"$f":"SUM(AQ75:AQ77)","v":0},{"$f":"IF(AR75+AR76+AR77=0,\"\",AR75+AR76+AR77)","v":""},{"$f":"SUM(AS75:AS77)","v":0},{"$f":"SUM(AT75:AT77)","v":0},{"$f":"IF(AU75+AU76+AU77=0,\"\",AU75+AU76+AU77)","v":""},{"$f":"SUM(AV75:AV77)","v":0},{"$f":"SUM(AW75:AW77)","v":0},{"$f":"IF(AX75+AX76+AX77=0,\"\",AX75+AX76+AX77)","v":""},{"$f":"SUM(AY75:AY77)","v":0},{"$f":"SUM(AZ75:AZ77)","v":0},{"$f":"IF(BA75+BA76+BA77=0,\"\",BA75+BA76+BA77)","v":""},{"$f":"SUM(BB75:BB77)","v":0},{"$f":"SUM(BC75:BC77)","v":0},{"$f":"IF(BD75+BD76+BD77=0,\"\",BD75+BD76+BD77)","v":""},{"$f":"SUM(BE75:BE77)","v":0},{"$f":"SUM(BF75:BF77)","v":0},{"$f":"IF(BG75+BG76+BG77=0,\"\",BG75+BG76+BG77)","v":""},{"$f":"SUM(BH75:BH77)","v":0},{"$f":"SUM(BI75:BI77)","v":0},{"$f":"IF(BJ75+BJ76+BJ77=0,\"\",BJ75+BJ76+BJ77)","v":""},{"$f":"SUM(BK75:BK77)","v":0},{"$f":"SUM(BL75:BL77)","v":0},{"$f":"IF(BM75+BM76+BM77=0,\"\",BM75+BM76+BM77)","v":""},{"$f":"SUM(BN75:BN77)","v":0},{"$f":"SUM(BO75:BO77)","v":0},{"$f":"IF(BP75+BP76+BP77=0,\"\",BP75+BP76+BP77)","v":""},{"$f":"SUM(BQ75:BQ77)","v":0},{"$f":"SUM(BR75:BR77)","v":0},{"$f":"IF(BS75+BS76+BS77=0,\"\",BS75+BS76+BS77)","v":""},{"$f":"SUM(BT75:BT77)","v":0},{"$f":"SUM(BU75:BU77)","v":0},{"$f":"IF(BV75+BV76+BV77=0,\"\",BV75+BV76+BV77)","v":""},{"$f":"SUM(BW75:BW77)","v":0},{"$f":"SUM(BX75:BX77)","v":0},{"$f":"IF(BY75+BY76+BY77=0,\"\",BY75+BY76+BY77)","v":""},{"$f":"SUM(BZ75:BZ77)","v":0},{"$f":"SUM(CA75:CA77)","v":0},{"$f":"IF(CB75+CB76+CB77=0,\"\",CB75+CB76+CB77)","v":""},{"$f":"SUM(CC75:CC77)","v":0},{"$f":"SUM(CD75:CD77)","v":0},{"$f":"IF(CE75+CE76+CE77=0,\"\",CE75+CE76+CE77)","v":""},{"$f":"SUM(CF75:CF77)","v":0},{"$f":"SUM(CG75:CG77)","v":0},{"$f":"IF(CH75+CH76+CH77=0,\"\",CH75+CH76+CH77)","v":""},{"$f":"SUM(CI75:CI77)","v":0},{"$f":"SUM(CJ75:CJ77)","v":0},{"$f":"IF(CK75+CK76+CK77=0,\"\",CK75+CK76+CK77)","v":""},{"$f":"SUM(CL75:CL77)","v":0},{"$f":"SUM(CM75:CM77)","v":0},{"$f":"IF(CN75+CN76+CN77=0,\"\",CN75+CN76+CN77)","v":""},0,{"$f":"SUM(CP75:CP77)","v":0},{"$f":"SUM(CQ75:CQ77)","v":0}]
[{"$f":"A75+1","v":"2019-01-17"},"3rd",null,null,null,null,null,null,null,null,null,null,null,null,null,null,null,null,null,null,null,null,null,null,null,null,null,null,null,null,null,null,null,null,null,null,null,null,null,null,null,null,null,null,null,null,null,null,null,null,null,null,null,null,null,null,null,null,null,null,null,null,null,null,null,null,null,null,null,null,null,null,null,null,null,null,null,null,null,null,null,null,null,null,null,null,null,null,null,null,null,null,0,null,{"$f":"HLOOKUP(MAX(E$140:CN$140),$E$140:$CN$250,68,FALSE)","v":0}]
[null,"1st",null,null,null,null,null,null,null,null,null,null,null,null,null,null,null,null,null,null,null,null,null,null,null,null,null,null,null,null,null,null,null,null,null,null,null,null,null,null,null,null,null,null,null,null,null,null,null,null,null,null,null,null,null,null,null,null,null,null,null,null,null,null,null,null,null,null,null,null,null,null,null,null,null,null,null,null,null,null,null,null,null,null,null,null,null,null,null,null,null,null,{"$f":"MIN(CN80,CK80,CH80,CE80,CB80,BY80,BV80,BS80,BP80,BM80,BJ80,BG80,BD80,BA80,AX80,AU80,AR80,AO80,AL80,AI80,AF80,AC80,Z80,W80,T80,Q80,N80,K80,H80,E80)","v":0},null,{"$f":"HLOOKUP(MAX(E$140:CN$140),$E$140:$CN$250,69,FALSE)","v":0}]
[null,"2nd",null,null,null,null,null,null,null,null,null,null,null,null,null,null,null,null,null,null,null,null,null,null,null,null,null,null,null,null,null,null,null,null,null,null,null,null,null,null,null,null,null,null,null,null,null,null,null,null,null,null,null,null,null,null,null,null,null,null,null,null,null,null,null,null,null,null,null,null,null,null,null,null,null,null,null,null,null,null,null,null,null,null,null,null,null,null,null,null,null,null,0,null,{"$f":"HLOOKUP(MAX(E$140:CN$140),$E$140:$CN$250,70,FALSE)","v":0}]
[null,"Total",{"$f":"SUM(C79:C81)","v":0},{"$f":"SUM(D79:D81)","v":0},{"$f":"IF(E79+E80+E81=0,\"\",E79+E80+E81)","v":""},{"$f":"SUM(F79:F81)","v":0},{"$f":"SUM(G79:G81)","v":0},{"$f":"IF(H79+H80+H81=0,\"\",H79+H80+H81)","v":""},{"$f":"SUM(I79:I81)","v":0},{"$f":"SUM(J79:J81)","v":0},{"$f":"IF(K79+K80+K81=0,\"\",K79+K80+K81)","v":""},{"$f":"SUM(L79:L81)","v":0},{"$f":"SUM(M79:M81)","v":0},{"$f":"IF(N79+N80+N81=0,\"\",N79+N80+N81)","v":""},{"$f":"SUM(O79:O81)","v":0},{"$f":"SUM(P79:P81)","v":0},{"$f":"IF(Q79+Q80+Q81=0,\"\",Q79+Q80+Q81)","v":""},{"$f":"SUM(R79:R81)","v":0},{"$f":"SUM(S79:S81)","v":0},{"$f":"IF(T79+T80+T81=0,\"\",T79+T80+T81)","v":""},{"$f":"SUM(U79:U81)","v":0},{"$f":"SUM(V79:V81)","v":0},{"$f":"IF(W79+W80+W81=0,\"\",W79+W80+W81)","v":""},{"$f":"SUM(X79:X81)","v":0},{"$f":"SUM(Y79:Y81)","v":0},{"$f":"IF(Z79+Z80+Z81=0,\"\",Z79+Z80+Z81)","v":""},{"$f":"SUM(AA79:AA81)","v":0},{"$f":"SUM(AB79:AB81)","v":0},{"$f":"IF(AC79+AC80+AC81=0,\"\",AC79+AC80+AC81)","v":""},{"$f":"SUM(AD79:AD81)","v":0},{"$f":"SUM(AE79:AE81)","v":0},{"$f":"IF(AF79+AF80+AF81=0,\"\",AF79+AF80+AF81)","v":""},{"$f":"SUM(AG79:AG81)","v":0},{"$f":"SUM(AH79:AH81)","v":0},{"$f":"IF(AI79+AI80+AI81=0,\"\",AI79+AI80+AI81)","v":""},{"$f":"SUM(AJ79:AJ81)","v":0},{"$f":"SUM(AK79:AK81)","v":0},{"$f":"IF(AL79+AL80+AL81=0,\"\",AL79+AL80+AL81)","v":""},{"$f":"SUM(AM79:AM81)","v":0},{"$f":"SUM(AN79:AN81)","v":0},{"$f":"IF(AO79+AO80+AO81=0,\"\",AO79+AO80+AO81)","v":""},{"$f":"SUM(AP79:AP81)","v":0},{"$f":"SUM(AQ79:AQ81)","v":0},{"$f":"IF(AR79+AR80+AR81=0,\"\",AR79+AR80+AR81)","v":""},{"$f":"SUM(AS79:AS81)","v":0},{"$f":"SUM(AT79:AT81)","v":0},{"$f":"IF(AU79+AU80+AU81=0,\"\",AU79+AU80+AU81)","v":""},{"$f":"SUM(AV79:AV81)","v":0},{"$f":"SUM(AW79:AW81)","v":0},{"$f":"IF(AX79+AX80+AX81=0,\"\",AX79+AX80+AX81)","v":""},{"$f":"SUM(AY79:AY81)","v":0},{"$f":"SUM(AZ79:AZ81)","v":0},{"$f":"IF(BA79+BA80+BA81=0,\"\",BA79+BA80+BA81)","v":""},{"$f":"SUM(BB79:BB81)","v":0},{"$f":"SUM(BC79:BC81)","v":0},{"$f":"IF(BD79+BD80+BD81=0,\"\",BD79+BD80+BD81)","v":""},{"$f":"SUM(BE79:BE81)","v":0},{"$f":"SUM(BF79:BF81)","v":0},{"$f":"IF(BG79+BG80+BG81=0,\"\",BG79+BG80+BG81)","v":""},{"$f":"SUM(BH79:BH81)","v":0},{"$f":"SUM(BI79:BI81)","v":0},{"$f":"IF(BJ79+BJ80+BJ81=0,\"\",BJ79+BJ80+BJ81)","v":""},{"$f":"SUM(BK79:BK81)","v":0},{"$f":"SUM(BL79:BL81)","v":0},{"$f":"IF(BM79+BM80+BM81=0,\"\",BM79+BM80+BM81)","v":""},{"$f":"SUM(BN79:BN81)","v":0},{"$f":"SUM(BO79:BO81)","v":0},{"$f":"IF(BP79+BP80+BP81=0,\"\",BP79+BP80+BP81)","v":""},{"$f":"SUM(BQ79:BQ81)","v":0},{"$f":"SUM(BR79:BR81)","v":0},{"$f":"IF(BS79+BS80+BS81=0,\"\",BS79+BS80+BS81)","v":""},{"$f":"SUM(BT79:BT81)","v":0},{"$f":"SUM(BU79:BU81)","v":0},{"$f":"IF(BV79+BV80+BV81=0,\"\",BV79+BV80+BV81)","v":""},{"$f":"SUM(BW79:BW81)","v":0},{"$f":"SUM(BX79:BX81)","v":0},{"$f":"IF(BY79+BY80+BY81=0,\"\",BY79+BY80+BY81)","v":""},{"$f":"SUM(BZ79:BZ81)","v":0},{"$f":"SUM(CA79:CA81)","v":0},{"$f":"IF(CB79+CB80+CB81=0,\"\",CB79+CB80+CB81)","v":""},{"$f":"SUM(CC79:CC81)","v":0},{"$f":"SUM(CD79:CD81)","v":0},{"$f":"IF(CE79+CE80+CE81=0,\"\",CE79+CE80+CE81)","v":""},{"$f":"SUM(CF79:CF81)","v":0},{"$f":"SUM(CG79:CG81)","v":0},{"$f":"IF(CH79+CH80+CH81=0,\"\",CH79+CH80+CH81)","v":""},{"$f":"SUM(CI79:CI81)","v":0},{"$f":"SUM(CJ79:CJ81)","v":0},{"$f":"IF(CK79+CK80+CK81=0,\"\",CK79+CK80+CK81)","v":""},{"$f":"SUM(CL79:CL81)","v":0},{"$f":"SUM(CM79:CM81)","v":0},{"$f":"IF(CN79+CN80+CN81=0,\"\",CN79+CN80+CN81)","v":""},0,{"$f":"SUM(CP79:CP81)","v":0},{"$f":"SUM(CQ79:CQ81)","v":0}]
[{"$f":"A79+1","v":"2019-01-18"},"3rd",null,null,null,null,null,null,null,null,null,null,null,null,null,null,null,null,null,null,null,null,null,null,null,null,null,null,null,null,null,null,null,null,null,null,null,null,null,null,null,null,null,null,null,null,null,null,null,null,null,null,null,null,null,null,null,null,null,null,null,null,null,null,null,null,null,null,null,null,null,null,null,null,null,null,null,null,null,null,null,null,null,null,null,null,null,null,null,null,null,null,0,null,{"$f":"HLOOKUP(MAX(E$140:CN$140),$E$140:$CN$250,72,FALSE)","v":0}]
[null,"1st",null,null,null,null,null,null,null,null,null,null,null,null,null,null,null,null,null,null,null,null,null,null,null,null,null,null,null,null,null,null,null,null,null,null,null,null,null,null,null,null,null,null,null,null,null,null,null,null,null,null,null,null,null,null,null,null,null,null,null,null,null,null,null,null,null,null,null,null,null,null,null,null,null,null,null,null,null,null,null,null,null,null,null,null,null,null,null,null,null,null,0,null,{"$f":"HLOOKUP(MAX(E$140:CN$140),$E$140:$CN$250,73,FALSE)","v":0}]
[null,"2nd",null,null,null,null,null,null,null,null,null,null,null,null,null,null,null,null,null,null,null,null,null,null,null,null,null,null,null,null,null,null,null,null,null,null,null,null,null,null,null,null,null,null,null,null,null,null,null,null,null,null,null,null,null,null,null,null,null,null,null,null,null,null,null,null,null,null,null,null,null,null,null,null,null,null,null,null,null,null,null,null,null,null,null,null,null,null,null,null,null,null,0,null,{"$f":"HLOOKUP(MAX(E$140:CN$140),$E$140:$CN$250,74,FALSE)","v":0}]
[null,"Total",{"$f":"SUM(C83:C85)","v":0},{"$f":"SUM(D83:D85)","v":0},{"$f":"IF(E83+E84+E85=0,\"\",E83+E84+E85)","v":""},{"$f":"SUM(F83:F85)","v":0},{"$f":"SUM(G83:G85)","v":0},{"$f":"IF(H83+H84+H85=0,\"\",H83+H84+H85)","v":""},{"$f":"SUM(I83:I85)","v":0},{"$f":"SUM(J83:J85)","v":0},{"$f":"IF(K83+K84+K85=0,\"\",K83+K84+K85)","v":""},{"$f":"SUM(L83:L85)","v":0},{"$f":"SUM(M83:M85)","v":0},{"$f":"IF(N83+N84+N85=0,\"\",N83+N84+N85)","v":""},{"$f":"SUM(O83:O85)","v":0},{"$f":"SUM(P83:P85)","v":0},{"$f":"IF(Q83+Q84+Q85=0,\"\",Q83+Q84+Q85)","v":""},{"$f":"SUM(R83:R85)","v":0},{"$f":"SUM(S83:S85)","v":0},{"$f":"IF(T83+T84+T85=0,\"\",T83+T84+T85)","v":""},{"$f":"SUM(U83:U85)","v":0},{"$f":"SUM(V83:V85)","v":0},{"$f":"IF(W83+W84+W85=0,\"\",W83+W84+W85)","v":""},{"$f":"SUM(X83:X85)","v":0},{"$f":"SUM(Y83:Y85)","v":0},{"$f":"IF(Z83+Z84+Z85=0,\"\",Z83+Z84+Z85)","v":""},{"$f":"SUM(AA83:AA85)","v":0},{"$f":"SUM(AB83:AB85)","v":0},{"$f":"IF(AC83+AC84+AC85=0,\"\",AC83+AC84+AC85)","v":""},{"$f":"SUM(AD83:AD85)","v":0},{"$f":"SUM(AE83:AE85)","v":0},{"$f":"IF(AF83+AF84+AF85=0,\"\",AF83+AF84+AF85)","v":""},{"$f":"SUM(AG83:AG85)","v":0},{"$f":"SUM(AH83:AH85)","v":0},{"$f":"IF(AI83+AI84+AI85=0,\"\",AI83+AI84+AI85)","v":""},{"$f":"SUM(AJ83:AJ85)","v":0},{"$f":"SUM(AK83:AK85)","v":0},{"$f":"IF(AL83+AL84+AL85=0,\"\",AL83+AL84+AL85)","v":""},{"$f":"SUM(AM83:AM85)","v":0},{"$f":"SUM(AN83:AN85)","v":0},{"$f":"IF(AO83+AO84+AO85=0,\"\",AO83+AO84+AO85)","v":""},{"$f":"SUM(AP83:AP85)","v":0},{"$f":"SUM(AQ83:AQ85)","v":0},{"$f":"IF(AR83+AR84+AR85=0,\"\",AR83+AR84+AR85)","v":""},{"$f":"SUM(AS83:AS85)","v":0},{"$f":"SUM(AT83:AT85)","v":0},{"$f":"IF(AU83+AU84+AU85=0,\"\",AU83+AU84+AU85)","v":""},{"$f":"SUM(AV83:AV85)","v":0},{"$f":"SUM(AW83:AW85)","v":0},{"$f":"IF(AX83+AX84+AX85=0,\"\",AX83+AX84+AX85)","v":""},{"$f":"SUM(AY83:AY85)","v":0},{"$f":"SUM(AZ83:AZ85)","v":0},{"$f":"IF(BA83+BA84+BA85=0,\"\",BA83+BA84+BA85)","v":""},{"$f":"SUM(BB83:BB85)","v":0},{"$f":"SUM(BC83:BC85)","v":0},{"$f":"IF(BD83+BD84+BD85=0,\"\",BD83+BD84+BD85)","v":""},{"$f":"SUM(BE83:BE85)","v":0},{"$f":"SUM(BF83:BF85)","v":0},{"$f":"IF(BG83+BG84+BG85=0,\"\",BG83+BG84+BG85)","v":""},{"$f":"SUM(BH83:BH85)","v":0},{"$f":"SUM(BI83:BI85)","v":0},{"$f":"IF(BJ83+BJ84+BJ85=0,\"\",BJ83+BJ84+BJ85)","v":""},{"$f":"SUM(BK83:BK85)","v":0},{"$f":"SUM(BL83:BL85)","v":0},{"$f":"IF(BM83+BM84+BM85=0,\"\",BM83+BM84+BM85)","v":""},{"$f":"SUM(BN83:BN85)","v":0},{"$f":"SUM(BO83:BO85)","v":0},{"$f":"IF(BP83+BP84+BP85=0,\"\",BP83+BP84+BP85)","v":""},{"$f":"SUM(BQ83:BQ85)","v":0},{"$f":"SUM(BR83:BR85)","v":0},{"$f":"IF(BS83+BS84+BS85=0,\"\",BS83+BS84+BS85)","v":""},{"$f":"SUM(BT83:BT85)","v":0},{"$f":"SUM(BU83:BU85)","v":0},{"$f":"IF(BV83+BV84+BV85=0,\"\",BV83+BV84+BV85)","v":""},{"$f":"SUM(BW83:BW85)","v":0},{"$f":"SUM(BX83:BX85)","v":0},{"$f":"IF(BY83+BY84+BY85=0,\"\",BY83+BY84+BY85)","v":""},{"$f":"SUM(BZ83:BZ85)","v":0},{"$f":"SUM(CA83:CA85)","v":0},{"$f":"IF(CB83+CB84+CB85=0,\"\",CB83+CB84+CB85)","v":""},{"$f":"SUM(CC83:CC85)","v":0},{"$f":"SUM(CD83:CD85)","v":0},{"$f":"IF(CE83+CE84+CE85=0,\"\",CE83+CE84+CE85)","v":""},{"$f":"SUM(CF83:CF85)","v":0},{"$f":"SUM(CG83:CG85)","v":0},{"$f":"IF(CH83+CH84+CH85=0,\"\",CH83+CH84+CH85)","v":""},{"$f":"SUM(CI83:CI85)","v":0},{"$f":"SUM(CJ83:CJ85)","v":0},{"$f":"IF(CK83+CK84+CK85=0,\"\",CK83+CK84+CK85)","v":""},{"$f":"SUM(CL83:CL85)","v":0},{"$f":"SUM(CM83:CM85)","v":0},{"$f":"IF(CN83+CN84+CN85=0,\"\",CN83+CN84+CN85)","v":""},0,{"$f":"SUM(CP83:CP85)","v":0},{"$f":"SUM(CQ83:CQ85)","v":0}]
[{"$f":"A83+1","v":"2019-01-19"},"3rd",null,null,null,null,null,null,null,null,null,null,null,null,null,null,null,null,null,null,null,null,null,null,null,null,null,null,null,null,null,null,null,null,null,null,null,null,null,null,null,null,null,null,null,null,null,null,null,null,null,null,null,null,null,null,null,null,null,null,null,null,null,null,null,null,null,null,null,null,null,null,null,null,null,null,null,null,null,null,null,null,null,null,null,null,null,null,null,null,null,null,0,null,{"$f":"HLOOKUP(MAX(E$140:CN$140),$E$140:$CN$250,76,FALSE)","v":0}]
[null,"1st",null,null,null,null,null,null,null,null,null,null,null,null,null,null,null,null,null,null,null,null,null,null,null,null,null,null,null,null,null,null,null,null,null,null,null,null,null,null,null,null,null,null,null,null,null,null,null,null,null,null,null,null,null,null,null,null,null,null,null,null,null,null,null,null,null,null,null,null,null,null,null,null,null,null,null,null,null,null,null,null,null,null,null,null,null,null,null,null,null,null,0,null,{"$f":"HLOOKUP(MAX(E$140:CN$140),$E$140:$CN$250,77,FALSE)","v":0}]
[null,"2nd",null,null,null,null,null,null,null,null,null,null,null,null,null,null,null,null,null,null,null,null,null,null,null,null,null,null,null,null,null,null,null,null,null,null,null,null,null,null,null,null,null,null,null,null,null,null,null,null,null,null,null,null,null,null,null,null,null,null,null,null,null,null,null,null,null,null,null,null,null,null,null,null,null,null,null,null,null,null,null,null,null,null,null,null,null,null,null,null,null,null,0,null,{"$f":"HLOOKUP(MAX(E$140:CN$140),$E$140:$CN$250,78,FALSE)","v":0}]
[null,"Total",{"$f":"SUM(C87:C89)","v":0},{"$f":"SUM(D87:D89)","v":0},{"$f":"IF(E87+E88+E89=0,\"\",E87+E88+E89)","v":""},{"$f":"SUM(F87:F89)","v":0},{"$f":"SUM(G87:G89)","v":0},{"$f":"IF(H87+H88+H89=0,\"\",H87+H88+H89)","v":""},{"$f":"SUM(I87:I89)","v":0},{"$f":"SUM(J87:J89)","v":0},{"$f":"IF(K87+K88+K89=0,\"\",K87+K88+K89)","v":""},{"$f":"SUM(L87:L89)","v":0},{"$f":"SUM(M87:M89)","v":0},{"$f":"IF(N87+N88+N89=0,\"\",N87+N88+N89)","v":""},{"$f":"SUM(O87:O89)","v":0},{"$f":"SUM(P87:P89)","v":0},{"$f":"IF(Q87+Q88+Q89=0,\"\",Q87+Q88+Q89)","v":""},{"$f":"SUM(R87:R89)","v":0},{"$f":"SUM(S87:S89)","v":0},{"$f":"IF(T87+T88+T89=0,\"\",T87+T88+T89)","v":""},{"$f":"SUM(U87:U89)","v":0},{"$f":"SUM(V87:V89)","v":0},{"$f":"IF(W87+W88+W89=0,\"\",W87+W88+W89)","v":""},{"$f":"SUM(X87:X89)","v":0},{"$f":"SUM(Y87:Y89)","v":0},{"$f":"IF(Z87+Z88+Z89=0,\"\",Z87+Z88+Z89)","v":""},{"$f":"SUM(AA87:AA89)","v":0},{"$f":"SUM(AB87:AB89)","v":0},{"$f":"IF(AC87+AC88+AC89=0,\"\",AC87+AC88+AC89)","v":""},{"$f":"SUM(AD87:AD89)","v":0},{"$f":"SUM(AE87:AE89)","v":0},{"$f":"IF(AF87+AF88+AF89=0,\"\",AF87+AF88+AF89)","v":""},{"$f":"SUM(AG87:AG89)","v":0},{"$f":"SUM(AH87:AH89)","v":0},{"$f":"IF(AI87+AI88+AI89=0,\"\",AI87+AI88+AI89)","v":""},{"$f":"SUM(AJ87:AJ89)","v":0},{"$f":"SUM(AK87:AK89)","v":0},{"$f":"IF(AL87+AL88+AL89=0,\"\",AL87+AL88+AL89)","v":""},{"$f":"SUM(AM87:AM89)","v":0},{"$f":"SUM(AN87:AN89)","v":0},{"$f":"IF(AO87+AO88+AO89=0,\"\",AO87+AO88+AO89)","v":""},{"$f":"SUM(AP87:AP89)","v":0},{"$f":"SUM(AQ87:AQ89)","v":0},{"$f":"IF(AR87+AR88+AR89=0,\"\",AR87+AR88+AR89)","v":""},{"$f":"SUM(AS87:AS89)","v":0},{"$f":"SUM(AT87:AT89)","v":0},{"$f":"IF(AU87+AU88+AU89=0,\"\",AU87+AU88+AU89)","v":""},{"$f":"SUM(AV87:AV89)","v":0},{"$f":"SUM(AW87:AW89)","v":0},{"$f":"IF(AX87+AX88+AX89=0,\"\",AX87+AX88+AX89)","v":""},{"$f":"SUM(AY87:AY89)","v":0},{"$f":"SUM(AZ87:AZ89)","v":0},{"$f":"IF(BA87+BA88+BA89=0,\"\",BA87+BA88+BA89)","v":""},{"$f":"SUM(BB87:BB89)","v":0},{"$f":"SUM(BC87:BC89)","v":0},{"$f":"IF(BD87+BD88+BD89=0,\"\",BD87+BD88+BD89)","v":""},{"$f":"SUM(BE87:BE89)","v":0},{"$f":"SUM(BF87:BF89)","v":0},{"$f":"IF(BG87+BG88+BG89=0,\"\",BG87+BG88+BG89)","v":""},{"$f":"SUM(BH87:BH89)","v":0},{"$f":"SUM(BI87:BI89)","v":0},{"$f":"IF(BJ87+BJ88+BJ89=0,\"\",BJ87+BJ88+BJ89)","v":""},{"$f":"SUM(BK87:BK89)","v":0},{"$f":"SUM(BL87:BL89)","v":0},{"$f":"IF(BM87+BM88+BM89=0,\"\",BM87+BM88+BM89)","v":""},{"$f":"SUM(BN87:BN89)","v":0},{"$f":"SUM(BO87:BO89)","v":0},{"$f":"IF(BP87+BP88+BP89=0,\"\",BP87+BP88+BP89)","v":""},{"$f":"SUM(BQ87:BQ89)","v":0},{"$f":"SUM(BR87:BR89)","v":0},{"$f":"IF(BS87+BS88+BS89=0,\"\",BS87+BS88+BS89)","v":""},{"$f":"SUM(BT87:BT89)","v":0},{"$f":"SUM(BU87:BU89)","v":0},{"$f":"IF(BV87+BV88+BV89=0,\"\",BV87+BV88+BV89)","v":""},{"$f":"SUM(BW87:BW89)","v":0},{"$f":"SUM(BX87:BX89)","v":0},{"$f":"IF(BY87+BY88+BY89=0,\"\",BY87+BY88+BY89)","v":""},{"$f":"SUM(BZ87:BZ89)","v":0},{"$f":"SUM(CA87:CA89)","v":0},{"$f":"IF(CB87+CB88+CB89=0,\"\",CB87+CB88+CB89)","v":""},{"$f":"SUM(CC87:CC89)","v":0},{"$f":"SUM(CD87:CD89)","v":0},{"$f":"IF(CE87+CE88+CE89=0,\"\",CE87+CE88+CE89)","v":""},{"$f":"SUM(CF87:CF89)","v":0},{"$f":"SUM(CG87:CG89)","v":0},{"$f":"IF(CH87+CH88+CH89=0,\"\",CH87+CH88+CH89)","v":""},{"$f":"SUM(CI87:CI89)","v":0},{"$f":"SUM(CJ87:CJ89)","v":0},{"$f":"IF(CK87+CK88+CK89=0,\"\",CK87+CK88+CK89)","v":""},{"$f":"SUM(CL87:CL89)","v":0},{"$f":"SUM(CM87:CM89)","v":0},{"$f":"IF(CN87+CN88+CN89=0,\"\",CN87+CN88+CN89)","v":""},0,{"$f":"SUM(CP87:CP89)","v":0},{"$f":"SUM(CQ87:CQ89)","v":0}]
[{"$f":"A87+1","v":"2019-01-20"},"3rd",null,null,null,null,null,null,null,null,null,null,null,null,null,null,null,null,null,null,null,null,null,null,null,null,null,null,null,null,null,null,null,null,null,null,null,null,null,null,null,null,null,null,null,null,null,null,null,null,null,null,null,null,null,null,null,null,null,null,null,null,null,null,null,null,null,null,null,null,null,null,null,null,null,null,null,null,null,null,null,null,null,null,null,null,null,null,null,null,null,null,0,null,{"$f":"HLOOKUP(MAX(E$140:CN$140),$E$140:$CN$250,80,FALSE)","v":0}]
[null,"1st",null,null,null,null,null,null,null,null,null,null,null,null,null,null,null,null,null,null,null,null,null,null,null,null,null,null,null,null,null,null,null,null,null,null,null,null,null,null,null,null,null,null,null,null,null,null,null,null,null,null,null,null,null,null,null,null,null,null,null,null,null,null,null,null,null,null,null,null,null,null,null,null,null,null,null,null,null,null,null,null,null,null,null,null,null,null,null,null,null,null,0,null,{"$f":"HLOOKUP(MAX(E$140:CN$140),$E$140:$CN$250,81,FALSE)","v":0}]
[null,"2nd",null,null,null,null,null,null,null,null,null,null,null,null,null,null,null,null,null,null,null,null,null,null,null,null,null,null,null,null,null,null,null,null,null,null,null,null,null,null,null,null,null,null,null,null,null,null,null,null,null,null,null,null,null,null,null,null,null,null,null,null,null,null,null,null,null,null,null,null,null,null,null,null,null,null,null,null,null,null,null,null,null,null,null,null,null,null,null,null,null,null,0,null,{"$f":"HLOOKUP(MAX(E$140:CN$140),$E$140:$CN$250,82,FALSE)","v":0}]
[null,"Total",{"$f":"SUM(C91:C93)","v":0},{"$f":"SUM(D91:D93)","v":0},{"$f":"IF(E91+E92+E93=0,\"\",E91+E92+E93)","v":""},{"$f":"SUM(F91:F93)","v":0},{"$f":"SUM(G91:G93)","v":0},{"$f":"IF(H91+H92+H93=0,\"\",H91+H92+H93)","v":""},{"$f":"SUM(I91:I93)","v":0},{"$f":"SUM(J91:J93)","v":0},{"$f":"IF(K91+K92+K93=0,\"\",K91+K92+K93)","v":""},{"$f":"SUM(L91:L93)","v":0},{"$f":"SUM(M91:M93)","v":0},{"$f":"IF(N91+N92+N93=0,\"\",N91+N92+N93)","v":""},{"$f":"SUM(O91:O93)","v":0},{"$f":"SUM(P91:P93)","v":0},{"$f":"IF(Q91+Q92+Q93=0,\"\",Q91+Q92+Q93)","v":""},{"$f":"SUM(R91:R93)","v":0},{"$f":"SUM(S91:S93)","v":0},{"$f":"IF(T91+T92+T93=0,\"\",T91+T92+T93)","v":""},{"$f":"SUM(U91:U93)","v":0},{"$f":"SUM(V91:V93)","v":0},{"$f":"IF(W91+W92+W93=0,\"\",W91+W92+W93)","v":""},{"$f":"SUM(X91:X93)","v":0},{"$f":"SUM(Y91:Y93)","v":0},{"$f":"IF(Z91+Z92+Z93=0,\"\",Z91+Z92+Z93)","v":""},{"$f":"SUM(AA91:AA93)","v":0},{"$f":"SUM(AB91:AB93)","v":0},{"$f":"IF(AC91+AC92+AC93=0,\"\",AC91+AC92+AC93)","v":""},{"$f":"SUM(AD91:AD93)","v":0},{"$f":"SUM(AE91:AE93)","v":0},{"$f":"IF(AF91+AF92+AF93=0,\"\",AF91+AF92+AF93)","v":""},{"$f":"SUM(AG91:AG93)","v":0},{"$f":"SUM(AH91:AH93)","v":0},{"$f":"IF(AI91+AI92+AI93=0,\"\",AI91+AI92+AI93)","v":""},{"$f":"SUM(AJ91:AJ93)","v":0},{"$f":"SUM(AK91:AK93)","v":0},{"$f":"IF(AL91+AL92+AL93=0,\"\",AL91+AL92+AL93)","v":""},{"$f":"SUM(AM91:AM93)","v":0},{"$f":"SUM(AN91:AN93)","v":0},{"$f":"IF(AO91+AO92+AO93=0,\"\",AO91+AO92+AO93)","v":""},{"$f":"SUM(AP91:AP93)","v":0},{"$f":"SUM(AQ91:AQ93)","v":0},{"$f":"IF(AR91+AR92+AR93=0,\"\",AR91+AR92+AR93)","v":""},{"$f":"SUM(AS91:AS93)","v":0},{"$f":"SUM(AT91:AT93)","v":0},{"$f":"IF(AU91+AU92+AU93=0,\"\",AU91+AU92+AU93)","v":""},{"$f":"SUM(AV91:AV93)","v":0},{"$f":"SUM(AW91:AW93)","v":0},{"$f":"IF(AX91+AX92+AX93=0,\"\",AX91+AX92+AX93)","v":""},{"$f":"SUM(AY91:AY93)","v":0},{"$f":"SUM(AZ91:AZ93)","v":0},{"$f":"IF(BA91+BA92+BA93=0,\"\",BA91+BA92+BA93)","v":""},{"$f":"SUM(BB91:BB93)","v":0},{"$f":"SUM(BC91:BC93)","v":0},{"$f":"IF(BD91+BD92+BD93=0,\"\",BD91+BD92+BD93)","v":""},{"$f":"SUM(BE91:BE93)","v":0},{"$f":"SUM(BF91:BF93)","v":0},{"$f":"IF(BG91+BG92+BG93=0,\"\",BG91+BG92+BG93)","v":""},{"$f":"SUM(BH91:BH93)","v":0},{"$f":"SUM(BI91:BI93)","v":0},{"$f":"IF(BJ91+BJ92+BJ93=0,\"\",BJ91+BJ92+BJ93)","v":""},{"$f":"SUM(BK91:BK93)","v":0},{"$f":"SUM(BL91:BL93)","v":0},{"$f":"IF(BM91+BM92+BM93=0,\"\",BM91+BM92+BM93)","v":""},{"$f":"SUM(BN91:BN93)","v":0},{"$f":"SUM(BO91:BO93)","v":0},{"$f":"IF(BP91+BP92+BP93=0,\"\",BP91+BP92+BP93)","v":""},{"$f":"SUM(BQ91:BQ93)","v":0},{"$f":"SUM(BR91:BR93)","v":0},{"$f":"IF(BS91+BS92+BS93=0,\"\",BS91+BS92+BS93)","v":""},{"$f":"SUM(BT91:BT93)","v":0},{"$f":"SUM(BU91:BU93)","v":0},{"$f":"IF(BV91+BV92+BV93=0,\"\",BV91+BV92+BV93)","v":""},{"$f":"SUM(BW91:BW93)","v":0},{"$f":"SUM(BX91:BX93)","v":0},{"$f":"IF(BY91+BY92+BY93=0,\"\",BY91+BY92+BY93)","v":""},{"$f":"SUM(BZ91:BZ93)","v":0},{"$f":"SUM(CA91:CA93)","v":0},{"$f":"IF(CB91+CB92+CB93=0,\"\",CB91+CB92+CB93)","v":""},{"$f":"SUM(CC91:CC93)","v":0},{"$f":"SUM(CD91:CD93)","v":0},{"$f":"IF(CE91+CE92+CE93=0,\"\",CE91+CE92+CE93)","v":""},{"$f":"SUM(CF91:CF93)","v":0},{"$f":"SUM(CG91:CG93)","v":0},{"$f":"IF(CH91+CH92+CH93=0,\"\",CH91+CH92+CH93)","v":""},{"$f":"SUM(CI91:CI93)","v":0},{"$f":"SUM(CJ91:CJ93)","v":0},{"$f":"IF(CK91+CK92+CK93=0,\"\",CK91+CK92+CK93)","v":""},{"$f":"SUM(CL91:CL93)","v":0},{"$f":"SUM(CM91:CM93)","v":0},{"$f":"IF(CN91+CN92+CN93=0,\"\",CN91+CN92+CN93)","v":""},0,{"$f":"SUM(CP91:CP93)","v":0},{"$f":"SUM(CQ91:CQ93)","v":0}]
[{"$f":"A91+1","v":"2019-01-21"},"3rd",null,null,null,null,null,null,null,null,null,null,null,null,null,null,null,null,null,null,null,null,null,null,null,null,null,null,null,null,null,null,null,null,null,null,null,null,null,null,null,null,null,null,null,null,null,null,null,null,null,null,null,null,null,null,null,null,null,null,null,null,null,null,null,null,null,null,null,null,null,null,null,null,null,null,null,null,null,null,null,null,null,null,null,null,null,null,null,null,null,null,0,null,{"$f":"HLOOKUP(MAX(E$140:CN$140),$E$140:$CN$250,84,FALSE)","v":0}]
[null,"1st",null,null,null,null,null,null,null,null,null,null,null,null,null,null,null,null,null,null,null,null,null,null,null,null,null,null,null,null,null,null,null,null,null,null,null,null,null,null,null,null,null,null,null,null,null,null,null,null,null,null,null,null,null,null,null,null,null,null,null,null,null,null,null,null,null,null,null,null,null,null,null,null,null,null,null,null,null,null,null,null,null,null,null,null,null,null,null,null,null,null,0,null,{"$f":"HLOOKUP(MAX(E$140:CN$140),$E$140:$CN$250,85,FALSE)","v":0}]
[null,"2nd",null,null,null,null,null,null,null,null,null,null,null,null,null,null,null,null,null,null,null,null,null,null,null,null,null,null,null,null,null,null,null,null,null,null,null,null,null,null,null,null,null,null,null,null,null,null,null,null,null,null,null,null,null,null,null,null,null,null,null,null,null,null,null,null,null,null,null,null,null,null,null,null,null,null,null,null,null,null,null,null,null,null,null,null,null,null,null,null,null,null,0,null,{"$f":"HLOOKUP(MAX(E$140:CN$140),$E$140:$CN$250,86,FALSE)","v":0}]
[null,"Total",{"$f":"SUM(C95:C97)","v":0},{"$f":"SUM(D95:D97)","v":0},{"$f":"IF(E95+E96+E97=0,\"\",E95+E96+E97)","v":""},{"$f":"SUM(F95:F97)","v":0},{"$f":"SUM(G95:G97)","v":0},{"$f":"IF(H95+H96+H97=0,\"\",H95+H96+H97)","v":""},{"$f":"SUM(I95:I97)","v":0},{"$f":"SUM(J95:J97)","v":0},{"$f":"IF(K95+K96+K97=0,\"\",K95+K96+K97)","v":""},{"$f":"SUM(L95:L97)","v":0},{"$f":"SUM(M95:M97)","v":0},{"$f":"IF(N95+N96+N97=0,\"\",N95+N96+N97)","v":""},{"$f":"SUM(O95:O97)","v":0},{"$f":"SUM(P95:P97)","v":0},{"$f":"IF(Q95+Q96+Q97=0,\"\",Q95+Q96+Q97)","v":""},{"$f":"SUM(R95:R97)","v":0},{"$f":"SUM(S95:S97)","v":0},{"$f":"IF(T95+T96+T97=0,\"\",T95+T96+T97)","v":""},{"$f":"SUM(U95:U97)","v":0},{"$f":"SUM(V95:V97)","v":0},{"$f":"IF(W95+W96+W97=0,\"\",W95+W96+W97)","v":""},{"$f":"SUM(X95:X97)","v":0},{"$f":"SUM(Y95:Y97)","v":0},{"$f":"IF(Z95+Z96+Z97=0,\"\",Z95+Z96+Z97)","v":""},{"$f":"SUM(AA95:AA97)","v":0},{"$f":"SUM(AB95:AB97)","v":0},{"$f":"IF(AC95+AC96+AC97=0,\"\",AC95+AC96+AC97)","v":""},{"$f":"SUM(AD95:AD97)","v":0},{"$f":"SUM(AE95:AE97)","v":0},{"$f":"IF(AF95+AF96+AF97=0,\"\",AF95+AF96+AF97)","v":""},{"$f":"SUM(AG95:AG97)","v":0},{"$f":"SUM(AH95:AH97)","v":0},{"$f":"IF(AI95+AI96+AI97=0,\"\",AI95+AI96+AI97)","v":""},{"$f":"SUM(AJ95:AJ97)","v":0},{"$f":"SUM(AK95:AK97)","v":0},{"$f":"IF(AL95+AL96+AL97=0,\"\",AL95+AL96+AL97)","v":""},{"$f":"SUM(AM95:AM97)","v":0},{"$f":"SUM(AN95:AN97)","v":0},{"$f":"IF(AO95+AO96+AO97=0,\"\",AO95+AO96+AO97)","v":""},{"$f":"SUM(AP95:AP97)","v":0},{"$f":"SUM(AQ95:AQ97)","v":0},{"$f":"IF(AR95+AR96+AR97=0,\"\",AR95+AR96+AR97)","v":""},{"$f":"SUM(AS95:AS97)","v":0},{"$f":"SUM(AT95:AT97)","v":0},{"$f":"IF(AU95+AU96+AU97=0,\"\",AU95+AU96+AU97)","v":""},{"$f":"SUM(AV95:AV97)","v":0},{"$f":"SUM(AW95:AW97)","v":0},{"$f":"IF(AX95+AX96+AX97=0,\"\",AX95+AX96+AX97)","v":""},{"$f":"SUM(AY95:AY97)","v":0},{"$f":"SUM(AZ95:AZ97)","v":0},{"$f":"IF(BA95+BA96+BA97=0,\"\",BA95+BA96+BA97)","v":""},{"$f":"SUM(BB95:BB97)","v":0},{"$f":"SUM(BC95:BC97)","v":0},{"$f":"IF(BD95+BD96+BD97=0,\"\",BD95+BD96+BD97)","v":""},{"$f":"SUM(BE95:BE97)","v":0},{"$f":"SUM(BF95:BF97)","v":0},{"$f":"IF(BG95+BG96+BG97=0,\"\",BG95+BG96+BG97)","v":""},{"$f":"SUM(BH95:BH97)","v":0},{"$f":"SUM(BI95:BI97)","v":0},{"$f":"IF(BJ95+BJ96+BJ97=0,\"\",BJ95+BJ96+BJ97)","v":""},{"$f":"SUM(BK95:BK97)","v":0},{"$f":"SUM(BL95:BL97)","v":0},{"$f":"IF(BM95+BM96+BM97=0,\"\",BM95+BM96+BM97)","v":""},{"$f":"SUM(BN95:BN97)","v":0},{"$f":"SUM(BO95:BO97)","v":0},{"$f":"IF(BP95+BP96+BP97=0,\"\",BP95+BP96+BP97)","v":""},{"$f":"SUM(BQ95:BQ97)","v":0},{"$f":"SUM(BR95:BR97)","v":0},{"$f":"IF(BS95+BS96+BS97=0,\"\",BS95+BS96+BS97)","v":""},{"$f":"SUM(BT95:BT97)","v":0},{"$f":"SUM(BU95:BU97)","v":0},{"$f":"IF(BV95+BV96+BV97=0,\"\",BV95+BV96+BV97)","v":""},{"$f":"SUM(BW95:BW97)","v":0},{"$f":"SUM(BX95:BX97)","v":0},{"$f":"IF(BY95+BY96+BY97=0,\"\",BY95+BY96+BY97)","v":""},{"$f":"SUM(BZ95:BZ97)","v":0},{"$f":"SUM(CA95:CA97)","v":0},{"$f":"IF(CB95+CB96+CB97=0,\"\",CB95+CB96+CB97)","v":""},{"$f":"SUM(CC95:CC97)","v":0},{"$f":"SUM(CD95:CD97)","v":0},{"$f":"IF(CE95+CE96+CE97=0,\"\",CE95+CE96+CE97)","v":""},{"$f":"SUM(CF95:CF97)","v":0},{"$f":"SUM(CG95:CG97)","v":0},{"$f":"IF(CH95+CH96+CH97=0,\"\",CH95+CH96+CH97)","v":""},{"$f":"SUM(CI95:CI97)","v":0},{"$f":"SUM(CJ95:CJ97)","v":0},{"$f":"IF(CK95+CK96+CK97=0,\"\",CK95+CK96+CK97)","v":""},{"$f":"SUM(CL95:CL97)","v":0},{"$f":"SUM(CM95:CM97)","v":0},{"$f":"IF(CN95+CN96+CN97=0,\"\",CN95+CN96+CN97)","v":""},0,{"$f":"SUM(CP95:CP97)","v":0},{"$f":"SUM(CQ95:CQ97)","v":0}]
[{"$f":"A95+1","v":"2019-01-22"},"3rd",null,null,null,null,null,null,null,null,null,null,null,null,null,null,null,null,null,null,null,null,null,null,null,null,null,null,null,null,null,null,null,null,null,null,null,null,null,null,null,null,null,null,null,null,null,null,null,null,null,null,null,null,null,null,null,null,null,null,null,null,null,null,null,null,null,null,null,null,null,null,null,null,null,null,null,null,null,null,null,null,null,null,null,null,null,null,null,null,null,null,0,null,{"$f":"HLOOKUP(MAX(E$140:CN$140),$E$140:$CN$250,88,FALSE)","v":0}]
[null,"1st",null,null,null,null,null,null,null,null,null,null,null,null,null,null,null,null,null,null,null,null,null,null,null,null,null,null,null,null,null,null,null,null,null,null,null,null,null,null,null,null,null,null,null,null,null,null,null,null,null,null,null,null,null,null,null,null,null,null,null,null,null,null,null,null,null,null,null,null,null,null,null,null,null,null,null,null,null,null,null,null,null,null,null,null,null,null,null,null,null,null,0,null,{"$f":"HLOOKUP(MAX(E$140:CN$140),$E$140:$CN$250,89,FALSE)","v":0}]
[null,"2nd",null,null,null,null,null,null,null,null,null,null,null,null,null,null,null,null,null,null,null,null,null,null,null,null,null,null,null,null,null,null,null,null,null,null,null,null,null,null,null,null,null,null,null,null,null,null,null,null,null,null,null,null,null,null,null,null,null,null,null,null,null,null,null,null,null,null,null,null,null,null,null,null,null,null,null,null,null,null,null,null,null,null,null,null,null,null,null,null,null,null,0,null,{"$f":"HLOOKUP(MAX(E$140:CN$140),$E$140:$CN$250,90,FALSE)","v":0}]
[null,"Total",{"$f":"SUM(C99:C101)","v":0},{"$f":"SUM(D99:D101)","v":0},{"$f":"IF(E99+E100+E101=0,\"\",E99+E100+E101)","v":""},{"$f":"SUM(F99:F101)","v":0},{"$f":"SUM(G99:G101)","v":0},{"$f":"IF(H99+H100+H101=0,\"\",H99+H100+H101)","v":""},{"$f":"SUM(I99:I101)","v":0},{"$f":"SUM(J99:J101)","v":0},{"$f":"IF(K99+K100+K101=0,\"\",K99+K100+K101)","v":""},{"$f":"SUM(L99:L101)","v":0},{"$f":"SUM(M99:M101)","v":0},{"$f":"IF(N99+N100+N101=0,\"\",N99+N100+N101)","v":""},{"$f":"SUM(O99:O101)","v":0},{"$f":"SUM(P99:P101)","v":0},{"$f":"IF(Q99+Q100+Q101=0,\"\",Q99+Q100+Q101)","v":""},{"$f":"SUM(R99:R101)","v":0},{"$f":"SUM(S99:S101)","v":0},{"$f":"IF(T99+T100+T101=0,\"\",T99+T100+T101)","v":""},{"$f":"SUM(U99:U101)","v":0},{"$f":"SUM(V99:V101)","v":0},{"$f":"IF(W99+W100+W101=0,\"\",W99+W100+W101)","v":""},{"$f":"SUM(X99:X101)","v":0},{"$f":"SUM(Y99:Y101)","v":0},{"$f":"IF(Z99+Z100+Z101=0,\"\",Z99+Z100+Z101)","v":""},{"$f":"SUM(AA99:AA101)","v":0},{"$f":"SUM(AB99:AB101)","v":0},{"$f":"IF(AC99+AC100+AC101=0,\"\",AC99+AC100+AC101)","v":""},{"$f":"SUM(AD99:AD101)","v":0},{"$f":"SUM(AE99:AE101)","v":0},{"$f":"IF(AF99+AF100+AF101=0,\"\",AF99+AF100+AF101)","v":""},{"$f":"SUM(AG99:AG101)","v":0},{"$f":"SUM(AH99:AH101)","v":0},{"$f":"IF(AI99+AI100+AI101=0,\"\",AI99+AI100+AI101)","v":""},{"$f":"SUM(AJ99:AJ101)","v":0},{"$f":"SUM(AK99:AK101)","v":0},{"$f":"IF(AL99+AL100+AL101=0,\"\",AL99+AL100+AL101)","v":""},{"$f":"SUM(AM99:AM101)","v":0},{"$f":"SUM(AN99:AN101)","v":0},{"$f":"IF(AO99+AO100+AO101=0,\"\",AO99+AO100+AO101)","v":""},{"$f":"SUM(AP99:AP101)","v":0},{"$f":"SUM(AQ99:AQ101)","v":0},{"$f":"IF(AR99+AR100+AR101=0,\"\",AR99+AR100+AR101)","v":""},{"$f":"SUM(AS99:AS101)","v":0},{"$f":"SUM(AT99:AT101)","v":0},{"$f":"IF(AU99+AU100+AU101=0,\"\",AU99+AU100+AU101)","v":""},{"$f":"SUM(AV99:AV101)","v":0},{"$f":"SUM(AW99:AW101)","v":0},{"$f":"IF(AX99+AX100+AX101=0,\"\",AX99+AX100+AX101)","v":""},{"$f":"SUM(AY99:AY101)","v":0},{"$f":"SUM(AZ99:AZ101)","v":0},{"$f":"IF(BA99+BA100+BA101=0,\"\",BA99+BA100+BA101)","v":""},{"$f":"SUM(BB99:BB101)","v":0},{"$f":"SUM(BC99:BC101)","v":0},{"$f":"IF(BD99+BD100+BD101=0,\"\",BD99+BD100+BD101)","v":""},{"$f":"SUM(BE99:BE101)","v":0},{"$f":"SUM(BF99:BF101)","v":0},{"$f":"IF(BG99+BG100+BG101=0,\"\",BG99+BG100+BG101)","v":""},{"$f":"SUM(BH99:BH101)","v":0},{"$f":"SUM(BI99:BI101)","v":0},{"$f":"IF(BJ99+BJ100+BJ101=0,\"\",BJ99+BJ100+BJ101)","v":""},{"$f":"SUM(BK99:BK101)","v":0},{"$f":"SUM(BL99:BL101)","v":0},{"$f":"IF(BM99+BM100+BM101=0,\"\",BM99+BM100+BM101)","v":""},{"$f":"SUM(BN99:BN101)","v":0},{"$f":"SUM(BO99:BO101)","v":0},{"$f":"IF(BP99+BP100+BP101=0,\"\",BP99+BP100+BP101)","v":""},{"$f":"SUM(BQ99:BQ101)","v":0},{"$f":"SUM(BR99:BR101)","v":0},{"$f":"IF(BS99+BS100+BS101=0,\"\",BS99+BS100+BS101)","v":""},{"$f":"SUM(BT99:BT101)","v":0},{"$f":"SUM(BU99:BU101)","v":0},{"$f":"IF(BV99+BV100+BV101=0,\"\",BV99+BV100+BV101)","v":""},{"$f":"SUM(BW99:BW101)","v":0},{"$f":"SUM(BX99:BX101)","v":0},{"$f":"IF(BY99+BY100+BY101=0,\"\",BY99+BY100+BY101)","v":""},{"$f":"SUM(BZ99:BZ101)","v":0},{"$f":"SUM(CA99:CA101)","v":0},{"$f":"IF(CB99+CB100+CB101=0,\"\",CB99+CB100+CB101)","v":""},{"$f":"SUM(CC99:CC101)","v":0},{"$f":"SUM(CD99:CD101)","v":0},{"$f":"IF(CE99+CE100+CE101=0,\"\",CE99+CE100+CE101)","v":""},{"$f":"SUM(CF99:CF101)","v":0},{"$f":"SUM(CG99:CG101)","v":0},{"$f":"IF(CH99+CH100+CH101=0,\"\",CH99+CH100+CH101)","v":""},{"$f":"SUM(CI99:CI101)","v":0},{"$f":"SUM(CJ99:CJ101)","v":0},{"$f":"IF(CK99+CK100+CK101=0,\"\",CK99+CK100+CK101)","v":""},{"$f":"SUM(CL99:CL101)","v":0},{"$f":"SUM(CM99:CM101)","v":0},{"$f":"IF(CN99+CN100+CN101=0,\"\",CN99+CN100+CN101)","v":""},0,{"$f":"SUM(CP99:CP101)","v":0},{"$f":"SUM(CQ99:CQ101)","v":0}]
[{"$f":"A99+1","v":"2019-01-23"},"3rd",null,null,null,null,null,null,null,null,null,null,null,null,null,null,null,null,null,null,null,null,null,null,null,null,null,null,null,null,null,null,null,null,null,null,null,null,null,null,null,null,null,null,null,null,null,null,null,null,null,null,null,null,null,null,null,null,null,null,null,null,null,null,null,null,null,null,null,null,null,null,null,null,null,null,null,null,null,null,null,null,null,null,null,null,null,null,null,null,null,null,0,null,{"$f":"HLOOKUP(MAX(E$140:CN$140),$E$140:$CN$250,92,FALSE)","v":0}]
[null,"1st",null,null,null,null,null,null,null,null,null,null,null,null,null,null,null,null,null,null,null,null,null,null,null,null,null,null,null,null,null,null,null,null,null,null,null,null,null,null,null,null,null,null,null,null,null,null,null,null,null,null,null,null,null,null,null,null,null,null,null,null,null,null,null,null,null,null,null,null,null,null,null,null,null,null,null,null,null,null,null,null,null,null,null,null,null,null,null,null,null,null,0,null,{"$f":"HLOOKUP(MAX(E$140:CN$140),$E$140:$CN$250,93,FALSE)","v":0}]
[null,"2nd",null,null,null,null,null,null,null,null,null,null,null,null,null,null,null,null,null,null,null,null,null,null,null,null,null,null,null,null,null,null,null,null,null,null,null,null,null,null,null,null,null,null,null,null,null,null,null,null,null,null,null,null,null,null,null,null,null,null,null,null,null,null,null,null,null,null,null,null,null,null,null,null,null,null,null,null,null,null,null,null,null,null,null,null,null,null,null,null,null,null,0,null,{"$f":"HLOOKUP(MAX(E$140:CN$140),$E$140:$CN$250,94,FALSE)","v":0}]
[null,"Total",{"$f":"SUM(C103:C105)","v":0},{"$f":"SUM(D103:D105)","v":0},{"$f":"IF(E103+E104+E105=0,\"\",E103+E104+E105)","v":""},{"$f":"SUM(F103:F105)","v":0},{"$f":"SUM(G103:G105)","v":0},{"$f":"IF(H103+H104+H105=0,\"\",H103+H104+H105)","v":""},{"$f":"SUM(I103:I105)","v":0},{"$f":"SUM(J103:J105)","v":0},{"$f":"IF(K103+K104+K105=0,\"\",K103+K104+K105)","v":""},{"$f":"SUM(L103:L105)","v":0},{"$f":"SUM(M103:M105)","v":0},{"$f":"IF(N103+N104+N105=0,\"\",N103+N104+N105)","v":""},{"$f":"SUM(O103:O105)","v":0},{"$f":"SUM(P103:P105)","v":0},{"$f":"IF(Q103+Q104+Q105=0,\"\",Q103+Q104+Q105)","v":""},{"$f":"SUM(R103:R105)","v":0},{"$f":"SUM(S103:S105)","v":0},{"$f":"IF(T103+T104+T105=0,\"\",T103+T104+T105)","v":""},{"$f":"SUM(U103:U105)","v":0},{"$f":"SUM(V103:V105)","v":0},{"$f":"IF(W103+W104+W105=0,\"\",W103+W104+W105)","v":""},{"$f":"SUM(X103:X105)","v":0},{"$f":"SUM(Y103:Y105)","v":0},{"$f":"IF(Z103+Z104+Z105=0,\"\",Z103+Z104+Z105)","v":""},{"$f":"SUM(AA103:AA105)","v":0},{"$f":"SUM(AB103:AB105)","v":0},{"$f":"IF(AC103+AC104+AC105=0,\"\",AC103+AC104+AC105)","v":""},{"$f":"SUM(AD103:AD105)","v":0},{"$f":"SUM(AE103:AE105)","v":0},{"$f":"IF(AF103+AF104+AF105=0,\"\",AF103+AF104+AF105)","v":""},{"$f":"SUM(AG103:AG105)","v":0},{"$f":"SUM(AH103:AH105)","v":0},{"$f":"IF(AI103+AI104+AI105=0,\"\",AI103+AI104+AI105)","v":""},{"$f":"SUM(AJ103:AJ105)","v":0},{"$f":"SUM(AK103:AK105)","v":0},{"$f":"IF(AL103+AL104+AL105=0,\"\",AL103+AL104+AL105)","v":""},{"$f":"SUM(AM103:AM105)","v":0},{"$f":"SUM(AN103:AN105)","v":0},{"$f":"IF(AO103+AO104+AO105=0,\"\",AO103+AO104+AO105)","v":""},{"$f":"SUM(AP103:AP105)","v":0},{"$f":"SUM(AQ103:AQ105)","v":0},{"$f":"IF(AR103+AR104+AR105=0,\"\",AR103+AR104+AR105)","v":""},{"$f":"SUM(AS103:AS105)","v":0},{"$f":"SUM(AT103:AT105)","v":0},{"$f":"IF(AU103+AU104+AU105=0,\"\",AU103+AU104+AU105)","v":""},{"$f":"SUM(AV103:AV105)","v":0},{"$f":"SUM(AW103:AW105)","v":0},{"$f":"IF(AX103+AX104+AX105=0,\"\",AX103+AX104+AX105)","v":""},{"$f":"SUM(AY103:AY105)","v":0},{"$f":"SUM(AZ103:AZ105)","v":0},{"$f":"IF(BA103+BA104+BA105=0,\"\",BA103+BA104+BA105)","v":""},{"$f":"SUM(BB103:BB105)","v":0},{"$f":"SUM(BC103:BC105)","v":0},{"$f":"IF(BD103+BD104+BD105=0,\"\",BD103+BD104+BD105)","v":""},{"$f":"SUM(BE103:BE105)","v":0},{"$f":"SUM(BF103:BF105)","v":0},{"$f":"IF(BG103+BG104+BG105=0,\"\",BG103+BG104+BG105)","v":""},{"$f":"SUM(BH103:BH105)","v":0},{"$f":"SUM(BI103:BI105)","v":0},{"$f":"IF(BJ103+BJ104+BJ105=0,\"\",BJ103+BJ104+BJ105)","v":""},{"$f":"SUM(BK103:BK105)","v":0},{"$f":"SUM(BL103:BL105)","v":0},{"$f":"IF(BM103+BM104+BM105=0,\"\",BM103+BM104+BM105)","v":""},{"$f":"SUM(BN103:BN105)","v":0},{"$f":"SUM(BO103:BO105)","v":0},{"$f":"IF(BP103+BP104+BP105=0,\"\",BP103+BP104+BP105)","v":""},{"$f":"SUM(BQ103:BQ105)","v":0},{"$f":"SUM(BR103:BR105)","v":0},{"$f":"IF(BS103+BS104+BS105=0,\"\",BS103+BS104+BS105)","v":""},{"$f":"SUM(BT103:BT105)","v":0},{"$f":"SUM(BU103:BU105)","v":0},{"$f":"IF(BV103+BV104+BV105=0,\"\",BV103+BV104+BV105)","v":""},{"$f":"SUM(BW103:BW105)","v":0},{"$f":"SUM(BX103:BX105)","v":0},{"$f":"IF(BY103+BY104+BY105=0,\"\",BY103+BY104+BY105)","v":""},{"$f":"SUM(BZ103:BZ105)","v":0},{"$f":"SUM(CA103:CA105)","v":0},{"$f":"IF(CB103+CB104+CB105=0,\"\",CB103+CB104+CB105)","v":""},{"$f":"SUM(CC103:CC105)","v":0},{"$f":"SUM(CD103:CD105)","v":0},{"$f":"IF(CE103+CE104+CE105=0,\"\",CE103+CE104+CE105)","v":""},{"$f":"SUM(CF103:CF105)","v":0},{"$f":"SUM(CG103:CG105)","v":0},{"$f":"IF(CH103+CH104+CH105=0,\"\",CH103+CH104+CH105)","v":""},{"$f":"SUM(CI103:CI105)","v":0},{"$f":"SUM(CJ103:CJ105)","v":0},{"$f":"IF(CK103+CK104+CK105=0,\"\",CK103+CK104+CK105)","v":""},{"$f":"SUM(CL103:CL105)","v":0},{"$f":"SUM(CM103:CM105)","v":0},{"$f":"IF(CN103+CN104+CN105=0,\"\",CN103+CN104+CN105)","v":""},0,{"$f":"SUM(CP103:CP105)","v":0},{"$f":"SUM(CQ103:CQ105)","v":0}]
[{"$f":"A103+1","v":"2019-01-24"},"3rd",null,null,null,null,null,null,null,null,null,null,null,null,null,null,null,null,null,null,null,null,null,null,null,null,null,null,null,null,null,null,null,null,null,null,null,null,null,null,null,null,null,null,null,null,null,null,null,null,null,null,null,null,null,null,null,null,null,null,null,null,null,null,null,null,null,null,null,null,null,null,null,null,null,null,null,null,null,null,null,null,null,null,null,null,null,null,null,null,null,null,0,null,{"$f":"HLOOKUP(MAX(E$140:CN$140),$E$140:$CN$250,96,FALSE)","v":0}]
[null,"1st",null,null,null,null,null,null,null,null,null,null,null,null,null,null,null,null,null,null,null,null,null,null,null,null,null,null,null,null,null,null,null,null,null,null,null,null,null,null,null,null,null,null,null,null,null,null,null,null,null,null,null,null,null,null,null,null,null,null,null,null,null,null,null,null,null,null,null,null,null,null,null,null,null,null,null,null,null,null,null,null,null,null,null,null,null,null,null,null,null,null,0,null,{"$f":"HLOOKUP(MAX(E$140:CN$140),$E$140:$CN$250,97,FALSE)","v":0}]
[null,"2nd",null,null,null,null,null,null,null,null,null,null,null,null,null,null,null,null,null,null,null,null,null,null,null,null,null,null,null,null,null,null,null,null,null,null,null,null,null,null,null,null,null,null,null,null,null,null,null,null,null,null,null,null,null,null,null,null,null,null,null,null,null,null,null,null,null,null,null,null,null,null,null,null,null,null,null,null,null,null,null,null,null,null,null,null,null,null,null,null,null,null,0,null,{"$f":"HLOOKUP(MAX(E$140:CN$140),$E$140:$CN$250,98,FALSE)","v":0}]
[null,"Total",{"$f":"SUM(C107:C109)","v":0},{"$f":"SUM(D107:D109)","v":0},{"$f":"IF(E107+E108+E109=0,\"\",E107+E108+E109)","v":""},{"$f":"SUM(F107:F109)","v":0},{"$f":"SUM(G107:G109)","v":0},{"$f":"IF(H107+H108+H109=0,\"\",H107+H108+H109)","v":""},{"$f":"SUM(I107:I109)","v":0},{"$f":"SUM(J107:J109)","v":0},{"$f":"IF(K107+K108+K109=0,\"\",K107+K108+K109)","v":""},{"$f":"SUM(L107:L109)","v":0},{"$f":"SUM(M107:M109)","v":0},{"$f":"IF(N107+N108+N109=0,\"\",N107+N108+N109)","v":""},{"$f":"SUM(O107:O109)","v":0},{"$f":"SUM(P107:P109)","v":0},{"$f":"IF(Q107+Q108+Q109=0,\"\",Q107+Q108+Q109)","v":""},{"$f":"SUM(R107:R109)","v":0},{"$f":"SUM(S107:S109)","v":0},{"$f":"IF(T107+T108+T109=0,\"\",T107+T108+T109)","v":""},{"$f":"SUM(U107:U109)","v":0},{"$f":"SUM(V107:V109)","v":0},{"$f":"IF(W107+W108+W109=0,\"\",W107+W108+W109)","v":""},{"$f":"SUM(X107:X109)","v":0},{"$f":"SUM(Y107:Y109)","v":0},{"$f":"IF(Z107+Z108+Z109=0,\"\",Z107+Z108+Z109)","v":""},{"$f":"SUM(AA107:AA109)","v":0},{"$f":"SUM(AB107:AB109)","v":0},{"$f":"IF(AC107+AC108+AC109=0,\"\",AC107+AC108+AC109)","v":""},{"$f":"SUM(AD107:AD109)","v":0},{"$f":"SUM(AE107:AE109)","v":0},{"$f":"IF(AF107+AF108+AF109=0,\"\",AF107+AF108+AF109)","v":""},{"$f":"SUM(AG107:AG109)","v":0},{"$f":"SUM(AH107:AH109)","v":0},{"$f":"IF(AI107+AI108+AI109=0,\"\",AI107+AI108+AI109)","v":""},{"$f":"SUM(AJ107:AJ109)","v":0},{"$f":"SUM(AK107:AK109)","v":0},{"$f":"IF(AL107+AL108+AL109=0,\"\",AL107+AL108+AL109)","v":""},{"$f":"SUM(AM107:AM109)","v":0},{"$f":"SUM(AN107:AN109)","v":0},{"$f":"IF(AO107+AO108+AO109=0,\"\",AO107+AO108+AO109)","v":""},{"$f":"SUM(AP107:AP109)","v":0},{"$f":"SUM(AQ107:AQ109)","v":0},{"$f":"IF(AR107+AR108+AR109=0,\"\",AR107+AR108+AR109)","v":""},{"$f":"SUM(AS107:AS109)","v":0},{"$f":"SUM(AT107:AT109)","v":0},{"$f":"IF(AU107+AU108+AU109=0,\"\",AU107+AU108+AU109)","v":""},{"$f":"SUM(AV107:AV109)","v":0},{"$f":"SUM(AW107:AW109)","v":0},{"$f":"IF(AX107+AX108+AX109=0,\"\",AX107+AX108+AX109)","v":""},{"$f":"SUM(AY107:AY109)","v":0},{"$f":"SUM(AZ107:AZ109)","v":0},{"$f":"IF(BA107+BA108+BA109=0,\"\",BA107+BA108+BA109)","v":""},{"$f":"SUM(BB107:BB109)","v":0},{"$f":"SUM(BC107:BC109)","v":0},{"$f":"IF(BD107+BD108+BD109=0,\"\",BD107+BD108+BD109)","v":""},{"$f":"SUM(BE107:BE109)","v":0},{"$f":"SUM(BF107:BF109)","v":0},{"$f":"IF(BG107+BG108+BG109=0,\"\",BG107+BG108+BG109)","v":""},{"$f":"SUM(BH107:BH109)","v":0},{"$f":"SUM(BI107:BI109)","v":0},{"$f":"IF(BJ107+BJ108+BJ109=0,\"\",BJ107+BJ108+BJ109)","v":""},{"$f":"SUM(BK107:BK109)","v":0},{"$f":"SUM(BL107:BL109)","v":0},{"$f":"IF(BM107+BM108+BM109=0,\"\",BM107+BM108+BM109)","v":""},{"$f":"SUM(BN107:BN109)","v":0},{"$f":"SUM(BO107:BO109)","v":0},{"$f":"IF(BP107+BP108+BP109=0,\"\",BP107+BP108+BP109)","v":""},{"$f":"SUM(BQ107:BQ109)","v":0},{"$f":"SUM(BR107:BR109)","v":0},{"$f":"IF(BS107+BS108+BS109=0,\"\",BS107+BS108+BS109)","v":""},{"$f":"SUM(BT107:BT109)","v":0},{"$f":"SUM(BU107:BU109)","v":0},{"$f":"IF(BV107+BV108+BV109=0,\"\",BV107+BV108+BV109)","v":""},{"$f":"SUM(BW107:BW109)","v":0},{"$f":"SUM(BX107:BX109)","v":0},{"$f":"IF(BY107+BY108+BY109=0,\"\",BY107+BY108+BY109)","v":""},{"$f":"SUM(BZ107:BZ109)","v":0},{"$f":"SUM(CA107:CA109)","v":0},{"$f":"IF(CB107+CB108+CB109=0,\"\",CB107+CB108+CB109)","v":""},{"$f":"SUM(CC107:CC109)","v":0},{"$f":"SUM(CD107:CD109)","v":0},{"$f":"IF(CE107+CE108+CE109=0,\"\",CE107+CE108+CE109)","v":""},{"$f":"SUM(CF107:CF109)","v":0},{"$f":"SUM(CG107:CG109)","v":0},{"$f":"IF(CH107+CH108+CH109=0,\"\",CH107+CH108+CH109)","v":""},{"$f":"SUM(CI107:CI109)","v":0},{"$f":"SUM(CJ107:CJ109)","v":0},{"$f":"IF(CK107+CK108+CK109=0,\"\",CK107+CK108+CK109)","v":""},{"$f":"SUM(CL107:CL109)","v":0},{"$f":"SUM(CM107:CM109)","v":0},{"$f":"IF(CN107+CN108+CN109=0,\"\",CN107+CN108+CN109)","v":""},0,{"$f":"SUM(CP107:CP109)","v":0},{"$f":"SUM(CQ107:CQ109)","v":0}]
[{"$f":"A107+1","v":"2019-01-25"},"3rd",null,null,null,null,null,null,null,null,null,null,null,null,null,null,null,null,null,null,null,null,null,null,null,null,null,null,null,null,null,null,null,null,null,null,null,null,null,null,null,null,null,null,null,null,null,null,null,null,null,null,null,null,null,null,null,null,null,null,null,null,null,null,null,null,null,null,null,null,null,null,null,null,null,null,null,null,null,null,null,null,null,null,null,null,null,null,null,null,null,null,0,null,{"$f":"HLOOKUP(MAX(E$140:CN$140),$E$140:$CN$250,100,FALSE)","v":0}]
[null,"1st",null,null,null,null,null,null,null,null,null,null,null,null,null,null,null,null,null,null,null,null,null,null,null,null,null,null,null,null,null,null,null,null,null,null,null,null,null,null,null,null,null,null,null,null,null,null,null,null,null,null,null,null,null,null,null,null,null,null,null,null,null,null,null,null,null,null,null,null,null,null,null,null,null,null,null,null,null,null,null,null,null,null,null,null,null,null,null,null,null,null,0,null,{"$f":"HLOOKUP(MAX(E$140:CN$140),$E$140:$CN$250,101,FALSE)","v":0}]
[null,"2nd",null,null,null,null,null,null,null,null,null,null,null,null,null,null,null,null,null,null,null,null,null,null,null,null,null,null,null,null,null,null,null,null,null,null,null,null,null,null,null,null,null,null,null,null,null,null,null,null,null,null,null,null,null,null,null,null,null,null,null,null,null,null,null,null,null,null,null,null,null,null,null,null,null,null,null,null,null,null,null,null,null,null,null,null,null,null,null,null,null,null,0,null,{"$f":"HLOOKUP(MAX(E$140:CN$140),$E$140:$CN$250,102,FALSE)","v":0}]
[null,"Total",{"$f":"SUM(C111:C113)","v":0},{"$f":"SUM(D111:D113)","v":0},{"$f":"IF(E111+E112+E113=0,\"\",E111+E112+E113)","v":""},{"$f":"SUM(F111:F113)","v":0},{"$f":"SUM(G111:G113)","v":0},{"$f":"IF(H111+H112+H113=0,\"\",H111+H112+H113)","v":""},{"$f":"SUM(I111:I113)","v":0},{"$f":"SUM(J111:J113)","v":0},{"$f":"IF(K111+K112+K113=0,\"\",K111+K112+K113)","v":""},{"$f":"SUM(L111:L113)","v":0},{"$f":"SUM(M111:M113)","v":0},{"$f":"IF(N111+N112+N113=0,\"\",N111+N112+N113)","v":""},{"$f":"SUM(O111:O113)","v":0},{"$f":"SUM(P111:P113)","v":0},{"$f":"IF(Q111+Q112+Q113=0,\"\",Q111+Q112+Q113)","v":""},{"$f":"SUM(R111:R113)","v":0},{"$f":"SUM(S111:S113)","v":0},{"$f":"IF(T111+T112+T113=0,\"\",T111+T112+T113)","v":""},{"$f":"SUM(U111:U113)","v":0},{"$f":"SUM(V111:V113)","v":0},{"$f":"IF(W111+W112+W113=0,\"\",W111+W112+W113)","v":""},{"$f":"SUM(X111:X113)","v":0},{"$f":"SUM(Y111:Y113)","v":0},{"$f":"IF(Z111+Z112+Z113=0,\"\",Z111+Z112+Z113)","v":""},{"$f":"SUM(AA111:AA113)","v":0},{"$f":"SUM(AB111:AB113)","v":0},{"$f":"IF(AC111+AC112+AC113=0,\"\",AC111+AC112+AC113)","v":""},{"$f":"SUM(AD111:AD113)","v":0},{"$f":"SUM(AE111:AE113)","v":0},{"$f":"IF(AF111+AF112+AF113=0,\"\",AF111+AF112+AF113)","v":""},{"$f":"SUM(AG111:AG113)","v":0},{"$f":"SUM(AH111:AH113)","v":0},{"$f":"IF(AI111+AI112+AI113=0,\"\",AI111+AI112+AI113)","v":""},{"$f":"SUM(AJ111:AJ113)","v":0},{"$f":"SUM(AK111:AK113)","v":0},{"$f":"IF(AL111+AL112+AL113=0,\"\",AL111+AL112+AL113)","v":""},{"$f":"SUM(AM111:AM113)","v":0},{"$f":"SUM(AN111:AN113)","v":0},{"$f":"IF(AO111+AO112+AO113=0,\"\",AO111+AO112+AO113)","v":""},{"$f":"SUM(AP111:AP113)","v":0},{"$f":"SUM(AQ111:AQ113)","v":0},{"$f":"IF(AR111+AR112+AR113=0,\"\",AR111+AR112+AR113)","v":""},{"$f":"SUM(AS111:AS113)","v":0},{"$f":"SUM(AT111:AT113)","v":0},{"$f":"IF(AU111+AU112+AU113=0,\"\",AU111+AU112+AU113)","v":""},{"$f":"SUM(AV111:AV113)","v":0},{"$f":"SUM(AW111:AW113)","v":0},{"$f":"IF(AX111+AX112+AX113=0,\"\",AX111+AX112+AX113)","v":""},{"$f":"SUM(AY111:AY113)","v":0},{"$f":"SUM(AZ111:AZ113)","v":0},{"$f":"IF(BA111+BA112+BA113=0,\"\",BA111+BA112+BA113)","v":""},{"$f":"SUM(BB111:BB113)","v":0},{"$f":"SUM(BC111:BC113)","v":0},{"$f":"IF(BD111+BD112+BD113=0,\"\",BD111+BD112+BD113)","v":""},{"$f":"SUM(BE111:BE113)","v":0},{"$f":"SUM(BF111:BF113)","v":0},{"$f":"IF(BG111+BG112+BG113=0,\"\",BG111+BG112+BG113)","v":""},{"$f":"SUM(BH111:BH113)","v":0},{"$f":"SUM(BI111:BI113)","v":0},{"$f":"IF(BJ111+BJ112+BJ113=0,\"\",BJ111+BJ112+BJ113)","v":""},{"$f":"SUM(BK111:BK113)","v":0},{"$f":"SUM(BL111:BL113)","v":0},{"$f":"IF(BM111+BM112+BM113=0,\"\",BM111+BM112+BM113)","v":""},{"$f":"SUM(BN111:BN113)","v":0},{"$f":"SUM(BO111:BO113)","v":0},{"$f":"IF(BP111+BP112+BP113=0,\"\",BP111+BP112+BP113)","v":""},{"$f":"SUM(BQ111:BQ113)","v":0},{"$f":"SUM(BR111:BR113)","v":0},{"$f":"IF(BS111+BS112+BS113=0,\"\",BS111+BS112+BS113)","v":""},{"$f":"SUM(BT111:BT113)","v":0},{"$f":"SUM(BU111:BU113)","v":0},{"$f":"IF(BV111+BV112+BV113=0,\"\",BV111+BV112+BV113)","v":""},{"$f":"SUM(BW111:BW113)","v":0},{"$f":"SUM(BX111:BX113)","v":0},{"$f":"IF(BY111+BY112+BY113=0,\"\",BY111+BY112+BY113)","v":""},{"$f":"SUM(BZ111:BZ113)","v":0},{"$f":"SUM(CA111:CA113)","v":0},{"$f":"IF(CB111+CB112+CB113=0,\"\",CB111+CB112+CB113)","v":""},{"$f":"SUM(CC111:CC113)","v":0},{"$f":"SUM(CD111:CD113)","v":0},{"$f":"IF(CE111+CE112+CE113=0,\"\",CE111+CE112+CE113)","v":""},{"$f":"SUM(CF111:CF113)","v":0},{"$f":"SUM(CG111:CG113)","v":0},{"$f":"IF(CH111+CH112+CH113=0,\"\",CH111+CH112+CH113)","v":""},{"$f":"SUM(CI111:CI113)","v":0},{"$f":"SUM(CJ111:CJ113)","v":0},{"$f":"IF(CK111+CK112+CK113=0,\"\",CK111+CK112+CK113)","v":""},{"$f":"SUM(CL111:CL113)","v":0},{"$f":"SUM(CM111:CM113)","v":0},{"$f":"IF(CN111+CN112+CN113=0,\"\",CN111+CN112+CN113)","v":""},0,{"$f":"SUM(CP111:CP113)","v":0},{"$f":"SUM(CQ111:CQ113)","v":0}]
[{"$f":"A111+1","v":"2019-01-26"},"3rd",null,null,null,null,null,null,null,null,null,null,null,null,null,null,null,null,null,null,null,null,null,null,null,null,null,null,null,null,null,null,null,null,null,null,null,null,null,null,null,null,null,null,null,null,null,null,null,null,null,null,null,null,null,null,null,null,null,null,null,null,null,null,null,null,null,null,null,null,null,null,null,null,null,null,null,null,null,null,null,null,null,null,null,null,null,null,null,null,null,null,0,null,{"$f":"HLOOKUP(MAX(E$140:CN$140),$E$140:$CN$250,104,FALSE)","v":0}]
[null,"1st",null,null,null,null,null,null,null,null,null,null,null,null,null,null,null,null,null,null,null,null,null,null,null,null,null,null,null,null,null,null,null,null,null,null,null,null,null,null,null,null,null,null,null,null,null,null,null,null,null,null,null,null,null,null,null,null,null,null,null,null,null,null,null,null,null,null,null,null,null,null,null,null,null,null,null,null,null,null,null,null,null,null,null,null,null,null,null,null,null,null,0,null,{"$f":"HLOOKUP(MAX(E$140:CN$140),$E$140:$CN$250,105,FALSE)","v":0}]
[null,"2nd",null,null,null,null,null,null,null,null,null,null,null,null,null,null,null,null,null,null,null,null,null,null,null,null,null,null,null,null,null,null,null,null,null,null,null,null,null,null,null,null,null,null,null,null,null,null,null,null,null,null,null,null,null,null,null,null,null,null,null,null,null,null,null,null,null,null,null,null,null,null,null,null,null,null,null,null,null,null,null,null,null,null,null,null,null,null,null,null,null,null,0,null,{"$f":"HLOOKUP(MAX(E$140:CN$140),$E$140:$CN$250,106,FALSE)","v":0}]
[null,"Total",{"$f":"SUM(C115:C117)","v":0},{"$f":"SUM(D115:D117)","v":0},{"$f":"IF(E115+E116+E117=0,\"\",E115+E116+E117)","v":""},{"$f":"SUM(F115:F117)","v":0},{"$f":"SUM(G115:G117)","v":0},{"$f":"IF(H115+H116+H117=0,\"\",H115+H116+H117)","v":""},{"$f":"SUM(I115:I117)","v":0},{"$f":"SUM(J115:J117)","v":0},{"$f":"IF(K115+K116+K117=0,\"\",K115+K116+K117)","v":""},{"$f":"SUM(L115:L117)","v":0},{"$f":"SUM(M115:M117)","v":0},{"$f":"IF(N115+N116+N117=0,\"\",N115+N116+N117)","v":""},{"$f":"SUM(O115:O117)","v":0},{"$f":"SUM(P115:P117)","v":0},{"$f":"IF(Q115+Q116+Q117=0,\"\",Q115+Q116+Q117)","v":""},{"$f":"SUM(R115:R117)","v":0},{"$f":"SUM(S115:S117)","v":0},{"$f":"IF(T115+T116+T117=0,\"\",T115+T116+T117)","v":""},{"$f":"SUM(U115:U117)","v":0},{"$f":"SUM(V115:V117)","v":0},{"$f":"IF(W115+W116+W117=0,\"\",W115+W116+W117)","v":""},{"$f":"SUM(X115:X117)","v":0},{"$f":"SUM(Y115:Y117)","v":0},{"$f":"IF(Z115+Z116+Z117=0,\"\",Z115+Z116+Z117)","v":""},{"$f":"SUM(AA115:AA117)","v":0},{"$f":"SUM(AB115:AB117)","v":0},{"$f":"IF(AC115+AC116+AC117=0,\"\",AC115+AC116+AC117)","v":""},{"$f":"SUM(AD115:AD117)","v":0},{"$f":"SUM(AE115:AE117)","v":0},{"$f":"IF(AF115+AF116+AF117=0,\"\",AF115+AF116+AF117)","v":""},{"$f":"SUM(AG115:AG117)","v":0},{"$f":"SUM(AH115:AH117)","v":0},{"$f":"IF(AI115+AI116+AI117=0,\"\",AI115+AI116+AI117)","v":""},{"$f":"SUM(AJ115:AJ117)","v":0},{"$f":"SUM(AK115:AK117)","v":0},{"$f":"IF(AL115+AL116+AL117=0,\"\",AL115+AL116+AL117)","v":""},{"$f":"SUM(AM115:AM117)","v":0},{"$f":"SUM(AN115:AN117)","v":0},{"$f":"IF(AO115+AO116+AO117=0,\"\",AO115+AO116+AO117)","v":""},{"$f":"SUM(AP115:AP117)","v":0},{"$f":"SUM(AQ115:AQ117)","v":0},{"$f":"IF(AR115+AR116+AR117=0,\"\",AR115+AR116+AR117)","v":""},{"$f":"SUM(AS115:AS117)","v":0},{"$f":"SUM(AT115:AT117)","v":0},{"$f":"IF(AU115+AU116+AU117=0,\"\",AU115+AU116+AU117)","v":""},{"$f":"SUM(AV115:AV117)","v":0},{"$f":"SUM(AW115:AW117)","v":0},{"$f":"IF(AX115+AX116+AX117=0,\"\",AX115+AX116+AX117)","v":""},{"$f":"SUM(AY115:AY117)","v":0},{"$f":"SUM(AZ115:AZ117)","v":0},{"$f":"IF(BA115+BA116+BA117=0,\"\",BA115+BA116+BA117)","v":""},{"$f":"SUM(BB115:BB117)","v":0},{"$f":"SUM(BC115:BC117)","v":0},{"$f":"IF(BD115+BD116+BD117=0,\"\",BD115+BD116+BD117)","v":""},{"$f":"SUM(BE115:BE117)","v":0},{"$f":"SUM(BF115:BF117)","v":0},{"$f":"IF(BG115+BG116+BG117=0,\"\",BG115+BG116+BG117)","v":""},{"$f":"SUM(BH115:BH117)","v":0},{"$f":"SUM(BI115:BI117)","v":0},{"$f":"IF(BJ115+BJ116+BJ117=0,\"\",BJ115+BJ116+BJ117)","v":""},{"$f":"SUM(BK115:BK117)","v":0},{"$f":"SUM(BL115:BL117)","v":0},{"$f":"IF(BM115+BM116+BM117=0,\"\",BM115+BM116+BM117)","v":""},{"$f":"SUM(BN115:BN117)","v":0},{"$f":"SUM(BO115:BO117)","v":0},{"$f":"IF(BP115+BP116+BP117=0,\"\",BP115+BP116+BP117)","v":""},{"$f":"SUM(BQ115:BQ117)","v":0},{"$f":"SUM(BR115:BR117)","v":0},{"$f":"IF(BS115+BS116+BS117=0,\"\",BS115+BS116+BS117)","v":""},{"$f":"SUM(BT115:BT117)","v":0},{"$f":"SUM(BU115:BU117)","v":0},{"$f":"IF(BV115+BV116+BV117=0,\"\",BV115+BV116+BV117)","v":""},{"$f":"SUM(BW115:BW117)","v":0},{"$f":"SUM(BX115:BX117)","v":0},{"$f":"IF(BY115+BY116+BY117=0,\"\",BY115+BY116+BY117)","v":""},{"$f":"SUM(BZ115:BZ117)","v":0},{"$f":"SUM(CA115:CA117)","v":0},{"$f":"IF(CB115+CB116+CB117=0,\"\",CB115+CB116+CB117)","v":""},{"$f":"SUM(CC115:CC117)","v":0},{"$f":"SUM(CD115:CD117)","v":0},{"$f":"IF(CE115+CE116+CE117=0,\"\",CE115+CE116+CE117)","v":""},{"$f":"SUM(CF115:CF117)","v":0},{"$f":"SUM(CG115:CG117)","v":0},{"$f":"IF(CH115+CH116+CH117=0,\"\",CH115+CH116+CH117)","v":""},{"$f":"SUM(CI115:CI117)","v":0},{"$f":"SUM(CJ115:CJ117)","v":0},{"$f":"IF(CK115+CK116+CK117=0,\"\",CK115+CK116+CK117)","v":""},{"$f":"SUM(CL115:CL117)","v":0},{"$f":"SUM(CM115:CM117)","v":0},{"$f":"IF(CN115+CN116+CN117=0,\"\",CN115+CN116+CN117)","v":""},0,{"$f":"SUM(CP115:CP117)","v":0},{"$f":"SUM(CQ115:CQ117)","v":0}]
[{"$f":"A115+1","v":"2019-01-27"},"3rd",null,null,null,null,null,null,null,null,null,null,null,null,null,null,null,null,null,null,null,null,null,null,null,null,null,null,null,null,null,null,null,null,null,null,null,null,null,null,null,null,null,null,null,null,null,null,null,null,null,null,null,null,null,null,null,null,null,null,null,null,null,null,null,null,null,null,null,null,null,null,null,null,null,null,null,null,null,null,null,null,null,null,null,null,null,null,null,null,null,null,0,null,{"$f":"HLOOKUP(MAX(E$140:CN$140),$E$140:$CN$250,108,FALSE)","v":0}]
[null,"1st",null,null,null,null,null,null,null,null,null,null,null,null,null,null,null,null,null,null,null,null,null,null,null,null,null,null,null,null,null,null,null,null,null,null,null,null,null,null,null,null,null,null,null,null,null,null,null,null,null,null,null,null,null,null,null,null,null,null,null,null,null,null,null,null,null,null,null,null,null,null,null,null,null,null,null,null,null,null,null,null,null,null,null,null,null,null,null,null,null,null,0,null,{"$f":"HLOOKUP(MAX(E$140:CN$140),$E$140:$CN$250,109,FALSE)","v":0}]
[null,"2nd",null,null,null,null,null,null,null,null,null,null,null,null,null,null,null,null,null,null,null,null,null,null,null,null,null,null,null,null,null,null,null,null,null,null,null,null,null,null,null,null,null,null,null,null,null,null,null,null,null,null,null,null,null,null,null,null,null,null,null,null,null,null,null,null,null,null,null,null,null,null,null,null,null,null,null,null,null,null,null,null,null,null,null,null,null,null,null,null,null,null,0,null,{"$f":"HLOOKUP(MAX(E$140:CN$140),$E$140:$CN$280,110,FALSE)","v":0}]
[null,"Total",{"$f":"SUM(C119:C121)","v":0},{"$f":"SUM(D119:D121)","v":0},{"$f":"IF(E119+E120+E121=0,\"\",E119+E120+E121)","v":""},{"$f":"SUM(F119:F121)","v":0},{"$f":"SUM(G119:G121)","v":0},{"$f":"IF(H119+H120+H121=0,\"\",H119+H120+H121)","v":""},{"$f":"SUM(I119:I121)","v":0},{"$f":"SUM(J119:J121)","v":0},{"$f":"IF(K119+K120+K121=0,\"\",K119+K120+K121)","v":""},{"$f":"SUM(L119:L121)","v":0},{"$f":"SUM(M119:M121)","v":0},{"$f":"IF(N119+N120+N121=0,\"\",N119+N120+N121)","v":""},{"$f":"SUM(O119:O121)","v":0},{"$f":"SUM(P119:P121)","v":0},{"$f":"IF(Q119+Q120+Q121=0,\"\",Q119+Q120+Q121)","v":""},{"$f":"SUM(R119:R121)","v":0},{"$f":"SUM(S119:S121)","v":0},{"$f":"IF(T119+T120+T121=0,\"\",T119+T120+T121)","v":""},{"$f":"SUM(U119:U121)","v":0},{"$f":"SUM(V119:V121)","v":0},{"$f":"IF(W119+W120+W121=0,\"\",W119+W120+W121)","v":""},{"$f":"SUM(X119:X121)","v":0},{"$f":"SUM(Y119:Y121)","v":0},{"$f":"IF(Z119+Z120+Z121=0,\"\",Z119+Z120+Z121)","v":""},{"$f":"SUM(AA119:AA121)","v":0},{"$f":"SUM(AB119:AB121)","v":0},{"$f":"IF(AC119+AC120+AC121=0,\"\",AC119+AC120+AC121)","v":""},{"$f":"SUM(AD119:AD121)","v":0},{"$f":"SUM(AE119:AE121)","v":0},{"$f":"IF(AF119+AF120+AF121=0,\"\",AF119+AF120+AF121)","v":""},{"$f":"SUM(AG119:AG121)","v":0},{"$f":"SUM(AH119:AH121)","v":0},{"$f":"IF(AI119+AI120+AI121=0,\"\",AI119+AI120+AI121)","v":""},{"$f":"SUM(AJ119:AJ121)","v":0},{"$f":"SUM(AK119:AK121)","v":0},{"$f":"IF(AL119+AL120+AL121=0,\"\",AL119+AL120+AL121)","v":""},{"$f":"SUM(AM119:AM121)","v":0},{"$f":"SUM(AN119:AN121)","v":0},{"$f":"IF(AO119+AO120+AO121=0,\"\",AO119+AO120+AO121)","v":""},{"$f":"SUM(AP119:AP121)","v":0},{"$f":"SUM(AQ119:AQ121)","v":0},{"$f":"IF(AR119+AR120+AR121=0,\"\",AR119+AR120+AR121)","v":""},{"$f":"SUM(AS119:AS121)","v":0},{"$f":"SUM(AT119:AT121)","v":0},{"$f":"IF(AU119+AU120+AU121=0,\"\",AU119+AU120+AU121)","v":""},{"$f":"SUM(AV119:AV121)","v":0},{"$f":"SUM(AW119:AW121)","v":0},{"$f":"IF(AX119+AX120+AX121=0,\"\",AX119+AX120+AX121)","v":""},{"$f":"SUM(AY119:AY121)","v":0},{"$f":"SUM(AZ119:AZ121)","v":0},{"$f":"IF(BA119+BA120+BA121=0,\"\",BA119+BA120+BA121)","v":""},{"$f":"SUM(BB119:BB121)","v":0},{"$f":"SUM(BC119:BC121)","v":0},{"$f":"IF(BD119+BD120+BD121=0,\"\",BD119+BD120+BD121)","v":""},{"$f":"SUM(BE119:BE121)","v":0},{"$f":"SUM(BF119:BF121)","v":0},{"$f":"IF(BG119+BG120+BG121=0,\"\",BG119+BG120+BG121)","v":""},{"$f":"SUM(BH119:BH121)","v":0},{"$f":"SUM(BI119:BI121)","v":0},{"$f":"IF(BJ119+BJ120+BJ121=0,\"\",BJ119+BJ120+BJ121)","v":""},{"$f":"SUM(BK119:BK121)","v":0},{"$f":"SUM(BL119:BL121)","v":0},{"$f":"IF(BM119+BM120+BM121=0,\"\",BM119+BM120+BM121)","v":""},{"$f":"SUM(BN119:BN121)","v":0},{"$f":"SUM(BO119:BO121)","v":0},{"$f":"IF(BP119+BP120+BP121=0,\"\",BP119+BP120+BP121)","v":""},{"$f":"SUM(BQ119:BQ121)","v":0},{"$f":"SUM(BR119:BR121)","v":0},{"$f":"IF(BS119+BS120+BS121=0,\"\",BS119+BS120+BS121)","v":""},{"$f":"SUM(BT119:BT121)","v":0},{"$f":"SUM(BU119:BU121)","v":0},{"$f":"IF(BV119+BV120+BV121=0,\"\",BV119+BV120+BV121)","v":""},{"$f":"SUM(BW119:BW121)","v":0},{"$f":"SUM(BX119:BX121)","v":0},{"$f":"IF(BY119+BY120+BY121=0,\"\",BY119+BY120+BY121)","v":""},{"$f":"SUM(BZ119:BZ121)","v":0},{"$f":"SUM(CA119:CA121)","v":0},{"$f":"IF(CB119+CB120+CB121=0,\"\",CB119+CB120+CB121)","v":""},{"$f":"SUM(CC119:CC121)","v":0},{"$f":"SUM(CD119:CD121)","v":0},{"$f":"IF(CE119+CE120+CE121=0,\"\",CE119+CE120+CE121)","v":""},{"$f":"SUM(CF119:CF121)","v":0},{"$f":"SUM(CG119:CG121)","v":0},{"$f":"IF(CH119+CH120+CH121=0,\"\",CH119+CH120+CH121)","v":""},{"$f":"SUM(CI119:CI121)","v":0},{"$f":"SUM(CJ119:CJ121)","v":0},{"$f":"IF(CK119+CK120+CK121=0,\"\",CK119+CK120+CK121)","v":""},{"$f":"SUM(CL119:CL121)","v":0},{"$f":"SUM(CM119:CM121)","v":0},{"$f":"IF(CN119+CN120+CN121=0,\"\",CN119+CN120+CN121)","v":""},0,{"$f":"SUM(CP119:CP121)","v":0},{"$f":"SUM(CQ119:CQ121)","v":0}]
[{"$f":"A119+1","v":"2019-01-28"},"3rd",null,null,null,null,null,null,null,null,null,null,null,null,null,null,null,null,null,null,null,null,null,null,null,null,null,null,null,null,null,null,null,null,null,null,null,null,null,null,null,null,null,null,null,null,null,null,null,null,null,null,null,null,null,null,null,null,null,null,null,null,null,null,null,null,null,null,null,null,null,null,null,null,null,null,null,null,null,null,null,null,null,null,null,null,null,null,null,null,null,null,0,null,{"$f":"HLOOKUP(MAX(E$140:CN$140),$E$140:$CN$270,112,FALSE)","v":0}]
[null,"1st",null,null,null,null,null,null,null,null,null,null,null,null,null,null,null,null,null,null,null,null,null,null,null,null,null,null,null,null,null,null,null,null,null,null,null,null,null,null,null,null,null,null,null,null,null,null,null,null,null,null,null,null,null,null,null,null,null,null,null,null,null,null,null,null,null,null,null,null,null,null,null,null,null,null,null,null,null,null,null,null,null,null,null,null,null,null,null,null,null,null,0,null,{"$f":"HLOOKUP(MAX(E$140:CN$140),$E$140:$CN$270,113,FALSE)","v":0}]
[null,"2nd",null,null,null,null,null,null,null,null,null,null,null,null,null,null,null,null,null,null,null,null,null,null,null,null,null,null,null,null,null,null,null,null,null,null,null,null,null,null,null,null,null,null,null,null,null,null,null,null,null,null,null,null,null,null,null,null,null,null,null,null,null,null,null,null,null,null,null,null,null,null,null,null,null,null,null,null,null,null,null,null,null,null,null,null,null,null,null,null,null,null,0,null,{"$f":"HLOOKUP(MAX(E$140:CN$140),$E$140:$CN$270,114,FALSE)","v":0}]
[null,"Total",{"$f":"SUM(C123:C125)","v":0},{"$f":"SUM(D123:D125)","v":0},{"$f":"IF(E123+E124+E125=0,\"\",E123+E124+E125)","v":""},{"$f":"SUM(F123:F125)","v":0},{"$f":"SUM(G123:G125)","v":0},{"$f":"IF(H123+H124+H125=0,\"\",H123+H124+H125)","v":""},{"$f":"SUM(I123:I125)","v":0},{"$f":"SUM(J123:J125)","v":0},{"$f":"IF(K123+K124+K125=0,\"\",K123+K124+K125)","v":""},{"$f":"SUM(L123:L125)","v":0},{"$f":"SUM(M123:M125)","v":0},{"$f":"IF(N123+N124+N125=0,\"\",N123+N124+N125)","v":""},{"$f":"SUM(O123:O125)","v":0},{"$f":"SUM(P123:P125)","v":0},{"$f":"IF(Q123+Q124+Q125=0,\"\",Q123+Q124+Q125)","v":""},{"$f":"SUM(R123:R125)","v":0},{"$f":"SUM(S123:S125)","v":0},{"$f":"IF(T123+T124+T125=0,\"\",T123+T124+T125)","v":""},{"$f":"SUM(U123:U125)","v":0},{"$f":"SUM(V123:V125)","v":0},{"$f":"IF(W123+W124+W125=0,\"\",W123+W124+W125)","v":""},{"$f":"SUM(X123:X125)","v":0},{"$f":"SUM(Y123:Y125)","v":0},{"$f":"IF(Z123+Z124+Z125=0,\"\",Z123+Z124+Z125)","v":""},{"$f":"SUM(AA123:AA125)","v":0},{"$f":"SUM(AB123:AB125)","v":0},{"$f":"IF(AC123+AC124+AC125=0,\"\",AC123+AC124+AC125)","v":""},{"$f":"SUM(AD123:AD125)","v":0},{"$f":"SUM(AE123:AE125)","v":0},{"$f":"IF(AF123+AF124+AF125=0,\"\",AF123+AF124+AF125)","v":""},{"$f":"SUM(AG123:AG125)","v":0},{"$f":"SUM(AH123:AH125)","v":0},{"$f":"IF(AI123+AI124+AI125=0,\"\",AI123+AI124+AI125)","v":""},{"$f":"SUM(AJ123:AJ125)","v":0},{"$f":"SUM(AK123:AK125)","v":0},{"$f":"IF(AL123+AL124+AL125=0,\"\",AL123+AL124+AL125)","v":""},{"$f":"SUM(AM123:AM125)","v":0},{"$f":"SUM(AN123:AN125)","v":0},{"$f":"IF(AO123+AO124+AO125=0,\"\",AO123+AO124+AO125)","v":""},{"$f":"SUM(AP123:AP125)","v":0},{"$f":"SUM(AQ123:AQ125)","v":0},{"$f":"IF(AR123+AR124+AR125=0,\"\",AR123+AR124+AR125)","v":""},{"$f":"SUM(AS123:AS125)","v":0},{"$f":"SUM(AT123:AT125)","v":0},{"$f":"IF(AU123+AU124+AU125=0,\"\",AU123+AU124+AU125)","v":""},{"$f":"SUM(AV123:AV125)","v":0},{"$f":"SUM(AW123:AW125)","v":0},{"$f":"IF(AX123+AX124+AX125=0,\"\",AX123+AX124+AX125)","v":""},{"$f":"SUM(AY123:AY125)","v":0},{"$f":"SUM(AZ123:AZ125)","v":0},{"$f":"IF(BA123+BA124+BA125=0,\"\",BA123+BA124+BA125)","v":""},{"$f":"SUM(BB123:BB125)","v":0},{"$f":"SUM(BC123:BC125)","v":0},{"$f":"IF(BD123+BD124+BD125=0,\"\",BD123+BD124+BD125)","v":""},{"$f":"SUM(BE123:BE125)","v":0},{"$f":"SUM(BF123:BF125)","v":0},{"$f":"IF(BG123+BG124+BG125=0,\"\",BG123+BG124+BG125)","v":""},{"$f":"SUM(BH123:BH125)","v":0},{"$f":"SUM(BI123:BI125)","v":0},{"$f":"IF(BJ123+BJ124+BJ125=0,\"\",BJ123+BJ124+BJ125)","v":""},{"$f":"SUM(BK123:BK125)","v":0},{"$f":"SUM(BL123:BL125)","v":0},{"$f":"IF(BM123+BM124+BM125=0,\"\",BM123+BM124+BM125)","v":""},{"$f":"SUM(BN123:BN125)","v":0},{"$f":"SUM(BO123:BO125)","v":0},{"$f":"IF(BP123+BP124+BP125=0,\"\",BP123+BP124+BP125)","v":""},{"$f":"SUM(BQ123:BQ125)","v":0},{"$f":"SUM(BR123:BR125)","v":0},{"$f":"IF(BS123+BS124+BS125=0,\"\",BS123+BS124+BS125)","v":""},{"$f":"SUM(BT123:BT125)","v":0},{"$f":"SUM(BU123:BU125)","v":0},{"$f":"IF(BV123+BV124+BV125=0,\"\",BV123+BV124+BV125)","v":""},{"$f":"SUM(BW123:BW125)","v":0},{"$f":"SUM(BX123:BX125)","v":0},{"$f":"IF(BY123+BY124+BY125=0,\"\",BY123+BY124+BY125)","v":""},{"$f":"SUM(BZ123:BZ125)","v":0},{"$f":"SUM(CA123:CA125)","v":0},{"$f":"IF(CB123+CB124+CB125=0,\"\",CB123+CB124+CB125)","v":""},{"$f":"SUM(CC123:CC125)","v":0},{"$f":"SUM(CD123:CD125)","v":0},{"$f":"IF(CE123+CE124+CE125=0,\"\",CE123+CE124+CE125)","v":""},{"$f":"SUM(CF123:CF125)","v":0},{"$f":"SUM(CG123:CG125)","v":0},{"$f":"IF(CH123+CH124+CH125=0,\"\",CH123+CH124+CH125)","v":""},{"$f":"SUM(CI123:CI125)","v":0},{"$f":"SUM(CJ123:CJ125)","v":0},{"$f":"IF(CK123+CK124+CK125=0,\"\",CK123+CK124+CK125)","v":""},{"$f":"SUM(CL123:CL125)","v":0},{"$f":"SUM(CM123:CM125)","v":0},{"$f":"IF(CN123+CN124+CN125=0,\"\",CN123+CN124+CN125)","v":""},0,{"$f":"SUM(CP123:CP125)","v":0},{"$f":"SUM(CQ123:CQ125)","v":0}]
[{"$f":"A123+1","v":"2019-01-29"},"3rd",null,null,null,null,null,null,null,null,null,null,null,null,null,null,null,null,null,null,null,null,null,null,null,null,null,null,null,null,null,null,null,null,null,null,null,null,null,null,null,null,null,null,null,null,null,null,null,null,null,null,null,null,null,null,null,null,null,null,null,null,null,null,null,null,null,null,null,null,null,null,null,null,null,null,null,null,null,null,null,null,null,null,null,null,null,null,null,null,null,null,0,null,{"$f":"HLOOKUP(MAX(E$140:CN$140),$E$140:$CN$270,116,FALSE)","v":0}]
[null,"1st",null,null,null,null,null,null,null,null,null,null,null,null,null,null,null,null,null,null,null,null,null,null,null,null,null,null,null,null,null,null,null,null,null,null,null,null,null,null,null,null,null,null,null,null,null,null,null,null,null,null,null,null,null,null,null,null,null,null,null,null,null,null,null,null,null,null,null,null,null,null,null,null,null,null,null,null,null,null,null,null,null,null,null,null,null,null,null,null,null,null,0,null,{"$f":"HLOOKUP(MAX(E$140:CN$140),$E$140:$CN$270,117,FALSE)","v":0}]
[null,"2nd",null,null,null,null,null,null,null,null,null,null,null,null,null,null,null,null,null,null,null,null,null,null,null,null,null,null,null,null,null,null,null,null,null,null,null,null,null,null,null,null,null,null,null,null,null,null,null,null,null,null,null,null,null,null,null,null,null,null,null,null,null,null,null,null,null,null,null,null,null,null,null,null,null,null,null,null,null,null,null,null,null,null,null,null,null,null,null,null,null,null,0,null,{"$f":"HLOOKUP(MAX(E$140:CN$140),$E$140:$CN$270,118,FALSE)","v":0}]
[null,"Total",{"$f":"SUM(C127:C129)","v":0},{"$f":"SUM(D127:D129)","v":0},{"$f":"IF(E127+E128+E129=0,\"\",E127+E128+E129)","v":""},{"$f":"SUM(F127:F129)","v":0},{"$f":"SUM(G127:G129)","v":0},{"$f":"IF(H127+H128+H129=0,\"\",H127+H128+H129)","v":""},{"$f":"SUM(I127:I129)","v":0},{"$f":"SUM(J127:J129)","v":0},{"$f":"IF(K127+K128+K129=0,\"\",K127+K128+K129)","v":""},{"$f":"SUM(L127:L129)","v":0},{"$f":"SUM(M127:M129)","v":0},{"$f":"IF(N127+N128+N129=0,\"\",N127+N128+N129)","v":""},{"$f":"SUM(O127:O129)","v":0},{"$f":"SUM(P127:P129)","v":0},{"$f":"IF(Q127+Q128+Q129=0,\"\",Q127+Q128+Q129)","v":""},{"$f":"SUM(R127:R129)","v":0},{"$f":"SUM(S127:S129)","v":0},{"$f":"IF(T127+T128+T129=0,\"\",T127+T128+T129)","v":""},{"$f":"SUM(U127:U129)","v":0},{"$f":"SUM(V127:V129)","v":0},{"$f":"IF(W127+W128+W129=0,\"\",W127+W128+W129)","v":""},{"$f":"SUM(X127:X129)","v":0},{"$f":"SUM(Y127:Y129)","v":0},{"$f":"IF(Z127+Z128+Z129=0,\"\",Z127+Z128+Z129)","v":""},{"$f":"SUM(AA127:AA129)","v":0},{"$f":"SUM(AB127:AB129)","v":0},{"$f":"IF(AC127+AC128+AC129=0,\"\",AC127+AC128+AC129)","v":""},{"$f":"SUM(AD127:AD129)","v":0},{"$f":"SUM(AE127:AE129)","v":0},{"$f":"IF(AF127+AF128+AF129=0,\"\",AF127+AF128+AF129)","v":""},{"$f":"SUM(AG127:AG129)","v":0},{"$f":"SUM(AH127:AH129)","v":0},{"$f":"IF(AI127+AI128+AI129=0,\"\",AI127+AI128+AI129)","v":""},{"$f":"SUM(AJ127:AJ129)","v":0},{"$f":"SUM(AK127:AK129)","v":0},{"$f":"IF(AL127+AL128+AL129=0,\"\",AL127+AL128+AL129)","v":""},{"$f":"SUM(AM127:AM129)","v":0},{"$f":"SUM(AN127:AN129)","v":0},{"$f":"IF(AO127+AO128+AO129=0,\"\",AO127+AO128+AO129)","v":""},{"$f":"SUM(AP127:AP129)","v":0},{"$f":"SUM(AQ127:AQ129)","v":0},{"$f":"IF(AR127+AR128+AR129=0,\"\",AR127+AR128+AR129)","v":""},{"$f":"SUM(AS127:AS129)","v":0},{"$f":"SUM(AT127:AT129)","v":0},{"$f":"IF(AU127+AU128+AU129=0,\"\",AU127+AU128+AU129)","v":""},{"$f":"SUM(AV127:AV129)","v":0},{"$f":"SUM(AW127:AW129)","v":0},{"$f":"IF(AX127+AX128+AX129=0,\"\",AX127+AX128+AX129)","v":""},{"$f":"SUM(AY127:AY129)","v":0},{"$f":"SUM(AZ127:AZ129)","v":0},{"$f":"IF(BA127+BA128+BA129=0,\"\",BA127+BA128+BA129)","v":""},{"$f":"SUM(BB127:BB129)","v":0},{"$f":"SUM(BC127:BC129)","v":0},{"$f":"IF(BD127+BD128+BD129=0,\"\",BD127+BD128+BD129)","v":""},{"$f":"SUM(BE127:BE129)","v":0},{"$f":"SUM(BF127:BF129)","v":0},{"$f":"IF(BG127+BG128+BG129=0,\"\",BG127+BG128+BG129)","v":""},{"$f":"SUM(BH127:BH129)","v":0},{"$f":"SUM(BI127:BI129)","v":0},{"$f":"IF(BJ127+BJ128+BJ129=0,\"\",BJ127+BJ128+BJ129)","v":""},{"$f":"SUM(BK127:BK129)","v":0},{"$f":"SUM(BL127:BL129)","v":0},{"$f":"IF(BM127+BM128+BM129=0,\"\",BM127+BM128+BM129)","v":""},{"$f":"SUM(BN127:BN129)","v":0},{"$f":"SUM(BO127:BO129)","v":0},{"$f":"IF(BP127+BP128+BP129=0,\"\",BP127+BP128+BP129)","v":""},{"$f":"SUM(BQ127:BQ129)","v":0},{"$f":"SUM(BR127:BR129)","v":0},{"$f":"IF(BS127+BS128+BS129=0,\"\",BS127+BS128+BS129)","v":""},{"$f":"SUM(BT127:BT129)","v":0},{"$f":"SUM(BU127:BU129)","v":0},{"$f":"IF(BV127+BV128+BV129=0,\"\",BV127+BV128+BV129)","v":""},{"$f":"SUM(BW127:BW129)","v":0},{"$f":"SUM(BX127:BX129)","v":0},{"$f":"IF(BY127+BY128+BY129=0,\"\",BY127+BY128+BY129)","v":""},{"$f":"SUM(BZ127:BZ129)","v":0},{"$f":"SUM(CA127:CA129)","v":0},{"$f":"IF(CB127+CB128+CB129=0,\"\",CB127+CB128+CB129)","v":""},{"$f":"SUM(CC127:CC129)","v":0},{"$f":"SUM(CD127:CD129)","v":0},{"$f":"IF(CE127+CE128+CE129=0,\"\",CE127+CE128+CE129)","v":""},{"$f":"SUM(CF127:CF129)","v":0},{"$f":"SUM(CG127:CG129)","v":0},{"$f":"IF(CH127+CH128+CH129=0,\"\",CH127+CH128+CH129)","v":""},{"$f":"SUM(CI127:CI129)","v":0},{"$f":"SUM(CJ127:CJ129)","v":0},{"$f":"IF(CK127+CK128+CK129=0,\"\",CK127+CK128+CK129)","v":""},{"$f":"SUM(CL127:CL129)","v":0},{"$f":"SUM(CM127:CM129)","v":0},{"$f":"IF(CN127+CN128+CN129=0,\"\",CN127+CN128+CN129)","v":""},0,{"$f":"SUM(CP127:CP129)","v":0},{"$f":"SUM(CQ127:CQ129)","v":0}]
[{"$f":"A127+1","v":"2019-01-30"},"3rd",null,null,null,null,null,null,null,null,null,null,null,null,null,null,null,null,null,null,null,null,null,null,null,null,null,null,null,null,null,null,null,null,null,null,null,null,null,null,null,null,null,null,null,null,null,null,null,null,null,null,null,null,null,null,null,null,null,null,null,null,null,null,null,null,null,null,null,null,null,null,null,null,null,null,null,null,null,null,null,null,null,null,null,null,null,null,null,null,null,null,0,null,{"$f":"HLOOKUP(MAX(E$140:CN$140),$E$140:$CN$270,120,FALSE)","v":0}]
[null,"1st",null,null,null,null,null,null,null,null,null,null,null,null,null,null,null,null,null,null,null,null,null,null,null,null,null,null,null,null,null,null,null,null,null,null,null,null,null,null,null,null,null,null,null,null,null,null,null,null,null,null,null,null,null,null,null,null,null,null,null,null,null,null,null,null,null,null,null,null,null,null,null,null,null,null,null,null,null,null,null,null,null,null,null,null,null,null,null,null,null,null,0,null,{"$f":"HLOOKUP(MAX(E$140:CN$140),$E$140:$CN$270,121,FALSE)","v":0}]
[null,"2nd",null,null,null,null,null,null,null,null,null,null,null,null,null,null,null,null,null,null,null,null,null,null,null,null,null,null,null,null,null,null,null,null,null,null,null,null,null,null,null,null,null,null,null,null,null,null,null,null,null,null,null,null,null,null,null,null,null,null,null,null,null,null,null,null,null,null,null,null,null,null,null,null,null,null,null,null,null,null,null,null,null,null,null,null,null,null,null,null,null,null,0,null,{"$f":"HLOOKUP(MAX(E$140:CN$140),$E$140:$CN$270,122,FALSE)","v":0}]
[null,"Total",{"$f":"SUM(C131:C133)","v":0},{"$f":"SUM(D131:D133)","v":0},{"$f":"IF(E131+E132+E133=0,\"\",E131+E132+E133)","v":""},{"$f":"SUM(F131:F133)","v":0},{"$f":"SUM(G131:G133)","v":0},{"$f":"IF(H131+H132+H133=0,\"\",H131+H132+H133)","v":""},{"$f":"SUM(I131:I133)","v":0},{"$f":"SUM(J131:J133)","v":0},{"$f":"IF(K131+K132+K133=0,\"\",K131+K132+K133)","v":""},{"$f":"SUM(L131:L133)","v":0},{"$f":"SUM(M131:M133)","v":0},{"$f":"IF(N131+N132+N133=0,\"\",N131+N132+N133)","v":""},{"$f":"SUM(O131:O133)","v":0},{"$f":"SUM(P131:P133)","v":0},{"$f":"IF(Q131+Q132+Q133=0,\"\",Q131+Q132+Q133)","v":""},{"$f":"SUM(R131:R133)","v":0},{"$f":"SUM(S131:S133)","v":0},{"$f":"IF(T131+T132+T133=0,\"\",T131+T132+T133)","v":""},{"$f":"SUM(U131:U133)","v":0},{"$f":"SUM(V131:V133)","v":0},{"$f":"IF(W131+W132+W133=0,\"\",W131+W132+W133)","v":""},{"$f":"SUM(X131:X133)","v":0},{"$f":"SUM(Y131:Y133)","v":0},{"$f":"IF(Z131+Z132+Z133=0,\"\",Z131+Z132+Z133)","v":""},{"$f":"SUM(AA131:AA133)","v":0},{"$f":"SUM(AB131:AB133)","v":0},{"$f":"IF(AC131+AC132+AC133=0,\"\",AC131+AC132+AC133)","v":""},{"$f":"SUM(AD131:AD133)","v":0},{"$f":"SUM(AE131:AE133)","v":0},{"$f":"IF(AF131+AF132+AF133=0,\"\",AF131+AF132+AF133)","v":""},{"$f":"SUM(AG131:AG133)","v":0},{"$f":"SUM(AH131:AH133)","v":0},{"$f":"IF(AI131+AI132+AI133=0,\"\",AI131+AI132+AI133)","v":""},{"$f":"SUM(AJ131:AJ133)","v":0},{"$f":"SUM(AK131:AK133)","v":0},{"$f":"IF(AL131+AL132+AL133=0,\"\",AL131+AL132+AL133)","v":""},{"$f":"SUM(AM131:AM133)","v":0},{"$f":"SUM(AN131:AN133)","v":0},{"$f":"IF(AO131+AO132+AO133=0,\"\",AO131+AO132+AO133)","v":""},{"$f":"SUM(AP131:AP133)","v":0},{"$f":"SUM(AQ131:AQ133)","v":0},{"$f":"IF(AR131+AR132+AR133=0,\"\",AR131+AR132+AR133)","v":""},{"$f":"SUM(AS131:AS133)","v":0},{"$f":"SUM(AT131:AT133)","v":0},{"$f":"IF(AU131+AU132+AU133=0,\"\",AU131+AU132+AU133)","v":""},{"$f":"SUM(AV131:AV133)","v":0},{"$f":"SUM(AW131:AW133)","v":0},{"$f":"IF(AX131+AX132+AX133=0,\"\",AX131+AX132+AX133)","v":""},{"$f":"SUM(AY131:AY133)","v":0},{"$f":"SUM(AZ131:AZ133)","v":0},{"$f":"IF(BA131+BA132+BA133=0,\"\",BA131+BA132+BA133)","v":""},{"$f":"SUM(BB131:BB133)","v":0},{"$f":"SUM(BC131:BC133)","v":0},{"$f":"IF(BD131+BD132+BD133=0,\"\",BD131+BD132+BD133)","v":""},{"$f":"SUM(BE131:BE133)","v":0},{"$f":"SUM(BF131:BF133)","v":0},{"$f":"IF(BG131+BG132+BG133=0,\"\",BG131+BG132+BG133)","v":""},{"$f":"SUM(BH131:BH133)","v":0},{"$f":"SUM(BI131:BI133)","v":0},{"$f":"IF(BJ131+BJ132+BJ133=0,\"\",BJ131+BJ132+BJ133)","v":""},{"$f":"SUM(BK131:BK133)","v":0},{"$f":"SUM(BL131:BL133)","v":0},{"$f":"IF(BM131+BM132+BM133=0,\"\",BM131+BM132+BM133)","v":""},{"$f":"SUM(BN131:BN133)","v":0},{"$f":"SUM(BO131:BO133)","v":0},{"$f":"IF(BP131+BP132+BP133=0,\"\",BP131+BP132+BP133)","v":""},{"$f":"SUM(BQ131:BQ133)","v":0},{"$f":"SUM(BR131:BR133)","v":0},{"$f":"IF(BS131+BS132+BS133=0,\"\",BS131+BS132+BS133)","v":""},{"$f":"SUM(BT131:BT133)","v":0},{"$f":"SUM(BU131:BU133)","v":0},{"$f":"IF(BV131+BV132+BV133=0,\"\",BV131+BV132+BV133)","v":""},{"$f":"SUM(BW131:BW133)","v":0},{"$f":"SUM(BX131:BX133)","v":0},{"$f":"IF(BY131+BY132+BY133=0,\"\",BY131+BY132+BY133)","v":""},{"$f":"SUM(BZ131:BZ133)","v":0},{"$f":"SUM(CA131:CA133)","v":0},{"$f":"IF(CB131+CB132+CB133=0,\"\",CB131+CB132+CB133)","v":""},{"$f":"SUM(CC131:CC133)","v":0},{"$f":"SUM(CD131:CD133)","v":0},{"$f":"IF(CE131+CE132+CE133=0,\"\",CE131+CE132+CE133)","v":""},{"$f":"SUM(CF131:CF133)","v":0},{"$f":"SUM(CG131:CG133)","v":0},{"$f":"IF(CH131+CH132+CH133=0,\"\",CH131+CH132+CH133)","v":""},{"$f":"SUM(CI131:CI133)","v":0},{"$f":"SUM(CJ131:CJ133)","v":0},{"$f":"IF(CK131+CK132+CK133=0,\"\",CK131+CK132+CK133)","v":""},{"$f":"SUM(CL131:CL133)","v":0},{"$f":"SUM(CM131:CM133)","v":0},{"$f":"IF(CN131+CN132+CN133=0,\"\",CN131+CN132+CN133)","v":""},0,{"$f":"SUM(CP131:CP133)","v":0},{"$f":"SUM(CQ131:CQ133)","v":0}]
[{"$f":"A131+1","v":"2019-01-31"},"3rd",null,null,null,null,null,null,null,null,null,null,null,null,null,null,null,null,null,null,null,null,null,null,null,null,null,null,null,null,null,null,null,null,null,null,null,null,null,null,null,null,null,null,null,null,null,null,null,null,null,null,null,null,null,null,null,null,null,null,null,null,null,null,null,null,null,null,null,null,null,null,null,null,null,null,null,null,null,null,null,null,null,null,null,null,null,null,null,null,null,null,0,null,{"$f":"HLOOKUP(MAX(E$140:CN$140),$E$140:$CN$270,124,FALSE)","v":0}]
[null,"1st",null,null,null,null,null,null,null,null,null,null,null,null,null,null,null,null,null,null,null,null,null,null,null,null,null,null,null,null,null,null,null,null,null,null,null,null,null,null,null,null,null,null,null,null,null,null,null,null,null,null,null,null,null,null,null,null,null,null,null,null,null,null,null,null,null,null,null,null,null,null,null,null,null,null,null,null,null,null,null,null,null,null,null,null,null,null,null,null,null,null,0,null,{"$f":"HLOOKUP(MAX(E$140:CN$140),$E$140:$CN$270,125,FALSE)","v":0}]
[null,"2nd",null,null,null,null,null,null,null,null,null,null,null,null,null,null,null,null,null,null,null,null,null,null,null,null,null,null,null,null,null,null,null,null,null,null,null,null,null,null,null,null,null,null,null,null,null,null,null,null,null,null,null,null,null,null,null,null,null,null,null,null,null,null,null,null,null,null,null,null,null,null,null,null,null,null,null,null,null,null,null,null,null,null,null,null,null,null,null,null,null,null,0,null,{"$f":"HLOOKUP(MAX(E$140:CN$140),$E$140:$CN$270,126,FALSE)","v":0}]
[null,"Total",{"$f":"SUM(C135:C137)","v":0},{"$f":"SUM(D135:D137)","v":0},{"$f":"IF(E135+E136+E137=0,\"\",E135+E136+E137)","v":""},{"$f":"SUM(F135:F137)","v":0},{"$f":"SUM(G135:G137)","v":0},{"$f":"IF(H135+H136+H137=0,\"\",H135+H136+H137)","v":""},{"$f":"SUM(I135:I137)","v":0},{"$f":"SUM(J135:J137)","v":0},{"$f":"IF(K135+K136+K137=0,\"\",K135+K136+K137)","v":""},{"$f":"SUM(L135:L137)","v":0},{"$f":"SUM(M135:M137)","v":0},{"$f":"IF(N135+N136+N137=0,\"\",N135+N136+N137)","v":""},{"$f":"SUM(O135:O137)","v":0},{"$f":"SUM(P135:P137)","v":0},{"$f":"IF(Q135+Q136+Q137=0,\"\",Q135+Q136+Q137)","v":""},{"$f":"SUM(R135:R137)","v":0},{"$f":"SUM(S135:S137)","v":0},{"$f":"IF(T135+T136+T137=0,\"\",T135+T136+T137)","v":""},{"$f":"SUM(U135:U137)","v":0},{"$f":"SUM(V135:V137)","v":0},{"$f":"IF(W135+W136+W137=0,\"\",W135+W136+W137)","v":""},{"$f":"SUM(X135:X137)","v":0},{"$f":"SUM(Y135:Y137)","v":0},{"$f":"IF(Z135+Z136+Z137=0,\"\",Z135+Z136+Z137)","v":""},{"$f":"SUM(AA135:AA137)","v":0},{"$f":"SUM(AB135:AB137)","v":0},{"$f":"IF(AC135+AC136+AC137=0,\"\",AC135+AC136+AC137)","v":""},{"$f":"SUM(AD135:AD137)","v":0},{"$f":"SUM(AE135:AE137)","v":0},{"$f":"IF(AF135+AF136+AF137=0,\"\",AF135+AF136+AF137)","v":""},{"$f":"SUM(AG135:AG137)","v":0},{"$f":"SUM(AH135:AH137)","v":0},{"$f":"IF(AI135+AI136+AI137=0,\"\",AI135+AI136+AI137)","v":""},{"$f":"SUM(AJ135:AJ137)","v":0},{"$f":"SUM(AK135:AK137)","v":0},{"$f":"IF(AL135+AL136+AL137=0,\"\",AL135+AL136+AL137)","v":""},{"$f":"SUM(AM135:AM137)","v":0},{"$f":"SUM(AN135:AN137)","v":0},{"$f":"IF(AO135+AO136+AO137=0,\"\",AO135+AO136+AO137)","v":""},{"$f":"SUM(AP135:AP137)","v":0},{"$f":"SUM(AQ135:AQ137)","v":0},{"$f":"IF(AR135+AR136+AR137=0,\"\",AR135+AR136+AR137)","v":""},{"$f":"SUM(AS135:AS137)","v":0},{"$f":"SUM(AT135:AT137)","v":0},{"$f":"IF(AU135+AU136+AU137=0,\"\",AU135+AU136+AU137)","v":""},{"$f":"SUM(AV135:AV137)","v":0},{"$f":"SUM(AW135:AW137)","v":0},{"$f":"IF(AX135+AX136+AX137=0,\"\",AX135+AX136+AX137)","v":""},{"$f":"SUM(AY135:AY137)","v":0},{"$f":"SUM(AZ135:AZ137)","v":0},{"$f":"IF(BA135+BA136+BA137=0,\"\",BA135+BA136+BA137)","v":""},{"$f":"SUM(BB135:BB137)","v":0},{"$f":"SUM(BC135:BC137)","v":0},{"$f":"IF(BD135+BD136+BD137=0,\"\",BD135+BD136+BD137)","v":""},{"$f":"SUM(BE135:BE137)","v":0},{"$f":"SUM(BF135:BF137)","v":0},{"$f":"IF(BG135+BG136+BG137=0,\"\",BG135+BG136+BG137)","v":""},{"$f":"SUM(BH135:BH137)","v":0},{"$f":"SUM(BI135:BI137)","v":0},{"$f":"IF(BJ135+BJ136+BJ137=0,\"\",BJ135+BJ136+BJ137)","v":""},{"$f":"SUM(BK135:BK137)","v":0},{"$f":"SUM(BL135:BL137)","v":0},{"$f":"IF(BM135+BM136+BM137=0,\"\",BM135+BM136+BM137)","v":""},{"$f":"SUM(BN135:BN137)","v":0},{"$f":"SUM(BO135:BO137)","v":0},{"$f":"IF(BP135+BP136+BP137=0,\"\",BP135+BP136+BP137)","v":""},{"$f":"SUM(BQ135:BQ137)","v":0},{"$f":"SUM(BR135:BR137)","v":0},{"$f":"IF(BS135+BS136+BS137=0,\"\",BS135+BS136+BS137)","v":""},{"$f":"SUM(BT135:BT137)","v":0},{"$f":"SUM(BU135:BU137)","v":0},{"$f":"IF(BV135+BV136+BV137=0,\"\",BV135+BV136+BV137)","v":""},{"$f":"SUM(BW135:BW137)","v":0},{"$f":"SUM(BX135:BX137)","v":0},{"$f":"IF(BY135+BY136+BY137=0,\"\",BY135+BY136+BY137)","v":""},{"$f":"SUM(BZ135:BZ137)","v":0},{"$f":"SUM(CA135:CA137)","v":0},{"$f":"IF(CB135+CB136+CB137=0,\"\",CB135+CB136+CB137)","v":""},{"$f":"SUM(CC135:CC137)","v":0},{"$f":"SUM(CD135:CD137)","v":0},{"$f":"IF(CE135+CE136+CE137=0,\"\",CE135+CE136+CE137)","v":""},{"$f":"SUM(CF135:CF137)","v":0},{"$f":"SUM(CG135:CG137)","v":0},{"$f":"IF(CH135+CH136+CH137=0,\"\",CH135+CH136+CH137)","v":""},{"$f":"SUM(CI135:CI137)","v":0},{"$f":"SUM(CJ135:CJ137)","v":0},{"$f":"IF(CK135+CK136+CK137=0,\"\",CK135+CK136+CK137)","v":""},{"$f":"SUM(CL135:CL137)","v":0},{"$f":"SUM(CM135:CM137)","v":0},{"$f":"IF(CN135+CN136+CN137=0,\"\",CN135+CN136+CN137)","v":""},0,{"$f":"SUM(CP135:CP137)","v":0},{"$f":"SUM(CQ135:CQ137)","v":0}]
[]
[null,null,null,null,{"$f":"IF(('Capacity Plan'!B21=\"\"),0,'Capacity Plan'!C21)","v":0},null,null,{"$f":"IF(('Capacity Plan'!$B22=\"\"),0,'Capacity Plan'!C22)","v":0},null,null,{"$f":"IF(('Capacity Plan'!$B23=\"\"),0,'Capacity Plan'!C23)","v":0},null,null,{"$f":"IF(('Capacity Plan'!$B24=\"\"),0,'Capacity Plan'!C24)","v":0},null,null,{"$f":"IF(('Capacity Plan'!$B25=\"\"),0,'Capacity Plan'!C25)","v":0},null,null,{"$f":"IF(('Capacity Plan'!$B26=\"\"),0,'Capacity Plan'!C26)","v":0},null,null,{"$f":"IF(('Capacity Plan'!$B27=\"\"),0,'Capacity Plan'!C27)","v":0},null,null,{"$f":"IF(('Capacity Plan'!$B28=\"\"),0,'Capacity Plan'!C28)","v":0},null,null,{"$f":"IF(('Capacity Plan'!$B29=\"\"),0,'Capacity Plan'!C29)","v":0},null,null,{"$f":"IF(('Capacity Plan'!$B30=\"\"),0,'Capacity Plan'!C30)","v":0},null,null,{"$f":"IF(('Capacity Plan'!$B31=\"\"),0,'Capacity Plan'!C31)","v":0},null,null,{"$f":"IF(('Capacity Plan'!$B32=\"\"),0,'Capacity Plan'!C32)","v":0},null,null,{"$f":"IF(('Capacity Plan'!$B33=\"\"),0,'Capacity Plan'!C33)","v":0},null,null,{"$f":"IF(('Capacity Plan'!$B34=\"\"),0,'Capacity Plan'!C34)","v":0},null,null,{"$f":"IF(('Capacity Plan'!$B35=\"\"),0,'Capacity Plan'!C35)","v":0},null,null,{"$f":"IF(('Capacity Plan'!$B36=\"\"),0,'Capacity Plan'!C36)","v":0},null,null,{"$f":"IF(('Capacity Plan'!$B37=\"\"),0,'Capacity Plan'!C37)","v":0},null,null,{"$f":"IF(('Capacity Plan'!$B38=\"\"),0,'Capacity Plan'!C38)","v":0},null,null,{"$f":"IF(('Capacity Plan'!$B39=\"\"),0,'Capacity Plan'!C39)","v":0},null,null,{"$f":"IF(('Capacity Plan'!$B40=\"\"),0,'Capacity Plan'!C40)","v":0},null,null,{"$f":"IF(('Capacity Plan'!$B41=\"\"),0,'Capacity Plan'!C41)","v":0},null,null,{"$f":"IF(('Capacity Plan'!$B42=\"\"),0,'Capacity Plan'!C42)","v":0},null,null,{"$f":"IF(('Capacity Plan'!$B43=\"\"),0,#REF!)","v":0},null,null,{"$f":"IF(('Capacity Plan'!$B44=\"\"),0,#REF!)","v":0},null,null,{"$f":"IF(('Capacity Plan'!$B45=\"\"),0,#REF!)","v":0},null,null,{"$f":"IF(('Capacity Plan'!$B46=\"\"),0,#REF!)","v":0},null,null,{"$f":"IF(('Capacity Plan'!$B47=\"\"),0,#REF!)","v":0},null,null,{"$f":"IF(('Capacity Plan'!$B48=\"\"),0,#REF!)","v":0},null,null,{"$f":"IF(('Capacity Plan'!$B49=\"\"),0,#REF!)","v":0},null,null,{"$f":"IF(('Capacity Plan'!$B50=\"\"),0,#REF!)","v":0}]
[null,null,null,null,{"$f":"'Capacity Plan'!$B21","v":0},null,null,{"$f":"'Capacity Plan'!$B22","v":0},null,null,{"$f":"'Capacity Plan'!$B23","v":0},null,null,{"$f":"'Capacity Plan'!$B24","v":0},null,null,{"$f":"'Capacity Plan'!$B25","v":0},null,null,{"$f":"'Capacity Plan'!$B26","v":0},null,null,{"$f":"'Capacity Plan'!$B27","v":0},null,null,{"$f":"'Capacity Plan'!$B28","v":0},null,null,{"$f":"'Capacity Plan'!$B29","v":0},null,null,{"$f":"'Capacity Plan'!$B30","v":0},null,null,{"$f":"'Capacity Plan'!$B31","v":0},null,null,{"$f":"'Capacity Plan'!$B32","v":0},null,null,{"$f":"'Capacity Plan'!$B33","v":0},null,null,{"$f":"'Capacity Plan'!$B34","v":0},null,null,{"$f":"'Capacity Plan'!$B35","v":0},null,null,{"$f":"'Capacity Plan'!$B36","v":0},null,null,{"$f":"'Capacity Plan'!$B37","v":0},null,null,{"$f":"'Capacity Plan'!$B38","v":0},null,null,{"$f":"'Capacity Plan'!$B39","v":0},null,null,{"$f":"'Capacity Plan'!$B40","v":0},null,null,{"$f":"'Capacity Plan'!$B41","v":0},null,null,{"$f":"'Capacity Plan'!$B42","v":0},null,null,{"$f":"'Capacity Plan'!$B43","v":0},null,null,{"$f":"'Capacity Plan'!$B44","v":0},null,null,{"$f":"'Capacity Plan'!$B45","v":0},null,null,{"$f":"'Capacity Plan'!$B46","v":0},null,null,{"$f":"'Capacity Plan'!$B47","v":0},null,null,{"$f":"'Capacity Plan'!$B48","v":0},null,null,{"$f":"'Capacity Plan'!$B49","v":0},null,null,{"$f":"'Capacity Plan'!$B50","v":0}]
[]
[null,null,"Day 1 Formulas",null,{"$f":"SUMIF($E$141:$CN$141,E$141,$E15:$CP15)","v":0},null,null,{"$f":"SUMIF($E$141:$CN$141,H$141,$E15:$CP15)","v":0},null,null,{"$f":"SUMIF($E$141:$CN$141,K$141,$E15:$CP15)","v":0},null,null,{"$f":"SUMIF($E$141:$CN$141,N$141,$E15:$CP15)","v":0},null,null,{"$f":"SUMIF($E$141:$CN$141,Q$141,$E15:$CP15)","v":0},null,null,{"$f":"SUMIF($E$141:$CN$141,T$141,$E15:$CP15)","v":0},null,null,{"$f":"SUMIF($E$141:$CN$141,W$141,$E15:$CP15)","v":0},null,null,{"$f":"SUMIF($E$141:$CN$141,Z$141,$E15:$CP15)","v":0},null,null,{"$f":"SUMIF($E$141:$CN$141,AC$141,$E15:$CP15)","v":0},null,null,{"$f":"SUMIF($E$141:$CN$141,AF$141,$E15:$CP15)","v":0},null,null,{"$f":"SUMIF($E$141:$CN$141,AI$141,$E15:$CP15)","v":0},null,null,{"$f":"SUMIF($E$141:$CN$141,AL$141,$E15:$CP15)","v":0},null,null,{"$f":"SUMIF($E$141:$CN$141,AO$141,$E15:$CP15)","v":0},null,null,{"$f":"SUMIF($E$141:$CN$141,AR$141,$E15:$CP15)","v":0},null,null,{"$f":"SUMIF($E$141:$CN$141,AU$141,$E15:$CP15)","v":0},null,null,{"$f":"SUMIF($E$141:$CN$141,AX$141,$E15:$CP15)","v":0},null,null,{"$f":"SUMIF($E$141:$CN$141,BA$141,$E15:$CP15)","v":0},null,null,{"$f":"SUMIF($E$141:$CN$141,BD$141,$E15:$CP15)","v":0},null,null,{"$f":"SUMIF($E$141:$CN$141,BG$141,$E15:$CP15)","v":0},null,null,{"$f":"SUMIF($E$141:$CN$141,BJ$141,$E15:$CP15)","v":0},null,null,{"$f":"SUMIF($E$141:$CN$141,BM$141,$E15:$CP15)","v":0},null,null,{"$f":"SUMIF($E$141:$CN$141,BP$141,$E15:$CP15)","v":0},null,null,{"$f":"SUMIF($E$141:$CN$141,BS$141,$E15:$CP15)","v":0},null,null,{"$f":"SUMIF($E$141:$CN$141,BV$141,$E15:$CP15)","v":0},null,null,{"$f":"SUMIF($E$141:$CN$141,BY$141,$E15:$CP15)","v":0},null,null,{"$f":"SUMIF($E$141:$CN$141,CB$141,$E15:$CP15)","v":0},null,null,{"$f":"SUMIF($E$141:$CN$141,CE$141,$E15:$CP15)","v":0},null,null,{"$f":"SUMIF($E$141:$CN$141,CH$141,$E15:$CP15)","v":0},null,null,{"$f":"SUMIF($E$141:$CN$141,CK$141,$E15:$CP15)","v":0},null,null,{"$f":"SUMIF($E$141:$CN$141,CN$141,$E15:$CP15)","v":0}]
[null,null,null,null,{"$f":"SUMIF($E$141:$CN$141,E$141,$E16:$CP16)","v":0},null,null,{"$f":"SUMIF($E$141:$CN$141,H$141,$E16:$CP16)","v":0},null,null,{"$f":"SUMIF($E$141:$CN$141,K$141,$E16:$CP16)","v":0},null,null,{"$f":"SUMIF($E$141:$CN$141,N$141,$E16:$CP16)","v":0},null,null,{"$f":"SUMIF($E$141:$CN$141,Q$141,$E16:$CP16)","v":0},null,null,{"$f":"SUMIF($E$141:$CN$141,T$141,$E16:$CP16)","v":0},null,null,{"$f":"SUMIF($E$141:$CN$141,W$141,$E16:$CP16)","v":0},null,null,{"$f":"SUMIF($E$141:$CN$141,Z$141,$E16:$CP16)","v":0},null,null,{"$f":"SUMIF($E$141:$CN$141,AC$141,$E16:$CP16)","v":0},null,null,{"$f":"SUMIF($E$141:$CN$141,AF$141,$E16:$CP16)","v":0},null,null,{"$f":"SUMIF($E$141:$CN$141,AI$141,$E16:$CP16)","v":0},null,null,{"$f":"SUMIF($E$141:$CN$141,AL$141,$E16:$CP16)","v":0},null,null,{"$f":"SUMIF($E$141:$CN$141,AO$141,$E16:$CP16)","v":0},null,null,{"$f":"SUMIF($E$141:$CN$141,AR$141,$E16:$CP16)","v":0},null,null,{"$f":"SUMIF($E$141:$CN$141,AU$141,$E16:$CP16)","v":0},null,null,{"$f":"SUMIF($E$141:$CN$141,AX$141,$E16:$CP16)","v":0},null,null,{"$f":"SUMIF($E$141:$CN$141,BA$141,$E16:$CP16)","v":0},null,null,{"$f":"SUMIF($E$141:$CN$141,BD$141,$E16:$CP16)","v":0},null,null,{"$f":"SUMIF($E$141:$CN$141,BG$141,$E16:$CP16)","v":0},null,null,{"$f":"SUMIF($E$141:$CN$141,BJ$141,$E16:$CP16)","v":0},null,null,{"$f":"SUMIF($E$141:$CN$141,BM$141,$E16:$CP16)","v":0},null,null,{"$f":"SUMIF($E$141:$CN$141,BP$141,$E16:$CP16)","v":0},null,null,{"$f":"SUMIF($E$141:$CN$141,BS$141,$E16:$CP16)","v":0},null,null,{"$f":"SUMIF($E$141:$CN$141,BV$141,$E16:$CP16)","v":0},null,null,{"$f":"SUMIF($E$141:$CN$141,BY$141,$E16:$CP16)","v":0},null,null,{"$f":"SUMIF($E$141:$CN$141,CB$141,$E16:$CP16)","v":0},null,null,{"$f":"SUMIF($E$141:$CN$141,CE$141,$E16:$CP16)","v":0},null,null,{"$f":"SUMIF($E$141:$CN$141,CH$141,$E16:$CP16)","v":0},null,null,{"$f":"SUMIF($E$141:$CN$141,CK$141,$E16:$CP16)","v":0},null,null,{"$f":"SUMIF($E$141:$CN$141,CN$141,$E16:$CP16)","v":0}]
[null,null,null,null,{"$f":"SUMIF($E$141:$CN$141,E$141,$E17:$CP17)","v":0},null,null,{"$f":"SUMIF($E$141:$CN$141,H$141,$E17:$CP17)","v":0},null,null,{"$f":"SUMIF($E$141:$CN$141,K$141,$E17:$CP17)","v":0},null,null,{"$f":"SUMIF($E$141:$CN$141,N$141,$E17:$CP17)","v":0},null,null,{"$f":"SUMIF($E$141:$CN$141,Q$141,$E17:$CP17)","v":0},null,null,{"$f":"SUMIF($E$141:$CN$141,T$141,$E17:$CP17)","v":0},null,null,{"$f":"SUMIF($E$141:$CN$141,W$141,$E17:$CP17)","v":0},null,null,{"$f":"SUMIF($E$141:$CN$141,Z$141,$E17:$CP17)","v":0},null,null,{"$f":"SUMIF($E$141:$CN$141,AC$141,$E17:$CP17)","v":0},null,null,{"$f":"SUMIF($E$141:$CN$141,AF$141,$E17:$CP17)","v":0},null,null,{"$f":"SUMIF($E$141:$CN$141,AI$141,$E17:$CP17)","v":0},null,null,{"$f":"SUMIF($E$141:$CN$141,AL$141,$E17:$CP17)","v":0},null,null,{"$f":"SUMIF($E$141:$CN$141,AO$141,$E17:$CP17)","v":0},null,null,{"$f":"SUMIF($E$141:$CN$141,AR$141,$E17:$CP17)","v":0},null,null,{"$f":"SUMIF($E$141:$CN$141,AU$141,$E17:$CP17)","v":0},null,null,{"$f":"SUMIF($E$141:$CN$141,AX$141,$E17:$CP17)","v":0},null,null,{"$f":"SUMIF($E$141:$CN$141,BA$141,$E17:$CP17)","v":0},null,null,{"$f":"SUMIF($E$141:$CN$141,BD$141,$E17:$CP17)","v":0},null,null,{"$f":"SUMIF($E$141:$CN$141,BG$141,$E17:$CP17)","v":0},null,null,{"$f":"SUMIF($E$141:$CN$141,BJ$141,$E17:$CP17)","v":0},null,null,{"$f":"SUMIF($E$141:$CN$141,BM$141,$E17:$CP17)","v":0},null,null,{"$f":"SUMIF($E$141:$CN$141,BP$141,$E17:$CP17)","v":0},null,null,{"$f":"SUMIF($E$141:$CN$141,BS$141,$E17:$CP17)","v":0},null,null,{"$f":"SUMIF($E$141:$CN$141,BV$141,$E17:$CP17)","v":0},null,null,{"$f":"SUMIF($E$141:$CN$141,BY$141,$E17:$CP17)","v":0},null,null,{"$f":"SUMIF($E$141:$CN$141,CB$141,$E17:$CP17)","v":0},null,null,{"$f":"SUMIF($E$141:$CN$141,CE$141,$E17:$CP17)","v":0},null,null,{"$f":"SUMIF($E$141:$CN$141,CH$141,$E17:$CP17)","v":0},null,null,{"$f":"SUMIF($E$141:$CN$141,CK$141,$E17:$CP17)","v":0},null,null,{"$f":"SUMIF($E$141:$CN$141,CN$141,$E17:$CP17)","v":0}]
[]
[null,null,"Day 2 Formulas",null,{"$f":"SUMIF($E$141:$CN$141,E$141,$E19:$CP19)","v":0},null,null,{"$f":"SUMIF($E$141:$CN$141,H$141,$E19:$CP19)","v":0},null,null,{"$f":"SUMIF($E$141:$CN$141,K$141,$E19:$CP19)","v":0},null,null,{"$f":"SUMIF($E$141:$CN$141,N$141,$E19:$CP19)","v":0},null,null,{"$f":"SUMIF($E$141:$CN$141,Q$141,$E19:$CP19)","v":0},null,null,{"$f":"SUMIF($E$141:$CN$141,T$141,$E19:$CP19)","v":0},null,null,{"$f":"SUMIF($E$141:$CN$141,W$141,$E19:$CP19)","v":0},null,null,{"$f":"SUMIF($E$141:$CN$141,Z$141,$E19:$CP19)","v":0},null,null,{"$f":"SUMIF($E$141:$CN$141,AC$141,$E19:$CP19)","v":0},null,null,{"$f":"SUMIF($E$141:$CN$141,AF$141,$E19:$CP19)","v":0},null,null,{"$f":"SUMIF($E$141:$CN$141,AI$141,$E19:$CP19)","v":0},null,null,{"$f":"SUMIF($E$141:$CN$141,AL$141,$E19:$CP19)","v":0},null,null,{"$f":"SUMIF($E$141:$CN$141,AO$141,$E19:$CP19)","v":0},null,null,{"$f":"SUMIF($E$141:$CN$141,AR$141,$E19:$CP19)","v":0},null,null,{"$f":"SUMIF($E$141:$CN$141,AU$141,$E19:$CP19)","v":0},null,null,{"$f":"SUMIF($E$141:$CN$141,AX$141,$E19:$CP19)","v":0},null,null,{"$f":"SUMIF($E$141:$CN$141,BA$141,$E19:$CP19)","v":0},null,null,{"$f":"SUMIF($E$141:$CN$141,BD$141,$E19:$CP19)","v":0},null,null,{"$f":"SUMIF($E$141:$CN$141,BG$141,$E19:$CP19)","v":0},null,null,{"$f":"SUMIF($E$141:$CN$141,BJ$141,$E19:$CP19)","v":0},null,null,{"$f":"SUMIF($E$141:$CN$141,BM$141,$E19:$CP19)","v":0},null,null,{"$f":"SUMIF($E$141:$CN$141,BP$141,$E19:$CP19)","v":0},null,null,{"$f":"SUMIF($E$141:$CN$141,BS$141,$E19:$CP19)","v":0},null,null,{"$f":"SUMIF($E$141:$CN$141,BV$141,$E19:$CP19)","v":0},null,null,{"$f":"SUMIF($E$141:$CN$141,BY$141,$E19:$CP19)","v":0},null,null,{"$f":"SUMIF($E$141:$CN$141,CB$141,$E19:$CP19)","v":0},null,null,{"$f":"SUMIF($E$141:$CN$141,CE$141,$E19:$CP19)","v":0},null,null,{"$f":"SUMIF($E$141:$CN$141,CH$141,$E19:$CP19)","v":0},null,null,{"$f":"SUMIF($E$141:$CN$141,CK$141,$E19:$CP19)","v":0},null,null,{"$f":"SUMIF($E$141:$CN$141,CN$141,$E19:$CP19)","v":0}]
[null,null,null,null,{"$f":"SUMIF($E$141:$CN$141,E$141,$E20:$CP20)","v":0},null,null,{"$f":"SUMIF($E$141:$CN$141,H$141,$E20:$CP20)","v":0},null,null,{"$f":"SUMIF($E$141:$CN$141,K$141,$E20:$CP20)","v":0},null,null,{"$f":"SUMIF($E$141:$CN$141,N$141,$E20:$CP20)","v":0},null,null,{"$f":"SUMIF($E$141:$CN$141,Q$141,$E20:$CP20)","v":0},null,null,{"$f":"SUMIF($E$141:$CN$141,T$141,$E20:$CP20)","v":0},null,null,{"$f":"SUMIF($E$141:$CN$141,W$141,$E20:$CP20)","v":0},null,null,{"$f":"SUMIF($E$141:$CN$141,Z$141,$E20:$CP20)","v":0},null,null,{"$f":"SUMIF($E$141:$CN$141,AC$141,$E20:$CP20)","v":0},null,null,{"$f":"SUMIF($E$141:$CN$141,AF$141,$E20:$CP20)","v":0},null,null,{"$f":"SUMIF($E$141:$CN$141,AI$141,$E20:$CP20)","v":0},null,null,{"$f":"SUMIF($E$141:$CN$141,AL$141,$E20:$CP20)","v":0},null,null,{"$f":"SUMIF($E$141:$CN$141,AO$141,$E20:$CP20)","v":0},null,null,{"$f":"SUMIF($E$141:$CN$141,AR$141,$E20:$CP20)","v":0},null,null,{"$f":"SUMIF($E$141:$CN$141,AU$141,$E20:$CP20)","v":0},null,null,{"$f":"SUMIF($E$141:$CN$141,AX$141,$E20:$CP20)","v":0},null,null,{"$f":"SUMIF($E$141:$CN$141,BA$141,$E20:$CP20)","v":0},null,null,{"$f":"SUMIF($E$141:$CN$141,BD$141,$E20:$CP20)","v":0},null,null,{"$f":"SUMIF($E$141:$CN$141,BG$141,$E20:$CP20)","v":0},null,null,{"$f":"SUMIF($E$141:$CN$141,BJ$141,$E20:$CP20)","v":0},null,null,{"$f":"SUMIF($E$141:$CN$141,BM$141,$E20:$CP20)","v":0},null,null,{"$f":"SUMIF($E$141:$CN$141,BP$141,$E20:$CP20)","v":0},null,null,{"$f":"SUMIF($E$141:$CN$141,BS$141,$E20:$CP20)","v":0},null,null,{"$f":"SUMIF($E$141:$CN$141,BV$141,$E20:$CP20)","v":0},null,null,{"$f":"SUMIF($E$141:$CN$141,BY$141,$E20:$CP20)","v":0},null,null,{"$f":"SUMIF($E$141:$CN$141,CB$141,$E20:$CP20)","v":0},null,null,{"$f":"SUMIF($E$141:$CN$141,CE$141,$E20:$CP20)","v":0},null,null,{"$f":"SUMIF($E$141:$CN$141,CH$141,$E20:$CP20)","v":0},null,null,{"$f":"SUMIF($E$141:$CN$141,CK$141,$E20:$CP20)","v":0},null,null,{"$f":"SUMIF($E$141:$CN$141,CN$141,$E20:$CP20)","v":0}]
[null,null,null,null,{"$f":"SUMIF($E$141:$CN$141,E$141,$E21:$CP21)","v":0},null,null,{"$f":"SUMIF($E$141:$CN$141,H$141,$E21:$CP21)","v":0},null,null,{"$f":"SUMIF($E$141:$CN$141,K$141,$E21:$CP21)","v":0},null,null,{"$f":"SUMIF($E$141:$CN$141,N$141,$E21:$CP21)","v":0},null,null,{"$f":"SUMIF($E$141:$CN$141,Q$141,$E21:$CP21)","v":0},null,null,{"$f":"SUMIF($E$141:$CN$141,T$141,$E21:$CP21)","v":0},null,null,{"$f":"SUMIF($E$141:$CN$141,W$141,$E21:$CP21)","v":0},null,null,{"$f":"SUMIF($E$141:$CN$141,Z$141,$E21:$CP21)","v":0},null,null,{"$f":"SUMIF($E$141:$CN$141,AC$141,$E21:$CP21)","v":0},null,null,{"$f":"SUMIF($E$141:$CN$141,AF$141,$E21:$CP21)","v":0},null,null,{"$f":"SUMIF($E$141:$CN$141,AI$141,$E21:$CP21)","v":0},null,null,{"$f":"SUMIF($E$141:$CN$141,AL$141,$E21:$CP21)","v":0},null,null,{"$f":"SUMIF($E$141:$CN$141,AO$141,$E21:$CP21)","v":0},null,null,{"$f":"SUMIF($E$141:$CN$141,AR$141,$E21:$CP21)","v":0},null,null,{"$f":"SUMIF($E$141:$CN$141,AU$141,$E21:$CP21)","v":0},null,null,{"$f":"SUMIF($E$141:$CN$141,AX$141,$E21:$CP21)","v":0},null,null,{"$f":"SUMIF($E$141:$CN$141,BA$141,$E21:$CP21)","v":0},null,null,{"$f":"SUMIF($E$141:$CN$141,BD$141,$E21:$CP21)","v":0},null,null,{"$f":"SUMIF($E$141:$CN$141,BG$141,$E21:$CP21)","v":0},null,null,{"$f":"SUMIF($E$141:$CN$141,BJ$141,$E21:$CP21)","v":0},null,null,{"$f":"SUMIF($E$141:$CN$141,BM$141,$E21:$CP21)","v":0},null,null,{"$f":"SUMIF($E$141:$CN$141,BP$141,$E21:$CP21)","v":0},null,null,{"$f":"SUMIF($E$141:$CN$141,BS$141,$E21:$CP21)","v":0},null,null,{"$f":"SUMIF($E$141:$CN$141,BV$141,$E21:$CP21)","v":0},null,null,{"$f":"SUMIF($E$141:$CN$141,BY$141,$E21:$CP21)","v":0},null,null,{"$f":"SUMIF($E$141:$CN$141,CB$141,$E21:$CP21)","v":0},null,null,{"$f":"SUMIF($E$141:$CN$141,CE$141,$E21:$CP21)","v":0},null,null,{"$f":"SUMIF($E$141:$CN$141,CH$141,$E21:$CP21)","v":0},null,null,{"$f":"SUMIF($E$141:$CN$141,CK$141,$E21:$CP21)","v":0},null,null,{"$f":"SUMIF($E$141:$CN$141,CN$141,$E21:$CP21)","v":0}]
[]
[null,null,"Day 3 Formulas",null,{"$f":"SUMIF($E$141:$CN$141,E$141,$E23:$CP23)","v":0},null,null,{"$f":"SUMIF($E$141:$CN$141,H$141,$E23:$CP23)","v":0},null,null,{"$f":"SUMIF($E$141:$CN$141,K$141,$E23:$CP23)","v":0},null,null,{"$f":"SUMIF($E$141:$CN$141,N$141,$E23:$CP23)","v":0},null,null,{"$f":"SUMIF($E$141:$CN$141,Q$141,$E23:$CP23)","v":0},null,null,{"$f":"SUMIF($E$141:$CN$141,T$141,$E23:$CP23)","v":0},null,null,{"$f":"SUMIF($E$141:$CN$141,W$141,$E23:$CP23)","v":0},null,null,{"$f":"SUMIF($E$141:$CN$141,Z$141,$E23:$CP23)","v":0},null,null,{"$f":"SUMIF($E$141:$CN$141,AC$141,$E23:$CP23)","v":0},null,null,{"$f":"SUMIF($E$141:$CN$141,AF$141,$E23:$CP23)","v":0},null,null,{"$f":"SUMIF($E$141:$CN$141,AI$141,$E23:$CP23)","v":0},null,null,{"$f":"SUMIF($E$141:$CN$141,AL$141,$E23:$CP23)","v":0},null,null,{"$f":"SUMIF($E$141:$CN$141,AO$141,$E23:$CP23)","v":0},null,null,{"$f":"SUMIF($E$141:$CN$141,AR$141,$E23:$CP23)","v":0},null,null,{"$f":"SUMIF($E$141:$CN$141,AU$141,$E23:$CP23)","v":0},null,null,{"$f":"SUMIF($E$141:$CN$141,AX$141,$E23:$CP23)","v":0},null,null,{"$f":"SUMIF($E$141:$CN$141,BA$141,$E23:$CP23)","v":0},null,null,{"$f":"SUMIF($E$141:$CN$141,BD$141,$E23:$CP23)","v":0},null,null,{"$f":"SUMIF($E$141:$CN$141,BG$141,$E23:$CP23)","v":0},null,null,{"$f":"SUMIF($E$141:$CN$141,BJ$141,$E23:$CP23)","v":0},null,null,{"$f":"SUMIF($E$141:$CN$141,BM$141,$E23:$CP23)","v":0},null,null,{"$f":"SUMIF($E$141:$CN$141,BP$141,$E23:$CP23)","v":0},null,null,{"$f":"SUMIF($E$141:$CN$141,BS$141,$E23:$CP23)","v":0},null,null,{"$f":"SUMIF($E$141:$CN$141,BV$141,$E23:$CP23)","v":0},null,null,{"$f":"SUMIF($E$141:$CN$141,BY$141,$E23:$CP23)","v":0},null,null,{"$f":"SUMIF($E$141:$CN$141,CB$141,$E23:$CP23)","v":0},null,null,{"$f":"SUMIF($E$141:$CN$141,CE$141,$E23:$CP23)","v":0},null,null,{"$f":"SUMIF($E$141:$CN$141,CH$141,$E23:$CP23)","v":0},null,null,{"$f":"SUMIF($E$141:$CN$141,CK$141,$E23:$CP23)","v":0},null,null,{"$f":"SUMIF($E$141:$CN$141,CN$141,$E23:$CP23)","v":0}]
[null,null,null,null,{"$f":"SUMIF($E$141:$CN$141,E$141,$E24:$CP24)","v":0},null,null,{"$f":"SUMIF($E$141:$CN$141,H$141,$E24:$CP24)","v":0},null,null,{"$f":"SUMIF($E$141:$CN$141,K$141,$E24:$CP24)","v":0},null,null,{"$f":"SUMIF($E$141:$CN$141,N$141,$E24:$CP24)","v":0},null,null,{"$f":"SUMIF($E$141:$CN$141,Q$141,$E24:$CP24)","v":0},null,null,{"$f":"SUMIF($E$141:$CN$141,T$141,$E24:$CP24)","v":0},null,null,{"$f":"SUMIF($E$141:$CN$141,W$141,$E24:$CP24)","v":0},null,null,{"$f":"SUMIF($E$141:$CN$141,Z$141,$E24:$CP24)","v":0},null,null,{"$f":"SUMIF($E$141:$CN$141,AC$141,$E24:$CP24)","v":0},null,null,{"$f":"SUMIF($E$141:$CN$141,AF$141,$E24:$CP24)","v":0},null,null,{"$f":"SUMIF($E$141:$CN$141,AI$141,$E24:$CP24)","v":0},null,null,{"$f":"SUMIF($E$141:$CN$141,AL$141,$E24:$CP24)","v":0},null,null,{"$f":"SUMIF($E$141:$CN$141,AO$141,$E24:$CP24)","v":0},null,null,{"$f":"SUMIF($E$141:$CN$141,AR$141,$E24:$CP24)","v":0},null,null,{"$f":"SUMIF($E$141:$CN$141,AU$141,$E24:$CP24)","v":0},null,null,{"$f":"SUMIF($E$141:$CN$141,AX$141,$E24:$CP24)","v":0},null,null,{"$f":"SUMIF($E$141:$CN$141,BA$141,$E24:$CP24)","v":0},null,null,{"$f":"SUMIF($E$141:$CN$141,BD$141,$E24:$CP24)","v":0},null,null,{"$f":"SUMIF($E$141:$CN$141,BG$141,$E24:$CP24)","v":0},null,null,{"$f":"SUMIF($E$141:$CN$141,BJ$141,$E24:$CP24)","v":0},null,null,{"$f":"SUMIF($E$141:$CN$141,BM$141,$E24:$CP24)","v":0},null,null,{"$f":"SUMIF($E$141:$CN$141,BP$141,$E24:$CP24)","v":0},null,null,{"$f":"SUMIF($E$141:$CN$141,BS$141,$E24:$CP24)","v":0},null,null,{"$f":"SUMIF($E$141:$CN$141,BV$141,$E24:$CP24)","v":0},null,null,{"$f":"SUMIF($E$141:$CN$141,BY$141,$E24:$CP24)","v":0},null,null,{"$f":"SUMIF($E$141:$CN$141,CB$141,$E24:$CP24)","v":0},null,null,{"$f":"SUMIF($E$141:$CN$141,CE$141,$E24:$CP24)","v":0},null,null,{"$f":"SUMIF($E$141:$CN$141,CH$141,$E24:$CP24)","v":0},null,null,{"$f":"SUMIF($E$141:$CN$141,CK$141,$E24:$CP24)","v":0},null,null,{"$f":"SUMIF($E$141:$CN$141,CN$141,$E24:$CP24)","v":0}]
[null,null,null,null,{"$f":"SUMIF($E$141:$CN$141,E$141,$E25:$CP25)","v":0},null,null,{"$f":"SUMIF($E$141:$CN$141,H$141,$E25:$CP25)","v":0},null,null,{"$f":"SUMIF($E$141:$CN$141,K$141,$E25:$CP25)","v":0},null,null,{"$f":"SUMIF($E$141:$CN$141,N$141,$E25:$CP25)","v":0},null,null,{"$f":"SUMIF($E$141:$CN$141,Q$141,$E25:$CP25)","v":0},null,null,{"$f":"SUMIF($E$141:$CN$141,T$141,$E25:$CP25)","v":0},null,null,{"$f":"SUMIF($E$141:$CN$141,W$141,$E25:$CP25)","v":0},null,null,{"$f":"SUMIF($E$141:$CN$141,Z$141,$E25:$CP25)","v":0},null,null,{"$f":"SUMIF($E$141:$CN$141,AC$141,$E25:$CP25)","v":0},null,null,{"$f":"SUMIF($E$141:$CN$141,AF$141,$E25:$CP25)","v":0},null,null,{"$f":"SUMIF($E$141:$CN$141,AI$141,$E25:$CP25)","v":0},null,null,{"$f":"SUMIF($E$141:$CN$141,AL$141,$E25:$CP25)","v":0},null,null,{"$f":"SUMIF($E$141:$CN$141,AO$141,$E25:$CP25)","v":0},null,null,{"$f":"SUMIF($E$141:$CN$141,AR$141,$E25:$CP25)","v":0},null,null,{"$f":"SUMIF($E$141:$CN$141,AU$141,$E25:$CP25)","v":0},null,null,{"$f":"SUMIF($E$141:$CN$141,AX$141,$E25:$CP25)","v":0},null,null,{"$f":"SUMIF($E$141:$CN$141,BA$141,$E25:$CP25)","v":0},null,null,{"$f":"SUMIF($E$141:$CN$141,BD$141,$E25:$CP25)","v":0},null,null,{"$f":"SUMIF($E$141:$CN$141,BG$141,$E25:$CP25)","v":0},null,null,{"$f":"SUMIF($E$141:$CN$141,BJ$141,$E25:$CP25)","v":0},null,null,{"$f":"SUMIF($E$141:$CN$141,BM$141,$E25:$CP25)","v":0},null,null,{"$f":"SUMIF($E$141:$CN$141,BP$141,$E25:$CP25)","v":0},null,null,{"$f":"SUMIF($E$141:$CN$141,BS$141,$E25:$CP25)","v":0},null,null,{"$f":"SUMIF($E$141:$CN$141,BV$141,$E25:$CP25)","v":0},null,null,{"$f":"SUMIF($E$141:$CN$141,BY$141,$E25:$CP25)","v":0},null,null,{"$f":"SUMIF($E$141:$CN$141,CB$141,$E25:$CP25)","v":0},null,null,{"$f":"SUMIF($E$141:$CN$141,CE$141,$E25:$CP25)","v":0},null,null,{"$f":"SUMIF($E$141:$CN$141,CH$141,$E25:$CP25)","v":0},null,null,{"$f":"SUMIF($E$141:$CN$141,CK$141,$E25:$CP25)","v":0},null,null,{"$f":"SUMIF($E$141:$CN$141,CN$141,$E25:$CP25)","v":0}]
[]
[null,null,"Day 4 Formulas",null,{"$f":"SUMIF($E$141:$CN$141,E$141,$E27:$CP27)","v":0},null,null,{"$f":"SUMIF($E$141:$CN$141,H$141,$E27:$CP27)","v":0},null,null,{"$f":"SUMIF($E$141:$CN$141,K$141,$E27:$CP27)","v":0},null,null,{"$f":"SUMIF($E$141:$CN$141,N$141,$E27:$CP27)","v":0},null,null,{"$f":"SUMIF($E$141:$CN$141,Q$141,$E27:$CP27)","v":0},null,null,{"$f":"SUMIF($E$141:$CN$141,T$141,$E27:$CP27)","v":0},null,null,{"$f":"SUMIF($E$141:$CN$141,W$141,$E27:$CP27)","v":0},null,null,{"$f":"SUMIF($E$141:$CN$141,Z$141,$E27:$CP27)","v":0},null,null,{"$f":"SUMIF($E$141:$CN$141,AC$141,$E27:$CP27)","v":0},null,null,{"$f":"SUMIF($E$141:$CN$141,AF$141,$E27:$CP27)","v":0},null,null,{"$f":"SUMIF($E$141:$CN$141,AI$141,$E27:$CP27)","v":0},null,null,{"$f":"SUMIF($E$141:$CN$141,AL$141,$E27:$CP27)","v":0},null,null,{"$f":"SUMIF($E$141:$CN$141,AO$141,$E27:$CP27)","v":0},null,null,{"$f":"SUMIF($E$141:$CN$141,AR$141,$E27:$CP27)","v":0},null,null,{"$f":"SUMIF($E$141:$CN$141,AU$141,$E27:$CP27)","v":0},null,null,{"$f":"SUMIF($E$141:$CN$141,AX$141,$E27:$CP27)","v":0},null,null,{"$f":"SUMIF($E$141:$CN$141,BA$141,$E27:$CP27)","v":0},null,null,{"$f":"SUMIF($E$141:$CN$141,BD$141,$E27:$CP27)","v":0},null,null,{"$f":"SUMIF($E$141:$CN$141,BG$141,$E27:$CP27)","v":0},null,null,{"$f":"SUMIF($E$141:$CN$141,BJ$141,$E27:$CP27)","v":0},null,null,{"$f":"SUMIF($E$141:$CN$141,BM$141,$E27:$CP27)","v":0},null,null,{"$f":"SUMIF($E$141:$CN$141,BP$141,$E27:$CP27)","v":0},null,null,{"$f":"SUMIF($E$141:$CN$141,BS$141,$E27:$CP27)","v":0},null,null,{"$f":"SUMIF($E$141:$CN$141,BV$141,$E27:$CP27)","v":0},null,null,{"$f":"SUMIF($E$141:$CN$141,BY$141,$E27:$CP27)","v":0},null,null,{"$f":"SUMIF($E$141:$CN$141,CB$141,$E27:$CP27)","v":0},null,null,{"$f":"SUMIF($E$141:$CN$141,CE$141,$E27:$CP27)","v":0},null,null,{"$f":"SUMIF($E$141:$CN$141,CH$141,$E27:$CP27)","v":0},null,null,{"$f":"SUMIF($E$141:$CN$141,CK$141,$E27:$CP27)","v":0},null,null,{"$f":"SUMIF($E$141:$CN$141,CN$141,$E27:$CP27)","v":0}]
[null,null,null,null,{"$f":"SUMIF($E$141:$CN$141,E$141,$E28:$CP28)","v":0},null,null,{"$f":"SUMIF($E$141:$CN$141,H$141,$E28:$CP28)","v":0},null,null,{"$f":"SUMIF($E$141:$CN$141,K$141,$E28:$CP28)","v":0},null,null,{"$f":"SUMIF($E$141:$CN$141,N$141,$E28:$CP28)","v":0},null,null,{"$f":"SUMIF($E$141:$CN$141,Q$141,$E28:$CP28)","v":0},null,null,{"$f":"SUMIF($E$141:$CN$141,T$141,$E28:$CP28)","v":0},null,null,{"$f":"SUMIF($E$141:$CN$141,W$141,$E28:$CP28)","v":0},null,null,{"$f":"SUMIF($E$141:$CN$141,Z$141,$E28:$CP28)","v":0},null,null,{"$f":"SUMIF($E$141:$CN$141,AC$141,$E28:$CP28)","v":0},null,null,{"$f":"SUMIF($E$141:$CN$141,AF$141,$E28:$CP28)","v":0},null,null,{"$f":"SUMIF($E$141:$CN$141,AI$141,$E28:$CP28)","v":0},null,null,{"$f":"SUMIF($E$141:$CN$141,AL$141,$E28:$CP28)","v":0},null,null,{"$f":"SUMIF($E$141:$CN$141,AO$141,$E28:$CP28)","v":0},null,null,{"$f":"SUMIF($E$141:$CN$141,AR$141,$E28:$CP28)","v":0},null,null,{"$f":"SUMIF($E$141:$CN$141,AU$141,$E28:$CP28)","v":0},null,null,{"$f":"SUMIF($E$141:$CN$141,AX$141,$E28:$CP28)","v":0},null,null,{"$f":"SUMIF($E$141:$CN$141,BA$141,$E28:$CP28)","v":0},null,null,{"$f":"SUMIF($E$141:$CN$141,BD$141,$E28:$CP28)","v":0},null,null,{"$f":"SUMIF($E$141:$CN$141,BG$141,$E28:$CP28)","v":0},null,null,{"$f":"SUMIF($E$141:$CN$141,BJ$141,$E28:$CP28)","v":0},null,null,{"$f":"SUMIF($E$141:$CN$141,BM$141,$E28:$CP28)","v":0},null,null,{"$f":"SUMIF($E$141:$CN$141,BP$141,$E28:$CP28)","v":0},null,null,{"$f":"SUMIF($E$141:$CN$141,BS$141,$E28:$CP28)","v":0},null,null,{"$f":"SUMIF($E$141:$CN$141,BV$141,$E28:$CP28)","v":0},null,null,{"$f":"SUMIF($E$141:$CN$141,BY$141,$E28:$CP28)","v":0},null,null,{"$f":"SUMIF($E$141:$CN$141,CB$141,$E28:$CP28)","v":0},null,null,{"$f":"SUMIF($E$141:$CN$141,CE$141,$E28:$CP28)","v":0},null,null,{"$f":"SUMIF($E$141:$CN$141,CH$141,$E28:$CP28)","v":0},null,null,{"$f":"SUMIF($E$141:$CN$141,CK$141,$E28:$CP28)","v":0},null,null,{"$f":"SUMIF($E$141:$CN$141,CN$141,$E28:$CP28)","v":0}]
[null,null,null,null,{"$f":"SUMIF($E$141:$CN$141,E$141,$E29:$CP29)","v":0},null,null,{"$f":"SUMIF($E$141:$CN$141,H$141,$E29:$CP29)","v":0},null,null,{"$f":"SUMIF($E$141:$CN$141,K$141,$E29:$CP29)","v":0},null,null,{"$f":"SUMIF($E$141:$CN$141,N$141,$E29:$CP29)","v":0},null,null,{"$f":"SUMIF($E$141:$CN$141,Q$141,$E29:$CP29)","v":0},null,null,{"$f":"SUMIF($E$141:$CN$141,T$141,$E29:$CP29)","v":0},null,null,{"$f":"SUMIF($E$141:$CN$141,W$141,$E29:$CP29)","v":0},null,null,{"$f":"SUMIF($E$141:$CN$141,Z$141,$E29:$CP29)","v":0},null,null,{"$f":"SUMIF($E$141:$CN$141,AC$141,$E29:$CP29)","v":0},null,null,{"$f":"SUMIF($E$141:$CN$141,AF$141,$E29:$CP29)","v":0},null,null,{"$f":"SUMIF($E$141:$CN$141,AI$141,$E29:$CP29)","v":0},null,null,{"$f":"SUMIF($E$141:$CN$141,AL$141,$E29:$CP29)","v":0},null,null,{"$f":"SUMIF($E$141:$CN$141,AO$141,$E29:$CP29)","v":0},null,null,{"$f":"SUMIF($E$141:$CN$141,AR$141,$E29:$CP29)","v":0},null,null,{"$f":"SUMIF($E$141:$CN$141,AU$141,$E29:$CP29)","v":0},null,null,{"$f":"SUMIF($E$141:$CN$141,AX$141,$E29:$CP29)","v":0},null,null,{"$f":"SUMIF($E$141:$CN$141,BA$141,$E29:$CP29)","v":0},null,null,{"$f":"SUMIF($E$141:$CN$141,BD$141,$E29:$CP29)","v":0},null,null,{"$f":"SUMIF($E$141:$CN$141,BG$141,$E29:$CP29)","v":0},null,null,{"$f":"SUMIF($E$141:$CN$141,BJ$141,$E29:$CP29)","v":0},null,null,{"$f":"SUMIF($E$141:$CN$141,BM$141,$E29:$CP29)","v":0},null,null,{"$f":"SUMIF($E$141:$CN$141,BP$141,$E29:$CP29)","v":0},null,null,{"$f":"SUMIF($E$141:$CN$141,BS$141,$E29:$CP29)","v":0},null,null,{"$f":"SUMIF($E$141:$CN$141,BV$141,$E29:$CP29)","v":0},null,null,{"$f":"SUMIF($E$141:$CN$141,BY$141,$E29:$CP29)","v":0},null,null,{"$f":"SUMIF($E$141:$CN$141,CB$141,$E29:$CP29)","v":0},null,null,{"$f":"SUMIF($E$141:$CN$141,CE$141,$E29:$CP29)","v":0},null,null,{"$f":"SUMIF($E$141:$CN$141,CH$141,$E29:$CP29)","v":0},null,null,{"$f":"SUMIF($E$141:$CN$141,CK$141,$E29:$CP29)","v":0},null,null,{"$f":"SUMIF($E$141:$CN$141,CN$141,$E29:$CP29)","v":0}]
[]
[null,null,"Day 5 Formulas",null,{"$f":"SUMIF($E$141:$CN$141,E$141,$E31:$CP31)","v":0},null,null,{"$f":"SUMIF($E$141:$CN$141,H$141,$E31:$CP31)","v":0},null,null,{"$f":"SUMIF($E$141:$CN$141,K$141,$E31:$CP31)","v":0},null,null,{"$f":"SUMIF($E$141:$CN$141,N$141,$E31:$CP31)","v":0},null,null,{"$f":"SUMIF($E$141:$CN$141,Q$141,$E31:$CP31)","v":0},null,null,{"$f":"SUMIF($E$141:$CN$141,T$141,$E31:$CP31)","v":0},null,null,{"$f":"SUMIF($E$141:$CN$141,W$141,$E31:$CP31)","v":0},null,null,{"$f":"SUMIF($E$141:$CN$141,Z$141,$E31:$CP31)","v":0},null,null,{"$f":"SUMIF($E$141:$CN$141,AC$141,$E31:$CP31)","v":0},null,null,{"$f":"SUMIF($E$141:$CN$141,AF$141,$E31:$CP31)","v":0},null,null,{"$f":"SUMIF($E$141:$CN$141,AI$141,$E31:$CP31)","v":0},null,null,{"$f":"SUMIF($E$141:$CN$141,AL$141,$E31:$CP31)","v":0},null,null,{"$f":"SUMIF($E$141:$CN$141,AO$141,$E31:$CP31)","v":0},null,null,{"$f":"SUMIF($E$141:$CN$141,AR$141,$E31:$CP31)","v":0},null,null,{"$f":"SUMIF($E$141:$CN$141,AU$141,$E31:$CP31)","v":0},null,null,{"$f":"SUMIF($E$141:$CN$141,AX$141,$E31:$CP31)","v":0},null,null,{"$f":"SUMIF($E$141:$CN$141,BA$141,$E31:$CP31)","v":0},null,null,{"$f":"SUMIF($E$141:$CN$141,BD$141,$E31:$CP31)","v":0},null,null,{"$f":"SUMIF($E$141:$CN$141,BG$141,$E31:$CP31)","v":0},null,null,{"$f":"SUMIF($E$141:$CN$141,BJ$141,$E31:$CP31)","v":0},null,null,{"$f":"SUMIF($E$141:$CN$141,BM$141,$E31:$CP31)","v":0},null,null,{"$f":"SUMIF($E$141:$CN$141,BP$141,$E31:$CP31)","v":0},null,null,{"$f":"SUMIF($E$141:$CN$141,BS$141,$E31:$CP31)","v":0},null,null,{"$f":"SUMIF($E$141:$CN$141,BV$141,$E31:$CP31)","v":0},null,null,{"$f":"SUMIF($E$141:$CN$141,BY$141,$E31:$CP31)","v":0},null,null,{"$f":"SUMIF($E$141:$CN$141,CB$141,$E31:$CP31)","v":0},null,null,{"$f":"SUMIF($E$141:$CN$141,CE$141,$E31:$CP31)","v":0},null,null,{"$f":"SUMIF($E$141:$CN$141,CH$141,$E31:$CP31)","v":0},null,null,{"$f":"SUMIF($E$141:$CN$141,CK$141,$E31:$CP31)","v":0},null,null,{"$f":"SUMIF($E$141:$CN$141,CN$141,$E31:$CP31)","v":0}]
[null,null,null,null,{"$f":"SUMIF($E$141:$CN$141,E$141,$E32:$CP32)","v":0},null,null,{"$f":"SUMIF($E$141:$CN$141,H$141,$E32:$CP32)","v":0},null,null,{"$f":"SUMIF($E$141:$CN$141,K$141,$E32:$CP32)","v":0},null,null,{"$f":"SUMIF($E$141:$CN$141,N$141,$E32:$CP32)","v":0},null,null,{"$f":"SUMIF($E$141:$CN$141,Q$141,$E32:$CP32)","v":0},null,null,{"$f":"SUMIF($E$141:$CN$141,T$141,$E32:$CP32)","v":0},null,null,{"$f":"SUMIF($E$141:$CN$141,W$141,$E32:$CP32)","v":0},null,null,{"$f":"SUMIF($E$141:$CN$141,Z$141,$E32:$CP32)","v":0},null,null,{"$f":"SUMIF($E$141:$CN$141,AC$141,$E32:$CP32)","v":0},null,null,{"$f":"SUMIF($E$141:$CN$141,AF$141,$E32:$CP32)","v":0},null,null,{"$f":"SUMIF($E$141:$CN$141,AI$141,$E32:$CP32)","v":0},null,null,{"$f":"SUMIF($E$141:$CN$141,AL$141,$E32:$CP32)","v":0},null,null,{"$f":"SUMIF($E$141:$CN$141,AO$141,$E32:$CP32)","v":0},null,null,{"$f":"SUMIF($E$141:$CN$141,AR$141,$E32:$CP32)","v":0},null,null,{"$f":"SUMIF($E$141:$CN$141,AU$141,$E32:$CP32)","v":0},null,null,{"$f":"SUMIF($E$141:$CN$141,AX$141,$E32:$CP32)","v":0},null,null,{"$f":"SUMIF($E$141:$CN$141,BA$141,$E32:$CP32)","v":0},null,null,{"$f":"SUMIF($E$141:$CN$141,BD$141,$E32:$CP32)","v":0},null,null,{"$f":"SUMIF($E$141:$CN$141,BG$141,$E32:$CP32)","v":0},null,null,{"$f":"SUMIF($E$141:$CN$141,BJ$141,$E32:$CP32)","v":0},null,null,{"$f":"SUMIF($E$141:$CN$141,BM$141,$E32:$CP32)","v":0},null,null,{"$f":"SUMIF($E$141:$CN$141,BP$141,$E32:$CP32)","v":0},null,null,{"$f":"SUMIF($E$141:$CN$141,BS$141,$E32:$CP32)","v":0},null,null,{"$f":"SUMIF($E$141:$CN$141,BV$141,$E32:$CP32)","v":0},null,null,{"$f":"SUMIF($E$141:$CN$141,BY$141,$E32:$CP32)","v":0},null,null,{"$f":"SUMIF($E$141:$CN$141,CB$141,$E32:$CP32)","v":0},null,null,{"$f":"SUMIF($E$141:$CN$141,CE$141,$E32:$CP32)","v":0},null,null,{"$f":"SUMIF($E$141:$CN$141,CH$141,$E32:$CP32)","v":0},null,null,{"$f":"SUMIF($E$141:$CN$141,CK$141,$E32:$CP32)","v":0},null,null,{"$f":"SUMIF($E$141:$CN$141,CN$141,$E32:$CP32)","v":0}]
[null,null,null,null,{"$f":"SUMIF($E$141:$CN$141,E$141,$E33:$CP33)","v":0},null,null,{"$f":"SUMIF($E$141:$CN$141,H$141,$E33:$CP33)","v":0},null,null,{"$f":"SUMIF($E$141:$CN$141,K$141,$E33:$CP33)","v":0},null,null,{"$f":"SUMIF($E$141:$CN$141,N$141,$E33:$CP33)","v":0},null,null,{"$f":"SUMIF($E$141:$CN$141,Q$141,$E33:$CP33)","v":0},null,null,{"$f":"SUMIF($E$141:$CN$141,T$141,$E33:$CP33)","v":0},null,null,{"$f":"SUMIF($E$141:$CN$141,W$141,$E33:$CP33)","v":0},null,null,{"$f":"SUMIF($E$141:$CN$141,Z$141,$E33:$CP33)","v":0},null,null,{"$f":"SUMIF($E$141:$CN$141,AC$141,$E33:$CP33)","v":0},null,null,{"$f":"SUMIF($E$141:$CN$141,AF$141,$E33:$CP33)","v":0},null,null,{"$f":"SUMIF($E$141:$CN$141,AI$141,$E33:$CP33)","v":0},null,null,{"$f":"SUMIF($E$141:$CN$141,AL$141,$E33:$CP33)","v":0},null,null,{"$f":"SUMIF($E$141:$CN$141,AO$141,$E33:$CP33)","v":0},null,null,{"$f":"SUMIF($E$141:$CN$141,AR$141,$E33:$CP33)","v":0},null,null,{"$f":"SUMIF($E$141:$CN$141,AU$141,$E33:$CP33)","v":0},null,null,{"$f":"SUMIF($E$141:$CN$141,AX$141,$E33:$CP33)","v":0},null,null,{"$f":"SUMIF($E$141:$CN$141,BA$141,$E33:$CP33)","v":0},null,null,{"$f":"SUMIF($E$141:$CN$141,BD$141,$E33:$CP33)","v":0},null,null,{"$f":"SUMIF($E$141:$CN$141,BG$141,$E33:$CP33)","v":0},null,null,{"$f":"SUMIF($E$141:$CN$141,BJ$141,$E33:$CP33)","v":0},null,null,{"$f":"SUMIF($E$141:$CN$141,BM$141,$E33:$CP33)","v":0},null,null,{"$f":"SUMIF($E$141:$CN$141,BP$141,$E33:$CP33)","v":0},null,null,{"$f":"SUMIF($E$141:$CN$141,BS$141,$E33:$CP33)","v":0},null,null,{"$f":"SUMIF($E$141:$CN$141,BV$141,$E33:$CP33)","v":0},null,null,{"$f":"SUMIF($E$141:$CN$141,BY$141,$E33:$CP33)","v":0},null,null,{"$f":"SUMIF($E$141:$CN$141,CB$141,$E33:$CP33)","v":0},null,null,{"$f":"SUMIF($E$141:$CN$141,CE$141,$E33:$CP33)","v":0},null,null,{"$f":"SUMIF($E$141:$CN$141,CH$141,$E33:$CP33)","v":0},null,null,{"$f":"SUMIF($E$141:$CN$141,CK$141,$E33:$CP33)","v":0},null,null,{"$f":"SUMIF($E$141:$CN$141,CN$141,$E33:$CP33)","v":0}]
[]
[null,null,"Day 6 Formulas",null,{"$f":"SUMIF($E$141:$CN$141,E$141,$E35:$CP35)","v":0},null,null,{"$f":"SUMIF($E$141:$CN$141,H$141,$E35:$CP35)","v":0},null,null,{"$f":"SUMIF($E$141:$CN$141,K$141,$E35:$CP35)","v":0},null,null,{"$f":"SUMIF($E$141:$CN$141,N$141,$E35:$CP35)","v":0},null,null,{"$f":"SUMIF($E$141:$CN$141,Q$141,$E35:$CP35)","v":0},null,null,{"$f":"SUMIF($E$141:$CN$141,T$141,$E35:$CP35)","v":0},null,null,{"$f":"SUMIF($E$141:$CN$141,W$141,$E35:$CP35)","v":0},null,null,{"$f":"SUMIF($E$141:$CN$141,Z$141,$E35:$CP35)","v":0},null,null,{"$f":"SUMIF($E$141:$CN$141,AC$141,$E35:$CP35)","v":0},null,null,{"$f":"SUMIF($E$141:$CN$141,AF$141,$E35:$CP35)","v":0},null,null,{"$f":"SUMIF($E$141:$CN$141,AI$141,$E35:$CP35)","v":0},null,null,{"$f":"SUMIF($E$141:$CN$141,AL$141,$E35:$CP35)","v":0},null,null,{"$f":"SUMIF($E$141:$CN$141,AO$141,$E35:$CP35)","v":0},null,null,{"$f":"SUMIF($E$141:$CN$141,AR$141,$E35:$CP35)","v":0},null,null,{"$f":"SUMIF($E$141:$CN$141,AU$141,$E35:$CP35)","v":0},null,null,{"$f":"SUMIF($E$141:$CN$141,AX$141,$E35:$CP35)","v":0},null,null,{"$f":"SUMIF($E$141:$CN$141,BA$141,$E35:$CP35)","v":0},null,null,{"$f":"SUMIF($E$141:$CN$141,BD$141,$E35:$CP35)","v":0},null,null,{"$f":"SUMIF($E$141:$CN$141,BG$141,$E35:$CP35)","v":0},null,null,{"$f":"SUMIF($E$141:$CN$141,BJ$141,$E35:$CP35)","v":0},null,null,{"$f":"SUMIF($E$141:$CN$141,BM$141,$E35:$CP35)","v":0},null,null,{"$f":"SUMIF($E$141:$CN$141,BP$141,$E35:$CP35)","v":0},null,null,{"$f":"SUMIF($E$141:$CN$141,BS$141,$E35:$CP35)","v":0},null,null,{"$f":"SUMIF($E$141:$CN$141,BV$141,$E35:$CP35)","v":0},null,null,{"$f":"SUMIF($E$141:$CN$141,BY$141,$E35:$CP35)","v":0},null,null,{"$f":"SUMIF($E$141:$CN$141,CB$141,$E35:$CP35)","v":0},null,null,{"$f":"SUMIF($E$141:$CN$141,CE$141,$E35:$CP35)","v":0},null,null,{"$f":"SUMIF($E$141:$CN$141,CH$141,$E35:$CP35)","v":0},null,null,{"$f":"SUMIF($E$141:$CN$141,CK$141,$E35:$CP35)","v":0},null,null,{"$f":"SUMIF($E$141:$CN$141,CN$141,$E35:$CP35)","v":0}]
[null,null,null,null,{"$f":"SUMIF($E$141:$CN$141,E$141,$E36:$CP36)","v":0},null,null,{"$f":"SUMIF($E$141:$CN$141,H$141,$E36:$CP36)","v":0},null,null,{"$f":"SUMIF($E$141:$CN$141,K$141,$E36:$CP36)","v":0},null,null,{"$f":"SUMIF($E$141:$CN$141,N$141,$E36:$CP36)","v":0},null,null,{"$f":"SUMIF($E$141:$CN$141,Q$141,$E36:$CP36)","v":0},null,null,{"$f":"SUMIF($E$141:$CN$141,T$141,$E36:$CP36)","v":0},null,null,{"$f":"SUMIF($E$141:$CN$141,W$141,$E36:$CP36)","v":0},null,null,{"$f":"SUMIF($E$141:$CN$141,Z$141,$E36:$CP36)","v":0},null,null,{"$f":"SUMIF($E$141:$CN$141,AC$141,$E36:$CP36)","v":0},null,null,{"$f":"SUMIF($E$141:$CN$141,AF$141,$E36:$CP36)","v":0},null,null,{"$f":"SUMIF($E$141:$CN$141,AI$141,$E36:$CP36)","v":0},null,null,{"$f":"SUMIF($E$141:$CN$141,AL$141,$E36:$CP36)","v":0},null,null,{"$f":"SUMIF($E$141:$CN$141,AO$141,$E36:$CP36)","v":0},null,null,{"$f":"SUMIF($E$141:$CN$141,AR$141,$E36:$CP36)","v":0},null,null,{"$f":"SUMIF($E$141:$CN$141,AU$141,$E36:$CP36)","v":0},null,null,{"$f":"SUMIF($E$141:$CN$141,AX$141,$E36:$CP36)","v":0},null,null,{"$f":"SUMIF($E$141:$CN$141,BA$141,$E36:$CP36)","v":0},null,null,{"$f":"SUMIF($E$141:$CN$141,BD$141,$E36:$CP36)","v":0},null,null,{"$f":"SUMIF($E$141:$CN$141,BG$141,$E36:$CP36)","v":0},null,null,{"$f":"SUMIF($E$141:$CN$141,BJ$141,$E36:$CP36)","v":0},null,null,{"$f":"SUMIF($E$141:$CN$141,BM$141,$E36:$CP36)","v":0},null,null,{"$f":"SUMIF($E$141:$CN$141,BP$141,$E36:$CP36)","v":0},null,null,{"$f":"SUMIF($E$141:$CN$141,BS$141,$E36:$CP36)","v":0},null,null,{"$f":"SUMIF($E$141:$CN$141,BV$141,$E36:$CP36)","v":0},null,null,{"$f":"SUMIF($E$141:$CN$141,BY$141,$E36:$CP36)","v":0},null,null,{"$f":"SUMIF($E$141:$CN$141,CB$141,$E36:$CP36)","v":0},null,null,{"$f":"SUMIF($E$141:$CN$141,CE$141,$E36:$CP36)","v":0},null,null,{"$f":"SUMIF($E$141:$CN$141,CH$141,$E36:$CP36)","v":0},null,null,{"$f":"SUMIF($E$141:$CN$141,CK$141,$E36:$CP36)","v":0},null,null,{"$f":"SUMIF($E$141:$CN$141,CN$141,$E36:$CP36)","v":0}]
[null,null,null,null,{"$f":"SUMIF($E$141:$CN$141,E$141,$E37:$CP37)","v":0},null,null,{"$f":"SUMIF($E$141:$CN$141,H$141,$E37:$CP37)","v":0},null,null,{"$f":"SUMIF($E$141:$CN$141,K$141,$E37:$CP37)","v":0},null,null,{"$f":"SUMIF($E$141:$CN$141,N$141,$E37:$CP37)","v":0},null,null,{"$f":"SUMIF($E$141:$CN$141,Q$141,$E37:$CP37)","v":0},null,null,{"$f":"SUMIF($E$141:$CN$141,T$141,$E37:$CP37)","v":0},null,null,{"$f":"SUMIF($E$141:$CN$141,W$141,$E37:$CP37)","v":0},null,null,{"$f":"SUMIF($E$141:$CN$141,Z$141,$E37:$CP37)","v":0},null,null,{"$f":"SUMIF($E$141:$CN$141,AC$141,$E37:$CP37)","v":0},null,null,{"$f":"SUMIF($E$141:$CN$141,AF$141,$E37:$CP37)","v":0},null,null,{"$f":"SUMIF($E$141:$CN$141,AI$141,$E37:$CP37)","v":0},null,null,{"$f":"SUMIF($E$141:$CN$141,AL$141,$E37:$CP37)","v":0},null,null,{"$f":"SUMIF($E$141:$CN$141,AO$141,$E37:$CP37)","v":0},null,null,{"$f":"SUMIF($E$141:$CN$141,AR$141,$E37:$CP37)","v":0},null,null,{"$f":"SUMIF($E$141:$CN$141,AU$141,$E37:$CP37)","v":0},null,null,{"$f":"SUMIF($E$141:$CN$141,AX$141,$E37:$CP37)","v":0},null,null,{"$f":"SUMIF($E$141:$CN$141,BA$141,$E37:$CP37)","v":0},null,null,{"$f":"SUMIF($E$141:$CN$141,BD$141,$E37:$CP37)","v":0},null,null,{"$f":"SUMIF($E$141:$CN$141,BG$141,$E37:$CP37)","v":0},null,null,{"$f":"SUMIF($E$141:$CN$141,BJ$141,$E37:$CP37)","v":0},null,null,{"$f":"SUMIF($E$141:$CN$141,BM$141,$E37:$CP37)","v":0},null,null,{"$f":"SUMIF($E$141:$CN$141,BP$141,$E37:$CP37)","v":0},null,null,{"$f":"SUMIF($E$141:$CN$141,BS$141,$E37:$CP37)","v":0},null,null,{"$f":"SUMIF($E$141:$CN$141,BV$141,$E37:$CP37)","v":0},null,null,{"$f":"SUMIF($E$141:$CN$141,BY$141,$E37:$CP37)","v":0},null,null,{"$f":"SUMIF($E$141:$CN$141,CB$141,$E37:$CP37)","v":0},null,null,{"$f":"SUMIF($E$141:$CN$141,CE$141,$E37:$CP37)","v":0},null,null,{"$f":"SUMIF($E$141:$CN$141,CH$141,$E37:$CP37)","v":0},null,null,{"$f":"SUMIF($E$141:$CN$141,CK$141,$E37:$CP37)","v":0},null,null,{"$f":"SUMIF($E$141:$CN$141,CN$141,$E37:$CP37)","v":0}]
[]
[null,null,"Day 7 Formulas",null,{"$f":"SUMIF($E$141:$CN$141,E$141,$E39:$CP39)","v":0},null,null,{"$f":"SUMIF($E$141:$CN$141,H$141,$E39:$CP39)","v":0},null,null,{"$f":"SUMIF($E$141:$CN$141,K$141,$E39:$CP39)","v":0},null,null,{"$f":"SUMIF($E$141:$CN$141,N$141,$E39:$CP39)","v":0},null,null,{"$f":"SUMIF($E$141:$CN$141,Q$141,$E39:$CP39)","v":0},null,null,{"$f":"SUMIF($E$141:$CN$141,T$141,$E39:$CP39)","v":0},null,null,{"$f":"SUMIF($E$141:$CN$141,W$141,$E39:$CP39)","v":0},null,null,{"$f":"SUMIF($E$141:$CN$141,Z$141,$E39:$CP39)","v":0},null,null,{"$f":"SUMIF($E$141:$CN$141,AC$141,$E39:$CP39)","v":0},null,null,{"$f":"SUMIF($E$141:$CN$141,AF$141,$E39:$CP39)","v":0},null,null,{"$f":"SUMIF($E$141:$CN$141,AI$141,$E39:$CP39)","v":0},null,null,{"$f":"SUMIF($E$141:$CN$141,AL$141,$E39:$CP39)","v":0},null,null,{"$f":"SUMIF($E$141:$CN$141,AO$141,$E39:$CP39)","v":0},null,null,{"$f":"SUMIF($E$141:$CN$141,AR$141,$E39:$CP39)","v":0},null,null,{"$f":"SUMIF($E$141:$CN$141,AU$141,$E39:$CP39)","v":0},null,null,{"$f":"SUMIF($E$141:$CN$141,AX$141,$E39:$CP39)","v":0},null,null,{"$f":"SUMIF($E$141:$CN$141,BA$141,$E39:$CP39)","v":0},null,null,{"$f":"SUMIF($E$141:$CN$141,BD$141,$E39:$CP39)","v":0},null,null,{"$f":"SUMIF($E$141:$CN$141,BG$141,$E39:$CP39)","v":0},null,null,{"$f":"SUMIF($E$141:$CN$141,BJ$141,$E39:$CP39)","v":0},null,null,{"$f":"SUMIF($E$141:$CN$141,BM$141,$E39:$CP39)","v":0},null,null,{"$f":"SUMIF($E$141:$CN$141,BP$141,$E39:$CP39)","v":0},null,null,{"$f":"SUMIF($E$141:$CN$141,BS$141,$E39:$CP39)","v":0},null,null,{"$f":"SUMIF($E$141:$CN$141,BV$141,$E39:$CP39)","v":0},null,null,{"$f":"SUMIF($E$141:$CN$141,BY$141,$E39:$CP39)","v":0},null,null,{"$f":"SUMIF($E$141:$CN$141,CB$141,$E39:$CP39)","v":0},null,null,{"$f":"SUMIF($E$141:$CN$141,CE$141,$E39:$CP39)","v":0},null,null,{"$f":"SUMIF($E$141:$CN$141,CH$141,$E39:$CP39)","v":0},null,null,{"$f":"SUMIF($E$141:$CN$141,CK$141,$E39:$CP39)","v":0},null,null,{"$f":"SUMIF($E$141:$CN$141,CN$141,$E39:$CP39)","v":0}]
[null,null,null,null,{"$f":"SUMIF($E$141:$CN$141,E$141,$E40:$CP40)","v":0},null,null,{"$f":"SUMIF($E$141:$CN$141,H$141,$E40:$CP40)","v":0},null,null,{"$f":"SUMIF($E$141:$CN$141,K$141,$E40:$CP40)","v":0},null,null,{"$f":"SUMIF($E$141:$CN$141,N$141,$E40:$CP40)","v":0},null,null,{"$f":"SUMIF($E$141:$CN$141,Q$141,$E40:$CP40)","v":0},null,null,{"$f":"SUMIF($E$141:$CN$141,T$141,$E40:$CP40)","v":0},null,null,{"$f":"SUMIF($E$141:$CN$141,W$141,$E40:$CP40)","v":0},null,null,{"$f":"SUMIF($E$141:$CN$141,Z$141,$E40:$CP40)","v":0},null,null,{"$f":"SUMIF($E$141:$CN$141,AC$141,$E40:$CP40)","v":0},null,null,{"$f":"SUMIF($E$141:$CN$141,AF$141,$E40:$CP40)","v":0},null,null,{"$f":"SUMIF($E$141:$CN$141,AI$141,$E40:$CP40)","v":0},null,null,{"$f":"SUMIF($E$141:$CN$141,AL$141,$E40:$CP40)","v":0},null,null,{"$f":"SUMIF($E$141:$CN$141,AO$141,$E40:$CP40)","v":0},null,null,{"$f":"SUMIF($E$141:$CN$141,AR$141,$E40:$CP40)","v":0},null,null,{"$f":"SUMIF($E$141:$CN$141,AU$141,$E40:$CP40)","v":0},null,null,{"$f":"SUMIF($E$141:$CN$141,AX$141,$E40:$CP40)","v":0},null,null,{"$f":"SUMIF($E$141:$CN$141,BA$141,$E40:$CP40)","v":0},null,null,{"$f":"SUMIF($E$141:$CN$141,BD$141,$E40:$CP40)","v":0},null,null,{"$f":"SUMIF($E$141:$CN$141,BG$141,$E40:$CP40)","v":0},null,null,{"$f":"SUMIF($E$141:$CN$141,BJ$141,$E40:$CP40)","v":0},null,null,{"$f":"SUMIF($E$141:$CN$141,BM$141,$E40:$CP40)","v":0},null,null,{"$f":"SUMIF($E$141:$CN$141,BP$141,$E40:$CP40)","v":0},null,null,{"$f":"SUMIF($E$141:$CN$141,BS$141,$E40:$CP40)","v":0},null,null,{"$f":"SUMIF($E$141:$CN$141,BV$141,$E40:$CP40)","v":0},null,null,{"$f":"SUMIF($E$141:$CN$141,BY$141,$E40:$CP40)","v":0},null,null,{"$f":"SUMIF($E$141:$CN$141,CB$141,$E40:$CP40)","v":0},null,null,{"$f":"SUMIF($E$141:$CN$141,CE$141,$E40:$CP40)","v":0},null,null,{"$f":"SUMIF($E$141:$CN$141,CH$141,$E40:$CP40)","v":0},null,null,{"$f":"SUMIF($E$141:$CN$141,CK$141,$E40:$CP40)","v":0},null,null,{"$f":"SUMIF($E$141:$CN$141,CN$141,$E40:$CP40)","v":0}]
[null,null,null,null,{"$f":"SUMIF($E$141:$CN$141,E$141,$E41:$CP41)","v":0},null,null,{"$f":"SUMIF($E$141:$CN$141,H$141,$E41:$CP41)","v":0},null,null,{"$f":"SUMIF($E$141:$CN$141,K$141,$E41:$CP41)","v":0},null,null,{"$f":"SUMIF($E$141:$CN$141,N$141,$E41:$CP41)","v":0},null,null,{"$f":"SUMIF($E$141:$CN$141,Q$141,$E41:$CP41)","v":0},null,null,{"$f":"SUMIF($E$141:$CN$141,T$141,$E41:$CP41)","v":0},null,null,{"$f":"SUMIF($E$141:$CN$141,W$141,$E41:$CP41)","v":0},null,null,{"$f":"SUMIF($E$141:$CN$141,Z$141,$E41:$CP41)","v":0},null,null,{"$f":"SUMIF($E$141:$CN$141,AC$141,$E41:$CP41)","v":0},null,null,{"$f":"SUMIF($E$141:$CN$141,AF$141,$E41:$CP41)","v":0},null,null,{"$f":"SUMIF($E$141:$CN$141,AI$141,$E41:$CP41)","v":0},null,null,{"$f":"SUMIF($E$141:$CN$141,AL$141,$E41:$CP41)","v":0},null,null,{"$f":"SUMIF($E$141:$CN$141,AO$141,$E41:$CP41)","v":0},null,null,{"$f":"SUMIF($E$141:$CN$141,AR$141,$E41:$CP41)","v":0},null,null,{"$f":"SUMIF($E$141:$CN$141,AU$141,$E41:$CP41)","v":0},null,null,{"$f":"SUMIF($E$141:$CN$141,AX$141,$E41:$CP41)","v":0},null,null,{"$f":"SUMIF($E$141:$CN$141,BA$141,$E41:$CP41)","v":0},null,null,{"$f":"SUMIF($E$141:$CN$141,BD$141,$E41:$CP41)","v":0},null,null,{"$f":"SUMIF($E$141:$CN$141,BG$141,$E41:$CP41)","v":0},null,null,{"$f":"SUMIF($E$141:$CN$141,BJ$141,$E41:$CP41)","v":0},null,null,{"$f":"SUMIF($E$141:$CN$141,BM$141,$E41:$CP41)","v":0},null,null,{"$f":"SUMIF($E$141:$CN$141,BP$141,$E41:$CP41)","v":0},null,null,{"$f":"SUMIF($E$141:$CN$141,BS$141,$E41:$CP41)","v":0},null,null,{"$f":"SUMIF($E$141:$CN$141,BV$141,$E41:$CP41)","v":0},null,null,{"$f":"SUMIF($E$141:$CN$141,BY$141,$E41:$CP41)","v":0},null,null,{"$f":"SUMIF($E$141:$CN$141,CB$141,$E41:$CP41)","v":0},null,null,{"$f":"SUMIF($E$141:$CN$141,CE$141,$E41:$CP41)","v":0},null,null,{"$f":"SUMIF($E$141:$CN$141,CH$141,$E41:$CP41)","v":0},null,null,{"$f":"SUMIF($E$141:$CN$141,CK$141,$E41:$CP41)","v":0},null,null,{"$f":"SUMIF($E$141:$CN$141,CN$141,$E41:$CP41)","v":0}]
[]
[null,null,"Day 8 Formulas",null,{"$f":"SUMIF($E$141:$CN$141,E$141,$E43:$CP43)","v":0},null,null,{"$f":"SUMIF($E$141:$CN$141,H$141,$E43:$CP43)","v":0},null,null,{"$f":"SUMIF($E$141:$CN$141,K$141,$E43:$CP43)","v":0},null,null,{"$f":"SUMIF($E$141:$CN$141,N$141,$E43:$CP43)","v":0},null,null,{"$f":"SUMIF($E$141:$CN$141,Q$141,$E43:$CP43)","v":0},null,null,{"$f":"SUMIF($E$141:$CN$141,T$141,$E43:$CP43)","v":0},null,null,{"$f":"SUMIF($E$141:$CN$141,W$141,$E43:$CP43)","v":0},null,null,{"$f":"SUMIF($E$141:$CN$141,Z$141,$E43:$CP43)","v":0},null,null,{"$f":"SUMIF($E$141:$CN$141,AC$141,$E43:$CP43)","v":0},null,null,{"$f":"SUMIF($E$141:$CN$141,AF$141,$E43:$CP43)","v":0},null,null,{"$f":"SUMIF($E$141:$CN$141,AI$141,$E43:$CP43)","v":0},null,null,{"$f":"SUMIF($E$141:$CN$141,AL$141,$E43:$CP43)","v":0},null,null,{"$f":"SUMIF($E$141:$CN$141,AO$141,$E43:$CP43)","v":0},null,null,{"$f":"SUMIF($E$141:$CN$141,AR$141,$E43:$CP43)","v":0},null,null,{"$f":"SUMIF($E$141:$CN$141,AU$141,$E43:$CP43)","v":0},null,null,{"$f":"SUMIF($E$141:$CN$141,AX$141,$E43:$CP43)","v":0},null,null,{"$f":"SUMIF($E$141:$CN$141,BA$141,$E43:$CP43)","v":0},null,null,{"$f":"SUMIF($E$141:$CN$141,BD$141,$E43:$CP43)","v":0},null,null,{"$f":"SUMIF($E$141:$CN$141,BG$141,$E43:$CP43)","v":0},null,null,{"$f":"SUMIF($E$141:$CN$141,BJ$141,$E43:$CP43)","v":0},null,null,{"$f":"SUMIF($E$141:$CN$141,BM$141,$E43:$CP43)","v":0},null,null,{"$f":"SUMIF($E$141:$CN$141,BP$141,$E43:$CP43)","v":0},null,null,{"$f":"SUMIF($E$141:$CN$141,BS$141,$E43:$CP43)","v":0},null,null,{"$f":"SUMIF($E$141:$CN$141,BV$141,$E43:$CP43)","v":0},null,null,{"$f":"SUMIF($E$141:$CN$141,BY$141,$E43:$CP43)","v":0},null,null,{"$f":"SUMIF($E$141:$CN$141,CB$141,$E43:$CP43)","v":0},null,null,{"$f":"SUMIF($E$141:$CN$141,CE$141,$E43:$CP43)","v":0},null,null,{"$f":"SUMIF($E$141:$CN$141,CH$141,$E43:$CP43)","v":0},null,null,{"$f":"SUMIF($E$141:$CN$141,CK$141,$E43:$CP43)","v":0},null,null,{"$f":"SUMIF($E$141:$CN$141,CN$141,$E43:$CP43)","v":0}]
[null,null,null,null,{"$f":"SUMIF($E$141:$CN$141,E$141,$E44:$CP44)","v":0},null,null,{"$f":"SUMIF($E$141:$CN$141,H$141,$E44:$CP44)","v":0},null,null,{"$f":"SUMIF($E$141:$CN$141,K$141,$E44:$CP44)","v":0},null,null,{"$f":"SUMIF($E$141:$CN$141,N$141,$E44:$CP44)","v":0},null,null,{"$f":"SUMIF($E$141:$CN$141,Q$141,$E44:$CP44)","v":0},null,null,{"$f":"SUMIF($E$141:$CN$141,T$141,$E44:$CP44)","v":0},null,null,{"$f":"SUMIF($E$141:$CN$141,W$141,$E44:$CP44)","v":0},null,null,{"$f":"SUMIF($E$141:$CN$141,Z$141,$E44:$CP44)","v":0},null,null,{"$f":"SUMIF($E$141:$CN$141,AC$141,$E44:$CP44)","v":0},null,null,{"$f":"SUMIF($E$141:$CN$141,AF$141,$E44:$CP44)","v":0},null,null,{"$f":"SUMIF($E$141:$CN$141,AI$141,$E44:$CP44)","v":0},null,null,{"$f":"SUMIF($E$141:$CN$141,AL$141,$E44:$CP44)","v":0},null,null,{"$f":"SUMIF($E$141:$CN$141,AO$141,$E44:$CP44)","v":0},null,null,{"$f":"SUMIF($E$141:$CN$141,AR$141,$E44:$CP44)","v":0},null,null,{"$f":"SUMIF($E$141:$CN$141,AU$141,$E44:$CP44)","v":0},null,null,{"$f":"SUMIF($E$141:$CN$141,AX$141,$E44:$CP44)","v":0},null,null,{"$f":"SUMIF($E$141:$CN$141,BA$141,$E44:$CP44)","v":0},null,null,{"$f":"SUMIF($E$141:$CN$141,BD$141,$E44:$CP44)","v":0},null,null,{"$f":"SUMIF($E$141:$CN$141,BG$141,$E44:$CP44)","v":0},null,null,{"$f":"SUMIF($E$141:$CN$141,BJ$141,$E44:$CP44)","v":0},null,null,{"$f":"SUMIF($E$141:$CN$141,BM$141,$E44:$CP44)","v":0},null,null,{"$f":"SUMIF($E$141:$CN$141,BP$141,$E44:$CP44)","v":0},null,null,{"$f":"SUMIF($E$141:$CN$141,BS$141,$E44:$CP44)","v":0},null,null,{"$f":"SUMIF($E$141:$CN$141,BV$141,$E44:$CP44)","v":0},null,null,{"$f":"SUMIF($E$141:$CN$141,BY$141,$E44:$CP44)","v":0},null,null,{"$f":"SUMIF($E$141:$CN$141,CB$141,$E44:$CP44)","v":0},null,null,{"$f":"SUMIF($E$141:$CN$141,CE$141,$E44:$CP44)","v":0},null,null,{"$f":"SUMIF($E$141:$CN$141,CH$141,$E44:$CP44)","v":0},null,null,{"$f":"SUMIF($E$141:$CN$141,CK$141,$E44:$CP44)","v":0},null,null,{"$f":"SUMIF($E$141:$CN$141,CN$141,$E44:$CP44)","v":0}]
[null,null,null,null,{"$f":"SUMIF($E$141:$CN$141,E$141,$E45:$CP45)","v":0},null,null,{"$f":"SUMIF($E$141:$CN$141,H$141,$E45:$CP45)","v":0},null,null,{"$f":"SUMIF($E$141:$CN$141,K$141,$E45:$CP45)","v":0},null,null,{"$f":"SUMIF($E$141:$CN$141,N$141,$E45:$CP45)","v":0},null,null,{"$f":"SUMIF($E$141:$CN$141,Q$141,$E45:$CP45)","v":0},null,null,{"$f":"SUMIF($E$141:$CN$141,T$141,$E45:$CP45)","v":0},null,null,{"$f":"SUMIF($E$141:$CN$141,W$141,$E45:$CP45)","v":0},null,null,{"$f":"SUMIF($E$141:$CN$141,Z$141,$E45:$CP45)","v":0},null,null,{"$f":"SUMIF($E$141:$CN$141,AC$141,$E45:$CP45)","v":0},null,null,{"$f":"SUMIF($E$141:$CN$141,AF$141,$E45:$CP45)","v":0},null,null,{"$f":"SUMIF($E$141:$CN$141,AI$141,$E45:$CP45)","v":0},null,null,{"$f":"SUMIF($E$141:$CN$141,AL$141,$E45:$CP45)","v":0},null,null,{"$f":"SUMIF($E$141:$CN$141,AO$141,$E45:$CP45)","v":0},null,null,{"$f":"SUMIF($E$141:$CN$141,AR$141,$E45:$CP45)","v":0},null,null,{"$f":"SUMIF($E$141:$CN$141,AU$141,$E45:$CP45)","v":0},null,null,{"$f":"SUMIF($E$141:$CN$141,AX$141,$E45:$CP45)","v":0},null,null,{"$f":"SUMIF($E$141:$CN$141,BA$141,$E45:$CP45)","v":0},null,null,{"$f":"SUMIF($E$141:$CN$141,BD$141,$E45:$CP45)","v":0},null,null,{"$f":"SUMIF($E$141:$CN$141,BG$141,$E45:$CP45)","v":0},null,null,{"$f":"SUMIF($E$141:$CN$141,BJ$141,$E45:$CP45)","v":0},null,null,{"$f":"SUMIF($E$141:$CN$141,BM$141,$E45:$CP45)","v":0},null,null,{"$f":"SUMIF($E$141:$CN$141,BP$141,$E45:$CP45)","v":0},null,null,{"$f":"SUMIF($E$141:$CN$141,BS$141,$E45:$CP45)","v":0},null,null,{"$f":"SUMIF($E$141:$CN$141,BV$141,$E45:$CP45)","v":0},null,null,{"$f":"SUMIF($E$141:$CN$141,BY$141,$E45:$CP45)","v":0},null,null,{"$f":"SUMIF($E$141:$CN$141,CB$141,$E45:$CP45)","v":0},null,null,{"$f":"SUMIF($E$141:$CN$141,CE$141,$E45:$CP45)","v":0},null,null,{"$f":"SUMIF($E$141:$CN$141,CH$141,$E45:$CP45)","v":0},null,null,{"$f":"SUMIF($E$141:$CN$141,CK$141,$E45:$CP45)","v":0},null,null,{"$f":"SUMIF($E$141:$CN$141,CN$141,$E45:$CP45)","v":0}]
[]
[null,null,"Day 9 Formulas",null,{"$f":"SUMIF($E$141:$CN$141,E$141,$E47:$CP47)","v":0},null,null,{"$f":"SUMIF($E$141:$CN$141,H$141,$E47:$CP47)","v":0},null,null,{"$f":"SUMIF($E$141:$CN$141,K$141,$E47:$CP47)","v":0},null,null,{"$f":"SUMIF($E$141:$CN$141,N$141,$E47:$CP47)","v":0},null,null,{"$f":"SUMIF($E$141:$CN$141,Q$141,$E47:$CP47)","v":0},null,null,{"$f":"SUMIF($E$141:$CN$141,T$141,$E47:$CP47)","v":0},null,null,{"$f":"SUMIF($E$141:$CN$141,W$141,$E47:$CP47)","v":0},null,null,{"$f":"SUMIF($E$141:$CN$141,Z$141,$E47:$CP47)","v":0},null,null,{"$f":"SUMIF($E$141:$CN$141,AC$141,$E47:$CP47)","v":0},null,null,{"$f":"SUMIF($E$141:$CN$141,AF$141,$E47:$CP47)","v":0},null,null,{"$f":"SUMIF($E$141:$CN$141,AI$141,$E47:$CP47)","v":0},null,null,{"$f":"SUMIF($E$141:$CN$141,AL$141,$E47:$CP47)","v":0},null,null,{"$f":"SUMIF($E$141:$CN$141,AO$141,$E47:$CP47)","v":0},null,null,{"$f":"SUMIF($E$141:$CN$141,AR$141,$E47:$CP47)","v":0},null,null,{"$f":"SUMIF($E$141:$CN$141,AU$141,$E47:$CP47)","v":0},null,null,{"$f":"SUMIF($E$141:$CN$141,AX$141,$E47:$CP47)","v":0},null,null,{"$f":"SUMIF($E$141:$CN$141,BA$141,$E47:$CP47)","v":0},null,null,{"$f":"SUMIF($E$141:$CN$141,BD$141,$E47:$CP47)","v":0},null,null,{"$f":"SUMIF($E$141:$CN$141,BG$141,$E47:$CP47)","v":0},null,null,{"$f":"SUMIF($E$141:$CN$141,BJ$141,$E47:$CP47)","v":0},null,null,{"$f":"SUMIF($E$141:$CN$141,BM$141,$E47:$CP47)","v":0},null,null,{"$f":"SUMIF($E$141:$CN$141,BP$141,$E47:$CP47)","v":0},null,null,{"$f":"SUMIF($E$141:$CN$141,BS$141,$E47:$CP47)","v":0},null,null,{"$f":"SUMIF($E$141:$CN$141,BV$141,$E47:$CP47)","v":0},null,null,{"$f":"SUMIF($E$141:$CN$141,BY$141,$E47:$CP47)","v":0},null,null,{"$f":"SUMIF($E$141:$CN$141,CB$141,$E47:$CP47)","v":0},null,null,{"$f":"SUMIF($E$141:$CN$141,CE$141,$E47:$CP47)","v":0},null,null,{"$f":"SUMIF($E$141:$CN$141,CH$141,$E47:$CP47)","v":0},null,null,{"$f":"SUMIF($E$141:$CN$141,CK$141,$E47:$CP47)","v":0},null,null,{"$f":"SUMIF($E$141:$CN$141,CN$141,$E47:$CP47)","v":0}]
[null,null,null,null,{"$f":"SUMIF($E$141:$CN$141,E$141,$E48:$CP48)","v":0},null,null,{"$f":"SUMIF($E$141:$CN$141,H$141,$E48:$CP48)","v":0},null,null,{"$f":"SUMIF($E$141:$CN$141,K$141,$E48:$CP48)","v":0},null,null,{"$f":"SUMIF($E$141:$CN$141,N$141,$E48:$CP48)","v":0},null,null,{"$f":"SUMIF($E$141:$CN$141,Q$141,$E48:$CP48)","v":0},null,null,{"$f":"SUMIF($E$141:$CN$141,T$141,$E48:$CP48)","v":0},null,null,{"$f":"SUMIF($E$141:$CN$141,W$141,$E48:$CP48)","v":0},null,null,{"$f":"SUMIF($E$141:$CN$141,Z$141,$E48:$CP48)","v":0},null,null,{"$f":"SUMIF($E$141:$CN$141,AC$141,$E48:$CP48)","v":0},null,null,{"$f":"SUMIF($E$141:$CN$141,AF$141,$E48:$CP48)","v":0},null,null,{"$f":"SUMIF($E$141:$CN$141,AI$141,$E48:$CP48)","v":0},null,null,{"$f":"SUMIF($E$141:$CN$141,AL$141,$E48:$CP48)","v":0},null,null,{"$f":"SUMIF($E$141:$CN$141,AO$141,$E48:$CP48)","v":0},null,null,{"$f":"SUMIF($E$141:$CN$141,AR$141,$E48:$CP48)","v":0},null,null,{"$f":"SUMIF($E$141:$CN$141,AU$141,$E48:$CP48)","v":0},null,null,{"$f":"SUMIF($E$141:$CN$141,AX$141,$E48:$CP48)","v":0},null,null,{"$f":"SUMIF($E$141:$CN$141,BA$141,$E48:$CP48)","v":0},null,null,{"$f":"SUMIF($E$141:$CN$141,BD$141,$E48:$CP48)","v":0},null,null,{"$f":"SUMIF($E$141:$CN$141,BG$141,$E48:$CP48)","v":0},null,null,{"$f":"SUMIF($E$141:$CN$141,BJ$141,$E48:$CP48)","v":0},null,null,{"$f":"SUMIF($E$141:$CN$141,BM$141,$E48:$CP48)","v":0},null,null,{"$f":"SUMIF($E$141:$CN$141,BP$141,$E48:$CP48)","v":0},null,null,{"$f":"SUMIF($E$141:$CN$141,BS$141,$E48:$CP48)","v":0},null,null,{"$f":"SUMIF($E$141:$CN$141,BV$141,$E48:$CP48)","v":0},null,null,{"$f":"SUMIF($E$141:$CN$141,BY$141,$E48:$CP48)","v":0},null,null,{"$f":"SUMIF($E$141:$CN$141,CB$141,$E48:$CP48)","v":0},null,null,{"$f":"SUMIF($E$141:$CN$141,CE$141,$E48:$CP48)","v":0},null,null,{"$f":"SUMIF($E$141:$CN$141,CH$141,$E48:$CP48)","v":0},null,null,{"$f":"SUMIF($E$141:$CN$141,CK$141,$E48:$CP48)","v":0},null,null,{"$f":"SUMIF($E$141:$CN$141,CN$141,$E48:$CP48)","v":0}]
[null,null,null,null,{"$f":"SUMIF($E$141:$CN$141,E$141,$E49:$CP49)","v":0},null,null,{"$f":"SUMIF($E$141:$CN$141,H$141,$E49:$CP49)","v":0},null,null,{"$f":"SUMIF($E$141:$CN$141,K$141,$E49:$CP49)","v":0},null,null,{"$f":"SUMIF($E$141:$CN$141,N$141,$E49:$CP49)","v":0},null,null,{"$f":"SUMIF($E$141:$CN$141,Q$141,$E49:$CP49)","v":0},null,null,{"$f":"SUMIF($E$141:$CN$141,T$141,$E49:$CP49)","v":0},null,null,{"$f":"SUMIF($E$141:$CN$141,W$141,$E49:$CP49)","v":0},null,null,{"$f":"SUMIF($E$141:$CN$141,Z$141,$E49:$CP49)","v":0},null,null,{"$f":"SUMIF($E$141:$CN$141,AC$141,$E49:$CP49)","v":0},null,null,{"$f":"SUMIF($E$141:$CN$141,AF$141,$E49:$CP49)","v":0},null,null,{"$f":"SUMIF($E$141:$CN$141,AI$141,$E49:$CP49)","v":0},null,null,{"$f":"SUMIF($E$141:$CN$141,AL$141,$E49:$CP49)","v":0},null,null,{"$f":"SUMIF($E$141:$CN$141,AO$141,$E49:$CP49)","v":0},null,null,{"$f":"SUMIF($E$141:$CN$141,AR$141,$E49:$CP49)","v":0},null,null,{"$f":"SUMIF($E$141:$CN$141,AU$141,$E49:$CP49)","v":0},null,null,{"$f":"SUMIF($E$141:$CN$141,AX$141,$E49:$CP49)","v":0},null,null,{"$f":"SUMIF($E$141:$CN$141,BA$141,$E49:$CP49)","v":0},null,null,{"$f":"SUMIF($E$141:$CN$141,BD$141,$E49:$CP49)","v":0},null,null,{"$f":"SUMIF($E$141:$CN$141,BG$141,$E49:$CP49)","v":0},null,null,{"$f":"SUMIF($E$141:$CN$141,BJ$141,$E49:$CP49)","v":0},null,null,{"$f":"SUMIF($E$141:$CN$141,BM$141,$E49:$CP49)","v":0},null,null,{"$f":"SUMIF($E$141:$CN$141,BP$141,$E49:$CP49)","v":0},null,null,{"$f":"SUMIF($E$141:$CN$141,BS$141,$E49:$CP49)","v":0},null,null,{"$f":"SUMIF($E$141:$CN$141,BV$141,$E49:$CP49)","v":0},null,null,{"$f":"SUMIF($E$141:$CN$141,BY$141,$E49:$CP49)","v":0},null,null,{"$f":"SUMIF($E$141:$CN$141,CB$141,$E49:$CP49)","v":0},null,null,{"$f":"SUMIF($E$141:$CN$141,CE$141,$E49:$CP49)","v":0},null,null,{"$f":"SUMIF($E$141:$CN$141,CH$141,$E49:$CP49)","v":0},null,null,{"$f":"SUMIF($E$141:$CN$141,CK$141,$E49:$CP49)","v":0},null,null,{"$f":"SUMIF($E$141:$CN$141,CN$141,$E49:$CP49)","v":0}]
[]
[null,null,"Day 10 Formulas",null,{"$f":"SUMIF($E$141:$CN$141,E$141,$E51:$CP51)","v":0},null,null,{"$f":"SUMIF($E$141:$CN$141,H$141,$E51:$CP51)","v":0},null,null,{"$f":"SUMIF($E$141:$CN$141,K$141,$E51:$CP51)","v":0},null,null,{"$f":"SUMIF($E$141:$CN$141,N$141,$E51:$CP51)","v":0},null,null,{"$f":"SUMIF($E$141:$CN$141,Q$141,$E51:$CP51)","v":0},null,null,{"$f":"SUMIF($E$141:$CN$141,T$141,$E51:$CP51)","v":0},null,null,{"$f":"SUMIF($E$141:$CN$141,W$141,$E51:$CP51)","v":0},null,null,{"$f":"SUMIF($E$141:$CN$141,Z$141,$E51:$CP51)","v":0},null,null,{"$f":"SUMIF($E$141:$CN$141,AC$141,$E51:$CP51)","v":0},null,null,{"$f":"SUMIF($E$141:$CN$141,AF$141,$E51:$CP51)","v":0},null,null,{"$f":"SUMIF($E$141:$CN$141,AI$141,$E51:$CP51)","v":0},null,null,{"$f":"SUMIF($E$141:$CN$141,AL$141,$E51:$CP51)","v":0},null,null,{"$f":"SUMIF($E$141:$CN$141,AO$141,$E51:$CP51)","v":0},null,null,{"$f":"SUMIF($E$141:$CN$141,AR$141,$E51:$CP51)","v":0},null,null,{"$f":"SUMIF($E$141:$CN$141,AU$141,$E51:$CP51)","v":0},null,null,{"$f":"SUMIF($E$141:$CN$141,AX$141,$E51:$CP51)","v":0},null,null,{"$f":"SUMIF($E$141:$CN$141,BA$141,$E51:$CP51)","v":0},null,null,{"$f":"SUMIF($E$141:$CN$141,BD$141,$E51:$CP51)","v":0},null,null,{"$f":"SUMIF($E$141:$CN$141,BG$141,$E51:$CP51)","v":0},null,null,{"$f":"SUMIF($E$141:$CN$141,BJ$141,$E51:$CP51)","v":0},null,null,{"$f":"SUMIF($E$141:$CN$141,BM$141,$E51:$CP51)","v":0},null,null,{"$f":"SUMIF($E$141:$CN$141,BP$141,$E51:$CP51)","v":0},null,null,{"$f":"SUMIF($E$141:$CN$141,BS$141,$E51:$CP51)","v":0},null,null,{"$f":"SUMIF($E$141:$CN$141,BV$141,$E51:$CP51)","v":0},null,null,{"$f":"SUMIF($E$141:$CN$141,BY$141,$E51:$CP51)","v":0},null,null,{"$f":"SUMIF($E$141:$CN$141,CB$141,$E51:$CP51)","v":0},null,null,{"$f":"SUMIF($E$141:$CN$141,CE$141,$E51:$CP51)","v":0},null,null,{"$f":"SUMIF($E$141:$CN$141,CH$141,$E51:$CP51)","v":0},null,null,{"$f":"SUMIF($E$141:$CN$141,CK$141,$E51:$CP51)","v":0},null,null,{"$f":"SUMIF($E$141:$CN$141,CN$141,$E51:$CP51)","v":0}]
[null,null,null,null,{"$f":"SUMIF($E$141:$CN$141,E$141,$E52:$CP52)","v":0},null,null,{"$f":"SUMIF($E$141:$CN$141,H$141,$E52:$CP52)","v":0},null,null,{"$f":"SUMIF($E$141:$CN$141,K$141,$E52:$CP52)","v":0},null,null,{"$f":"SUMIF($E$141:$CN$141,N$141,$E52:$CP52)","v":0},null,null,{"$f":"SUMIF($E$141:$CN$141,Q$141,$E52:$CP52)","v":0},null,null,{"$f":"SUMIF($E$141:$CN$141,T$141,$E52:$CP52)","v":0},null,null,{"$f":"SUMIF($E$141:$CN$141,W$141,$E52:$CP52)","v":0},null,null,{"$f":"SUMIF($E$141:$CN$141,Z$141,$E52:$CP52)","v":0},null,null,{"$f":"SUMIF($E$141:$CN$141,AC$141,$E52:$CP52)","v":0},null,null,{"$f":"SUMIF($E$141:$CN$141,AF$141,$E52:$CP52)","v":0},null,null,{"$f":"SUMIF($E$141:$CN$141,AI$141,$E52:$CP52)","v":0},null,null,{"$f":"SUMIF($E$141:$CN$141,AL$141,$E52:$CP52)","v":0},null,null,{"$f":"SUMIF($E$141:$CN$141,AO$141,$E52:$CP52)","v":0},null,null,{"$f":"SUMIF($E$141:$CN$141,AR$141,$E52:$CP52)","v":0},null,null,{"$f":"SUMIF($E$141:$CN$141,AU$141,$E52:$CP52)","v":0},null,null,{"$f":"SUMIF($E$141:$CN$141,AX$141,$E52:$CP52)","v":0},null,null,{"$f":"SUMIF($E$141:$CN$141,BA$141,$E52:$CP52)","v":0},null,null,{"$f":"SUMIF($E$141:$CN$141,BD$141,$E52:$CP52)","v":0},null,null,{"$f":"SUMIF($E$141:$CN$141,BG$141,$E52:$CP52)","v":0},null,null,{"$f":"SUMIF($E$141:$CN$141,BJ$141,$E52:$CP52)","v":0},null,null,{"$f":"SUMIF($E$141:$CN$141,BM$141,$E52:$CP52)","v":0},null,null,{"$f":"SUMIF($E$141:$CN$141,BP$141,$E52:$CP52)","v":0},null,null,{"$f":"SUMIF($E$141:$CN$141,BS$141,$E52:$CP52)","v":0},null,null,{"$f":"SUMIF($E$141:$CN$141,BV$141,$E52:$CP52)","v":0},null,null,{"$f":"SUMIF($E$141:$CN$141,BY$141,$E52:$CP52)","v":0},null,null,{"$f":"SUMIF($E$141:$CN$141,CB$141,$E52:$CP52)","v":0},null,null,{"$f":"SUMIF($E$141:$CN$141,CE$141,$E52:$CP52)","v":0},null,null,{"$f":"SUMIF($E$141:$CN$141,CH$141,$E52:$CP52)","v":0},null,null,{"$f":"SUMIF($E$141:$CN$141,CK$141,$E52:$CP52)","v":0},null,null,{"$f":"SUMIF($E$141:$CN$141,CN$141,$E52:$CP52)","v":0}]
[null,null,null,null,{"$f":"SUMIF($E$141:$CN$141,E$141,$E53:$CP53)","v":0},null,null,{"$f":"SUMIF($E$141:$CN$141,H$141,$E53:$CP53)","v":0},null,null,{"$f":"SUMIF($E$141:$CN$141,K$141,$E53:$CP53)","v":0},null,null,{"$f":"SUMIF($E$141:$CN$141,N$141,$E53:$CP53)","v":0},null,null,{"$f":"SUMIF($E$141:$CN$141,Q$141,$E53:$CP53)","v":0},null,null,{"$f":"SUMIF($E$141:$CN$141,T$141,$E53:$CP53)","v":0},null,null,{"$f":"SUMIF($E$141:$CN$141,W$141,$E53:$CP53)","v":0},null,null,{"$f":"SUMIF($E$141:$CN$141,Z$141,$E53:$CP53)","v":0},null,null,{"$f":"SUMIF($E$141:$CN$141,AC$141,$E53:$CP53)","v":0},null,null,{"$f":"SUMIF($E$141:$CN$141,AF$141,$E53:$CP53)","v":0},null,null,{"$f":"SUMIF($E$141:$CN$141,AI$141,$E53:$CP53)","v":0},null,null,{"$f":"SUMIF($E$141:$CN$141,AL$141,$E53:$CP53)","v":0},null,null,{"$f":"SUMIF($E$141:$CN$141,AO$141,$E53:$CP53)","v":0},null,null,{"$f":"SUMIF($E$141:$CN$141,AR$141,$E53:$CP53)","v":0},null,null,{"$f":"SUMIF($E$141:$CN$141,AU$141,$E53:$CP53)","v":0},null,null,{"$f":"SUMIF($E$141:$CN$141,AX$141,$E53:$CP53)","v":0},null,null,{"$f":"SUMIF($E$141:$CN$141,BA$141,$E53:$CP53)","v":0},null,null,{"$f":"SUMIF($E$141:$CN$141,BD$141,$E53:$CP53)","v":0},null,null,{"$f":"SUMIF($E$141:$CN$141,BG$141,$E53:$CP53)","v":0},null,null,{"$f":"SUMIF($E$141:$CN$141,BJ$141,$E53:$CP53)","v":0},null,null,{"$f":"SUMIF($E$141:$CN$141,BM$141,$E53:$CP53)","v":0},null,null,{"$f":"SUMIF($E$141:$CN$141,BP$141,$E53:$CP53)","v":0},null,null,{"$f":"SUMIF($E$141:$CN$141,BS$141,$E53:$CP53)","v":0},null,null,{"$f":"SUMIF($E$141:$CN$141,BV$141,$E53:$CP53)","v":0},null,null,{"$f":"SUMIF($E$141:$CN$141,BY$141,$E53:$CP53)","v":0},null,null,{"$f":"SUMIF($E$141:$CN$141,CB$141,$E53:$CP53)","v":0},null,null,{"$f":"SUMIF($E$141:$CN$141,CE$141,$E53:$CP53)","v":0},null,null,{"$f":"SUMIF($E$141:$CN$141,CH$141,$E53:$CP53)","v":0},null,null,{"$f":"SUMIF($E$141:$CN$141,CK$141,$E53:$CP53)","v":0},null,null,{"$f":"SUMIF($E$141:$CN$141,CN$141,$E53:$CP53)","v":0}]
[]
[null,null,"Day 11 Formulas",null,{"$f":"SUMIF($E$141:$CN$141,E$141,$E55:$CP55)","v":0},null,null,{"$f":"SUMIF($E$141:$CN$141,H$141,$E55:$CP55)","v":0},null,null,{"$f":"SUMIF($E$141:$CN$141,K$141,$E55:$CP55)","v":0},null,null,{"$f":"SUMIF($E$141:$CN$141,N$141,$E55:$CP55)","v":0},null,null,{"$f":"SUMIF($E$141:$CN$141,Q$141,$E55:$CP55)","v":0},null,null,{"$f":"SUMIF($E$141:$CN$141,T$141,$E55:$CP55)","v":0},null,null,{"$f":"SUMIF($E$141:$CN$141,W$141,$E55:$CP55)","v":0},null,null,{"$f":"SUMIF($E$141:$CN$141,Z$141,$E55:$CP55)","v":0},null,null,{"$f":"SUMIF($E$141:$CN$141,AC$141,$E55:$CP55)","v":0},null,null,{"$f":"SUMIF($E$141:$CN$141,AF$141,$E55:$CP55)","v":0},null,null,{"$f":"SUMIF($E$141:$CN$141,AI$141,$E55:$CP55)","v":0},null,null,{"$f":"SUMIF($E$141:$CN$141,AL$141,$E55:$CP55)","v":0},null,null,{"$f":"SUMIF($E$141:$CN$141,AO$141,$E55:$CP55)","v":0},null,null,{"$f":"SUMIF($E$141:$CN$141,AR$141,$E55:$CP55)","v":0},null,null,{"$f":"SUMIF($E$141:$CN$141,AU$141,$E55:$CP55)","v":0},null,null,{"$f":"SUMIF($E$141:$CN$141,AX$141,$E55:$CP55)","v":0},null,null,{"$f":"SUMIF($E$141:$CN$141,BA$141,$E55:$CP55)","v":0},null,null,{"$f":"SUMIF($E$141:$CN$141,BD$141,$E55:$CP55)","v":0},null,null,{"$f":"SUMIF($E$141:$CN$141,BG$141,$E55:$CP55)","v":0},null,null,{"$f":"SUMIF($E$141:$CN$141,BJ$141,$E55:$CP55)","v":0},null,null,{"$f":"SUMIF($E$141:$CN$141,BM$141,$E55:$CP55)","v":0},null,null,{"$f":"SUMIF($E$141:$CN$141,BP$141,$E55:$CP55)","v":0},null,null,{"$f":"SUMIF($E$141:$CN$141,BS$141,$E55:$CP55)","v":0},null,null,{"$f":"SUMIF($E$141:$CN$141,BV$141,$E55:$CP55)","v":0},null,null,{"$f":"SUMIF($E$141:$CN$141,BY$141,$E55:$CP55)","v":0},null,null,{"$f":"SUMIF($E$141:$CN$141,CB$141,$E55:$CP55)","v":0},null,null,{"$f":"SUMIF($E$141:$CN$141,CE$141,$E55:$CP55)","v":0},null,null,{"$f":"SUMIF($E$141:$CN$141,CH$141,$E55:$CP55)","v":0},null,null,{"$f":"SUMIF($E$141:$CN$141,CK$141,$E55:$CP55)","v":0},null,null,{"$f":"SUMIF($E$141:$CN$141,CN$141,$E55:$CP55)","v":0}]
[null,null,null,null,{"$f":"SUMIF($E$141:$CN$141,E$141,$E56:$CP56)","v":0},null,null,{"$f":"SUMIF($E$141:$CN$141,H$141,$E56:$CP56)","v":0},null,null,{"$f":"SUMIF($E$141:$CN$141,K$141,$E56:$CP56)","v":0},null,null,{"$f":"SUMIF($E$141:$CN$141,N$141,$E56:$CP56)","v":0},null,null,{"$f":"SUMIF($E$141:$CN$141,Q$141,$E56:$CP56)","v":0},null,null,{"$f":"SUMIF($E$141:$CN$141,T$141,$E56:$CP56)","v":0},null,null,{"$f":"SUMIF($E$141:$CN$141,W$141,$E56:$CP56)","v":0},null,null,{"$f":"SUMIF($E$141:$CN$141,Z$141,$E56:$CP56)","v":0},null,null,{"$f":"SUMIF($E$141:$CN$141,AC$141,$E56:$CP56)","v":0},null,null,{"$f":"SUMIF($E$141:$CN$141,AF$141,$E56:$CP56)","v":0},null,null,{"$f":"SUMIF($E$141:$CN$141,AI$141,$E56:$CP56)","v":0},null,null,{"$f":"SUMIF($E$141:$CN$141,AL$141,$E56:$CP56)","v":0},null,null,{"$f":"SUMIF($E$141:$CN$141,AO$141,$E56:$CP56)","v":0},null,null,{"$f":"SUMIF($E$141:$CN$141,AR$141,$E56:$CP56)","v":0},null,null,{"$f":"SUMIF($E$141:$CN$141,AU$141,$E56:$CP56)","v":0},null,null,{"$f":"SUMIF($E$141:$CN$141,AX$141,$E56:$CP56)","v":0},null,null,{"$f":"SUMIF($E$141:$CN$141,BA$141,$E56:$CP56)","v":0},null,null,{"$f":"SUMIF($E$141:$CN$141,BD$141,$E56:$CP56)","v":0},null,null,{"$f":"SUMIF($E$141:$CN$141,BG$141,$E56:$CP56)","v":0},null,null,{"$f":"SUMIF($E$141:$CN$141,BJ$141,$E56:$CP56)","v":0},null,null,{"$f":"SUMIF($E$141:$CN$141,BM$141,$E56:$CP56)","v":0},null,null,{"$f":"SUMIF($E$141:$CN$141,BP$141,$E56:$CP56)","v":0},null,null,{"$f":"SUMIF($E$141:$CN$141,BS$141,$E56:$CP56)","v":0},null,null,{"$f":"SUMIF($E$141:$CN$141,BV$141,$E56:$CP56)","v":0},null,null,{"$f":"SUMIF($E$141:$CN$141,BY$141,$E56:$CP56)","v":0},null,null,{"$f":"SUMIF($E$141:$CN$141,CB$141,$E56:$CP56)","v":0},null,null,{"$f":"SUMIF($E$141:$CN$141,CE$141,$E56:$CP56)","v":0},null,null,{"$f":"SUMIF($E$141:$CN$141,CH$141,$E56:$CP56)","v":0},null,null,{"$f":"SUMIF($E$141:$CN$141,CK$141,$E56:$CP56)","v":0},null,null,{"$f":"SUMIF($E$141:$CN$141,CN$141,$E56:$CP56)","v":0}]
[null,null,null,null,{"$f":"SUMIF($E$141:$CN$141,E$141,$E57:$CP57)","v":0},null,null,{"$f":"SUMIF($E$141:$CN$141,H$141,$E57:$CP57)","v":0},null,null,{"$f":"SUMIF($E$141:$CN$141,K$141,$E57:$CP57)","v":0},null,null,{"$f":"SUMIF($E$141:$CN$141,N$141,$E57:$CP57)","v":0},null,null,{"$f":"SUMIF($E$141:$CN$141,Q$141,$E57:$CP57)","v":0},null,null,{"$f":"SUMIF($E$141:$CN$141,T$141,$E57:$CP57)","v":0},null,null,{"$f":"SUMIF($E$141:$CN$141,W$141,$E57:$CP57)","v":0},null,null,{"$f":"SUMIF($E$141:$CN$141,Z$141,$E57:$CP57)","v":0},null,null,{"$f":"SUMIF($E$141:$CN$141,AC$141,$E57:$CP57)","v":0},null,null,{"$f":"SUMIF($E$141:$CN$141,AF$141,$E57:$CP57)","v":0},null,null,{"$f":"SUMIF($E$141:$CN$141,AI$141,$E57:$CP57)","v":0},null,null,{"$f":"SUMIF($E$141:$CN$141,AL$141,$E57:$CP57)","v":0},null,null,{"$f":"SUMIF($E$141:$CN$141,AO$141,$E57:$CP57)","v":0},null,null,{"$f":"SUMIF($E$141:$CN$141,AR$141,$E57:$CP57)","v":0},null,null,{"$f":"SUMIF($E$141:$CN$141,AU$141,$E57:$CP57)","v":0},null,null,{"$f":"SUMIF($E$141:$CN$141,AX$141,$E57:$CP57)","v":0},null,null,{"$f":"SUMIF($E$141:$CN$141,BA$141,$E57:$CP57)","v":0},null,null,{"$f":"SUMIF($E$141:$CN$141,BD$141,$E57:$CP57)","v":0},null,null,{"$f":"SUMIF($E$141:$CN$141,BG$141,$E57:$CP57)","v":0},null,null,{"$f":"SUMIF($E$141:$CN$141,BJ$141,$E57:$CP57)","v":0},null,null,{"$f":"SUMIF($E$141:$CN$141,BM$141,$E57:$CP57)","v":0},null,null,{"$f":"SUMIF($E$141:$CN$141,BP$141,$E57:$CP57)","v":0},null,null,{"$f":"SUMIF($E$141:$CN$141,BS$141,$E57:$CP57)","v":0},null,null,{"$f":"SUMIF($E$141:$CN$141,BV$141,$E57:$CP57)","v":0},null,null,{"$f":"SUMIF($E$141:$CN$141,BY$141,$E57:$CP57)","v":0},null,null,{"$f":"SUMIF($E$141:$CN$141,CB$141,$E57:$CP57)","v":0},null,null,{"$f":"SUMIF($E$141:$CN$141,CE$141,$E57:$CP57)","v":0},null,null,{"$f":"SUMIF($E$141:$CN$141,CH$141,$E57:$CP57)","v":0},null,null,{"$f":"SUMIF($E$141:$CN$141,CK$141,$E57:$CP57)","v":0},null,null,{"$f":"SUMIF($E$141:$CN$141,CN$141,$E57:$CP57)","v":0}]
[]
[null,null,"Day 12 Formulas",null,{"$f":"SUMIF($E$141:$CN$141,E$141,$E59:$CP59)","v":0},null,null,{"$f":"SUMIF($E$141:$CN$141,H$141,$E59:$CP59)","v":0},null,null,{"$f":"SUMIF($E$141:$CN$141,K$141,$E59:$CP59)","v":0},null,null,{"$f":"SUMIF($E$141:$CN$141,N$141,$E59:$CP59)","v":0},null,null,{"$f":"SUMIF($E$141:$CN$141,Q$141,$E59:$CP59)","v":0},null,null,{"$f":"SUMIF($E$141:$CN$141,T$141,$E59:$CP59)","v":0},null,null,{"$f":"SUMIF($E$141:$CN$141,W$141,$E59:$CP59)","v":0},null,null,{"$f":"SUMIF($E$141:$CN$141,Z$141,$E59:$CP59)","v":0},null,null,{"$f":"SUMIF($E$141:$CN$141,AC$141,$E59:$CP59)","v":0},null,null,{"$f":"SUMIF($E$141:$CN$141,AF$141,$E59:$CP59)","v":0},null,null,{"$f":"SUMIF($E$141:$CN$141,AI$141,$E59:$CP59)","v":0},null,null,{"$f":"SUMIF($E$141:$CN$141,AL$141,$E59:$CP59)","v":0},null,null,{"$f":"SUMIF($E$141:$CN$141,AO$141,$E59:$CP59)","v":0},null,null,{"$f":"SUMIF($E$141:$CN$141,AR$141,$E59:$CP59)","v":0},null,null,{"$f":"SUMIF($E$141:$CN$141,AU$141,$E59:$CP59)","v":0},null,null,{"$f":"SUMIF($E$141:$CN$141,AX$141,$E59:$CP59)","v":0},null,null,{"$f":"SUMIF($E$141:$CN$141,BA$141,$E59:$CP59)","v":0},null,null,{"$f":"SUMIF($E$141:$CN$141,BD$141,$E59:$CP59)","v":0},null,null,{"$f":"SUMIF($E$141:$CN$141,BG$141,$E59:$CP59)","v":0},null,null,{"$f":"SUMIF($E$141:$CN$141,BJ$141,$E59:$CP59)","v":0},null,null,{"$f":"SUMIF($E$141:$CN$141,BM$141,$E59:$CP59)","v":0},null,null,{"$f":"SUMIF($E$141:$CN$141,BP$141,$E59:$CP59)","v":0},null,null,{"$f":"SUMIF($E$141:$CN$141,BS$141,$E59:$CP59)","v":0},null,null,{"$f":"SUMIF($E$141:$CN$141,BV$141,$E59:$CP59)","v":0},null,null,{"$f":"SUMIF($E$141:$CN$141,BY$141,$E59:$CP59)","v":0},null,null,{"$f":"SUMIF($E$141:$CN$141,CB$141,$E59:$CP59)","v":0},null,null,{"$f":"SUMIF($E$141:$CN$141,CE$141,$E59:$CP59)","v":0},null,null,{"$f":"SUMIF($E$141:$CN$141,CH$141,$E59:$CP59)","v":0},null,null,{"$f":"SUMIF($E$141:$CN$141,CK$141,$E59:$CP59)","v":0},null,null,{"$f":"SUMIF($E$141:$CN$141,CN$141,$E59:$CP59)","v":0}]
[null,null,null,null,{"$f":"SUMIF($E$141:$CN$141,E$141,$E60:$CP60)","v":0},null,null,{"$f":"SUMIF($E$141:$CN$141,H$141,$E60:$CP60)","v":0},null,null,{"$f":"SUMIF($E$141:$CN$141,K$141,$E60:$CP60)","v":0},null,null,{"$f":"SUMIF($E$141:$CN$141,N$141,$E60:$CP60)","v":0},null,null,{"$f":"SUMIF($E$141:$CN$141,Q$141,$E60:$CP60)","v":0},null,null,{"$f":"SUMIF($E$141:$CN$141,T$141,$E60:$CP60)","v":0},null,null,{"$f":"SUMIF($E$141:$CN$141,W$141,$E60:$CP60)","v":0},null,null,{"$f":"SUMIF($E$141:$CN$141,Z$141,$E60:$CP60)","v":0},null,null,{"$f":"SUMIF($E$141:$CN$141,AC$141,$E60:$CP60)","v":0},null,null,{"$f":"SUMIF($E$141:$CN$141,AF$141,$E60:$CP60)","v":0},null,null,{"$f":"SUMIF($E$141:$CN$141,AI$141,$E60:$CP60)","v":0},null,null,{"$f":"SUMIF($E$141:$CN$141,AL$141,$E60:$CP60)","v":0},null,null,{"$f":"SUMIF($E$141:$CN$141,AO$141,$E60:$CP60)","v":0},null,null,{"$f":"SUMIF($E$141:$CN$141,AR$141,$E60:$CP60)","v":0},null,null,{"$f":"SUMIF($E$141:$CN$141,AU$141,$E60:$CP60)","v":0},null,null,{"$f":"SUMIF($E$141:$CN$141,AX$141,$E60:$CP60)","v":0},null,null,{"$f":"SUMIF($E$141:$CN$141,BA$141,$E60:$CP60)","v":0},null,null,{"$f":"SUMIF($E$141:$CN$141,BD$141,$E60:$CP60)","v":0},null,null,{"$f":"SUMIF($E$141:$CN$141,BG$141,$E60:$CP60)","v":0},null,null,{"$f":"SUMIF($E$141:$CN$141,BJ$141,$E60:$CP60)","v":0},null,null,{"$f":"SUMIF($E$141:$CN$141,BM$141,$E60:$CP60)","v":0},null,null,{"$f":"SUMIF($E$141:$CN$141,BP$141,$E60:$CP60)","v":0},null,null,{"$f":"SUMIF($E$141:$CN$141,BS$141,$E60:$CP60)","v":0},null,null,{"$f":"SUMIF($E$141:$CN$141,BV$141,$E60:$CP60)","v":0},null,null,{"$f":"SUMIF($E$141:$CN$141,BY$141,$E60:$CP60)","v":0},null,null,{"$f":"SUMIF($E$141:$CN$141,CB$141,$E60:$CP60)","v":0},null,null,{"$f":"SUMIF($E$141:$CN$141,CE$141,$E60:$CP60)","v":0},null,null,{"$f":"SUMIF($E$141:$CN$141,CH$141,$E60:$CP60)","v":0},null,null,{"$f":"SUMIF($E$141:$CN$141,CK$141,$E60:$CP60)","v":0},null,null,{"$f":"SUMIF($E$141:$CN$141,CN$141,$E60:$CP60)","v":0}]
[null,null,null,null,{"$f":"SUMIF($E$141:$CN$141,E$141,$E61:$CP61)","v":0},null,null,{"$f":"SUMIF($E$141:$CN$141,H$141,$E61:$CP61)","v":0},null,null,{"$f":"SUMIF($E$141:$CN$141,K$141,$E61:$CP61)","v":0},null,null,{"$f":"SUMIF($E$141:$CN$141,N$141,$E61:$CP61)","v":0},null,null,{"$f":"SUMIF($E$141:$CN$141,Q$141,$E61:$CP61)","v":0},null,null,{"$f":"SUMIF($E$141:$CN$141,T$141,$E61:$CP61)","v":0},null,null,{"$f":"SUMIF($E$141:$CN$141,W$141,$E61:$CP61)","v":0},null,null,{"$f":"SUMIF($E$141:$CN$141,Z$141,$E61:$CP61)","v":0},null,null,{"$f":"SUMIF($E$141:$CN$141,AC$141,$E61:$CP61)","v":0},null,null,{"$f":"SUMIF($E$141:$CN$141,AF$141,$E61:$CP61)","v":0},null,null,{"$f":"SUMIF($E$141:$CN$141,AI$141,$E61:$CP61)","v":0},null,null,{"$f":"SUMIF($E$141:$CN$141,AL$141,$E61:$CP61)","v":0},null,null,{"$f":"SUMIF($E$141:$CN$141,AO$141,$E61:$CP61)","v":0},null,null,{"$f":"SUMIF($E$141:$CN$141,AR$141,$E61:$CP61)","v":0},null,null,{"$f":"SUMIF($E$141:$CN$141,AU$141,$E61:$CP61)","v":0},null,null,{"$f":"SUMIF($E$141:$CN$141,AX$141,$E61:$CP61)","v":0},null,null,{"$f":"SUMIF($E$141:$CN$141,BA$141,$E61:$CP61)","v":0},null,null,{"$f":"SUMIF($E$141:$CN$141,BD$141,$E61:$CP61)","v":0},null,null,{"$f":"SUMIF($E$141:$CN$141,BG$141,$E61:$CP61)","v":0},null,null,{"$f":"SUMIF($E$141:$CN$141,BJ$141,$E61:$CP61)","v":0},null,null,{"$f":"SUMIF($E$141:$CN$141,BM$141,$E61:$CP61)","v":0},null,null,{"$f":"SUMIF($E$141:$CN$141,BP$141,$E61:$CP61)","v":0},null,null,{"$f":"SUMIF($E$141:$CN$141,BS$141,$E61:$CP61)","v":0},null,null,{"$f":"SUMIF($E$141:$CN$141,BV$141,$E61:$CP61)","v":0},null,null,{"$f":"SUMIF($E$141:$CN$141,BY$141,$E61:$CP61)","v":0},null,null,{"$f":"SUMIF($E$141:$CN$141,CB$141,$E61:$CP61)","v":0},null,null,{"$f":"SUMIF($E$141:$CN$141,CE$141,$E61:$CP61)","v":0},null,null,{"$f":"SUMIF($E$141:$CN$141,CH$141,$E61:$CP61)","v":0},null,null,{"$f":"SUMIF($E$141:$CN$141,CK$141,$E61:$CP61)","v":0},null,null,{"$f":"SUMIF($E$141:$CN$141,CN$141,$E61:$CP61)","v":0}]
[]
[null,null,"Day 13 Formulas",null,{"$f":"SUMIF($E$141:$CN$141,E$141,$E63:$CP63)","v":0},null,null,{"$f":"SUMIF($E$141:$CN$141,H$141,$E63:$CP63)","v":0},null,null,{"$f":"SUMIF($E$141:$CN$141,K$141,$E63:$CP63)","v":0},null,null,{"$f":"SUMIF($E$141:$CN$141,N$141,$E63:$CP63)","v":0},null,null,{"$f":"SUMIF($E$141:$CN$141,Q$141,$E63:$CP63)","v":0},null,null,{"$f":"SUMIF($E$141:$CN$141,T$141,$E63:$CP63)","v":0},null,null,{"$f":"SUMIF($E$141:$CN$141,W$141,$E63:$CP63)","v":0},null,null,{"$f":"SUMIF($E$141:$CN$141,Z$141,$E63:$CP63)","v":0},null,null,{"$f":"SUMIF($E$141:$CN$141,AC$141,$E63:$CP63)","v":0},null,null,{"$f":"SUMIF($E$141:$CN$141,AF$141,$E63:$CP63)","v":0},null,null,{"$f":"SUMIF($E$141:$CN$141,AI$141,$E63:$CP63)","v":0},null,null,{"$f":"SUMIF($E$141:$CN$141,AL$141,$E63:$CP63)","v":0},null,null,{"$f":"SUMIF($E$141:$CN$141,AO$141,$E63:$CP63)","v":0},null,null,{"$f":"SUMIF($E$141:$CN$141,AR$141,$E63:$CP63)","v":0},null,null,{"$f":"SUMIF($E$141:$CN$141,AU$141,$E63:$CP63)","v":0},null,null,{"$f":"SUMIF($E$141:$CN$141,AX$141,$E63:$CP63)","v":0},null,null,{"$f":"SUMIF($E$141:$CN$141,BA$141,$E63:$CP63)","v":0},null,null,{"$f":"SUMIF($E$141:$CN$141,BD$141,$E63:$CP63)","v":0},null,null,{"$f":"SUMIF($E$141:$CN$141,BG$141,$E63:$CP63)","v":0},null,null,{"$f":"SUMIF($E$141:$CN$141,BJ$141,$E63:$CP63)","v":0},null,null,{"$f":"SUMIF($E$141:$CN$141,BM$141,$E63:$CP63)","v":0},null,null,{"$f":"SUMIF($E$141:$CN$141,BP$141,$E63:$CP63)","v":0},null,null,{"$f":"SUMIF($E$141:$CN$141,BS$141,$E63:$CP63)","v":0},null,null,{"$f":"SUMIF($E$141:$CN$141,BV$141,$E63:$CP63)","v":0},null,null,{"$f":"SUMIF($E$141:$CN$141,BY$141,$E63:$CP63)","v":0},null,null,{"$f":"SUMIF($E$141:$CN$141,CB$141,$E63:$CP63)","v":0},null,null,{"$f":"SUMIF($E$141:$CN$141,CE$141,$E63:$CP63)","v":0},null,null,{"$f":"SUMIF($E$141:$CN$141,CH$141,$E63:$CP63)","v":0},null,null,{"$f":"SUMIF($E$141:$CN$141,CK$141,$E63:$CP63)","v":0},null,null,{"$f":"SUMIF($E$141:$CN$141,CN$141,$E63:$CP63)","v":0}]
[null,null,null,null,{"$f":"SUMIF($E$141:$CN$141,E$141,$E64:$CP64)","v":0},null,null,{"$f":"SUMIF($E$141:$CN$141,H$141,$E64:$CP64)","v":0},null,null,{"$f":"SUMIF($E$141:$CN$141,K$141,$E64:$CP64)","v":0},null,null,{"$f":"SUMIF($E$141:$CN$141,N$141,$E64:$CP64)","v":0},null,null,{"$f":"SUMIF($E$141:$CN$141,Q$141,$E64:$CP64)","v":0},null,null,{"$f":"SUMIF($E$141:$CN$141,T$141,$E64:$CP64)","v":0},null,null,{"$f":"SUMIF($E$141:$CN$141,W$141,$E64:$CP64)","v":0},null,null,{"$f":"SUMIF($E$141:$CN$141,Z$141,$E64:$CP64)","v":0},null,null,{"$f":"SUMIF($E$141:$CN$141,AC$141,$E64:$CP64)","v":0},null,null,{"$f":"SUMIF($E$141:$CN$141,AF$141,$E64:$CP64)","v":0},null,null,{"$f":"SUMIF($E$141:$CN$141,AI$141,$E64:$CP64)","v":0},null,null,{"$f":"SUMIF($E$141:$CN$141,AL$141,$E64:$CP64)","v":0},null,null,{"$f":"SUMIF($E$141:$CN$141,AO$141,$E64:$CP64)","v":0},null,null,{"$f":"SUMIF($E$141:$CN$141,AR$141,$E64:$CP64)","v":0},null,null,{"$f":"SUMIF($E$141:$CN$141,AU$141,$E64:$CP64)","v":0},null,null,{"$f":"SUMIF($E$141:$CN$141,AX$141,$E64:$CP64)","v":0},null,null,{"$f":"SUMIF($E$141:$CN$141,BA$141,$E64:$CP64)","v":0},null,null,{"$f":"SUMIF($E$141:$CN$141,BD$141,$E64:$CP64)","v":0},null,null,{"$f":"SUMIF($E$141:$CN$141,BG$141,$E64:$CP64)","v":0},null,null,{"$f":"SUMIF($E$141:$CN$141,BJ$141,$E64:$CP64)","v":0},null,null,{"$f":"SUMIF($E$141:$CN$141,BM$141,$E64:$CP64)","v":0},null,null,{"$f":"SUMIF($E$141:$CN$141,BP$141,$E64:$CP64)","v":0},null,null,{"$f":"SUMIF($E$141:$CN$141,BS$141,$E64:$CP64)","v":0},null,null,{"$f":"SUMIF($E$141:$CN$141,BV$141,$E64:$CP64)","v":0},null,null,{"$f":"SUMIF($E$141:$CN$141,BY$141,$E64:$CP64)","v":0},null,null,{"$f":"SUMIF($E$141:$CN$141,CB$141,$E64:$CP64)","v":0},null,null,{"$f":"SUMIF($E$141:$CN$141,CE$141,$E64:$CP64)","v":0},null,null,{"$f":"SUMIF($E$141:$CN$141,CH$141,$E64:$CP64)","v":0},null,null,{"$f":"SUMIF($E$141:$CN$141,CK$141,$E64:$CP64)","v":0},null,null,{"$f":"SUMIF($E$141:$CN$141,CN$141,$E64:$CP64)","v":0}]
[null,null,null,null,{"$f":"SUMIF($E$141:$CN$141,E$141,$E65:$CP65)","v":0},null,null,{"$f":"SUMIF($E$141:$CN$141,H$141,$E65:$CP65)","v":0},null,null,{"$f":"SUMIF($E$141:$CN$141,K$141,$E65:$CP65)","v":0},null,null,{"$f":"SUMIF($E$141:$CN$141,N$141,$E65:$CP65)","v":0},null,null,{"$f":"SUMIF($E$141:$CN$141,Q$141,$E65:$CP65)","v":0},null,null,{"$f":"SUMIF($E$141:$CN$141,T$141,$E65:$CP65)","v":0},null,null,{"$f":"SUMIF($E$141:$CN$141,W$141,$E65:$CP65)","v":0},null,null,{"$f":"SUMIF($E$141:$CN$141,Z$141,$E65:$CP65)","v":0},null,null,{"$f":"SUMIF($E$141:$CN$141,AC$141,$E65:$CP65)","v":0},null,null,{"$f":"SUMIF($E$141:$CN$141,AF$141,$E65:$CP65)","v":0},null,null,{"$f":"SUMIF($E$141:$CN$141,AI$141,$E65:$CP65)","v":0},null,null,{"$f":"SUMIF($E$141:$CN$141,AL$141,$E65:$CP65)","v":0},null,null,{"$f":"SUMIF($E$141:$CN$141,AO$141,$E65:$CP65)","v":0},null,null,{"$f":"SUMIF($E$141:$CN$141,AR$141,$E65:$CP65)","v":0},null,null,{"$f":"SUMIF($E$141:$CN$141,AU$141,$E65:$CP65)","v":0},null,null,{"$f":"SUMIF($E$141:$CN$141,AX$141,$E65:$CP65)","v":0},null,null,{"$f":"SUMIF($E$141:$CN$141,BA$141,$E65:$CP65)","v":0},null,null,{"$f":"SUMIF($E$141:$CN$141,BD$141,$E65:$CP65)","v":0},null,null,{"$f":"SUMIF($E$141:$CN$141,BG$141,$E65:$CP65)","v":0},null,null,{"$f":"SUMIF($E$141:$CN$141,BJ$141,$E65:$CP65)","v":0},null,null,{"$f":"SUMIF($E$141:$CN$141,BM$141,$E65:$CP65)","v":0},null,null,{"$f":"SUMIF($E$141:$CN$141,BP$141,$E65:$CP65)","v":0},null,null,{"$f":"SUMIF($E$141:$CN$141,BS$141,$E65:$CP65)","v":0},null,null,{"$f":"SUMIF($E$141:$CN$141,BV$141,$E65:$CP65)","v":0},null,null,{"$f":"SUMIF($E$141:$CN$141,BY$141,$E65:$CP65)","v":0},null,null,{"$f":"SUMIF($E$141:$CN$141,CB$141,$E65:$CP65)","v":0},null,null,{"$f":"SUMIF($E$141:$CN$141,CE$141,$E65:$CP65)","v":0},null,null,{"$f":"SUMIF($E$141:$CN$141,CH$141,$E65:$CP65)","v":0},null,null,{"$f":"SUMIF($E$141:$CN$141,CK$141,$E65:$CP65)","v":0},null,null,{"$f":"SUMIF($E$141:$CN$141,CN$141,$E65:$CP65)","v":0}]
[]
[null,null,"Day 14 Formulas",null,{"$f":"SUMIF($E$141:$CN$141,E$141,$E67:$CP67)","v":0},null,null,{"$f":"SUMIF($E$141:$CN$141,H$141,$E67:$CP67)","v":0},null,null,{"$f":"SUMIF($E$141:$CN$141,K$141,$E67:$CP67)","v":0},null,null,{"$f":"SUMIF($E$141:$CN$141,N$141,$E67:$CP67)","v":0},null,null,{"$f":"SUMIF($E$141:$CN$141,Q$141,$E67:$CP67)","v":0},null,null,{"$f":"SUMIF($E$141:$CN$141,T$141,$E67:$CP67)","v":0},null,null,{"$f":"SUMIF($E$141:$CN$141,W$141,$E67:$CP67)","v":0},null,null,{"$f":"SUMIF($E$141:$CN$141,Z$141,$E67:$CP67)","v":0},null,null,{"$f":"SUMIF($E$141:$CN$141,AC$141,$E67:$CP67)","v":0},null,null,{"$f":"SUMIF($E$141:$CN$141,AF$141,$E67:$CP67)","v":0},null,null,{"$f":"SUMIF($E$141:$CN$141,AI$141,$E67:$CP67)","v":0},null,null,{"$f":"SUMIF($E$141:$CN$141,AL$141,$E67:$CP67)","v":0},null,null,{"$f":"SUMIF($E$141:$CN$141,AO$141,$E67:$CP67)","v":0},null,null,{"$f":"SUMIF($E$141:$CN$141,AR$141,$E67:$CP67)","v":0},null,null,{"$f":"SUMIF($E$141:$CN$141,AU$141,$E67:$CP67)","v":0},null,null,{"$f":"SUMIF($E$141:$CN$141,AX$141,$E67:$CP67)","v":0},null,null,{"$f":"SUMIF($E$141:$CN$141,BA$141,$E67:$CP67)","v":0},null,null,{"$f":"SUMIF($E$141:$CN$141,BD$141,$E67:$CP67)","v":0},null,null,{"$f":"SUMIF($E$141:$CN$141,BG$141,$E67:$CP67)","v":0},null,null,{"$f":"SUMIF($E$141:$CN$141,BJ$141,$E67:$CP67)","v":0},null,null,{"$f":"SUMIF($E$141:$CN$141,BM$141,$E67:$CP67)","v":0},null,null,{"$f":"SUMIF($E$141:$CN$141,BP$141,$E67:$CP67)","v":0},null,null,{"$f":"SUMIF($E$141:$CN$141,BS$141,$E67:$CP67)","v":0},null,null,{"$f":"SUMIF($E$141:$CN$141,BV$141,$E67:$CP67)","v":0},null,null,{"$f":"SUMIF($E$141:$CN$141,BY$141,$E67:$CP67)","v":0},null,null,{"$f":"SUMIF($E$141:$CN$141,CB$141,$E67:$CP67)","v":0},null,null,{"$f":"SUMIF($E$141:$CN$141,CE$141,$E67:$CP67)","v":0},null,null,{"$f":"SUMIF($E$141:$CN$141,CH$141,$E67:$CP67)","v":0},null,null,{"$f":"SUMIF($E$141:$CN$141,CK$141,$E67:$CP67)","v":0},null,null,{"$f":"SUMIF($E$141:$CN$141,CN$141,$E67:$CP67)","v":0}]
[null,null,null,null,{"$f":"SUMIF($E$141:$CN$141,E$141,$E68:$CP68)","v":0},null,null,{"$f":"SUMIF($E$141:$CN$141,H$141,$E68:$CP68)","v":0},null,null,{"$f":"SUMIF($E$141:$CN$141,K$141,$E68:$CP68)","v":0},null,null,{"$f":"SUMIF($E$141:$CN$141,N$141,$E68:$CP68)","v":0},null,null,{"$f":"SUMIF($E$141:$CN$141,Q$141,$E68:$CP68)","v":0},null,null,{"$f":"SUMIF($E$141:$CN$141,T$141,$E68:$CP68)","v":0},null,null,{"$f":"SUMIF($E$141:$CN$141,W$141,$E68:$CP68)","v":0},null,null,{"$f":"SUMIF($E$141:$CN$141,Z$141,$E68:$CP68)","v":0},null,null,{"$f":"SUMIF($E$141:$CN$141,AC$141,$E68:$CP68)","v":0},null,null,{"$f":"SUMIF($E$141:$CN$141,AF$141,$E68:$CP68)","v":0},null,null,{"$f":"SUMIF($E$141:$CN$141,AI$141,$E68:$CP68)","v":0},null,null,{"$f":"SUMIF($E$141:$CN$141,AL$141,$E68:$CP68)","v":0},null,null,{"$f":"SUMIF($E$141:$CN$141,AO$141,$E68:$CP68)","v":0},null,null,{"$f":"SUMIF($E$141:$CN$141,AR$141,$E68:$CP68)","v":0},null,null,{"$f":"SUMIF($E$141:$CN$141,AU$141,$E68:$CP68)","v":0},null,null,{"$f":"SUMIF($E$141:$CN$141,AX$141,$E68:$CP68)","v":0},null,null,{"$f":"SUMIF($E$141:$CN$141,BA$141,$E68:$CP68)","v":0},null,null,{"$f":"SUMIF($E$141:$CN$141,BD$141,$E68:$CP68)","v":0},null,null,{"$f":"SUMIF($E$141:$CN$141,BG$141,$E68:$CP68)","v":0},null,null,{"$f":"SUMIF($E$141:$CN$141,BJ$141,$E68:$CP68)","v":0},null,null,{"$f":"SUMIF($E$141:$CN$141,BM$141,$E68:$CP68)","v":0},null,null,{"$f":"SUMIF($E$141:$CN$141,BP$141,$E68:$CP68)","v":0},null,null,{"$f":"SUMIF($E$141:$CN$141,BS$141,$E68:$CP68)","v":0},null,null,{"$f":"SUMIF($E$141:$CN$141,BV$141,$E68:$CP68)","v":0},null,null,{"$f":"SUMIF($E$141:$CN$141,BY$141,$E68:$CP68)","v":0},null,null,{"$f":"SUMIF($E$141:$CN$141,CB$141,$E68:$CP68)","v":0},null,null,{"$f":"SUMIF($E$141:$CN$141,CE$141,$E68:$CP68)","v":0},null,null,{"$f":"SUMIF($E$141:$CN$141,CH$141,$E68:$CP68)","v":0},null,null,{"$f":"SUMIF($E$141:$CN$141,CK$141,$E68:$CP68)","v":0},null,null,{"$f":"SUMIF($E$141:$CN$141,CN$141,$E68:$CP68)","v":0}]
[null,null,null,null,{"$f":"SUMIF($E$141:$CN$141,E$141,$E69:$CP69)","v":0},null,null,{"$f":"SUMIF($E$141:$CN$141,H$141,$E69:$CP69)","v":0},null,null,{"$f":"SUMIF($E$141:$CN$141,K$141,$E69:$CP69)","v":0},null,null,{"$f":"SUMIF($E$141:$CN$141,N$141,$E69:$CP69)","v":0},null,null,{"$f":"SUMIF($E$141:$CN$141,Q$141,$E69:$CP69)","v":0},null,null,{"$f":"SUMIF($E$141:$CN$141,T$141,$E69:$CP69)","v":0},null,null,{"$f":"SUMIF($E$141:$CN$141,W$141,$E69:$CP69)","v":0},null,null,{"$f":"SUMIF($E$141:$CN$141,Z$141,$E69:$CP69)","v":0},null,null,{"$f":"SUMIF($E$141:$CN$141,AC$141,$E69:$CP69)","v":0},null,null,{"$f":"SUMIF($E$141:$CN$141,AF$141,$E69:$CP69)","v":0},null,null,{"$f":"SUMIF($E$141:$CN$141,AI$141,$E69:$CP69)","v":0},null,null,{"$f":"SUMIF($E$141:$CN$141,AL$141,$E69:$CP69)","v":0},null,null,{"$f":"SUMIF($E$141:$CN$141,AO$141,$E69:$CP69)","v":0},null,null,{"$f":"SUMIF($E$141:$CN$141,AR$141,$E69:$CP69)","v":0},null,null,{"$f":"SUMIF($E$141:$CN$141,AU$141,$E69:$CP69)","v":0},null,null,{"$f":"SUMIF($E$141:$CN$141,AX$141,$E69:$CP69)","v":0},null,null,{"$f":"SUMIF($E$141:$CN$141,BA$141,$E69:$CP69)","v":0},null,null,{"$f":"SUMIF($E$141:$CN$141,BD$141,$E69:$CP69)","v":0},null,null,{"$f":"SUMIF($E$141:$CN$141,BG$141,$E69:$CP69)","v":0},null,null,{"$f":"SUMIF($E$141:$CN$141,BJ$141,$E69:$CP69)","v":0},null,null,{"$f":"SUMIF($E$141:$CN$141,BM$141,$E69:$CP69)","v":0},null,null,{"$f":"SUMIF($E$141:$CN$141,BP$141,$E69:$CP69)","v":0},null,null,{"$f":"SUMIF($E$141:$CN$141,BS$141,$E69:$CP69)","v":0},null,null,{"$f":"SUMIF($E$141:$CN$141,BV$141,$E69:$CP69)","v":0},null,null,{"$f":"SUMIF($E$141:$CN$141,BY$141,$E69:$CP69)","v":0},null,null,{"$f":"SUMIF($E$141:$CN$141,CB$141,$E69:$CP69)","v":0},null,null,{"$f":"SUMIF($E$141:$CN$141,CE$141,$E69:$CP69)","v":0},null,null,{"$f":"SUMIF($E$141:$CN$141,CH$141,$E69:$CP69)","v":0},null,null,{"$f":"SUMIF($E$141:$CN$141,CK$141,$E69:$CP69)","v":0},null,null,{"$f":"SUMIF($E$141:$CN$141,CN$141,$E69:$CP69)","v":0}]
[]
[null,null,"Day 15 Formulas",null,{"$f":"SUMIF($E$141:$CN$141,E$141,$E71:$CP71)","v":0},null,null,{"$f":"SUMIF($E$141:$CN$141,H$141,$E71:$CP71)","v":0},null,null,{"$f":"SUMIF($E$141:$CN$141,K$141,$E71:$CP71)","v":0},null,null,{"$f":"SUMIF($E$141:$CN$141,N$141,$E71:$CP71)","v":0},null,null,{"$f":"SUMIF($E$141:$CN$141,Q$141,$E71:$CP71)","v":0},null,null,{"$f":"SUMIF($E$141:$CN$141,T$141,$E71:$CP71)","v":0},null,null,{"$f":"SUMIF($E$141:$CN$141,W$141,$E71:$CP71)","v":0},null,null,{"$f":"SUMIF($E$141:$CN$141,Z$141,$E71:$CP71)","v":0},null,null,{"$f":"SUMIF($E$141:$CN$141,AC$141,$E71:$CP71)","v":0},null,null,{"$f":"SUMIF($E$141:$CN$141,AF$141,$E71:$CP71)","v":0},null,null,{"$f":"SUMIF($E$141:$CN$141,AI$141,$E71:$CP71)","v":0},null,null,{"$f":"SUMIF($E$141:$CN$141,AL$141,$E71:$CP71)","v":0},null,null,{"$f":"SUMIF($E$141:$CN$141,AO$141,$E71:$CP71)","v":0},null,null,{"$f":"SUMIF($E$141:$CN$141,AR$141,$E71:$CP71)","v":0},null,null,{"$f":"SUMIF($E$141:$CN$141,AU$141,$E71:$CP71)","v":0},null,null,{"$f":"SUMIF($E$141:$CN$141,AX$141,$E71:$CP71)","v":0},null,null,{"$f":"SUMIF($E$141:$CN$141,BA$141,$E71:$CP71)","v":0},null,null,{"$f":"SUMIF($E$141:$CN$141,BD$141,$E71:$CP71)","v":0},null,null,{"$f":"SUMIF($E$141:$CN$141,BG$141,$E71:$CP71)","v":0},null,null,{"$f":"SUMIF($E$141:$CN$141,BJ$141,$E71:$CP71)","v":0},null,null,{"$f":"SUMIF($E$141:$CN$141,BM$141,$E71:$CP71)","v":0},null,null,{"$f":"SUMIF($E$141:$CN$141,BP$141,$E71:$CP71)","v":0},null,null,{"$f":"SUMIF($E$141:$CN$141,BS$141,$E71:$CP71)","v":0},null,null,{"$f":"SUMIF($E$141:$CN$141,BV$141,$E71:$CP71)","v":0},null,null,{"$f":"SUMIF($E$141:$CN$141,BY$141,$E71:$CP71)","v":0},null,null,{"$f":"SUMIF($E$141:$CN$141,CB$141,$E71:$CP71)","v":0},null,null,{"$f":"SUMIF($E$141:$CN$141,CE$141,$E71:$CP71)","v":0},null,null,{"$f":"SUMIF($E$141:$CN$141,CH$141,$E71:$CP71)","v":0},null,null,{"$f":"SUMIF($E$141:$CN$141,CK$141,$E71:$CP71)","v":0},null,null,{"$f":"SUMIF($E$141:$CN$141,CN$141,$E71:$CP71)","v":0}]
[null,null,null,null,{"$f":"SUMIF($E$141:$CN$141,E$141,$E72:$CP72)","v":0},null,null,{"$f":"SUMIF($E$141:$CN$141,H$141,$E72:$CP72)","v":0},null,null,{"$f":"SUMIF($E$141:$CN$141,K$141,$E72:$CP72)","v":0},null,null,{"$f":"SUMIF($E$141:$CN$141,N$141,$E72:$CP72)","v":0},null,null,{"$f":"SUMIF($E$141:$CN$141,Q$141,$E72:$CP72)","v":0},null,null,{"$f":"SUMIF($E$141:$CN$141,T$141,$E72:$CP72)","v":0},null,null,{"$f":"SUMIF($E$141:$CN$141,W$141,$E72:$CP72)","v":0},null,null,{"$f":"SUMIF($E$141:$CN$141,Z$141,$E72:$CP72)","v":0},null,null,{"$f":"SUMIF($E$141:$CN$141,AC$141,$E72:$CP72)","v":0},null,null,{"$f":"SUMIF($E$141:$CN$141,AF$141,$E72:$CP72)","v":0},null,null,{"$f":"SUMIF($E$141:$CN$141,AI$141,$E72:$CP72)","v":0},null,null,{"$f":"SUMIF($E$141:$CN$141,AL$141,$E72:$CP72)","v":0},null,null,{"$f":"SUMIF($E$141:$CN$141,AO$141,$E72:$CP72)","v":0},null,null,{"$f":"SUMIF($E$141:$CN$141,AR$141,$E72:$CP72)","v":0},null,null,{"$f":"SUMIF($E$141:$CN$141,AU$141,$E72:$CP72)","v":0},null,null,{"$f":"SUMIF($E$141:$CN$141,AX$141,$E72:$CP72)","v":0},null,null,{"$f":"SUMIF($E$141:$CN$141,BA$141,$E72:$CP72)","v":0},null,null,{"$f":"SUMIF($E$141:$CN$141,BD$141,$E72:$CP72)","v":0},null,null,{"$f":"SUMIF($E$141:$CN$141,BG$141,$E72:$CP72)","v":0},null,null,{"$f":"SUMIF($E$141:$CN$141,BJ$141,$E72:$CP72)","v":0},null,null,{"$f":"SUMIF($E$141:$CN$141,BM$141,$E72:$CP72)","v":0},null,null,{"$f":"SUMIF($E$141:$CN$141,BP$141,$E72:$CP72)","v":0},null,null,{"$f":"SUMIF($E$141:$CN$141,BS$141,$E72:$CP72)","v":0},null,null,{"$f":"SUMIF($E$141:$CN$141,BV$141,$E72:$CP72)","v":0},null,null,{"$f":"SUMIF($E$141:$CN$141,BY$141,$E72:$CP72)","v":0},null,null,{"$f":"SUMIF($E$141:$CN$141,CB$141,$E72:$CP72)","v":0},null,null,{"$f":"SUMIF($E$141:$CN$141,CE$141,$E72:$CP72)","v":0},null,null,{"$f":"SUMIF($E$141:$CN$141,CH$141,$E72:$CP72)","v":0},null,null,{"$f":"SUMIF($E$141:$CN$141,CK$141,$E72:$CP72)","v":0},null,null,{"$f":"SUMIF($E$141:$CN$141,CN$141,$E72:$CP72)","v":0}]
[null,null,null,null,{"$f":"SUMIF($E$141:$CN$141,E$141,$E73:$CP73)","v":0},null,null,{"$f":"SUMIF($E$141:$CN$141,H$141,$E73:$CP73)","v":0},null,null,{"$f":"SUMIF($E$141:$CN$141,K$141,$E73:$CP73)","v":0},null,null,{"$f":"SUMIF($E$141:$CN$141,N$141,$E73:$CP73)","v":0},null,null,{"$f":"SUMIF($E$141:$CN$141,Q$141,$E73:$CP73)","v":0},null,null,{"$f":"SUMIF($E$141:$CN$141,T$141,$E73:$CP73)","v":0},null,null,{"$f":"SUMIF($E$141:$CN$141,W$141,$E73:$CP73)","v":0},null,null,{"$f":"SUMIF($E$141:$CN$141,Z$141,$E73:$CP73)","v":0},null,null,{"$f":"SUMIF($E$141:$CN$141,AC$141,$E73:$CP73)","v":0},null,null,{"$f":"SUMIF($E$141:$CN$141,AF$141,$E73:$CP73)","v":0},null,null,{"$f":"SUMIF($E$141:$CN$141,AI$141,$E73:$CP73)","v":0},null,null,{"$f":"SUMIF($E$141:$CN$141,AL$141,$E73:$CP73)","v":0},null,null,{"$f":"SUMIF($E$141:$CN$141,AO$141,$E73:$CP73)","v":0},null,null,{"$f":"SUMIF($E$141:$CN$141,AR$141,$E73:$CP73)","v":0},null,null,{"$f":"SUMIF($E$141:$CN$141,AU$141,$E73:$CP73)","v":0},null,null,{"$f":"SUMIF($E$141:$CN$141,AX$141,$E73:$CP73)","v":0},null,null,{"$f":"SUMIF($E$141:$CN$141,BA$141,$E73:$CP73)","v":0},null,null,{"$f":"SUMIF($E$141:$CN$141,BD$141,$E73:$CP73)","v":0},null,null,{"$f":"SUMIF($E$141:$CN$141,BG$141,$E73:$CP73)","v":0},null,null,{"$f":"SUMIF($E$141:$CN$141,BJ$141,$E73:$CP73)","v":0},null,null,{"$f":"SUMIF($E$141:$CN$141,BM$141,$E73:$CP73)","v":0},null,null,{"$f":"SUMIF($E$141:$CN$141,BP$141,$E73:$CP73)","v":0},null,null,{"$f":"SUMIF($E$141:$CN$141,BS$141,$E73:$CP73)","v":0},null,null,{"$f":"SUMIF($E$141:$CN$141,BV$141,$E73:$CP73)","v":0},null,null,{"$f":"SUMIF($E$141:$CN$141,BY$141,$E73:$CP73)","v":0},null,null,{"$f":"SUMIF($E$141:$CN$141,CB$141,$E73:$CP73)","v":0},null,null,{"$f":"SUMIF($E$141:$CN$141,CE$141,$E73:$CP73)","v":0},null,null,{"$f":"SUMIF($E$141:$CN$141,CH$141,$E73:$CP73)","v":0},null,null,{"$f":"SUMIF($E$141:$CN$141,CK$141,$E73:$CP73)","v":0},null,null,{"$f":"SUMIF($E$141:$CN$141,CN$141,$E73:$CP73)","v":0}]
[]
[null,null,"Day 16 Formulas",null,{"$f":"SUMIF($E$141:$CN$141,E$141,$E75:$CP75)","v":0},null,null,{"$f":"SUMIF($E$141:$CN$141,H$141,$E75:$CP75)","v":0},null,null,{"$f":"SUMIF($E$141:$CN$141,K$141,$E75:$CP75)","v":0},null,null,{"$f":"SUMIF($E$141:$CN$141,N$141,$E75:$CP75)","v":0},null,null,{"$f":"SUMIF($E$141:$CN$141,Q$141,$E75:$CP75)","v":0},null,null,{"$f":"SUMIF($E$141:$CN$141,T$141,$E75:$CP75)","v":0},null,null,{"$f":"SUMIF($E$141:$CN$141,W$141,$E75:$CP75)","v":0},null,null,{"$f":"SUMIF($E$141:$CN$141,Z$141,$E75:$CP75)","v":0},null,null,{"$f":"SUMIF($E$141:$CN$141,AC$141,$E75:$CP75)","v":0},null,null,{"$f":"SUMIF($E$141:$CN$141,AF$141,$E75:$CP75)","v":0},null,null,{"$f":"SUMIF($E$141:$CN$141,AI$141,$E75:$CP75)","v":0},null,null,{"$f":"SUMIF($E$141:$CN$141,AL$141,$E75:$CP75)","v":0},null,null,{"$f":"SUMIF($E$141:$CN$141,AO$141,$E75:$CP75)","v":0},null,null,{"$f":"SUMIF($E$141:$CN$141,AR$141,$E75:$CP75)","v":0},null,null,{"$f":"SUMIF($E$141:$CN$141,AU$141,$E75:$CP75)","v":0},null,null,{"$f":"SUMIF($E$141:$CN$141,AX$141,$E75:$CP75)","v":0},null,null,{"$f":"SUMIF($E$141:$CN$141,BA$141,$E75:$CP75)","v":0},null,null,{"$f":"SUMIF($E$141:$CN$141,BD$141,$E75:$CP75)","v":0},null,null,{"$f":"SUMIF($E$141:$CN$141,BG$141,$E75:$CP75)","v":0},null,null,{"$f":"SUMIF($E$141:$CN$141,BJ$141,$E75:$CP75)","v":0},null,null,{"$f":"SUMIF($E$141:$CN$141,BM$141,$E75:$CP75)","v":0},null,null,{"$f":"SUMIF($E$141:$CN$141,BP$141,$E75:$CP75)","v":0},null,null,{"$f":"SUMIF($E$141:$CN$141,BS$141,$E75:$CP75)","v":0},null,null,{"$f":"SUMIF($E$141:$CN$141,BV$141,$E75:$CP75)","v":0},null,null,{"$f":"SUMIF($E$141:$CN$141,BY$141,$E75:$CP75)","v":0},null,null,{"$f":"SUMIF($E$141:$CN$141,CB$141,$E75:$CP75)","v":0},null,null,{"$f":"SUMIF($E$141:$CN$141,CE$141,$E75:$CP75)","v":0},null,null,{"$f":"SUMIF($E$141:$CN$141,CH$141,$E75:$CP75)","v":0},null,null,{"$f":"SUMIF($E$141:$CN$141,CK$141,$E75:$CP75)","v":0},null,null,{"$f":"SUMIF($E$141:$CN$141,CN$141,$E75:$CP75)","v":0}]
[null,null,null,null,{"$f":"SUMIF($E$141:$CN$141,E$141,$E76:$CP76)","v":0},null,null,{"$f":"SUMIF($E$141:$CN$141,H$141,$E76:$CP76)","v":0},null,null,{"$f":"SUMIF($E$141:$CN$141,K$141,$E76:$CP76)","v":0},null,null,{"$f":"SUMIF($E$141:$CN$141,N$141,$E76:$CP76)","v":0},null,null,{"$f":"SUMIF($E$141:$CN$141,Q$141,$E76:$CP76)","v":0},null,null,{"$f":"SUMIF($E$141:$CN$141,T$141,$E76:$CP76)","v":0},null,null,{"$f":"SUMIF($E$141:$CN$141,W$141,$E76:$CP76)","v":0},null,null,{"$f":"SUMIF($E$141:$CN$141,Z$141,$E76:$CP76)","v":0},null,null,{"$f":"SUMIF($E$141:$CN$141,AC$141,$E76:$CP76)","v":0},null,null,{"$f":"SUMIF($E$141:$CN$141,AF$141,$E76:$CP76)","v":0},null,null,{"$f":"SUMIF($E$141:$CN$141,AI$141,$E76:$CP76)","v":0},null,null,{"$f":"SUMIF($E$141:$CN$141,AL$141,$E76:$CP76)","v":0},null,null,{"$f":"SUMIF($E$141:$CN$141,AO$141,$E76:$CP76)","v":0},null,null,{"$f":"SUMIF($E$141:$CN$141,AR$141,$E76:$CP76)","v":0},null,null,{"$f":"SUMIF($E$141:$CN$141,AU$141,$E76:$CP76)","v":0},null,null,{"$f":"SUMIF($E$141:$CN$141,AX$141,$E76:$CP76)","v":0},null,null,{"$f":"SUMIF($E$141:$CN$141,BA$141,$E76:$CP76)","v":0},null,null,{"$f":"SUMIF($E$141:$CN$141,BD$141,$E76:$CP76)","v":0},null,null,{"$f":"SUMIF($E$141:$CN$141,BG$141,$E76:$CP76)","v":0},null,null,{"$f":"SUMIF($E$141:$CN$141,BJ$141,$E76:$CP76)","v":0},null,null,{"$f":"SUMIF($E$141:$CN$141,BM$141,$E76:$CP76)","v":0},null,null,{"$f":"SUMIF($E$141:$CN$141,BP$141,$E76:$CP76)","v":0},null,null,{"$f":"SUMIF($E$141:$CN$141,BS$141,$E76:$CP76)","v":0},null,null,{"$f":"SUMIF($E$141:$CN$141,BV$141,$E76:$CP76)","v":0},null,null,{"$f":"SUMIF($E$141:$CN$141,BY$141,$E76:$CP76)","v":0},null,null,{"$f":"SUMIF($E$141:$CN$141,CB$141,$E76:$CP76)","v":0},null,null,{"$f":"SUMIF($E$141:$CN$141,CE$141,$E76:$CP76)","v":0},null,null,{"$f":"SUMIF($E$141:$CN$141,CH$141,$E76:$CP76)","v":0},null,null,{"$f":"SUMIF($E$141:$CN$141,CK$141,$E76:$CP76)","v":0},null,null,{"$f":"SUMIF($E$141:$CN$141,CN$141,$E76:$CP76)","v":0}]
[null,null,null,null,{"$f":"SUMIF($E$141:$CN$141,E$141,$E77:$CP77)","v":0},null,null,{"$f":"SUMIF($E$141:$CN$141,H$141,$E77:$CP77)","v":0},null,null,{"$f":"SUMIF($E$141:$CN$141,K$141,$E77:$CP77)","v":0},null,null,{"$f":"SUMIF($E$141:$CN$141,N$141,$E77:$CP77)","v":0},null,null,{"$f":"SUMIF($E$141:$CN$141,Q$141,$E77:$CP77)","v":0},null,null,{"$f":"SUMIF($E$141:$CN$141,T$141,$E77:$CP77)","v":0},null,null,{"$f":"SUMIF($E$141:$CN$141,W$141,$E77:$CP77)","v":0},null,null,{"$f":"SUMIF($E$141:$CN$141,Z$141,$E77:$CP77)","v":0},null,null,{"$f":"SUMIF($E$141:$CN$141,AC$141,$E77:$CP77)","v":0},null,null,{"$f":"SUMIF($E$141:$CN$141,AF$141,$E77:$CP77)","v":0},null,null,{"$f":"SUMIF($E$141:$CN$141,AI$141,$E77:$CP77)","v":0},null,null,{"$f":"SUMIF($E$141:$CN$141,AL$141,$E77:$CP77)","v":0},null,null,{"$f":"SUMIF($E$141:$CN$141,AO$141,$E77:$CP77)","v":0},null,null,{"$f":"SUMIF($E$141:$CN$141,AR$141,$E77:$CP77)","v":0},null,null,{"$f":"SUMIF($E$141:$CN$141,AU$141,$E77:$CP77)","v":0},null,null,{"$f":"SUMIF($E$141:$CN$141,AX$141,$E77:$CP77)","v":0},null,null,{"$f":"SUMIF($E$141:$CN$141,BA$141,$E77:$CP77)","v":0},null,null,{"$f":"SUMIF($E$141:$CN$141,BD$141,$E77:$CP77)","v":0},null,null,{"$f":"SUMIF($E$141:$CN$141,BG$141,$E77:$CP77)","v":0},null,null,{"$f":"SUMIF($E$141:$CN$141,BJ$141,$E77:$CP77)","v":0},null,null,{"$f":"SUMIF($E$141:$CN$141,BM$141,$E77:$CP77)","v":0},null,null,{"$f":"SUMIF($E$141:$CN$141,BP$141,$E77:$CP77)","v":0},null,null,{"$f":"SUMIF($E$141:$CN$141,BS$141,$E77:$CP77)","v":0},null,null,{"$f":"SUMIF($E$141:$CN$141,BV$141,$E77:$CP77)","v":0},null,null,{"$f":"SUMIF($E$141:$CN$141,BY$141,$E77:$CP77)","v":0},null,null,{"$f":"SUMIF($E$141:$CN$141,CB$141,$E77:$CP77)","v":0},null,null,{"$f":"SUMIF($E$141:$CN$141,CE$141,$E77:$CP77)","v":0},null,null,{"$f":"SUMIF($E$141:$CN$141,CH$141,$E77:$CP77)","v":0},null,null,{"$f":"SUMIF($E$141:$CN$141,CK$141,$E77:$CP77)","v":0},null,null,{"$f":"SUMIF($E$141:$CN$141,CN$141,$E77:$CP77)","v":0}]
[]
[null,null,"Day 17 Formulas",null,{"$f":"SUMIF($E$141:$CN$141,E$141,$E79:$CP79)","v":0},null,null,{"$f":"SUMIF($E$141:$CN$141,H$141,$E79:$CP79)","v":0},null,null,{"$f":"SUMIF($E$141:$CN$141,K$141,$E79:$CP79)","v":0},null,null,{"$f":"SUMIF($E$141:$CN$141,N$141,$E79:$CP79)","v":0},null,null,{"$f":"SUMIF($E$141:$CN$141,Q$141,$E79:$CP79)","v":0},null,null,{"$f":"SUMIF($E$141:$CN$141,T$141,$E79:$CP79)","v":0},null,null,{"$f":"SUMIF($E$141:$CN$141,W$141,$E79:$CP79)","v":0},null,null,{"$f":"SUMIF($E$141:$CN$141,Z$141,$E79:$CP79)","v":0},null,null,{"$f":"SUMIF($E$141:$CN$141,AC$141,$E79:$CP79)","v":0},null,null,{"$f":"SUMIF($E$141:$CN$141,AF$141,$E79:$CP79)","v":0},null,null,{"$f":"SUMIF($E$141:$CN$141,AI$141,$E79:$CP79)","v":0},null,null,{"$f":"SUMIF($E$141:$CN$141,AL$141,$E79:$CP79)","v":0},null,null,{"$f":"SUMIF($E$141:$CN$141,AO$141,$E79:$CP79)","v":0},null,null,{"$f":"SUMIF($E$141:$CN$141,AR$141,$E79:$CP79)","v":0},null,null,{"$f":"SUMIF($E$141:$CN$141,AU$141,$E79:$CP79)","v":0},null,null,{"$f":"SUMIF($E$141:$CN$141,AX$141,$E79:$CP79)","v":0},null,null,{"$f":"SUMIF($E$141:$CN$141,BA$141,$E79:$CP79)","v":0},null,null,{"$f":"SUMIF($E$141:$CN$141,BD$141,$E79:$CP79)","v":0},null,null,{"$f":"SUMIF($E$141:$CN$141,BG$141,$E79:$CP79)","v":0},null,null,{"$f":"SUMIF($E$141:$CN$141,BJ$141,$E79:$CP79)","v":0},null,null,{"$f":"SUMIF($E$141:$CN$141,BM$141,$E79:$CP79)","v":0},null,null,{"$f":"SUMIF($E$141:$CN$141,BP$141,$E79:$CP79)","v":0},null,null,{"$f":"SUMIF($E$141:$CN$141,BS$141,$E79:$CP79)","v":0},null,null,{"$f":"SUMIF($E$141:$CN$141,BV$141,$E79:$CP79)","v":0},null,null,{"$f":"SUMIF($E$141:$CN$141,BY$141,$E79:$CP79)","v":0},null,null,{"$f":"SUMIF($E$141:$CN$141,CB$141,$E79:$CP79)","v":0},null,null,{"$f":"SUMIF($E$141:$CN$141,CE$141,$E79:$CP79)","v":0},null,null,{"$f":"SUMIF($E$141:$CN$141,CH$141,$E79:$CP79)","v":0},null,null,{"$f":"SUMIF($E$141:$CN$141,CK$141,$E79:$CP79)","v":0},null,null,{"$f":"SUMIF($E$141:$CN$141,CN$141,$E79:$CP79)","v":0}]
[null,null,null,null,{"$f":"SUMIF($E$141:$CN$141,E$141,$E80:$CP80)","v":0},null,null,{"$f":"SUMIF($E$141:$CN$141,H$141,$E80:$CP80)","v":0},null,null,{"$f":"SUMIF($E$141:$CN$141,K$141,$E80:$CP80)","v":0},null,null,{"$f":"SUMIF($E$141:$CN$141,N$141,$E80:$CP80)","v":0},null,null,{"$f":"SUMIF($E$141:$CN$141,Q$141,$E80:$CP80)","v":0},null,null,{"$f":"SUMIF($E$141:$CN$141,T$141,$E80:$CP80)","v":0},null,null,{"$f":"SUMIF($E$141:$CN$141,W$141,$E80:$CP80)","v":0},null,null,{"$f":"SUMIF($E$141:$CN$141,Z$141,$E80:$CP80)","v":0},null,null,{"$f":"SUMIF($E$141:$CN$141,AC$141,$E80:$CP80)","v":0},null,null,{"$f":"SUMIF($E$141:$CN$141,AF$141,$E80:$CP80)","v":0},null,null,{"$f":"SUMIF($E$141:$CN$141,AI$141,$E80:$CP80)","v":0},null,null,{"$f":"SUMIF($E$141:$CN$141,AL$141,$E80:$CP80)","v":0},null,null,{"$f":"SUMIF($E$141:$CN$141,AO$141,$E80:$CP80)","v":0},null,null,{"$f":"SUMIF($E$141:$CN$141,AR$141,$E80:$CP80)","v":0},null,null,{"$f":"SUMIF($E$141:$CN$141,AU$141,$E80:$CP80)","v":0},null,null,{"$f":"SUMIF($E$141:$CN$141,AX$141,$E80:$CP80)","v":0},null,null,{"$f":"SUMIF($E$141:$CN$141,BA$141,$E80:$CP80)","v":0},null,null,{"$f":"SUMIF($E$141:$CN$141,BD$141,$E80:$CP80)","v":0},null,null,{"$f":"SUMIF($E$141:$CN$141,BG$141,$E80:$CP80)","v":0},null,null,{"$f":"SUMIF($E$141:$CN$141,BJ$141,$E80:$CP80)","v":0},null,null,{"$f":"SUMIF($E$141:$CN$141,BM$141,$E80:$CP80)","v":0},null,null,{"$f":"SUMIF($E$141:$CN$141,BP$141,$E80:$CP80)","v":0},null,null,{"$f":"SUMIF($E$141:$CN$141,BS$141,$E80:$CP80)","v":0},null,null,{"$f":"SUMIF($E$141:$CN$141,BV$141,$E80:$CP80)","v":0},null,null,{"$f":"SUMIF($E$141:$CN$141,BY$141,$E80:$CP80)","v":0},null,null,{"$f":"SUMIF($E$141:$CN$141,CB$141,$E80:$CP80)","v":0},null,null,{"$f":"SUMIF($E$141:$CN$141,CE$141,$E80:$CP80)","v":0},null,null,{"$f":"SUMIF($E$141:$CN$141,CH$141,$E80:$CP80)","v":0},null,null,{"$f":"SUMIF($E$141:$CN$141,CK$141,$E80:$CP80)","v":0},null,null,{"$f":"SUMIF($E$141:$CN$141,CN$141,$E80:$CP80)","v":0}]
[null,null,null,null,{"$f":"SUMIF($E$141:$CN$141,E$141,$E81:$CP81)","v":0},null,null,{"$f":"SUMIF($E$141:$CN$141,H$141,$E81:$CP81)","v":0},null,null,{"$f":"SUMIF($E$141:$CN$141,K$141,$E81:$CP81)","v":0},null,null,{"$f":"SUMIF($E$141:$CN$141,N$141,$E81:$CP81)","v":0},null,null,{"$f":"SUMIF($E$141:$CN$141,Q$141,$E81:$CP81)","v":0},null,null,{"$f":"SUMIF($E$141:$CN$141,T$141,$E81:$CP81)","v":0},null,null,{"$f":"SUMIF($E$141:$CN$141,W$141,$E81:$CP81)","v":0},null,null,{"$f":"SUMIF($E$141:$CN$141,Z$141,$E81:$CP81)","v":0},null,null,{"$f":"SUMIF($E$141:$CN$141,AC$141,$E81:$CP81)","v":0},null,null,{"$f":"SUMIF($E$141:$CN$141,AF$141,$E81:$CP81)","v":0},null,null,{"$f":"SUMIF($E$141:$CN$141,AI$141,$E81:$CP81)","v":0},null,null,{"$f":"SUMIF($E$141:$CN$141,AL$141,$E81:$CP81)","v":0},null,null,{"$f":"SUMIF($E$141:$CN$141,AO$141,$E81:$CP81)","v":0},null,null,{"$f":"SUMIF($E$141:$CN$141,AR$141,$E81:$CP81)","v":0},null,null,{"$f":"SUMIF($E$141:$CN$141,AU$141,$E81:$CP81)","v":0},null,null,{"$f":"SUMIF($E$141:$CN$141,AX$141,$E81:$CP81)","v":0},null,null,{"$f":"SUMIF($E$141:$CN$141,BA$141,$E81:$CP81)","v":0},null,null,{"$f":"SUMIF($E$141:$CN$141,BD$141,$E81:$CP81)","v":0},null,null,{"$f":"SUMIF($E$141:$CN$141,BG$141,$E81:$CP81)","v":0},null,null,{"$f":"SUMIF($E$141:$CN$141,BJ$141,$E81:$CP81)","v":0},null,null,{"$f":"SUMIF($E$141:$CN$141,BM$141,$E81:$CP81)","v":0},null,null,{"$f":"SUMIF($E$141:$CN$141,BP$141,$E81:$CP81)","v":0},null,null,{"$f":"SUMIF($E$141:$CN$141,BS$141,$E81:$CP81)","v":0},null,null,{"$f":"SUMIF($E$141:$CN$141,BV$141,$E81:$CP81)","v":0},null,null,{"$f":"SUMIF($E$141:$CN$141,BY$141,$E81:$CP81)","v":0},null,null,{"$f":"SUMIF($E$141:$CN$141,CB$141,$E81:$CP81)","v":0},null,null,{"$f":"SUMIF($E$141:$CN$141,CE$141,$E81:$CP81)","v":0},null,null,{"$f":"SUMIF($E$141:$CN$141,CH$141,$E81:$CP81)","v":0},null,null,{"$f":"SUMIF($E$141:$CN$141,CK$141,$E81:$CP81)","v":0},null,null,{"$f":"SUMIF($E$141:$CN$141,CN$141,$E81:$CP81)","v":0}]
[]
[null,null,"Day 18 Formulas",null,{"$f":"SUMIF($E$141:$CN$141,E$141,$E83:$CP83)","v":0},null,null,{"$f":"SUMIF($E$141:$CN$141,H$141,$E83:$CP83)","v":0},null,null,{"$f":"SUMIF($E$141:$CN$141,K$141,$E83:$CP83)","v":0},null,null,{"$f":"SUMIF($E$141:$CN$141,N$141,$E83:$CP83)","v":0},null,null,{"$f":"SUMIF($E$141:$CN$141,Q$141,$E83:$CP83)","v":0},null,null,{"$f":"SUMIF($E$141:$CN$141,T$141,$E83:$CP83)","v":0},null,null,{"$f":"SUMIF($E$141:$CN$141,W$141,$E83:$CP83)","v":0},null,null,{"$f":"SUMIF($E$141:$CN$141,Z$141,$E83:$CP83)","v":0},null,null,{"$f":"SUMIF($E$141:$CN$141,AC$141,$E83:$CP83)","v":0},null,null,{"$f":"SUMIF($E$141:$CN$141,AF$141,$E83:$CP83)","v":0},null,null,{"$f":"SUMIF($E$141:$CN$141,AI$141,$E83:$CP83)","v":0},null,null,{"$f":"SUMIF($E$141:$CN$141,AL$141,$E83:$CP83)","v":0},null,null,{"$f":"SUMIF($E$141:$CN$141,AO$141,$E83:$CP83)","v":0},null,null,{"$f":"SUMIF($E$141:$CN$141,AR$141,$E83:$CP83)","v":0},null,null,{"$f":"SUMIF($E$141:$CN$141,AU$141,$E83:$CP83)","v":0},null,null,{"$f":"SUMIF($E$141:$CN$141,AX$141,$E83:$CP83)","v":0},null,null,{"$f":"SUMIF($E$141:$CN$141,BA$141,$E83:$CP83)","v":0},null,null,{"$f":"SUMIF($E$141:$CN$141,BD$141,$E83:$CP83)","v":0},null,null,{"$f":"SUMIF($E$141:$CN$141,BG$141,$E83:$CP83)","v":0},null,null,{"$f":"SUMIF($E$141:$CN$141,BJ$141,$E83:$CP83)","v":0},null,null,{"$f":"SUMIF($E$141:$CN$141,BM$141,$E83:$CP83)","v":0},null,null,{"$f":"SUMIF($E$141:$CN$141,BP$141,$E83:$CP83)","v":0},null,null,{"$f":"SUMIF($E$141:$CN$141,BS$141,$E83:$CP83)","v":0},null,null,{"$f":"SUMIF($E$141:$CN$141,BV$141,$E83:$CP83)","v":0},null,null,{"$f":"SUMIF($E$141:$CN$141,BY$141,$E83:$CP83)","v":0},null,null,{"$f":"SUMIF($E$141:$CN$141,CB$141,$E83:$CP83)","v":0},null,null,{"$f":"SUMIF($E$141:$CN$141,CE$141,$E83:$CP83)","v":0},null,null,{"$f":"SUMIF($E$141:$CN$141,CH$141,$E83:$CP83)","v":0},null,null,{"$f":"SUMIF($E$141:$CN$141,CK$141,$E83:$CP83)","v":0},null,null,{"$f":"SUMIF($E$141:$CN$141,CN$141,$E83:$CP83)","v":0}]
[null,null,null,null,{"$f":"SUMIF($E$141:$CN$141,E$141,$E84:$CP84)","v":0},null,null,{"$f":"SUMIF($E$141:$CN$141,H$141,$E84:$CP84)","v":0},null,null,{"$f":"SUMIF($E$141:$CN$141,K$141,$E84:$CP84)","v":0},null,null,{"$f":"SUMIF($E$141:$CN$141,N$141,$E84:$CP84)","v":0},null,null,{"$f":"SUMIF($E$141:$CN$141,Q$141,$E84:$CP84)","v":0},null,null,{"$f":"SUMIF($E$141:$CN$141,T$141,$E84:$CP84)","v":0},null,null,{"$f":"SUMIF($E$141:$CN$141,W$141,$E84:$CP84)","v":0},null,null,{"$f":"SUMIF($E$141:$CN$141,Z$141,$E84:$CP84)","v":0},null,null,{"$f":"SUMIF($E$141:$CN$141,AC$141,$E84:$CP84)","v":0},null,null,{"$f":"SUMIF($E$141:$CN$141,AF$141,$E84:$CP84)","v":0},null,null,{"$f":"SUMIF($E$141:$CN$141,AI$141,$E84:$CP84)","v":0},null,null,{"$f":"SUMIF($E$141:$CN$141,AL$141,$E84:$CP84)","v":0},null,null,{"$f":"SUMIF($E$141:$CN$141,AO$141,$E84:$CP84)","v":0},null,null,{"$f":"SUMIF($E$141:$CN$141,AR$141,$E84:$CP84)","v":0},null,null,{"$f":"SUMIF($E$141:$CN$141,AU$141,$E84:$CP84)","v":0},null,null,{"$f":"SUMIF($E$141:$CN$141,AX$141,$E84:$CP84)","v":0},null,null,{"$f":"SUMIF($E$141:$CN$141,BA$141,$E84:$CP84)","v":0},null,null,{"$f":"SUMIF($E$141:$CN$141,BD$141,$E84:$CP84)","v":0},null,null,{"$f":"SUMIF($E$141:$CN$141,BG$141,$E84:$CP84)","v":0},null,null,{"$f":"SUMIF($E$141:$CN$141,BJ$141,$E84:$CP84)","v":0},null,null,{"$f":"SUMIF($E$141:$CN$141,BM$141,$E84:$CP84)","v":0},null,null,{"$f":"SUMIF($E$141:$CN$141,BP$141,$E84:$CP84)","v":0},null,null,{"$f":"SUMIF($E$141:$CN$141,BS$141,$E84:$CP84)","v":0},null,null,{"$f":"SUMIF($E$141:$CN$141,BV$141,$E84:$CP84)","v":0},null,null,{"$f":"SUMIF($E$141:$CN$141,BY$141,$E84:$CP84)","v":0},null,null,{"$f":"SUMIF($E$141:$CN$141,CB$141,$E84:$CP84)","v":0},null,null,{"$f":"SUMIF($E$141:$CN$141,CE$141,$E84:$CP84)","v":0},null,null,{"$f":"SUMIF($E$141:$CN$141,CH$141,$E84:$CP84)","v":0},null,null,{"$f":"SUMIF($E$141:$CN$141,CK$141,$E84:$CP84)","v":0},null,null,{"$f":"SUMIF($E$141:$CN$141,CN$141,$E84:$CP84)","v":0}]
[null,null,null,null,{"$f":"SUMIF($E$141:$CN$141,E$141,$E85:$CP85)","v":0},null,null,{"$f":"SUMIF($E$141:$CN$141,H$141,$E85:$CP85)","v":0},null,null,{"$f":"SUMIF($E$141:$CN$141,K$141,$E85:$CP85)","v":0},null,null,{"$f":"SUMIF($E$141:$CN$141,N$141,$E85:$CP85)","v":0},null,null,{"$f":"SUMIF($E$141:$CN$141,Q$141,$E85:$CP85)","v":0},null,null,{"$f":"SUMIF($E$141:$CN$141,T$141,$E85:$CP85)","v":0},null,null,{"$f":"SUMIF($E$141:$CN$141,W$141,$E85:$CP85)","v":0},null,null,{"$f":"SUMIF($E$141:$CN$141,Z$141,$E85:$CP85)","v":0},null,null,{"$f":"SUMIF($E$141:$CN$141,AC$141,$E85:$CP85)","v":0},null,null,{"$f":"SUMIF($E$141:$CN$141,AF$141,$E85:$CP85)","v":0},null,null,{"$f":"SUMIF($E$141:$CN$141,AI$141,$E85:$CP85)","v":0},null,null,{"$f":"SUMIF($E$141:$CN$141,AL$141,$E85:$CP85)","v":0},null,null,{"$f":"SUMIF($E$141:$CN$141,AO$141,$E85:$CP85)","v":0},null,null,{"$f":"SUMIF($E$141:$CN$141,AR$141,$E85:$CP85)","v":0},null,null,{"$f":"SUMIF($E$141:$CN$141,AU$141,$E85:$CP85)","v":0},null,null,{"$f":"SUMIF($E$141:$CN$141,AX$141,$E85:$CP85)","v":0},null,null,{"$f":"SUMIF($E$141:$CN$141,BA$141,$E85:$CP85)","v":0},null,null,{"$f":"SUMIF($E$141:$CN$141,BD$141,$E85:$CP85)","v":0},null,null,{"$f":"SUMIF($E$141:$CN$141,BG$141,$E85:$CP85)","v":0},null,null,{"$f":"SUMIF($E$141:$CN$141,BJ$141,$E85:$CP85)","v":0},null,null,{"$f":"SUMIF($E$141:$CN$141,BM$141,$E85:$CP85)","v":0},null,null,{"$f":"SUMIF($E$141:$CN$141,BP$141,$E85:$CP85)","v":0},null,null,{"$f":"SUMIF($E$141:$CN$141,BS$141,$E85:$CP85)","v":0},null,null,{"$f":"SUMIF($E$141:$CN$141,BV$141,$E85:$CP85)","v":0},null,null,{"$f":"SUMIF($E$141:$CN$141,BY$141,$E85:$CP85)","v":0},null,null,{"$f":"SUMIF($E$141:$CN$141,CB$141,$E85:$CP85)","v":0},null,null,{"$f":"SUMIF($E$141:$CN$141,CE$141,$E85:$CP85)","v":0},null,null,{"$f":"SUMIF($E$141:$CN$141,CH$141,$E85:$CP85)","v":0},null,null,{"$f":"SUMIF($E$141:$CN$141,CK$141,$E85:$CP85)","v":0},null,null,{"$f":"SUMIF($E$141:$CN$141,CN$141,$E85:$CP85)","v":0}]
[]
[null,null,"Day 19 Formulas",null,{"$f":"SUMIF($E$141:$CN$141,E$141,$E87:$CP87)","v":0},null,null,{"$f":"SUMIF($E$141:$CN$141,H$141,$E87:$CP87)","v":0},null,null,{"$f":"SUMIF($E$141:$CN$141,K$141,$E87:$CP87)","v":0},null,null,{"$f":"SUMIF($E$141:$CN$141,N$141,$E87:$CP87)","v":0},null,null,{"$f":"SUMIF($E$141:$CN$141,Q$141,$E87:$CP87)","v":0},null,null,{"$f":"SUMIF($E$141:$CN$141,T$141,$E87:$CP87)","v":0},null,null,{"$f":"SUMIF($E$141:$CN$141,W$141,$E87:$CP87)","v":0},null,null,{"$f":"SUMIF($E$141:$CN$141,Z$141,$E87:$CP87)","v":0},null,null,{"$f":"SUMIF($E$141:$CN$141,AC$141,$E87:$CP87)","v":0},null,null,{"$f":"SUMIF($E$141:$CN$141,AF$141,$E87:$CP87)","v":0},null,null,{"$f":"SUMIF($E$141:$CN$141,AI$141,$E87:$CP87)","v":0},null,null,{"$f":"SUMIF($E$141:$CN$141,AL$141,$E87:$CP87)","v":0},null,null,{"$f":"SUMIF($E$141:$CN$141,AO$141,$E87:$CP87)","v":0},null,null,{"$f":"SUMIF($E$141:$CN$141,AR$141,$E87:$CP87)","v":0},null,null,{"$f":"SUMIF($E$141:$CN$141,AU$141,$E87:$CP87)","v":0},null,null,{"$f":"SUMIF($E$141:$CN$141,AX$141,$E87:$CP87)","v":0},null,null,{"$f":"SUMIF($E$141:$CN$141,BA$141,$E87:$CP87)","v":0},null,null,{"$f":"SUMIF($E$141:$CN$141,BD$141,$E87:$CP87)","v":0},null,null,{"$f":"SUMIF($E$141:$CN$141,BG$141,$E87:$CP87)","v":0},null,null,{"$f":"SUMIF($E$141:$CN$141,BJ$141,$E87:$CP87)","v":0},null,null,{"$f":"SUMIF($E$141:$CN$141,BM$141,$E87:$CP87)","v":0},null,null,{"$f":"SUMIF($E$141:$CN$141,BP$141,$E87:$CP87)","v":0},null,null,{"$f":"SUMIF($E$141:$CN$141,BS$141,$E87:$CP87)","v":0},null,null,{"$f":"SUMIF($E$141:$CN$141,BV$141,$E87:$CP87)","v":0},null,null,{"$f":"SUMIF($E$141:$CN$141,BY$141,$E87:$CP87)","v":0},null,null,{"$f":"SUMIF($E$141:$CN$141,CB$141,$E87:$CP87)","v":0},null,null,{"$f":"SUMIF($E$141:$CN$141,CE$141,$E87:$CP87)","v":0},null,null,{"$f":"SUMIF($E$141:$CN$141,CH$141,$E87:$CP87)","v":0},null,null,{"$f":"SUMIF($E$141:$CN$141,CK$141,$E87:$CP87)","v":0},null,null,{"$f":"SUMIF($E$141:$CN$141,CN$141,$E87:$CP87)","v":0}]
[null,null,null,null,{"$f":"SUMIF($E$141:$CN$141,E$141,$E88:$CP88)","v":0},null,null,{"$f":"SUMIF($E$141:$CN$141,H$141,$E88:$CP88)","v":0},null,null,{"$f":"SUMIF($E$141:$CN$141,K$141,$E88:$CP88)","v":0},null,null,{"$f":"SUMIF($E$141:$CN$141,N$141,$E88:$CP88)","v":0},null,null,{"$f":"SUMIF($E$141:$CN$141,Q$141,$E88:$CP88)","v":0},null,null,{"$f":"SUMIF($E$141:$CN$141,T$141,$E88:$CP88)","v":0},null,null,{"$f":"SUMIF($E$141:$CN$141,W$141,$E88:$CP88)","v":0},null,null,{"$f":"SUMIF($E$141:$CN$141,Z$141,$E88:$CP88)","v":0},null,null,{"$f":"SUMIF($E$141:$CN$141,AC$141,$E88:$CP88)","v":0},null,null,{"$f":"SUMIF($E$141:$CN$141,AF$141,$E88:$CP88)","v":0},null,null,{"$f":"SUMIF($E$141:$CN$141,AI$141,$E88:$CP88)","v":0},null,null,{"$f":"SUMIF($E$141:$CN$141,AL$141,$E88:$CP88)","v":0},null,null,{"$f":"SUMIF($E$141:$CN$141,AO$141,$E88:$CP88)","v":0},null,null,{"$f":"SUMIF($E$141:$CN$141,AR$141,$E88:$CP88)","v":0},null,null,{"$f":"SUMIF($E$141:$CN$141,AU$141,$E88:$CP88)","v":0},null,null,{"$f":"SUMIF($E$141:$CN$141,AX$141,$E88:$CP88)","v":0},null,null,{"$f":"SUMIF($E$141:$CN$141,BA$141,$E88:$CP88)","v":0},null,null,{"$f":"SUMIF($E$141:$CN$141,BD$141,$E88:$CP88)","v":0},null,null,{"$f":"SUMIF($E$141:$CN$141,BG$141,$E88:$CP88)","v":0},null,null,{"$f":"SUMIF($E$141:$CN$141,BJ$141,$E88:$CP88)","v":0},null,null,{"$f":"SUMIF($E$141:$CN$141,BM$141,$E88:$CP88)","v":0},null,null,{"$f":"SUMIF($E$141:$CN$141,BP$141,$E88:$CP88)","v":0},null,null,{"$f":"SUMIF($E$141:$CN$141,BS$141,$E88:$CP88)","v":0},null,null,{"$f":"SUMIF($E$141:$CN$141,BV$141,$E88:$CP88)","v":0},null,null,{"$f":"SUMIF($E$141:$CN$141,BY$141,$E88:$CP88)","v":0},null,null,{"$f":"SUMIF($E$141:$CN$141,CB$141,$E88:$CP88)","v":0},null,null,{"$f":"SUMIF($E$141:$CN$141,CE$141,$E88:$CP88)","v":0},null,null,{"$f":"SUMIF($E$141:$CN$141,CH$141,$E88:$CP88)","v":0},null,null,{"$f":"SUMIF($E$141:$CN$141,CK$141,$E88:$CP88)","v":0},null,null,{"$f":"SUMIF($E$141:$CN$141,CN$141,$E88:$CP88)","v":0}]
[null,null,null,null,{"$f":"SUMIF($E$141:$CN$141,E$141,$E89:$CP89)","v":0},null,null,{"$f":"SUMIF($E$141:$CN$141,H$141,$E89:$CP89)","v":0},null,null,{"$f":"SUMIF($E$141:$CN$141,K$141,$E89:$CP89)","v":0},null,null,{"$f":"SUMIF($E$141:$CN$141,N$141,$E89:$CP89)","v":0},null,null,{"$f":"SUMIF($E$141:$CN$141,Q$141,$E89:$CP89)","v":0},null,null,{"$f":"SUMIF($E$141:$CN$141,T$141,$E89:$CP89)","v":0},null,null,{"$f":"SUMIF($E$141:$CN$141,W$141,$E89:$CP89)","v":0},null,null,{"$f":"SUMIF($E$141:$CN$141,Z$141,$E89:$CP89)","v":0},null,null,{"$f":"SUMIF($E$141:$CN$141,AC$141,$E89:$CP89)","v":0},null,null,{"$f":"SUMIF($E$141:$CN$141,AF$141,$E89:$CP89)","v":0},null,null,{"$f":"SUMIF($E$141:$CN$141,AI$141,$E89:$CP89)","v":0},null,null,{"$f":"SUMIF($E$141:$CN$141,AL$141,$E89:$CP89)","v":0},null,null,{"$f":"SUMIF($E$141:$CN$141,AO$141,$E89:$CP89)","v":0},null,null,{"$f":"SUMIF($E$141:$CN$141,AR$141,$E89:$CP89)","v":0},null,null,{"$f":"SUMIF($E$141:$CN$141,AU$141,$E89:$CP89)","v":0},null,null,{"$f":"SUMIF($E$141:$CN$141,AX$141,$E89:$CP89)","v":0},null,null,{"$f":"SUMIF($E$141:$CN$141,BA$141,$E89:$CP89)","v":0},null,null,{"$f":"SUMIF($E$141:$CN$141,BD$141,$E89:$CP89)","v":0},null,null,{"$f":"SUMIF($E$141:$CN$141,BG$141,$E89:$CP89)","v":0},null,null,{"$f":"SUMIF($E$141:$CN$141,BJ$141,$E89:$CP89)","v":0},null,null,{"$f":"SUMIF($E$141:$CN$141,BM$141,$E89:$CP89)","v":0},null,null,{"$f":"SUMIF($E$141:$CN$141,BP$141,$E89:$CP89)","v":0},null,null,{"$f":"SUMIF($E$141:$CN$141,BS$141,$E89:$CP89)","v":0},null,null,{"$f":"SUMIF($E$141:$CN$141,BV$141,$E89:$CP89)","v":0},null,null,{"$f":"SUMIF($E$141:$CN$141,BY$141,$E89:$CP89)","v":0},null,null,{"$f":"SUMIF($E$141:$CN$141,CB$141,$E89:$CP89)","v":0},null,null,{"$f":"SUMIF($E$141:$CN$141,CE$141,$E89:$CP89)","v":0},null,null,{"$f":"SUMIF($E$141:$CN$141,CH$141,$E89:$CP89)","v":0},null,null,{"$f":"SUMIF($E$141:$CN$141,CK$141,$E89:$CP89)","v":0},null,null,{"$f":"SUMIF($E$141:$CN$141,CN$141,$E89:$CP89)","v":0}]
[]
[null,null,"Day 20 Formulas",null,{"$f":"SUMIF($E$141:$CN$141,E$141,$E91:$CP91)","v":0},null,null,{"$f":"SUMIF($E$141:$CN$141,H$141,$E91:$CP91)","v":0},null,null,{"$f":"SUMIF($E$141:$CN$141,K$141,$E91:$CP91)","v":0},null,null,{"$f":"SUMIF($E$141:$CN$141,N$141,$E91:$CP91)","v":0},null,null,{"$f":"SUMIF($E$141:$CN$141,Q$141,$E91:$CP91)","v":0},null,null,{"$f":"SUMIF($E$141:$CN$141,T$141,$E91:$CP91)","v":0},null,null,{"$f":"SUMIF($E$141:$CN$141,W$141,$E91:$CP91)","v":0},null,null,{"$f":"SUMIF($E$141:$CN$141,Z$141,$E91:$CP91)","v":0},null,null,{"$f":"SUMIF($E$141:$CN$141,AC$141,$E91:$CP91)","v":0},null,null,{"$f":"SUMIF($E$141:$CN$141,AF$141,$E91:$CP91)","v":0},null,null,{"$f":"SUMIF($E$141:$CN$141,AI$141,$E91:$CP91)","v":0},null,null,{"$f":"SUMIF($E$141:$CN$141,AL$141,$E91:$CP91)","v":0},null,null,{"$f":"SUMIF($E$141:$CN$141,AO$141,$E91:$CP91)","v":0},null,null,{"$f":"SUMIF($E$141:$CN$141,AR$141,$E91:$CP91)","v":0},null,null,{"$f":"SUMIF($E$141:$CN$141,AU$141,$E91:$CP91)","v":0},null,null,{"$f":"SUMIF($E$141:$CN$141,AX$141,$E91:$CP91)","v":0},null,null,{"$f":"SUMIF($E$141:$CN$141,BA$141,$E91:$CP91)","v":0},null,null,{"$f":"SUMIF($E$141:$CN$141,BD$141,$E91:$CP91)","v":0},null,null,{"$f":"SUMIF($E$141:$CN$141,BG$141,$E91:$CP91)","v":0},null,null,{"$f":"SUMIF($E$141:$CN$141,BJ$141,$E91:$CP91)","v":0},null,null,{"$f":"SUMIF($E$141:$CN$141,BM$141,$E91:$CP91)","v":0},null,null,{"$f":"SUMIF($E$141:$CN$141,BP$141,$E91:$CP91)","v":0},null,null,{"$f":"SUMIF($E$141:$CN$141,BS$141,$E91:$CP91)","v":0},null,null,{"$f":"SUMIF($E$141:$CN$141,BV$141,$E91:$CP91)","v":0},null,null,{"$f":"SUMIF($E$141:$CN$141,BY$141,$E91:$CP91)","v":0},null,null,{"$f":"SUMIF($E$141:$CN$141,CB$141,$E91:$CP91)","v":0},null,null,{"$f":"SUMIF($E$141:$CN$141,CE$141,$E91:$CP91)","v":0},null,null,{"$f":"SUMIF($E$141:$CN$141,CH$141,$E91:$CP91)","v":0},null,null,{"$f":"SUMIF($E$141:$CN$141,CK$141,$E91:$CP91)","v":0},null,null,{"$f":"SUMIF($E$141:$CN$141,CN$141,$E91:$CP91)","v":0}]
[null,null,null,null,{"$f":"SUMIF($E$141:$CN$141,E$141,$E92:$CP92)","v":0},null,null,{"$f":"SUMIF($E$141:$CN$141,H$141,$E92:$CP92)","v":0},null,null,{"$f":"SUMIF($E$141:$CN$141,K$141,$E92:$CP92)","v":0},null,null,{"$f":"SUMIF($E$141:$CN$141,N$141,$E92:$CP92)","v":0},null,null,{"$f":"SUMIF($E$141:$CN$141,Q$141,$E92:$CP92)","v":0},null,null,{"$f":"SUMIF($E$141:$CN$141,T$141,$E92:$CP92)","v":0},null,null,{"$f":"SUMIF($E$141:$CN$141,W$141,$E92:$CP92)","v":0},null,null,{"$f":"SUMIF($E$141:$CN$141,Z$141,$E92:$CP92)","v":0},null,null,{"$f":"SUMIF($E$141:$CN$141,AC$141,$E92:$CP92)","v":0},null,null,{"$f":"SUMIF($E$141:$CN$141,AF$141,$E92:$CP92)","v":0},null,null,{"$f":"SUMIF($E$141:$CN$141,AI$141,$E92:$CP92)","v":0},null,null,{"$f":"SUMIF($E$141:$CN$141,AL$141,$E92:$CP92)","v":0},null,null,{"$f":"SUMIF($E$141:$CN$141,AO$141,$E92:$CP92)","v":0},null,null,{"$f":"SUMIF($E$141:$CN$141,AR$141,$E92:$CP92)","v":0},null,null,{"$f":"SUMIF($E$141:$CN$141,AU$141,$E92:$CP92)","v":0},null,null,{"$f":"SUMIF($E$141:$CN$141,AX$141,$E92:$CP92)","v":0},null,null,{"$f":"SUMIF($E$141:$CN$141,BA$141,$E92:$CP92)","v":0},null,null,{"$f":"SUMIF($E$141:$CN$141,BD$141,$E92:$CP92)","v":0},null,null,{"$f":"SUMIF($E$141:$CN$141,BG$141,$E92:$CP92)","v":0},null,null,{"$f":"SUMIF($E$141:$CN$141,BJ$141,$E92:$CP92)","v":0},null,null,{"$f":"SUMIF($E$141:$CN$141,BM$141,$E92:$CP92)","v":0},null,null,{"$f":"SUMIF($E$141:$CN$141,BP$141,$E92:$CP92)","v":0},null,null,{"$f":"SUMIF($E$141:$CN$141,BS$141,$E92:$CP92)","v":0},null,null,{"$f":"SUMIF($E$141:$CN$141,BV$141,$E92:$CP92)","v":0},null,null,{"$f":"SUMIF($E$141:$CN$141,BY$141,$E92:$CP92)","v":0},null,null,{"$f":"SUMIF($E$141:$CN$141,CB$141,$E92:$CP92)","v":0},null,null,{"$f":"SUMIF($E$141:$CN$141,CE$141,$E92:$CP92)","v":0},null,null,{"$f":"SUMIF($E$141:$CN$141,CH$141,$E92:$CP92)","v":0},null,null,{"$f":"SUMIF($E$141:$CN$141,CK$141,$E92:$CP92)","v":0},null,null,{"$f":"SUMIF($E$141:$CN$141,CN$141,$E92:$CP92)","v":0}]
[null,null,null,null,{"$f":"SUMIF($E$141:$CN$141,E$141,$E93:$CP93)","v":0},null,null,{"$f":"SUMIF($E$141:$CN$141,H$141,$E93:$CP93)","v":0},null,null,{"$f":"SUMIF($E$141:$CN$141,K$141,$E93:$CP93)","v":0},null,null,{"$f":"SUMIF($E$141:$CN$141,N$141,$E93:$CP93)","v":0},null,null,{"$f":"SUMIF($E$141:$CN$141,Q$141,$E93:$CP93)","v":0},null,null,{"$f":"SUMIF($E$141:$CN$141,T$141,$E93:$CP93)","v":0},null,null,{"$f":"SUMIF($E$141:$CN$141,W$141,$E93:$CP93)","v":0},null,null,{"$f":"SUMIF($E$141:$CN$141,Z$141,$E93:$CP93)","v":0},null,null,{"$f":"SUMIF($E$141:$CN$141,AC$141,$E93:$CP93)","v":0},null,null,{"$f":"SUMIF($E$141:$CN$141,AF$141,$E93:$CP93)","v":0},null,null,{"$f":"SUMIF($E$141:$CN$141,AI$141,$E93:$CP93)","v":0},null,null,{"$f":"SUMIF($E$141:$CN$141,AL$141,$E93:$CP93)","v":0},null,null,{"$f":"SUMIF($E$141:$CN$141,AO$141,$E93:$CP93)","v":0},null,null,{"$f":"SUMIF($E$141:$CN$141,AR$141,$E93:$CP93)","v":0},null,null,{"$f":"SUMIF($E$141:$CN$141,AU$141,$E93:$CP93)","v":0},null,null,{"$f":"SUMIF($E$141:$CN$141,AX$141,$E93:$CP93)","v":0},null,null,{"$f":"SUMIF($E$141:$CN$141,BA$141,$E93:$CP93)","v":0},null,null,{"$f":"SUMIF($E$141:$CN$141,BD$141,$E93:$CP93)","v":0},null,null,{"$f":"SUMIF($E$141:$CN$141,BG$141,$E93:$CP93)","v":0},null,null,{"$f":"SUMIF($E$141:$CN$141,BJ$141,$E93:$CP93)","v":0},null,null,{"$f":"SUMIF($E$141:$CN$141,BM$141,$E93:$CP93)","v":0},null,null,{"$f":"SUMIF($E$141:$CN$141,BP$141,$E93:$CP93)","v":0},null,null,{"$f":"SUMIF($E$141:$CN$141,BS$141,$E93:$CP93)","v":0},null,null,{"$f":"SUMIF($E$141:$CN$141,BV$141,$E93:$CP93)","v":0},null,null,{"$f":"SUMIF($E$141:$CN$141,BY$141,$E93:$CP93)","v":0},null,null,{"$f":"SUMIF($E$141:$CN$141,CB$141,$E93:$CP93)","v":0},null,null,{"$f":"SUMIF($E$141:$CN$141,CE$141,$E93:$CP93)","v":0},null,null,{"$f":"SUMIF($E$141:$CN$141,CH$141,$E93:$CP93)","v":0},null,null,{"$f":"SUMIF($E$141:$CN$141,CK$141,$E93:$CP93)","v":0},null,null,{"$f":"SUMIF($E$141:$CN$141,CN$141,$E93:$CP93)","v":0}]
[]
[null,null,"Day 21 Formulas",null,{"$f":"SUMIF($E$141:$CN$141,E$141,$E95:$CP95)","v":0},null,null,{"$f":"SUMIF($E$141:$CN$141,H$141,$E95:$CP95)","v":0},null,null,{"$f":"SUMIF($E$141:$CN$141,K$141,$E95:$CP95)","v":0},null,null,{"$f":"SUMIF($E$141:$CN$141,N$141,$E95:$CP95)","v":0},null,null,{"$f":"SUMIF($E$141:$CN$141,Q$141,$E95:$CP95)","v":0},null,null,{"$f":"SUMIF($E$141:$CN$141,T$141,$E95:$CP95)","v":0},null,null,{"$f":"SUMIF($E$141:$CN$141,W$141,$E95:$CP95)","v":0},null,null,{"$f":"SUMIF($E$141:$CN$141,Z$141,$E95:$CP95)","v":0},null,null,{"$f":"SUMIF($E$141:$CN$141,AC$141,$E95:$CP95)","v":0},null,null,{"$f":"SUMIF($E$141:$CN$141,AF$141,$E95:$CP95)","v":0},null,null,{"$f":"SUMIF($E$141:$CN$141,AI$141,$E95:$CP95)","v":0},null,null,{"$f":"SUMIF($E$141:$CN$141,AL$141,$E95:$CP95)","v":0},null,null,{"$f":"SUMIF($E$141:$CN$141,AO$141,$E95:$CP95)","v":0},null,null,{"$f":"SUMIF($E$141:$CN$141,AR$141,$E95:$CP95)","v":0},null,null,{"$f":"SUMIF($E$141:$CN$141,AU$141,$E95:$CP95)","v":0},null,null,{"$f":"SUMIF($E$141:$CN$141,AX$141,$E95:$CP95)","v":0},null,null,{"$f":"SUMIF($E$141:$CN$141,BA$141,$E95:$CP95)","v":0},null,null,{"$f":"SUMIF($E$141:$CN$141,BD$141,$E95:$CP95)","v":0},null,null,{"$f":"SUMIF($E$141:$CN$141,BG$141,$E95:$CP95)","v":0},null,null,{"$f":"SUMIF($E$141:$CN$141,BJ$141,$E95:$CP95)","v":0},null,null,{"$f":"SUMIF($E$141:$CN$141,BM$141,$E95:$CP95)","v":0},null,null,{"$f":"SUMIF($E$141:$CN$141,BP$141,$E95:$CP95)","v":0},null,null,{"$f":"SUMIF($E$141:$CN$141,BS$141,$E95:$CP95)","v":0},null,null,{"$f":"SUMIF($E$141:$CN$141,BV$141,$E95:$CP95)","v":0},null,null,{"$f":"SUMIF($E$141:$CN$141,BY$141,$E95:$CP95)","v":0},null,null,{"$f":"SUMIF($E$141:$CN$141,CB$141,$E95:$CP95)","v":0},null,null,{"$f":"SUMIF($E$141:$CN$141,CE$141,$E95:$CP95)","v":0},null,null,{"$f":"SUMIF($E$141:$CN$141,CH$141,$E95:$CP95)","v":0},null,null,{"$f":"SUMIF($E$141:$CN$141,CK$141,$E95:$CP95)","v":0},null,null,{"$f":"SUMIF($E$141:$CN$141,CN$141,$E95:$CP95)","v":0}]
[null,null,null,null,{"$f":"SUMIF($E$141:$CN$141,E$141,$E96:$CP96)","v":0},null,null,{"$f":"SUMIF($E$141:$CN$141,H$141,$E96:$CP96)","v":0},null,null,{"$f":"SUMIF($E$141:$CN$141,K$141,$E96:$CP96)","v":0},null,null,{"$f":"SUMIF($E$141:$CN$141,N$141,$E96:$CP96)","v":0},null,null,{"$f":"SUMIF($E$141:$CN$141,Q$141,$E96:$CP96)","v":0},null,null,{"$f":"SUMIF($E$141:$CN$141,T$141,$E96:$CP96)","v":0},null,null,{"$f":"SUMIF($E$141:$CN$141,W$141,$E96:$CP96)","v":0},null,null,{"$f":"SUMIF($E$141:$CN$141,Z$141,$E96:$CP96)","v":0},null,null,{"$f":"SUMIF($E$141:$CN$141,AC$141,$E96:$CP96)","v":0},null,null,{"$f":"SUMIF($E$141:$CN$141,AF$141,$E96:$CP96)","v":0},null,null,{"$f":"SUMIF($E$141:$CN$141,AI$141,$E96:$CP96)","v":0},null,null,{"$f":"SUMIF($E$141:$CN$141,AL$141,$E96:$CP96)","v":0},null,null,{"$f":"SUMIF($E$141:$CN$141,AO$141,$E96:$CP96)","v":0},null,null,{"$f":"SUMIF($E$141:$CN$141,AR$141,$E96:$CP96)","v":0},null,null,{"$f":"SUMIF($E$141:$CN$141,AU$141,$E96:$CP96)","v":0},null,null,{"$f":"SUMIF($E$141:$CN$141,AX$141,$E96:$CP96)","v":0},null,null,{"$f":"SUMIF($E$141:$CN$141,BA$141,$E96:$CP96)","v":0},null,null,{"$f":"SUMIF($E$141:$CN$141,BD$141,$E96:$CP96)","v":0},null,null,{"$f":"SUMIF($E$141:$CN$141,BG$141,$E96:$CP96)","v":0},null,null,{"$f":"SUMIF($E$141:$CN$141,BJ$141,$E96:$CP96)","v":0},null,null,{"$f":"SUMIF($E$141:$CN$141,BM$141,$E96:$CP96)","v":0},null,null,{"$f":"SUMIF($E$141:$CN$141,BP$141,$E96:$CP96)","v":0},null,null,{"$f":"SUMIF($E$141:$CN$141,BS$141,$E96:$CP96)","v":0},null,null,{"$f":"SUMIF($E$141:$CN$141,BV$141,$E96:$CP96)","v":0},null,null,{"$f":"SUMIF($E$141:$CN$141,BY$141,$E96:$CP96)","v":0},null,null,{"$f":"SUMIF($E$141:$CN$141,CB$141,$E96:$CP96)","v":0},null,null,{"$f":"SUMIF($E$141:$CN$141,CE$141,$E96:$CP96)","v":0},null,null,{"$f":"SUMIF($E$141:$CN$141,CH$141,$E96:$CP96)","v":0},null,null,{"$f":"SUMIF($E$141:$CN$141,CK$141,$E96:$CP96)","v":0},null,null,{"$f":"SUMIF($E$141:$CN$141,CN$141,$E96:$CP96)","v":0}]
[null,null,null,null,{"$f":"SUMIF($E$141:$CN$141,E$141,$E97:$CP97)","v":0},null,null,{"$f":"SUMIF($E$141:$CN$141,H$141,$E97:$CP97)","v":0},null,null,{"$f":"SUMIF($E$141:$CN$141,K$141,$E97:$CP97)","v":0},null,null,{"$f":"SUMIF($E$141:$CN$141,N$141,$E97:$CP97)","v":0},null,null,{"$f":"SUMIF($E$141:$CN$141,Q$141,$E97:$CP97)","v":0},null,null,{"$f":"SUMIF($E$141:$CN$141,T$141,$E97:$CP97)","v":0},null,null,{"$f":"SUMIF($E$141:$CN$141,W$141,$E97:$CP97)","v":0},null,null,{"$f":"SUMIF($E$141:$CN$141,Z$141,$E97:$CP97)","v":0},null,null,{"$f":"SUMIF($E$141:$CN$141,AC$141,$E97:$CP97)","v":0},null,null,{"$f":"SUMIF($E$141:$CN$141,AF$141,$E97:$CP97)","v":0},null,null,{"$f":"SUMIF($E$141:$CN$141,AI$141,$E97:$CP97)","v":0},null,null,{"$f":"SUMIF($E$141:$CN$141,AL$141,$E97:$CP97)","v":0},null,null,{"$f":"SUMIF($E$141:$CN$141,AO$141,$E97:$CP97)","v":0},null,null,{"$f":"SUMIF($E$141:$CN$141,AR$141,$E97:$CP97)","v":0},null,null,{"$f":"SUMIF($E$141:$CN$141,AU$141,$E97:$CP97)","v":0},null,null,{"$f":"SUMIF($E$141:$CN$141,AX$141,$E97:$CP97)","v":0},null,null,{"$f":"SUMIF($E$141:$CN$141,BA$141,$E97:$CP97)","v":0},null,null,{"$f":"SUMIF($E$141:$CN$141,BD$141,$E97:$CP97)","v":0},null,null,{"$f":"SUMIF($E$141:$CN$141,BG$141,$E97:$CP97)","v":0},null,null,{"$f":"SUMIF($E$141:$CN$141,BJ$141,$E97:$CP97)","v":0},null,null,{"$f":"SUMIF($E$141:$CN$141,BM$141,$E97:$CP97)","v":0},null,null,{"$f":"SUMIF($E$141:$CN$141,BP$141,$E97:$CP97)","v":0},null,null,{"$f":"SUMIF($E$141:$CN$141,BS$141,$E97:$CP97)","v":0},null,null,{"$f":"SUMIF($E$141:$CN$141,BV$141,$E97:$CP97)","v":0},null,null,{"$f":"SUMIF($E$141:$CN$141,BY$141,$E97:$CP97)","v":0},null,null,{"$f":"SUMIF($E$141:$CN$141,CB$141,$E97:$CP97)","v":0},null,null,{"$f":"SUMIF($E$141:$CN$141,CE$141,$E97:$CP97)","v":0},null,null,{"$f":"SUMIF($E$141:$CN$141,CH$141,$E97:$CP97)","v":0},null,null,{"$f":"SUMIF($E$141:$CN$141,CK$141,$E97:$CP97)","v":0},null,null,{"$f":"SUMIF($E$141:$CN$141,CN$141,$E97:$CP97)","v":0}]
[]
[null,null,"Day 22 Formulas",null,{"$f":"SUMIF($E$141:$CN$141,E$141,$E99:$CP99)","v":0},null,null,{"$f":"SUMIF($E$141:$CN$141,H$141,$E99:$CP99)","v":0},null,null,{"$f":"SUMIF($E$141:$CN$141,K$141,$E99:$CP99)","v":0},null,null,{"$f":"SUMIF($E$141:$CN$141,N$141,$E99:$CP99)","v":0},null,null,{"$f":"SUMIF($E$141:$CN$141,Q$141,$E99:$CP99)","v":0},null,null,{"$f":"SUMIF($E$141:$CN$141,T$141,$E99:$CP99)","v":0},null,null,{"$f":"SUMIF($E$141:$CN$141,W$141,$E99:$CP99)","v":0},null,null,{"$f":"SUMIF($E$141:$CN$141,Z$141,$E99:$CP99)","v":0},null,null,{"$f":"SUMIF($E$141:$CN$141,AC$141,$E99:$CP99)","v":0},null,null,{"$f":"SUMIF($E$141:$CN$141,AF$141,$E99:$CP99)","v":0},null,null,{"$f":"SUMIF($E$141:$CN$141,AI$141,$E99:$CP99)","v":0},null,null,{"$f":"SUMIF($E$141:$CN$141,AL$141,$E99:$CP99)","v":0},null,null,{"$f":"SUMIF($E$141:$CN$141,AO$141,$E99:$CP99)","v":0},null,null,{"$f":"SUMIF($E$141:$CN$141,AR$141,$E99:$CP99)","v":0},null,null,{"$f":"SUMIF($E$141:$CN$141,AU$141,$E99:$CP99)","v":0},null,null,{"$f":"SUMIF($E$141:$CN$141,AX$141,$E99:$CP99)","v":0},null,null,{"$f":"SUMIF($E$141:$CN$141,BA$141,$E99:$CP99)","v":0},null,null,{"$f":"SUMIF($E$141:$CN$141,BD$141,$E99:$CP99)","v":0},null,null,{"$f":"SUMIF($E$141:$CN$141,BG$141,$E99:$CP99)","v":0},null,null,{"$f":"SUMIF($E$141:$CN$141,BJ$141,$E99:$CP99)","v":0},null,null,{"$f":"SUMIF($E$141:$CN$141,BM$141,$E99:$CP99)","v":0},null,null,{"$f":"SUMIF($E$141:$CN$141,BP$141,$E99:$CP99)","v":0},null,null,{"$f":"SUMIF($E$141:$CN$141,BS$141,$E99:$CP99)","v":0},null,null,{"$f":"SUMIF($E$141:$CN$141,BV$141,$E99:$CP99)","v":0},null,null,{"$f":"SUMIF($E$141:$CN$141,BY$141,$E99:$CP99)","v":0},null,null,{"$f":"SUMIF($E$141:$CN$141,CB$141,$E99:$CP99)","v":0},null,null,{"$f":"SUMIF($E$141:$CN$141,CE$141,$E99:$CP99)","v":0},null,null,{"$f":"SUMIF($E$141:$CN$141,CH$141,$E99:$CP99)","v":0},null,null,{"$f":"SUMIF($E$141:$CN$141,CK$141,$E99:$CP99)","v":0},null,null,{"$f":"SUMIF($E$141:$CN$141,CN$141,$E99:$CP99)","v":0}]
[null,null,null,null,{"$f":"SUMIF($E$141:$CN$141,E$141,$E100:$CP100)","v":0},null,null,{"$f":"SUMIF($E$141:$CN$141,H$141,$E100:$CP100)","v":0},null,null,{"$f":"SUMIF($E$141:$CN$141,K$141,$E100:$CP100)","v":0},null,null,{"$f":"SUMIF($E$141:$CN$141,N$141,$E100:$CP100)","v":0},null,null,{"$f":"SUMIF($E$141:$CN$141,Q$141,$E100:$CP100)","v":0},null,null,{"$f":"SUMIF($E$141:$CN$141,T$141,$E100:$CP100)","v":0},null,null,{"$f":"SUMIF($E$141:$CN$141,W$141,$E100:$CP100)","v":0},null,null,{"$f":"SUMIF($E$141:$CN$141,Z$141,$E100:$CP100)","v":0},null,null,{"$f":"SUMIF($E$141:$CN$141,AC$141,$E100:$CP100)","v":0},null,null,{"$f":"SUMIF($E$141:$CN$141,AF$141,$E100:$CP100)","v":0},null,null,{"$f":"SUMIF($E$141:$CN$141,AI$141,$E100:$CP100)","v":0},null,null,{"$f":"SUMIF($E$141:$CN$141,AL$141,$E100:$CP100)","v":0},null,null,{"$f":"SUMIF($E$141:$CN$141,AO$141,$E100:$CP100)","v":0},null,null,{"$f":"SUMIF($E$141:$CN$141,AR$141,$E100:$CP100)","v":0},null,null,{"$f":"SUMIF($E$141:$CN$141,AU$141,$E100:$CP100)","v":0},null,null,{"$f":"SUMIF($E$141:$CN$141,AX$141,$E100:$CP100)","v":0},null,null,{"$f":"SUMIF($E$141:$CN$141,BA$141,$E100:$CP100)","v":0},null,null,{"$f":"SUMIF($E$141:$CN$141,BD$141,$E100:$CP100)","v":0},null,null,{"$f":"SUMIF($E$141:$CN$141,BG$141,$E100:$CP100)","v":0},null,null,{"$f":"SUMIF($E$141:$CN$141,BJ$141,$E100:$CP100)","v":0},null,null,{"$f":"SUMIF($E$141:$CN$141,BM$141,$E100:$CP100)","v":0},null,null,{"$f":"SUMIF($E$141:$CN$141,BP$141,$E100:$CP100)","v":0},null,null,{"$f":"SUMIF($E$141:$CN$141,BS$141,$E100:$CP100)","v":0},null,null,{"$f":"SUMIF($E$141:$CN$141,BV$141,$E100:$CP100)","v":0},null,null,{"$f":"SUMIF($E$141:$CN$141,BY$141,$E100:$CP100)","v":0},null,null,{"$f":"SUMIF($E$141:$CN$141,CB$141,$E100:$CP100)","v":0},null,null,{"$f":"SUMIF($E$141:$CN$141,CE$141,$E100:$CP100)","v":0},null,null,{"$f":"SUMIF($E$141:$CN$141,CH$141,$E100:$CP100)","v":0},null,null,{"$f":"SUMIF($E$141:$CN$141,CK$141,$E100:$CP100)","v":0},null,null,{"$f":"SUMIF($E$141:$CN$141,CN$141,$E100:$CP100)","v":0}]
[null,null,null,null,{"$f":"SUMIF($E$141:$CN$141,E$141,$E101:$CP101)","v":0},null,null,{"$f":"SUMIF($E$141:$CN$141,H$141,$E101:$CP101)","v":0},null,null,{"$f":"SUMIF($E$141:$CN$141,K$141,$E101:$CP101)","v":0},null,null,{"$f":"SUMIF($E$141:$CN$141,N$141,$E101:$CP101)","v":0},null,null,{"$f":"SUMIF($E$141:$CN$141,Q$141,$E101:$CP101)","v":0},null,null,{"$f":"SUMIF($E$141:$CN$141,T$141,$E101:$CP101)","v":0},null,null,{"$f":"SUMIF($E$141:$CN$141,W$141,$E101:$CP101)","v":0},null,null,{"$f":"SUMIF($E$141:$CN$141,Z$141,$E101:$CP101)","v":0},null,null,{"$f":"SUMIF($E$141:$CN$141,AC$141,$E101:$CP101)","v":0},null,null,{"$f":"SUMIF($E$141:$CN$141,AF$141,$E101:$CP101)","v":0},null,null,{"$f":"SUMIF($E$141:$CN$141,AI$141,$E101:$CP101)","v":0},null,null,{"$f":"SUMIF($E$141:$CN$141,AL$141,$E101:$CP101)","v":0},null,null,{"$f":"SUMIF($E$141:$CN$141,AO$141,$E101:$CP101)","v":0},null,null,{"$f":"SUMIF($E$141:$CN$141,AR$141,$E101:$CP101)","v":0},null,null,{"$f":"SUMIF($E$141:$CN$141,AU$141,$E101:$CP101)","v":0},null,null,{"$f":"SUMIF($E$141:$CN$141,AX$141,$E101:$CP101)","v":0},null,null,{"$f":"SUMIF($E$141:$CN$141,BA$141,$E101:$CP101)","v":0},null,null,{"$f":"SUMIF($E$141:$CN$141,BD$141,$E101:$CP101)","v":0},null,null,{"$f":"SUMIF($E$141:$CN$141,BG$141,$E101:$CP101)","v":0},null,null,{"$f":"SUMIF($E$141:$CN$141,BJ$141,$E101:$CP101)","v":0},null,null,{"$f":"SUMIF($E$141:$CN$141,BM$141,$E101:$CP101)","v":0},null,null,{"$f":"SUMIF($E$141:$CN$141,BP$141,$E101:$CP101)","v":0},null,null,{"$f":"SUMIF($E$141:$CN$141,BS$141,$E101:$CP101)","v":0},null,null,{"$f":"SUMIF($E$141:$CN$141,BV$141,$E101:$CP101)","v":0},null,null,{"$f":"SUMIF($E$141:$CN$141,BY$141,$E101:$CP101)","v":0},null,null,{"$f":"SUMIF($E$141:$CN$141,CB$141,$E101:$CP101)","v":0},null,null,{"$f":"SUMIF($E$141:$CN$141,CE$141,$E101:$CP101)","v":0},null,null,{"$f":"SUMIF($E$141:$CN$141,CH$141,$E101:$CP101)","v":0},null,null,{"$f":"SUMIF($E$141:$CN$141,CK$141,$E101:$CP101)","v":0},null,null,{"$f":"SUMIF($E$141:$CN$141,CN$141,$E101:$CP101)","v":0}]
[]
[null,null,"Day 23 Formulas",null,{"$f":"SUMIF($E$141:$CN$141,E$141,$E103:$CP103)","v":0},null,null,{"$f":"SUMIF($E$141:$CN$141,H$141,$E103:$CP103)","v":0},null,null,{"$f":"SUMIF($E$141:$CN$141,K$141,$E103:$CP103)","v":0},null,null,{"$f":"SUMIF($E$141:$CN$141,N$141,$E103:$CP103)","v":0},null,null,{"$f":"SUMIF($E$141:$CN$141,Q$141,$E103:$CP103)","v":0},null,null,{"$f":"SUMIF($E$141:$CN$141,T$141,$E103:$CP103)","v":0},null,null,{"$f":"SUMIF($E$141:$CN$141,W$141,$E103:$CP103)","v":0},null,null,{"$f":"SUMIF($E$141:$CN$141,Z$141,$E103:$CP103)","v":0},null,null,{"$f":"SUMIF($E$141:$CN$141,AC$141,$E103:$CP103)","v":0},null,null,{"$f":"SUMIF($E$141:$CN$141,AF$141,$E103:$CP103)","v":0},null,null,{"$f":"SUMIF($E$141:$CN$141,AI$141,$E103:$CP103)","v":0},null,null,{"$f":"SUMIF($E$141:$CN$141,AL$141,$E103:$CP103)","v":0},null,null,{"$f":"SUMIF($E$141:$CN$141,AO$141,$E103:$CP103)","v":0},null,null,{"$f":"SUMIF($E$141:$CN$141,AR$141,$E103:$CP103)","v":0},null,null,{"$f":"SUMIF($E$141:$CN$141,AU$141,$E103:$CP103)","v":0},null,null,{"$f":"SUMIF($E$141:$CN$141,AX$141,$E103:$CP103)","v":0},null,null,{"$f":"SUMIF($E$141:$CN$141,BA$141,$E103:$CP103)","v":0},null,null,{"$f":"SUMIF($E$141:$CN$141,BD$141,$E103:$CP103)","v":0},null,null,{"$f":"SUMIF($E$141:$CN$141,BG$141,$E103:$CP103)","v":0},null,null,{"$f":"SUMIF($E$141:$CN$141,BJ$141,$E103:$CP103)","v":0},null,null,{"$f":"SUMIF($E$141:$CN$141,BM$141,$E103:$CP103)","v":0},null,null,{"$f":"SUMIF($E$141:$CN$141,BP$141,$E103:$CP103)","v":0},null,null,{"$f":"SUMIF($E$141:$CN$141,BS$141,$E103:$CP103)","v":0},null,null,{"$f":"SUMIF($E$141:$CN$141,BV$141,$E103:$CP103)","v":0},null,null,{"$f":"SUMIF($E$141:$CN$141,BY$141,$E103:$CP103)","v":0},null,null,{"$f":"SUMIF($E$141:$CN$141,CB$141,$E103:$CP103)","v":0},null,null,{"$f":"SUMIF($E$141:$CN$141,CE$141,$E103:$CP103)","v":0},null,null,{"$f":"SUMIF($E$141:$CN$141,CH$141,$E103:$CP103)","v":0},null,null,{"$f":"SUMIF($E$141:$CN$141,CK$141,$E103:$CP103)","v":0},null,null,{"$f":"SUMIF($E$141:$CN$141,CN$141,$E103:$CP103)","v":0}]
[null,null,null,null,{"$f":"SUMIF($E$141:$CN$141,E$141,$E104:$CP104)","v":0},null,null,{"$f":"SUMIF($E$141:$CN$141,H$141,$E104:$CP104)","v":0},null,null,{"$f":"SUMIF($E$141:$CN$141,K$141,$E104:$CP104)","v":0},null,null,{"$f":"SUMIF($E$141:$CN$141,N$141,$E104:$CP104)","v":0},null,null,{"$f":"SUMIF($E$141:$CN$141,Q$141,$E104:$CP104)","v":0},null,null,{"$f":"SUMIF($E$141:$CN$141,T$141,$E104:$CP104)","v":0},null,null,{"$f":"SUMIF($E$141:$CN$141,W$141,$E104:$CP104)","v":0},null,null,{"$f":"SUMIF($E$141:$CN$141,Z$141,$E104:$CP104)","v":0},null,null,{"$f":"SUMIF($E$141:$CN$141,AC$141,$E104:$CP104)","v":0},null,null,{"$f":"SUMIF($E$141:$CN$141,AF$141,$E104:$CP104)","v":0},null,null,{"$f":"SUMIF($E$141:$CN$141,AI$141,$E104:$CP104)","v":0},null,null,{"$f":"SUMIF($E$141:$CN$141,AL$141,$E104:$CP104)","v":0},null,null,{"$f":"SUMIF($E$141:$CN$141,AO$141,$E104:$CP104)","v":0},null,null,{"$f":"SUMIF($E$141:$CN$141,AR$141,$E104:$CP104)","v":0},null,null,{"$f":"SUMIF($E$141:$CN$141,AU$141,$E104:$CP104)","v":0},null,null,{"$f":"SUMIF($E$141:$CN$141,AX$141,$E104:$CP104)","v":0},null,null,{"$f":"SUMIF($E$141:$CN$141,BA$141,$E104:$CP104)","v":0},null,null,{"$f":"SUMIF($E$141:$CN$141,BD$141,$E104:$CP104)","v":0},null,null,{"$f":"SUMIF($E$141:$CN$141,BG$141,$E104:$CP104)","v":0},null,null,{"$f":"SUMIF($E$141:$CN$141,BJ$141,$E104:$CP104)","v":0},null,null,{"$f":"SUMIF($E$141:$CN$141,BM$141,$E104:$CP104)","v":0},null,null,{"$f":"SUMIF($E$141:$CN$141,BP$141,$E104:$CP104)","v":0},null,null,{"$f":"SUMIF($E$141:$CN$141,BS$141,$E104:$CP104)","v":0},null,null,{"$f":"SUMIF($E$141:$CN$141,BV$141,$E104:$CP104)","v":0},null,null,{"$f":"SUMIF($E$141:$CN$141,BY$141,$E104:$CP104)","v":0},null,null,{"$f":"SUMIF($E$141:$CN$141,CB$141,$E104:$CP104)","v":0},null,null,{"$f":"SUMIF($E$141:$CN$141,CE$141,$E104:$CP104)","v":0},null,null,{"$f":"SUMIF($E$141:$CN$141,CH$141,$E104:$CP104)","v":0},null,null,{"$f":"SUMIF($E$141:$CN$141,CK$141,$E104:$CP104)","v":0},null,null,{"$f":"SUMIF($E$141:$CN$141,CN$141,$E104:$CP104)","v":0}]
[null,null,null,null,{"$f":"SUMIF($E$141:$CN$141,E$141,$E105:$CP105)","v":0},null,null,{"$f":"SUMIF($E$141:$CN$141,H$141,$E105:$CP105)","v":0},null,null,{"$f":"SUMIF($E$141:$CN$141,K$141,$E105:$CP105)","v":0},null,null,{"$f":"SUMIF($E$141:$CN$141,N$141,$E105:$CP105)","v":0},null,null,{"$f":"SUMIF($E$141:$CN$141,Q$141,$E105:$CP105)","v":0},null,null,{"$f":"SUMIF($E$141:$CN$141,T$141,$E105:$CP105)","v":0},null,null,{"$f":"SUMIF($E$141:$CN$141,W$141,$E105:$CP105)","v":0},null,null,{"$f":"SUMIF($E$141:$CN$141,Z$141,$E105:$CP105)","v":0},null,null,{"$f":"SUMIF($E$141:$CN$141,AC$141,$E105:$CP105)","v":0},null,null,{"$f":"SUMIF($E$141:$CN$141,AF$141,$E105:$CP105)","v":0},null,null,{"$f":"SUMIF($E$141:$CN$141,AI$141,$E105:$CP105)","v":0},null,null,{"$f":"SUMIF($E$141:$CN$141,AL$141,$E105:$CP105)","v":0},null,null,{"$f":"SUMIF($E$141:$CN$141,AO$141,$E105:$CP105)","v":0},null,null,{"$f":"SUMIF($E$141:$CN$141,AR$141,$E105:$CP105)","v":0},null,null,{"$f":"SUMIF($E$141:$CN$141,AU$141,$E105:$CP105)","v":0},null,null,{"$f":"SUMIF($E$141:$CN$141,AX$141,$E105:$CP105)","v":0},null,null,{"$f":"SUMIF($E$141:$CN$141,BA$141,$E105:$CP105)","v":0},null,null,{"$f":"SUMIF($E$141:$CN$141,BD$141,$E105:$CP105)","v":0},null,null,{"$f":"SUMIF($E$141:$CN$141,BG$141,$E105:$CP105)","v":0},null,null,{"$f":"SUMIF($E$141:$CN$141,BJ$141,$E105:$CP105)","v":0},null,null,{"$f":"SUMIF($E$141:$CN$141,BM$141,$E105:$CP105)","v":0},null,null,{"$f":"SUMIF($E$141:$CN$141,BP$141,$E105:$CP105)","v":0},null,null,{"$f":"SUMIF($E$141:$CN$141,BS$141,$E105:$CP105)","v":0},null,null,{"$f":"SUMIF($E$141:$CN$141,BV$141,$E105:$CP105)","v":0},null,null,{"$f":"SUMIF($E$141:$CN$141,BY$141,$E105:$CP105)","v":0},null,null,{"$f":"SUMIF($E$141:$CN$141,CB$141,$E105:$CP105)","v":0},null,null,{"$f":"SUMIF($E$141:$CN$141,CE$141,$E105:$CP105)","v":0},null,null,{"$f":"SUMIF($E$141:$CN$141,CH$141,$E105:$CP105)","v":0},null,null,{"$f":"SUMIF($E$141:$CN$141,CK$141,$E105:$CP105)","v":0},null,null,{"$f":"SUMIF($E$141:$CN$141,CN$141,$E105:$CP105)","v":0}]
[]
[null,null,"Day 24 Formulas",null,{"$f":"SUMIF($E$141:$CN$141,E$141,$E107:$CP107)","v":0},null,null,{"$f":"SUMIF($E$141:$CN$141,H$141,$E107:$CP107)","v":0},null,null,{"$f":"SUMIF($E$141:$CN$141,K$141,$E107:$CP107)","v":0},null,null,{"$f":"SUMIF($E$141:$CN$141,N$141,$E107:$CP107)","v":0},null,null,{"$f":"SUMIF($E$141:$CN$141,Q$141,$E107:$CP107)","v":0},null,null,{"$f":"SUMIF($E$141:$CN$141,T$141,$E107:$CP107)","v":0},null,null,{"$f":"SUMIF($E$141:$CN$141,W$141,$E107:$CP107)","v":0},null,null,{"$f":"SUMIF($E$141:$CN$141,Z$141,$E107:$CP107)","v":0},null,null,{"$f":"SUMIF($E$141:$CN$141,AC$141,$E107:$CP107)","v":0},null,null,{"$f":"SUMIF($E$141:$CN$141,AF$141,$E107:$CP107)","v":0},null,null,{"$f":"SUMIF($E$141:$CN$141,AI$141,$E107:$CP107)","v":0},null,null,{"$f":"SUMIF($E$141:$CN$141,AL$141,$E107:$CP107)","v":0},null,null,{"$f":"SUMIF($E$141:$CN$141,AO$141,$E107:$CP107)","v":0},null,null,{"$f":"SUMIF($E$141:$CN$141,AR$141,$E107:$CP107)","v":0},null,null,{"$f":"SUMIF($E$141:$CN$141,AU$141,$E107:$CP107)","v":0},null,null,{"$f":"SUMIF($E$141:$CN$141,AX$141,$E107:$CP107)","v":0},null,null,{"$f":"SUMIF($E$141:$CN$141,BA$141,$E107:$CP107)","v":0},null,null,{"$f":"SUMIF($E$141:$CN$141,BD$141,$E107:$CP107)","v":0},null,null,{"$f":"SUMIF($E$141:$CN$141,BG$141,$E107:$CP107)","v":0},null,null,{"$f":"SUMIF($E$141:$CN$141,BJ$141,$E107:$CP107)","v":0},null,null,{"$f":"SUMIF($E$141:$CN$141,BM$141,$E107:$CP107)","v":0},null,null,{"$f":"SUMIF($E$141:$CN$141,BP$141,$E107:$CP107)","v":0},null,null,{"$f":"SUMIF($E$141:$CN$141,BS$141,$E107:$CP107)","v":0},null,null,{"$f":"SUMIF($E$141:$CN$141,BV$141,$E107:$CP107)","v":0},null,null,{"$f":"SUMIF($E$141:$CN$141,BY$141,$E107:$CP107)","v":0},null,null,{"$f":"SUMIF($E$141:$CN$141,CB$141,$E107:$CP107)","v":0},null,null,{"$f":"SUMIF($E$141:$CN$141,CE$141,$E107:$CP107)","v":0},null,null,{"$f":"SUMIF($E$141:$CN$141,CH$141,$E107:$CP107)","v":0},null,null,{"$f":"SUMIF($E$141:$CN$141,CK$141,$E107:$CP107)","v":0},null,null,{"$f":"SUMIF($E$141:$CN$141,CN$141,$E107:$CP107)","v":0}]
[null,null,null,null,{"$f":"SUMIF($E$141:$CN$141,E$141,$E108:$CP108)","v":0},null,null,{"$f":"SUMIF($E$141:$CN$141,H$141,$E108:$CP108)","v":0},null,null,{"$f":"SUMIF($E$141:$CN$141,K$141,$E108:$CP108)","v":0},null,null,{"$f":"SUMIF($E$141:$CN$141,N$141,$E108:$CP108)","v":0},null,null,{"$f":"SUMIF($E$141:$CN$141,Q$141,$E108:$CP108)","v":0},null,null,{"$f":"SUMIF($E$141:$CN$141,T$141,$E108:$CP108)","v":0},null,null,{"$f":"SUMIF($E$141:$CN$141,W$141,$E108:$CP108)","v":0},null,null,{"$f":"SUMIF($E$141:$CN$141,Z$141,$E108:$CP108)","v":0},null,null,{"$f":"SUMIF($E$141:$CN$141,AC$141,$E108:$CP108)","v":0},null,null,{"$f":"SUMIF($E$141:$CN$141,AF$141,$E108:$CP108)","v":0},null,null,{"$f":"SUMIF($E$141:$CN$141,AI$141,$E108:$CP108)","v":0},null,null,{"$f":"SUMIF($E$141:$CN$141,AL$141,$E108:$CP108)","v":0},null,null,{"$f":"SUMIF($E$141:$CN$141,AO$141,$E108:$CP108)","v":0},null,null,{"$f":"SUMIF($E$141:$CN$141,AR$141,$E108:$CP108)","v":0},null,null,{"$f":"SUMIF($E$141:$CN$141,AU$141,$E108:$CP108)","v":0},null,null,{"$f":"SUMIF($E$141:$CN$141,AX$141,$E108:$CP108)","v":0},null,null,{"$f":"SUMIF($E$141:$CN$141,BA$141,$E108:$CP108)","v":0},null,null,{"$f":"SUMIF($E$141:$CN$141,BD$141,$E108:$CP108)","v":0},null,null,{"$f":"SUMIF($E$141:$CN$141,BG$141,$E108:$CP108)","v":0},null,null,{"$f":"SUMIF($E$141:$CN$141,BJ$141,$E108:$CP108)","v":0},null,null,{"$f":"SUMIF($E$141:$CN$141,BM$141,$E108:$CP108)","v":0},null,null,{"$f":"SUMIF($E$141:$CN$141,BP$141,$E108:$CP108)","v":0},null,null,{"$f":"SUMIF($E$141:$CN$141,BS$141,$E108:$CP108)","v":0},null,null,{"$f":"SUMIF($E$141:$CN$141,BV$141,$E108:$CP108)","v":0},null,null,{"$f":"SUMIF($E$141:$CN$141,BY$141,$E108:$CP108)","v":0},null,null,{"$f":"SUMIF($E$141:$CN$141,CB$141,$E108:$CP108)","v":0},null,null,{"$f":"SUMIF($E$141:$CN$141,CE$141,$E108:$CP108)","v":0},null,null,{"$f":"SUMIF($E$141:$CN$141,CH$141,$E108:$CP108)","v":0},null,null,{"$f":"SUMIF($E$141:$CN$141,CK$141,$E108:$CP108)","v":0},null,null,{"$f":"SUMIF($E$141:$CN$141,CN$141,$E108:$CP108)","v":0}]
[null,null,null,null,{"$f":"SUMIF($E$141:$CN$141,E$141,$E109:$CP109)","v":0},null,null,{"$f":"SUMIF($E$141:$CN$141,H$141,$E109:$CP109)","v":0},null,null,{"$f":"SUMIF($E$141:$CN$141,K$141,$E109:$CP109)","v":0},null,null,{"$f":"SUMIF($E$141:$CN$141,N$141,$E109:$CP109)","v":0},null,null,{"$f":"SUMIF($E$141:$CN$141,Q$141,$E109:$CP109)","v":0},null,null,{"$f":"SUMIF($E$141:$CN$141,T$141,$E109:$CP109)","v":0},null,null,{"$f":"SUMIF($E$141:$CN$141,W$141,$E109:$CP109)","v":0},null,null,{"$f":"SUMIF($E$141:$CN$141,Z$141,$E109:$CP109)","v":0},null,null,{"$f":"SUMIF($E$141:$CN$141,AC$141,$E109:$CP109)","v":0},null,null,{"$f":"SUMIF($E$141:$CN$141,AF$141,$E109:$CP109)","v":0},null,null,{"$f":"SUMIF($E$141:$CN$141,AI$141,$E109:$CP109)","v":0},null,null,{"$f":"SUMIF($E$141:$CN$141,AL$141,$E109:$CP109)","v":0},null,null,{"$f":"SUMIF($E$141:$CN$141,AO$141,$E109:$CP109)","v":0},null,null,{"$f":"SUMIF($E$141:$CN$141,AR$141,$E109:$CP109)","v":0},null,null,{"$f":"SUMIF($E$141:$CN$141,AU$141,$E109:$CP109)","v":0},null,null,{"$f":"SUMIF($E$141:$CN$141,AX$141,$E109:$CP109)","v":0},null,null,{"$f":"SUMIF($E$141:$CN$141,BA$141,$E109:$CP109)","v":0},null,null,{"$f":"SUMIF($E$141:$CN$141,BD$141,$E109:$CP109)","v":0},null,null,{"$f":"SUMIF($E$141:$CN$141,BG$141,$E109:$CP109)","v":0},null,null,{"$f":"SUMIF($E$141:$CN$141,BJ$141,$E109:$CP109)","v":0},null,null,{"$f":"SUMIF($E$141:$CN$141,BM$141,$E109:$CP109)","v":0},null,null,{"$f":"SUMIF($E$141:$CN$141,BP$141,$E109:$CP109)","v":0},null,null,{"$f":"SUMIF($E$141:$CN$141,BS$141,$E109:$CP109)","v":0},null,null,{"$f":"SUMIF($E$141:$CN$141,BV$141,$E109:$CP109)","v":0},null,null,{"$f":"SUMIF($E$141:$CN$141,BY$141,$E109:$CP109)","v":0},null,null,{"$f":"SUMIF($E$141:$CN$141,CB$141,$E109:$CP109)","v":0},null,null,{"$f":"SUMIF($E$141:$CN$141,CE$141,$E109:$CP109)","v":0},null,null,{"$f":"SUMIF($E$141:$CN$141,CH$141,$E109:$CP109)","v":0},null,null,{"$f":"SUMIF($E$141:$CN$141,CK$141,$E109:$CP109)","v":0},null,null,{"$f":"SUMIF($E$141:$CN$141,CN$141,$E109:$CP109)","v":0}]
[]
[null,null,"Day 25 Formulas",null,{"$f":"SUMIF($E$141:$CN$141,E$141,$E111:$CP111)","v":0},null,null,{"$f":"SUMIF($E$141:$CN$141,H$141,$E111:$CP111)","v":0},null,null,{"$f":"SUMIF($E$141:$CN$141,K$141,$E111:$CP111)","v":0},null,null,{"$f":"SUMIF($E$141:$CN$141,N$141,$E111:$CP111)","v":0},null,null,{"$f":"SUMIF($E$141:$CN$141,Q$141,$E111:$CP111)","v":0},null,null,{"$f":"SUMIF($E$141:$CN$141,T$141,$E111:$CP111)","v":0},null,null,{"$f":"SUMIF($E$141:$CN$141,W$141,$E111:$CP111)","v":0},null,null,{"$f":"SUMIF($E$141:$CN$141,Z$141,$E111:$CP111)","v":0},null,null,{"$f":"SUMIF($E$141:$CN$141,AC$141,$E111:$CP111)","v":0},null,null,{"$f":"SUMIF($E$141:$CN$141,AF$141,$E111:$CP111)","v":0},null,null,{"$f":"SUMIF($E$141:$CN$141,AI$141,$E111:$CP111)","v":0},null,null,{"$f":"SUMIF($E$141:$CN$141,AL$141,$E111:$CP111)","v":0},null,null,{"$f":"SUMIF($E$141:$CN$141,AO$141,$E111:$CP111)","v":0},null,null,{"$f":"SUMIF($E$141:$CN$141,AR$141,$E111:$CP111)","v":0},null,null,{"$f":"SUMIF($E$141:$CN$141,AU$141,$E111:$CP111)","v":0},null,null,{"$f":"SUMIF($E$141:$CN$141,AX$141,$E111:$CP111)","v":0},null,null,{"$f":"SUMIF($E$141:$CN$141,BA$141,$E111:$CP111)","v":0},null,null,{"$f":"SUMIF($E$141:$CN$141,BD$141,$E111:$CP111)","v":0},null,null,{"$f":"SUMIF($E$141:$CN$141,BG$141,$E111:$CP111)","v":0},null,null,{"$f":"SUMIF($E$141:$CN$141,BJ$141,$E111:$CP111)","v":0},null,null,{"$f":"SUMIF($E$141:$CN$141,BM$141,$E111:$CP111)","v":0},null,null,{"$f":"SUMIF($E$141:$CN$141,BP$141,$E111:$CP111)","v":0},null,null,{"$f":"SUMIF($E$141:$CN$141,BS$141,$E111:$CP111)","v":0},null,null,{"$f":"SUMIF($E$141:$CN$141,BV$141,$E111:$CP111)","v":0},null,null,{"$f":"SUMIF($E$141:$CN$141,BY$141,$E111:$CP111)","v":0},null,null,{"$f":"SUMIF($E$141:$CN$141,CB$141,$E111:$CP111)","v":0},null,null,{"$f":"SUMIF($E$141:$CN$141,CE$141,$E111:$CP111)","v":0},null,null,{"$f":"SUMIF($E$141:$CN$141,CH$141,$E111:$CP111)","v":0},null,null,{"$f":"SUMIF($E$141:$CN$141,CK$141,$E111:$CP111)","v":0},null,null,{"$f":"SUMIF($E$141:$CN$141,CN$141,$E111:$CP111)","v":0}]
[null,null,null,null,{"$f":"SUMIF($E$141:$CN$141,E$141,$E112:$CP112)","v":0},null,null,{"$f":"SUMIF($E$141:$CN$141,H$141,$E112:$CP112)","v":0},null,null,{"$f":"SUMIF($E$141:$CN$141,K$141,$E112:$CP112)","v":0},null,null,{"$f":"SUMIF($E$141:$CN$141,N$141,$E112:$CP112)","v":0},null,null,{"$f":"SUMIF($E$141:$CN$141,Q$141,$E112:$CP112)","v":0},null,null,{"$f":"SUMIF($E$141:$CN$141,T$141,$E112:$CP112)","v":0},null,null,{"$f":"SUMIF($E$141:$CN$141,W$141,$E112:$CP112)","v":0},null,null,{"$f":"SUMIF($E$141:$CN$141,Z$141,$E112:$CP112)","v":0},null,null,{"$f":"SUMIF($E$141:$CN$141,AC$141,$E112:$CP112)","v":0},null,null,{"$f":"SUMIF($E$141:$CN$141,AF$141,$E112:$CP112)","v":0},null,null,{"$f":"SUMIF($E$141:$CN$141,AI$141,$E112:$CP112)","v":0},null,null,{"$f":"SUMIF($E$141:$CN$141,AL$141,$E112:$CP112)","v":0},null,null,{"$f":"SUMIF($E$141:$CN$141,AO$141,$E112:$CP112)","v":0},null,null,{"$f":"SUMIF($E$141:$CN$141,AR$141,$E112:$CP112)","v":0},null,null,{"$f":"SUMIF($E$141:$CN$141,AU$141,$E112:$CP112)","v":0},null,null,{"$f":"SUMIF($E$141:$CN$141,AX$141,$E112:$CP112)","v":0},null,null,{"$f":"SUMIF($E$141:$CN$141,BA$141,$E112:$CP112)","v":0},null,null,{"$f":"SUMIF($E$141:$CN$141,BD$141,$E112:$CP112)","v":0},null,null,{"$f":"SUMIF($E$141:$CN$141,BG$141,$E112:$CP112)","v":0},null,null,{"$f":"SUMIF($E$141:$CN$141,BJ$141,$E112:$CP112)","v":0},null,null,{"$f":"SUMIF($E$141:$CN$141,BM$141,$E112:$CP112)","v":0},null,null,{"$f":"SUMIF($E$141:$CN$141,BP$141,$E112:$CP112)","v":0},null,null,{"$f":"SUMIF($E$141:$CN$141,BS$141,$E112:$CP112)","v":0},null,null,{"$f":"SUMIF($E$141:$CN$141,BV$141,$E112:$CP112)","v":0},null,null,{"$f":"SUMIF($E$141:$CN$141,BY$141,$E112:$CP112)","v":0},null,null,{"$f":"SUMIF($E$141:$CN$141,CB$141,$E112:$CP112)","v":0},null,null,{"$f":"SUMIF($E$141:$CN$141,CE$141,$E112:$CP112)","v":0},null,null,{"$f":"SUMIF($E$141:$CN$141,CH$141,$E112:$CP112)","v":0},null,null,{"$f":"SUMIF($E$141:$CN$141,CK$141,$E112:$CP112)","v":0},null,null,{"$f":"SUMIF($E$141:$CN$141,CN$141,$E112:$CP112)","v":0}]
[null,null,null,null,{"$f":"SUMIF($E$141:$CN$141,E$141,$E113:$CP113)","v":0},null,null,{"$f":"SUMIF($E$141:$CN$141,H$141,$E113:$CP113)","v":0},null,null,{"$f":"SUMIF($E$141:$CN$141,K$141,$E113:$CP113)","v":0},null,null,{"$f":"SUMIF($E$141:$CN$141,N$141,$E113:$CP113)","v":0},null,null,{"$f":"SUMIF($E$141:$CN$141,Q$141,$E113:$CP113)","v":0},null,null,{"$f":"SUMIF($E$141:$CN$141,T$141,$E113:$CP113)","v":0},null,null,{"$f":"SUMIF($E$141:$CN$141,W$141,$E113:$CP113)","v":0},null,null,{"$f":"SUMIF($E$141:$CN$141,Z$141,$E113:$CP113)","v":0},null,null,{"$f":"SUMIF($E$141:$CN$141,AC$141,$E113:$CP113)","v":0},null,null,{"$f":"SUMIF($E$141:$CN$141,AF$141,$E113:$CP113)","v":0},null,null,{"$f":"SUMIF($E$141:$CN$141,AI$141,$E113:$CP113)","v":0},null,null,{"$f":"SUMIF($E$141:$CN$141,AL$141,$E113:$CP113)","v":0},null,null,{"$f":"SUMIF($E$141:$CN$141,AO$141,$E113:$CP113)","v":0},null,null,{"$f":"SUMIF($E$141:$CN$141,AR$141,$E113:$CP113)","v":0},null,null,{"$f":"SUMIF($E$141:$CN$141,AU$141,$E113:$CP113)","v":0},null,null,{"$f":"SUMIF($E$141:$CN$141,AX$141,$E113:$CP113)","v":0},null,null,{"$f":"SUMIF($E$141:$CN$141,BA$141,$E113:$CP113)","v":0},null,null,{"$f":"SUMIF($E$141:$CN$141,BD$141,$E113:$CP113)","v":0},null,null,{"$f":"SUMIF($E$141:$CN$141,BG$141,$E113:$CP113)","v":0},null,null,{"$f":"SUMIF($E$141:$CN$141,BJ$141,$E113:$CP113)","v":0},null,null,{"$f":"SUMIF($E$141:$CN$141,BM$141,$E113:$CP113)","v":0},null,null,{"$f":"SUMIF($E$141:$CN$141,BP$141,$E113:$CP113)","v":0},null,null,{"$f":"SUMIF($E$141:$CN$141,BS$141,$E113:$CP113)","v":0},null,null,{"$f":"SUMIF($E$141:$CN$141,BV$141,$E113:$CP113)","v":0},null,null,{"$f":"SUMIF($E$141:$CN$141,BY$141,$E113:$CP113)","v":0},null,null,{"$f":"SUMIF($E$141:$CN$141,CB$141,$E113:$CP113)","v":0},null,null,{"$f":"SUMIF($E$141:$CN$141,CE$141,$E113:$CP113)","v":0},null,null,{"$f":"SUMIF($E$141:$CN$141,CH$141,$E113:$CP113)","v":0},null,null,{"$f":"SUMIF($E$141:$CN$141,CK$141,$E113:$CP113)","v":0},null,null,{"$f":"SUMIF($E$141:$CN$141,CN$141,$E113:$CP113)","v":0}]
[]
[null,null,"Day 26 Formulas",null,{"$f":"SUMIF($E$141:$CN$141,E$141,$E115:$CP115)","v":0},null,null,{"$f":"SUMIF($E$141:$CN$141,H$141,$E115:$CP115)","v":0},null,null,{"$f":"SUMIF($E$141:$CN$141,K$141,$E115:$CP115)","v":0},null,null,{"$f":"SUMIF($E$141:$CN$141,N$141,$E115:$CP115)","v":0},null,null,{"$f":"SUMIF($E$141:$CN$141,Q$141,$E115:$CP115)","v":0},null,null,{"$f":"SUMIF($E$141:$CN$141,T$141,$E115:$CP115)","v":0},null,null,{"$f":"SUMIF($E$141:$CN$141,W$141,$E115:$CP115)","v":0},null,null,{"$f":"SUMIF($E$141:$CN$141,Z$141,$E115:$CP115)","v":0},null,null,{"$f":"SUMIF($E$141:$CN$141,AC$141,$E115:$CP115)","v":0},null,null,{"$f":"SUMIF($E$141:$CN$141,AF$141,$E115:$CP115)","v":0},null,null,{"$f":"SUMIF($E$141:$CN$141,AI$141,$E115:$CP115)","v":0},null,null,{"$f":"SUMIF($E$141:$CN$141,AL$141,$E115:$CP115)","v":0},null,null,{"$f":"SUMIF($E$141:$CN$141,AO$141,$E115:$CP115)","v":0},null,null,{"$f":"SUMIF($E$141:$CN$141,AR$141,$E115:$CP115)","v":0},null,null,{"$f":"SUMIF($E$141:$CN$141,AU$141,$E115:$CP115)","v":0},null,null,{"$f":"SUMIF($E$141:$CN$141,AX$141,$E115:$CP115)","v":0},null,null,{"$f":"SUMIF($E$141:$CN$141,BA$141,$E115:$CP115)","v":0},null,null,{"$f":"SUMIF($E$141:$CN$141,BD$141,$E115:$CP115)","v":0},null,null,{"$f":"SUMIF($E$141:$CN$141,BG$141,$E115:$CP115)","v":0},null,null,{"$f":"SUMIF($E$141:$CN$141,BJ$141,$E115:$CP115)","v":0},null,null,{"$f":"SUMIF($E$141:$CN$141,BM$141,$E115:$CP115)","v":0},null,null,{"$f":"SUMIF($E$141:$CN$141,BP$141,$E115:$CP115)","v":0},null,null,{"$f":"SUMIF($E$141:$CN$141,BS$141,$E115:$CP115)","v":0},null,null,{"$f":"SUMIF($E$141:$CN$141,BV$141,$E115:$CP115)","v":0},null,null,{"$f":"SUMIF($E$141:$CN$141,BY$141,$E115:$CP115)","v":0},null,null,{"$f":"SUMIF($E$141:$CN$141,CB$141,$E115:$CP115)","v":0},null,null,{"$f":"SUMIF($E$141:$CN$141,CE$141,$E115:$CP115)","v":0},null,null,{"$f":"SUMIF($E$141:$CN$141,CH$141,$E115:$CP115)","v":0},null,null,{"$f":"SUMIF($E$141:$CN$141,CK$141,$E115:$CP115)","v":0},null,null,{"$f":"SUMIF($E$141:$CN$141,CN$141,$E115:$CP115)","v":0}]
[null,null,null,null,{"$f":"SUMIF($E$141:$CN$141,E$141,$E116:$CP116)","v":0},null,null,{"$f":"SUMIF($E$141:$CN$141,H$141,$E116:$CP116)","v":0},null,null,{"$f":"SUMIF($E$141:$CN$141,K$141,$E116:$CP116)","v":0},null,null,{"$f":"SUMIF($E$141:$CN$141,N$141,$E116:$CP116)","v":0},null,null,{"$f":"SUMIF($E$141:$CN$141,Q$141,$E116:$CP116)","v":0},null,null,{"$f":"SUMIF($E$141:$CN$141,T$141,$E116:$CP116)","v":0},null,null,{"$f":"SUMIF($E$141:$CN$141,W$141,$E116:$CP116)","v":0},null,null,{"$f":"SUMIF($E$141:$CN$141,Z$141,$E116:$CP116)","v":0},null,null,{"$f":"SUMIF($E$141:$CN$141,AC$141,$E116:$CP116)","v":0},null,null,{"$f":"SUMIF($E$141:$CN$141,AF$141,$E116:$CP116)","v":0},null,null,{"$f":"SUMIF($E$141:$CN$141,AI$141,$E116:$CP116)","v":0},null,null,{"$f":"SUMIF($E$141:$CN$141,AL$141,$E116:$CP116)","v":0},null,null,{"$f":"SUMIF($E$141:$CN$141,AO$141,$E116:$CP116)","v":0},null,null,{"$f":"SUMIF($E$141:$CN$141,AR$141,$E116:$CP116)","v":0},null,null,{"$f":"SUMIF($E$141:$CN$141,AU$141,$E116:$CP116)","v":0},null,null,{"$f":"SUMIF($E$141:$CN$141,AX$141,$E116:$CP116)","v":0},null,null,{"$f":"SUMIF($E$141:$CN$141,BA$141,$E116:$CP116)","v":0},null,null,{"$f":"SUMIF($E$141:$CN$141,BD$141,$E116:$CP116)","v":0},null,null,{"$f":"SUMIF($E$141:$CN$141,BG$141,$E116:$CP116)","v":0},null,null,{"$f":"SUMIF($E$141:$CN$141,BJ$141,$E116:$CP116)","v":0},null,null,{"$f":"SUMIF($E$141:$CN$141,BM$141,$E116:$CP116)","v":0},null,null,{"$f":"SUMIF($E$141:$CN$141,BP$141,$E116:$CP116)","v":0},null,null,{"$f":"SUMIF($E$141:$CN$141,BS$141,$E116:$CP116)","v":0},null,null,{"$f":"SUMIF($E$141:$CN$141,BV$141,$E116:$CP116)","v":0},null,null,{"$f":"SUMIF($E$141:$CN$141,BY$141,$E116:$CP116)","v":0},null,null,{"$f":"SUMIF($E$141:$CN$141,CB$141,$E116:$CP116)","v":0},null,null,{"$f":"SUMIF($E$141:$CN$141,CE$141,$E116:$CP116)","v":0},null,null,{"$f":"SUMIF($E$141:$CN$141,CH$141,$E116:$CP116)","v":0},null,null,{"$f":"SUMIF($E$141:$CN$141,CK$141,$E116:$CP116)","v":0},null,null,{"$f":"SUMIF($E$141:$CN$141,CN$141,$E116:$CP116)","v":0}]
[null,null,null,null,{"$f":"SUMIF($E$141:$CN$141,E$141,$E117:$CP117)","v":0},null,null,{"$f":"SUMIF($E$141:$CN$141,H$141,$E117:$CP117)","v":0},null,null,{"$f":"SUMIF($E$141:$CN$141,K$141,$E117:$CP117)","v":0},null,null,{"$f":"SUMIF($E$141:$CN$141,N$141,$E117:$CP117)","v":0},null,null,{"$f":"SUMIF($E$141:$CN$141,Q$141,$E117:$CP117)","v":0},null,null,{"$f":"SUMIF($E$141:$CN$141,T$141,$E117:$CP117)","v":0},null,null,{"$f":"SUMIF($E$141:$CN$141,W$141,$E117:$CP117)","v":0},null,null,{"$f":"SUMIF($E$141:$CN$141,Z$141,$E117:$CP117)","v":0},null,null,{"$f":"SUMIF($E$141:$CN$141,AC$141,$E117:$CP117)","v":0},null,null,{"$f":"SUMIF($E$141:$CN$141,AF$141,$E117:$CP117)","v":0},null,null,{"$f":"SUMIF($E$141:$CN$141,AI$141,$E117:$CP117)","v":0},null,null,{"$f":"SUMIF($E$141:$CN$141,AL$141,$E117:$CP117)","v":0},null,null,{"$f":"SUMIF($E$141:$CN$141,AO$141,$E117:$CP117)","v":0},null,null,{"$f":"SUMIF($E$141:$CN$141,AR$141,$E117:$CP117)","v":0},null,null,{"$f":"SUMIF($E$141:$CN$141,AU$141,$E117:$CP117)","v":0},null,null,{"$f":"SUMIF($E$141:$CN$141,AX$141,$E117:$CP117)","v":0},null,null,{"$f":"SUMIF($E$141:$CN$141,BA$141,$E117:$CP117)","v":0},null,null,{"$f":"SUMIF($E$141:$CN$141,BD$141,$E117:$CP117)","v":0},null,null,{"$f":"SUMIF($E$141:$CN$141,BG$141,$E117:$CP117)","v":0},null,null,{"$f":"SUMIF($E$141:$CN$141,BJ$141,$E117:$CP117)","v":0},null,null,{"$f":"SUMIF($E$141:$CN$141,BM$141,$E117:$CP117)","v":0},null,null,{"$f":"SUMIF($E$141:$CN$141,BP$141,$E117:$CP117)","v":0},null,null,{"$f":"SUMIF($E$141:$CN$141,BS$141,$E117:$CP117)","v":0},null,null,{"$f":"SUMIF($E$141:$CN$141,BV$141,$E117:$CP117)","v":0},null,null,{"$f":"SUMIF($E$141:$CN$141,BY$141,$E117:$CP117)","v":0},null,null,{"$f":"SUMIF($E$141:$CN$141,CB$141,$E117:$CP117)","v":0},null,null,{"$f":"SUMIF($E$141:$CN$141,CE$141,$E117:$CP117)","v":0},null,null,{"$f":"SUMIF($E$141:$CN$141,CH$141,$E117:$CP117)","v":0},null,null,{"$f":"SUMIF($E$141:$CN$141,CK$141,$E117:$CP117)","v":0},null,null,{"$f":"SUMIF($E$141:$CN$141,CN$141,$E117:$CP117)","v":0}]
[]
[null,null,"Day 27 Formulas",null,{"$f":"SUMIF($E$141:$CN$141,E$141,$E119:$CP119)","v":0},null,null,{"$f":"SUMIF($E$141:$CN$141,H$141,$E119:$CP119)","v":0},null,null,{"$f":"SUMIF($E$141:$CN$141,K$141,$E119:$CP119)","v":0},null,null,{"$f":"SUMIF($E$141:$CN$141,N$141,$E119:$CP119)","v":0},null,null,{"$f":"SUMIF($E$141:$CN$141,Q$141,$E119:$CP119)","v":0},null,null,{"$f":"SUMIF($E$141:$CN$141,T$141,$E119:$CP119)","v":0},null,null,{"$f":"SUMIF($E$141:$CN$141,W$141,$E119:$CP119)","v":0},null,null,{"$f":"SUMIF($E$141:$CN$141,Z$141,$E119:$CP119)","v":0},null,null,{"$f":"SUMIF($E$141:$CN$141,AC$141,$E119:$CP119)","v":0},null,null,{"$f":"SUMIF($E$141:$CN$141,AF$141,$E119:$CP119)","v":0},null,null,{"$f":"SUMIF($E$141:$CN$141,AI$141,$E119:$CP119)","v":0},null,null,{"$f":"SUMIF($E$141:$CN$141,AL$141,$E119:$CP119)","v":0},null,null,{"$f":"SUMIF($E$141:$CN$141,AO$141,$E119:$CP119)","v":0},null,null,{"$f":"SUMIF($E$141:$CN$141,AR$141,$E119:$CP119)","v":0},null,null,{"$f":"SUMIF($E$141:$CN$141,AU$141,$E119:$CP119)","v":0},null,null,{"$f":"SUMIF($E$141:$CN$141,AX$141,$E119:$CP119)","v":0},null,null,{"$f":"SUMIF($E$141:$CN$141,BA$141,$E119:$CP119)","v":0},null,null,{"$f":"SUMIF($E$141:$CN$141,BD$141,$E119:$CP119)","v":0},null,null,{"$f":"SUMIF($E$141:$CN$141,BG$141,$E119:$CP119)","v":0},null,null,{"$f":"SUMIF($E$141:$CN$141,BJ$141,$E119:$CP119)","v":0},null,null,{"$f":"SUMIF($E$141:$CN$141,BM$141,$E119:$CP119)","v":0},null,null,{"$f":"SUMIF($E$141:$CN$141,BP$141,$E119:$CP119)","v":0},null,null,{"$f":"SUMIF($E$141:$CN$141,BS$141,$E119:$CP119)","v":0},null,null,{"$f":"SUMIF($E$141:$CN$141,BV$141,$E119:$CP119)","v":0},null,null,{"$f":"SUMIF($E$141:$CN$141,BY$141,$E119:$CP119)","v":0},null,null,{"$f":"SUMIF($E$141:$CN$141,CB$141,$E119:$CP119)","v":0},null,null,{"$f":"SUMIF($E$141:$CN$141,CE$141,$E119:$CP119)","v":0},null,null,{"$f":"SUMIF($E$141:$CN$141,CH$141,$E119:$CP119)","v":0},null,null,{"$f":"SUMIF($E$141:$CN$141,CK$141,$E119:$CP119)","v":0},null,null,{"$f":"SUMIF($E$141:$CN$141,CN$141,$E119:$CP119)","v":0}]
[null,null,null,null,{"$f":"SUMIF($E$141:$CN$141,E$141,$E120:$CP120)","v":0},null,null,{"$f":"SUMIF($E$141:$CN$141,H$141,$E120:$CP120)","v":0},null,null,{"$f":"SUMIF($E$141:$CN$141,K$141,$E120:$CP120)","v":0},null,null,{"$f":"SUMIF($E$141:$CN$141,N$141,$E120:$CP120)","v":0},null,null,{"$f":"SUMIF($E$141:$CN$141,Q$141,$E120:$CP120)","v":0},null,null,{"$f":"SUMIF($E$141:$CN$141,T$141,$E120:$CP120)","v":0},null,null,{"$f":"SUMIF($E$141:$CN$141,W$141,$E120:$CP120)","v":0},null,null,{"$f":"SUMIF($E$141:$CN$141,Z$141,$E120:$CP120)","v":0},null,null,{"$f":"SUMIF($E$141:$CN$141,AC$141,$E120:$CP120)","v":0},null,null,{"$f":"SUMIF($E$141:$CN$141,AF$141,$E120:$CP120)","v":0},null,null,{"$f":"SUMIF($E$141:$CN$141,AI$141,$E120:$CP120)","v":0},null,null,{"$f":"SUMIF($E$141:$CN$141,AL$141,$E120:$CP120)","v":0},null,null,{"$f":"SUMIF($E$141:$CN$141,AO$141,$E120:$CP120)","v":0},null,null,{"$f":"SUMIF($E$141:$CN$141,AR$141,$E120:$CP120)","v":0},null,null,{"$f":"SUMIF($E$141:$CN$141,AU$141,$E120:$CP120)","v":0},null,null,{"$f":"SUMIF($E$141:$CN$141,AX$141,$E120:$CP120)","v":0},null,null,{"$f":"SUMIF($E$141:$CN$141,BA$141,$E120:$CP120)","v":0},null,null,{"$f":"SUMIF($E$141:$CN$141,BD$141,$E120:$CP120)","v":0},null,null,{"$f":"SUMIF($E$141:$CN$141,BG$141,$E120:$CP120)","v":0},null,null,{"$f":"SUMIF($E$141:$CN$141,BJ$141,$E120:$CP120)","v":0},null,null,{"$f":"SUMIF($E$141:$CN$141,BM$141,$E120:$CP120)","v":0},null,null,{"$f":"SUMIF($E$141:$CN$141,BP$141,$E120:$CP120)","v":0},null,null,{"$f":"SUMIF($E$141:$CN$141,BS$141,$E120:$CP120)","v":0},null,null,{"$f":"SUMIF($E$141:$CN$141,BV$141,$E120:$CP120)","v":0},null,null,{"$f":"SUMIF($E$141:$CN$141,BY$141,$E120:$CP120)","v":0},null,null,{"$f":"SUMIF($E$141:$CN$141,CB$141,$E120:$CP120)","v":0},null,null,{"$f":"SUMIF($E$141:$CN$141,CE$141,$E120:$CP120)","v":0},null,null,{"$f":"SUMIF($E$141:$CN$141,CH$141,$E120:$CP120)","v":0},null,null,{"$f":"SUMIF($E$141:$CN$141,CK$141,$E120:$CP120)","v":0},null,null,{"$f":"SUMIF($E$141:$CN$141,CN$141,$E120:$CP120)","v":0}]
[null,null,null,null,{"$f":"SUMIF($E$141:$CN$141,E$141,$E121:$CP121)","v":0},null,null,{"$f":"SUMIF($E$141:$CN$141,H$141,$E121:$CP121)","v":0},null,null,{"$f":"SUMIF($E$141:$CN$141,K$141,$E121:$CP121)","v":0},null,null,{"$f":"SUMIF($E$141:$CN$141,N$141,$E121:$CP121)","v":0},null,null,{"$f":"SUMIF($E$141:$CN$141,Q$141,$E121:$CP121)","v":0},null,null,{"$f":"SUMIF($E$141:$CN$141,T$141,$E121:$CP121)","v":0},null,null,{"$f":"SUMIF($E$141:$CN$141,W$141,$E121:$CP121)","v":0},null,null,{"$f":"SUMIF($E$141:$CN$141,Z$141,$E121:$CP121)","v":0},null,null,{"$f":"SUMIF($E$141:$CN$141,AC$141,$E121:$CP121)","v":0},null,null,{"$f":"SUMIF($E$141:$CN$141,AF$141,$E121:$CP121)","v":0},null,null,{"$f":"SUMIF($E$141:$CN$141,AI$141,$E121:$CP121)","v":0},null,null,{"$f":"SUMIF($E$141:$CN$141,AL$141,$E121:$CP121)","v":0},null,null,{"$f":"SUMIF($E$141:$CN$141,AO$141,$E121:$CP121)","v":0},null,null,{"$f":"SUMIF($E$141:$CN$141,AR$141,$E121:$CP121)","v":0},null,null,{"$f":"SUMIF($E$141:$CN$141,AU$141,$E121:$CP121)","v":0},null,null,{"$f":"SUMIF($E$141:$CN$141,AX$141,$E121:$CP121)","v":0},null,null,{"$f":"SUMIF($E$141:$CN$141,BA$141,$E121:$CP121)","v":0},null,null,{"$f":"SUMIF($E$141:$CN$141,BD$141,$E121:$CP121)","v":0},null,null,{"$f":"SUMIF($E$141:$CN$141,BG$141,$E121:$CP121)","v":0},null,null,{"$f":"SUMIF($E$141:$CN$141,BJ$141,$E121:$CP121)","v":0},null,null,{"$f":"SUMIF($E$141:$CN$141,BM$141,$E121:$CP121)","v":0},null,null,{"$f":"SUMIF($E$141:$CN$141,BP$141,$E121:$CP121)","v":0},null,null,{"$f":"SUMIF($E$141:$CN$141,BS$141,$E121:$CP121)","v":0},null,null,{"$f":"SUMIF($E$141:$CN$141,BV$141,$E121:$CP121)","v":0},null,null,{"$f":"SUMIF($E$141:$CN$141,BY$141,$E121:$CP121)","v":0},null,null,{"$f":"SUMIF($E$141:$CN$141,CB$141,$E121:$CP121)","v":0},null,null,{"$f":"SUMIF($E$141:$CN$141,CE$141,$E121:$CP121)","v":0},null,null,{"$f":"SUMIF($E$141:$CN$141,CH$141,$E121:$CP121)","v":0},null,null,{"$f":"SUMIF($E$141:$CN$141,CK$141,$E121:$CP121)","v":0},null,null,{"$f":"SUMIF($E$141:$CN$141,CN$141,$E121:$CP121)","v":0}]
[]
[null,null,"Day 28 Formulas",null,{"$f":"SUMIF($E$141:$CN$141,E$141,$E123:$CP123)","v":0},null,null,{"$f":"SUMIF($E$141:$CN$141,H$141,$E123:$CP123)","v":0},null,null,{"$f":"SUMIF($E$141:$CN$141,K$141,$E123:$CP123)","v":0},null,null,{"$f":"SUMIF($E$141:$CN$141,N$141,$E123:$CP123)","v":0},null,null,{"$f":"SUMIF($E$141:$CN$141,Q$141,$E123:$CP123)","v":0},null,null,{"$f":"SUMIF($E$141:$CN$141,T$141,$E123:$CP123)","v":0},null,null,{"$f":"SUMIF($E$141:$CN$141,W$141,$E123:$CP123)","v":0},null,null,{"$f":"SUMIF($E$141:$CN$141,Z$141,$E123:$CP123)","v":0},null,null,{"$f":"SUMIF($E$141:$CN$141,AC$141,$E123:$CP123)","v":0},null,null,{"$f":"SUMIF($E$141:$CN$141,AF$141,$E123:$CP123)","v":0},null,null,{"$f":"SUMIF($E$141:$CN$141,AI$141,$E123:$CP123)","v":0},null,null,{"$f":"SUMIF($E$141:$CN$141,AL$141,$E123:$CP123)","v":0},null,null,{"$f":"SUMIF($E$141:$CN$141,AO$141,$E123:$CP123)","v":0},null,null,{"$f":"SUMIF($E$141:$CN$141,AR$141,$E123:$CP123)","v":0},null,null,{"$f":"SUMIF($E$141:$CN$141,AU$141,$E123:$CP123)","v":0},null,null,{"$f":"SUMIF($E$141:$CN$141,AX$141,$E123:$CP123)","v":0},null,null,{"$f":"SUMIF($E$141:$CN$141,BA$141,$E123:$CP123)","v":0},null,null,{"$f":"SUMIF($E$141:$CN$141,BD$141,$E123:$CP123)","v":0},null,null,{"$f":"SUMIF($E$141:$CN$141,BG$141,$E123:$CP123)","v":0},null,null,{"$f":"SUMIF($E$141:$CN$141,BJ$141,$E123:$CP123)","v":0},null,null,{"$f":"SUMIF($E$141:$CN$141,BM$141,$E123:$CP123)","v":0},null,null,{"$f":"SUMIF($E$141:$CN$141,BP$141,$E123:$CP123)","v":0},null,null,{"$f":"SUMIF($E$141:$CN$141,BS$141,$E123:$CP123)","v":0},null,null,{"$f":"SUMIF($E$141:$CN$141,BV$141,$E123:$CP123)","v":0},null,null,{"$f":"SUMIF($E$141:$CN$141,BY$141,$E123:$CP123)","v":0},null,null,{"$f":"SUMIF($E$141:$CN$141,CB$141,$E123:$CP123)","v":0},null,null,{"$f":"SUMIF($E$141:$CN$141,CE$141,$E123:$CP123)","v":0},null,null,{"$f":"SUMIF($E$141:$CN$141,CH$141,$E123:$CP123)","v":0},null,null,{"$f":"SUMIF($E$141:$CN$141,CK$141,$E123:$CP123)","v":0},null,null,{"$f":"SUMIF($E$141:$CN$141,CN$141,$E123:$CP123)","v":0}]
[null,null,null,null,{"$f":"SUMIF($E$141:$CN$141,E$141,$E124:$CP124)","v":0},null,null,{"$f":"SUMIF($E$141:$CN$141,H$141,$E124:$CP124)","v":0},null,null,{"$f":"SUMIF($E$141:$CN$141,K$141,$E124:$CP124)","v":0},null,null,{"$f":"SUMIF($E$141:$CN$141,N$141,$E124:$CP124)","v":0},null,null,{"$f":"SUMIF($E$141:$CN$141,Q$141,$E124:$CP124)","v":0},null,null,{"$f":"SUMIF($E$141:$CN$141,T$141,$E124:$CP124)","v":0},null,null,{"$f":"SUMIF($E$141:$CN$141,W$141,$E124:$CP124)","v":0},null,null,{"$f":"SUMIF($E$141:$CN$141,Z$141,$E124:$CP124)","v":0},null,null,{"$f":"SUMIF($E$141:$CN$141,AC$141,$E124:$CP124)","v":0},null,null,{"$f":"SUMIF($E$141:$CN$141,AF$141,$E124:$CP124)","v":0},null,null,{"$f":"SUMIF($E$141:$CN$141,AI$141,$E124:$CP124)","v":0},null,null,{"$f":"SUMIF($E$141:$CN$141,AL$141,$E124:$CP124)","v":0},null,null,{"$f":"SUMIF($E$141:$CN$141,AO$141,$E124:$CP124)","v":0},null,null,{"$f":"SUMIF($E$141:$CN$141,AR$141,$E124:$CP124)","v":0},null,null,{"$f":"SUMIF($E$141:$CN$141,AU$141,$E124:$CP124)","v":0},null,null,{"$f":"SUMIF($E$141:$CN$141,AX$141,$E124:$CP124)","v":0},null,null,{"$f":"SUMIF($E$141:$CN$141,BA$141,$E124:$CP124)","v":0},null,null,{"$f":"SUMIF($E$141:$CN$141,BD$141,$E124:$CP124)","v":0},null,null,{"$f":"SUMIF($E$141:$CN$141,BG$141,$E124:$CP124)","v":0},null,null,{"$f":"SUMIF($E$141:$CN$141,BJ$141,$E124:$CP124)","v":0},null,null,{"$f":"SUMIF($E$141:$CN$141,BM$141,$E124:$CP124)","v":0},null,null,{"$f":"SUMIF($E$141:$CN$141,BP$141,$E124:$CP124)","v":0},null,null,{"$f":"SUMIF($E$141:$CN$141,BS$141,$E124:$CP124)","v":0},null,null,{"$f":"SUMIF($E$141:$CN$141,BV$141,$E124:$CP124)","v":0},null,null,{"$f":"SUMIF($E$141:$CN$141,BY$141,$E124:$CP124)","v":0},null,null,{"$f":"SUMIF($E$141:$CN$141,CB$141,$E124:$CP124)","v":0},null,null,{"$f":"SUMIF($E$141:$CN$141,CE$141,$E124:$CP124)","v":0},null,null,{"$f":"SUMIF($E$141:$CN$141,CH$141,$E124:$CP124)","v":0},null,null,{"$f":"SUMIF($E$141:$CN$141,CK$141,$E124:$CP124)","v":0},null,null,{"$f":"SUMIF($E$141:$CN$141,CN$141,$E124:$CP124)","v":0}]
[null,null,null,null,{"$f":"SUMIF($E$141:$CN$141,E$141,$E125:$CP125)","v":0},null,null,{"$f":"SUMIF($E$141:$CN$141,H$141,$E125:$CP125)","v":0},null,null,{"$f":"SUMIF($E$141:$CN$141,K$141,$E125:$CP125)","v":0},null,null,{"$f":"SUMIF($E$141:$CN$141,N$141,$E125:$CP125)","v":0},null,null,{"$f":"SUMIF($E$141:$CN$141,Q$141,$E125:$CP125)","v":0},null,null,{"$f":"SUMIF($E$141:$CN$141,T$141,$E125:$CP125)","v":0},null,null,{"$f":"SUMIF($E$141:$CN$141,W$141,$E125:$CP125)","v":0},null,null,{"$f":"SUMIF($E$141:$CN$141,Z$141,$E125:$CP125)","v":0},null,null,{"$f":"SUMIF($E$141:$CN$141,AC$141,$E125:$CP125)","v":0},null,null,{"$f":"SUMIF($E$141:$CN$141,AF$141,$E125:$CP125)","v":0},null,null,{"$f":"SUMIF($E$141:$CN$141,AI$141,$E125:$CP125)","v":0},null,null,{"$f":"SUMIF($E$141:$CN$141,AL$141,$E125:$CP125)","v":0},null,null,{"$f":"SUMIF($E$141:$CN$141,AO$141,$E125:$CP125)","v":0},null,null,{"$f":"SUMIF($E$141:$CN$141,AR$141,$E125:$CP125)","v":0},null,null,{"$f":"SUMIF($E$141:$CN$141,AU$141,$E125:$CP125)","v":0},null,null,{"$f":"SUMIF($E$141:$CN$141,AX$141,$E125:$CP125)","v":0},null,null,{"$f":"SUMIF($E$141:$CN$141,BA$141,$E125:$CP125)","v":0},null,null,{"$f":"SUMIF($E$141:$CN$141,BD$141,$E125:$CP125)","v":0},null,null,{"$f":"SUMIF($E$141:$CN$141,BG$141,$E125:$CP125)","v":0},null,null,{"$f":"SUMIF($E$141:$CN$141,BJ$141,$E125:$CP125)","v":0},null,null,{"$f":"SUMIF($E$141:$CN$141,BM$141,$E125:$CP125)","v":0},null,null,{"$f":"SUMIF($E$141:$CN$141,BP$141,$E125:$CP125)","v":0},null,null,{"$f":"SUMIF($E$141:$CN$141,BS$141,$E125:$CP125)","v":0},null,null,{"$f":"SUMIF($E$141:$CN$141,BV$141,$E125:$CP125)","v":0},null,null,{"$f":"SUMIF($E$141:$CN$141,BY$141,$E125:$CP125)","v":0},null,null,{"$f":"SUMIF($E$141:$CN$141,CB$141,$E125:$CP125)","v":0},null,null,{"$f":"SUMIF($E$141:$CN$141,CE$141,$E125:$CP125)","v":0},null,null,{"$f":"SUMIF($E$141:$CN$141,CH$141,$E125:$CP125)","v":0},null,null,{"$f":"SUMIF($E$141:$CN$141,CK$141,$E125:$CP125)","v":0},null,null,{"$f":"SUMIF($E$141:$CN$141,CN$141,$E125:$CP125)","v":0}]
[]
[null,null,"Day 29 Formulas",null,{"$f":"SUMIF($E$141:$CN$141,E$141,$E127:$CP127)","v":0},null,null,{"$f":"SUMIF($E$141:$CN$141,H$141,$E127:$CP127)","v":0},null,null,{"$f":"SUMIF($E$141:$CN$141,K$141,$E127:$CP127)","v":0},null,null,{"$f":"SUMIF($E$141:$CN$141,N$141,$E127:$CP127)","v":0},null,null,{"$f":"SUMIF($E$141:$CN$141,Q$141,$E127:$CP127)","v":0},null,null,{"$f":"SUMIF($E$141:$CN$141,T$141,$E127:$CP127)","v":0},null,null,{"$f":"SUMIF($E$141:$CN$141,W$141,$E127:$CP127)","v":0},null,null,{"$f":"SUMIF($E$141:$CN$141,Z$141,$E127:$CP127)","v":0},null,null,{"$f":"SUMIF($E$141:$CN$141,AC$141,$E127:$CP127)","v":0},null,null,{"$f":"SUMIF($E$141:$CN$141,AF$141,$E127:$CP127)","v":0},null,null,{"$f":"SUMIF($E$141:$CN$141,AI$141,$E127:$CP127)","v":0},null,null,{"$f":"SUMIF($E$141:$CN$141,AL$141,$E127:$CP127)","v":0},null,null,{"$f":"SUMIF($E$141:$CN$141,AO$141,$E127:$CP127)","v":0},null,null,{"$f":"SUMIF($E$141:$CN$141,AR$141,$E127:$CP127)","v":0},null,null,{"$f":"SUMIF($E$141:$CN$141,AU$141,$E127:$CP127)","v":0},null,null,{"$f":"SUMIF($E$141:$CN$141,AX$141,$E127:$CP127)","v":0},null,null,{"$f":"SUMIF($E$141:$CN$141,BA$141,$E127:$CP127)","v":0},null,null,{"$f":"SUMIF($E$141:$CN$141,BD$141,$E127:$CP127)","v":0},null,null,{"$f":"SUMIF($E$141:$CN$141,BG$141,$E127:$CP127)","v":0},null,null,{"$f":"SUMIF($E$141:$CN$141,BJ$141,$E127:$CP127)","v":0},null,null,{"$f":"SUMIF($E$141:$CN$141,BM$141,$E127:$CP127)","v":0},null,null,{"$f":"SUMIF($E$141:$CN$141,BP$141,$E127:$CP127)","v":0},null,null,{"$f":"SUMIF($E$141:$CN$141,BS$141,$E127:$CP127)","v":0},null,null,{"$f":"SUMIF($E$141:$CN$141,BV$141,$E127:$CP127)","v":0},null,null,{"$f":"SUMIF($E$141:$CN$141,BY$141,$E127:$CP127)","v":0},null,null,{"$f":"SUMIF($E$141:$CN$141,CB$141,$E127:$CP127)","v":0},null,null,{"$f":"SUMIF($E$141:$CN$141,CE$141,$E127:$CP127)","v":0},null,null,{"$f":"SUMIF($E$141:$CN$141,CH$141,$E127:$CP127)","v":0},null,null,{"$f":"SUMIF($E$141:$CN$141,CK$141,$E127:$CP127)","v":0},null,null,{"$f":"SUMIF($E$141:$CN$141,CN$141,$E127:$CP127)","v":0}]
[null,null,null,null,{"$f":"SUMIF($E$141:$CN$141,E$141,$E128:$CP128)","v":0},null,null,{"$f":"SUMIF($E$141:$CN$141,H$141,$E128:$CP128)","v":0},null,null,{"$f":"SUMIF($E$141:$CN$141,K$141,$E128:$CP128)","v":0},null,null,{"$f":"SUMIF($E$141:$CN$141,N$141,$E128:$CP128)","v":0},null,null,{"$f":"SUMIF($E$141:$CN$141,Q$141,$E128:$CP128)","v":0},null,null,{"$f":"SUMIF($E$141:$CN$141,T$141,$E128:$CP128)","v":0},null,null,{"$f":"SUMIF($E$141:$CN$141,W$141,$E128:$CP128)","v":0},null,null,{"$f":"SUMIF($E$141:$CN$141,Z$141,$E128:$CP128)","v":0},null,null,{"$f":"SUMIF($E$141:$CN$141,AC$141,$E128:$CP128)","v":0},null,null,{"$f":"SUMIF($E$141:$CN$141,AF$141,$E128:$CP128)","v":0},null,null,{"$f":"SUMIF($E$141:$CN$141,AI$141,$E128:$CP128)","v":0},null,null,{"$f":"SUMIF($E$141:$CN$141,AL$141,$E128:$CP128)","v":0},null,null,{"$f":"SUMIF($E$141:$CN$141,AO$141,$E128:$CP128)","v":0},null,null,{"$f":"SUMIF($E$141:$CN$141,AR$141,$E128:$CP128)","v":0},null,null,{"$f":"SUMIF($E$141:$CN$141,AU$141,$E128:$CP128)","v":0},null,null,{"$f":"SUMIF($E$141:$CN$141,AX$141,$E128:$CP128)","v":0},null,null,{"$f":"SUMIF($E$141:$CN$141,BA$141,$E128:$CP128)","v":0},null,null,{"$f":"SUMIF($E$141:$CN$141,BD$141,$E128:$CP128)","v":0},null,null,{"$f":"SUMIF($E$141:$CN$141,BG$141,$E128:$CP128)","v":0},null,null,{"$f":"SUMIF($E$141:$CN$141,BJ$141,$E128:$CP128)","v":0},null,null,{"$f":"SUMIF($E$141:$CN$141,BM$141,$E128:$CP128)","v":0},null,null,{"$f":"SUMIF($E$141:$CN$141,BP$141,$E128:$CP128)","v":0},null,null,{"$f":"SUMIF($E$141:$CN$141,BS$141,$E128:$CP128)","v":0},null,null,{"$f":"SUMIF($E$141:$CN$141,BV$141,$E128:$CP128)","v":0},null,null,{"$f":"SUMIF($E$141:$CN$141,BY$141,$E128:$CP128)","v":0},null,null,{"$f":"SUMIF($E$141:$CN$141,CB$141,$E128:$CP128)","v":0},null,null,{"$f":"SUMIF($E$141:$CN$141,CE$141,$E128:$CP128)","v":0},null,null,{"$f":"SUMIF($E$141:$CN$141,CH$141,$E128:$CP128)","v":0},null,null,{"$f":"SUMIF($E$141:$CN$141,CK$141,$E128:$CP128)","v":0},null,null,{"$f":"SUMIF($E$141:$CN$141,CN$141,$E128:$CP128)","v":0}]
[null,null,null,null,{"$f":"SUMIF($E$141:$CN$141,E$141,$E129:$CP129)","v":0},null,null,{"$f":"SUMIF($E$141:$CN$141,H$141,$E129:$CP129)","v":0},null,null,{"$f":"SUMIF($E$141:$CN$141,K$141,$E129:$CP129)","v":0},null,null,{"$f":"SUMIF($E$141:$CN$141,N$141,$E129:$CP129)","v":0},null,null,{"$f":"SUMIF($E$141:$CN$141,Q$141,$E129:$CP129)","v":0},null,null,{"$f":"SUMIF($E$141:$CN$141,T$141,$E129:$CP129)","v":0},null,null,{"$f":"SUMIF($E$141:$CN$141,W$141,$E129:$CP129)","v":0},null,null,{"$f":"SUMIF($E$141:$CN$141,Z$141,$E129:$CP129)","v":0},null,null,{"$f":"SUMIF($E$141:$CN$141,AC$141,$E129:$CP129)","v":0},null,null,{"$f":"SUMIF($E$141:$CN$141,AF$141,$E129:$CP129)","v":0},null,null,{"$f":"SUMIF($E$141:$CN$141,AI$141,$E129:$CP129)","v":0},null,null,{"$f":"SUMIF($E$141:$CN$141,AL$141,$E129:$CP129)","v":0},null,null,{"$f":"SUMIF($E$141:$CN$141,AO$141,$E129:$CP129)","v":0},null,null,{"$f":"SUMIF($E$141:$CN$141,AR$141,$E129:$CP129)","v":0},null,null,{"$f":"SUMIF($E$141:$CN$141,AU$141,$E129:$CP129)","v":0},null,null,{"$f":"SUMIF($E$141:$CN$141,AX$141,$E129:$CP129)","v":0},null,null,{"$f":"SUMIF($E$141:$CN$141,BA$141,$E129:$CP129)","v":0},null,null,{"$f":"SUMIF($E$141:$CN$141,BD$141,$E129:$CP129)","v":0},null,null,{"$f":"SUMIF($E$141:$CN$141,BG$141,$E129:$CP129)","v":0},null,null,{"$f":"SUMIF($E$141:$CN$141,BJ$141,$E129:$CP129)","v":0},null,null,{"$f":"SUMIF($E$141:$CN$141,BM$141,$E129:$CP129)","v":0},null,null,{"$f":"SUMIF($E$141:$CN$141,BP$141,$E129:$CP129)","v":0},null,null,{"$f":"SUMIF($E$141:$CN$141,BS$141,$E129:$CP129)","v":0},null,null,{"$f":"SUMIF($E$141:$CN$141,BV$141,$E129:$CP129)","v":0},null,null,{"$f":"SUMIF($E$141:$CN$141,BY$141,$E129:$CP129)","v":0},null,null,{"$f":"SUMIF($E$141:$CN$141,CB$141,$E129:$CP129)","v":0},null,null,{"$f":"SUMIF($E$141:$CN$141,CE$141,$E129:$CP129)","v":0},null,null,{"$f":"SUMIF($E$141:$CN$141,CH$141,$E129:$CP129)","v":0},null,null,{"$f":"SUMIF($E$141:$CN$141,CK$141,$E129:$CP129)","v":0},null,null,{"$f":"SUMIF($E$141:$CN$141,CN$141,$E129:$CP129)","v":0}]
[]
[null,null,"Day 30 Formulas",null,{"$f":"SUMIF($E$141:$CN$141,E$141,$E131:$CP131)","v":0},null,null,{"$f":"SUMIF($E$141:$CN$141,H$141,$E131:$CP131)","v":0},null,null,{"$f":"SUMIF($E$141:$CN$141,K$141,$E131:$CP131)","v":0},null,null,{"$f":"SUMIF($E$141:$CN$141,N$141,$E131:$CP131)","v":0},null,null,{"$f":"SUMIF($E$141:$CN$141,Q$141,$E131:$CP131)","v":0},null,null,{"$f":"SUMIF($E$141:$CN$141,T$141,$E131:$CP131)","v":0},null,null,{"$f":"SUMIF($E$141:$CN$141,W$141,$E131:$CP131)","v":0},null,null,{"$f":"SUMIF($E$141:$CN$141,Z$141,$E131:$CP131)","v":0},null,null,{"$f":"SUMIF($E$141:$CN$141,AC$141,$E131:$CP131)","v":0},null,null,{"$f":"SUMIF($E$141:$CN$141,AF$141,$E131:$CP131)","v":0},null,null,{"$f":"SUMIF($E$141:$CN$141,AI$141,$E131:$CP131)","v":0},null,null,{"$f":"SUMIF($E$141:$CN$141,AL$141,$E131:$CP131)","v":0},null,null,{"$f":"SUMIF($E$141:$CN$141,AO$141,$E131:$CP131)","v":0},null,null,{"$f":"SUMIF($E$141:$CN$141,AR$141,$E131:$CP131)","v":0},null,null,{"$f":"SUMIF($E$141:$CN$141,AU$141,$E131:$CP131)","v":0},null,null,{"$f":"SUMIF($E$141:$CN$141,AX$141,$E131:$CP131)","v":0},null,null,{"$f":"SUMIF($E$141:$CN$141,BA$141,$E131:$CP131)","v":0},null,null,{"$f":"SUMIF($E$141:$CN$141,BD$141,$E131:$CP131)","v":0},null,null,{"$f":"SUMIF($E$141:$CN$141,BG$141,$E131:$CP131)","v":0},null,null,{"$f":"SUMIF($E$141:$CN$141,BJ$141,$E131:$CP131)","v":0},null,null,{"$f":"SUMIF($E$141:$CN$141,BM$141,$E131:$CP131)","v":0},null,null,{"$f":"SUMIF($E$141:$CN$141,BP$141,$E131:$CP131)","v":0},null,null,{"$f":"SUMIF($E$141:$CN$141,BS$141,$E131:$CP131)","v":0},null,null,{"$f":"SUMIF($E$141:$CN$141,BV$141,$E131:$CP131)","v":0},null,null,{"$f":"SUMIF($E$141:$CN$141,BY$141,$E131:$CP131)","v":0},null,null,{"$f":"SUMIF($E$141:$CN$141,CB$141,$E131:$CP131)","v":0},null,null,{"$f":"SUMIF($E$141:$CN$141,CE$141,$E131:$CP131)","v":0},null,null,{"$f":"SUMIF($E$141:$CN$141,CH$141,$E131:$CP131)","v":0},null,null,{"$f":"SUMIF($E$141:$CN$141,CK$141,$E131:$CP131)","v":0},null,null,{"$f":"SUMIF($E$141:$CN$141,CN$141,$E131:$CP131)","v":0}]
[null,null,null,null,{"$f":"SUMIF($E$141:$CN$141,E$141,$E132:$CP132)","v":0},null,null,{"$f":"SUMIF($E$141:$CN$141,H$141,$E132:$CP132)","v":0},null,null,{"$f":"SUMIF($E$141:$CN$141,K$141,$E132:$CP132)","v":0},null,null,{"$f":"SUMIF($E$141:$CN$141,N$141,$E132:$CP132)","v":0},null,null,{"$f":"SUMIF($E$141:$CN$141,Q$141,$E132:$CP132)","v":0},null,null,{"$f":"SUMIF($E$141:$CN$141,T$141,$E132:$CP132)","v":0},null,null,{"$f":"SUMIF($E$141:$CN$141,W$141,$E132:$CP132)","v":0},null,null,{"$f":"SUMIF($E$141:$CN$141,Z$141,$E132:$CP132)","v":0},null,null,{"$f":"SUMIF($E$141:$CN$141,AC$141,$E132:$CP132)","v":0},null,null,{"$f":"SUMIF($E$141:$CN$141,AF$141,$E132:$CP132)","v":0},null,null,{"$f":"SUMIF($E$141:$CN$141,AI$141,$E132:$CP132)","v":0},null,null,{"$f":"SUMIF($E$141:$CN$141,AL$141,$E132:$CP132)","v":0},null,null,{"$f":"SUMIF($E$141:$CN$141,AO$141,$E132:$CP132)","v":0},null,null,{"$f":"SUMIF($E$141:$CN$141,AR$141,$E132:$CP132)","v":0},null,null,{"$f":"SUMIF($E$141:$CN$141,AU$141,$E132:$CP132)","v":0},null,null,{"$f":"SUMIF($E$141:$CN$141,AX$141,$E132:$CP132)","v":0},null,null,{"$f":"SUMIF($E$141:$CN$141,BA$141,$E132:$CP132)","v":0},null,null,{"$f":"SUMIF($E$141:$CN$141,BD$141,$E132:$CP132)","v":0},null,null,{"$f":"SUMIF($E$141:$CN$141,BG$141,$E132:$CP132)","v":0},null,null,{"$f":"SUMIF($E$141:$CN$141,BJ$141,$E132:$CP132)","v":0},null,null,{"$f":"SUMIF($E$141:$CN$141,BM$141,$E132:$CP132)","v":0},null,null,{"$f":"SUMIF($E$141:$CN$141,BP$141,$E132:$CP132)","v":0},null,null,{"$f":"SUMIF($E$141:$CN$141,BS$141,$E132:$CP132)","v":0},null,null,{"$f":"SUMIF($E$141:$CN$141,BV$141,$E132:$CP132)","v":0},null,null,{"$f":"SUMIF($E$141:$CN$141,BY$141,$E132:$CP132)","v":0},null,null,{"$f":"SUMIF($E$141:$CN$141,CB$141,$E132:$CP132)","v":0},null,null,{"$f":"SUMIF($E$141:$CN$141,CE$141,$E132:$CP132)","v":0},null,null,{"$f":"SUMIF($E$141:$CN$141,CH$141,$E132:$CP132)","v":0},null,null,{"$f":"SUMIF($E$141:$CN$141,CK$141,$E132:$CP132)","v":0},null,null,{"$f":"SUMIF($E$141:$CN$141,CN$141,$E132:$CP132)","v":0}]
[null,null,null,null,{"$f":"SUMIF($E$141:$CN$141,E$141,$E133:$CP133)","v":0},null,null,{"$f":"SUMIF($E$141:$CN$141,H$141,$E133:$CP133)","v":0},null,null,{"$f":"SUMIF($E$141:$CN$141,K$141,$E133:$CP133)","v":0},null,null,{"$f":"SUMIF($E$141:$CN$141,N$141,$E133:$CP133)","v":0},null,null,{"$f":"SUMIF($E$141:$CN$141,Q$141,$E133:$CP133)","v":0},null,null,{"$f":"SUMIF($E$141:$CN$141,T$141,$E133:$CP133)","v":0},null,null,{"$f":"SUMIF($E$141:$CN$141,W$141,$E133:$CP133)","v":0},null,null,{"$f":"SUMIF($E$141:$CN$141,Z$141,$E133:$CP133)","v":0},null,null,{"$f":"SUMIF($E$141:$CN$141,AC$141,$E133:$CP133)","v":0},null,null,{"$f":"SUMIF($E$141:$CN$141,AF$141,$E133:$CP133)","v":0},null,null,{"$f":"SUMIF($E$141:$CN$141,AI$141,$E133:$CP133)","v":0},null,null,{"$f":"SUMIF($E$141:$CN$141,AL$141,$E133:$CP133)","v":0},null,null,{"$f":"SUMIF($E$141:$CN$141,AO$141,$E133:$CP133)","v":0},null,null,{"$f":"SUMIF($E$141:$CN$141,AR$141,$E133:$CP133)","v":0},null,null,{"$f":"SUMIF($E$141:$CN$141,AU$141,$E133:$CP133)","v":0},null,null,{"$f":"SUMIF($E$141:$CN$141,AX$141,$E133:$CP133)","v":0},null,null,{"$f":"SUMIF($E$141:$CN$141,BA$141,$E133:$CP133)","v":0},null,null,{"$f":"SUMIF($E$141:$CN$141,BD$141,$E133:$CP133)","v":0},null,null,{"$f":"SUMIF($E$141:$CN$141,BG$141,$E133:$CP133)","v":0},null,null,{"$f":"SUMIF($E$141:$CN$141,BJ$141,$E133:$CP133)","v":0},null,null,{"$f":"SUMIF($E$141:$CN$141,BM$141,$E133:$CP133)","v":0},null,null,{"$f":"SUMIF($E$141:$CN$141,BP$141,$E133:$CP133)","v":0},null,null,{"$f":"SUMIF($E$141:$CN$141,BS$141,$E133:$CP133)","v":0},null,null,{"$f":"SUMIF($E$141:$CN$141,BV$141,$E133:$CP133)","v":0},null,null,{"$f":"SUMIF($E$141:$CN$141,BY$141,$E133:$CP133)","v":0},null,null,{"$f":"SUMIF($E$141:$CN$141,CB$141,$E133:$CP133)","v":0},null,null,{"$f":"SUMIF($E$141:$CN$141,CE$141,$E133:$CP133)","v":0},null,null,{"$f":"SUMIF($E$141:$CN$141,CH$141,$E133:$CP133)","v":0},null,null,{"$f":"SUMIF($E$141:$CN$141,CK$141,$E133:$CP133)","v":0},null,null,{"$f":"SUMIF($E$141:$CN$141,CN$141,$E133:$CP133)","v":0}]
[]
[null,null,"Day 31 Formulas",null,{"$f":"SUMIF($E$141:$CN$141,E$141,$E135:$CP135)","v":0},null,null,{"$f":"SUMIF($E$141:$CN$141,H$141,$E135:$CP135)","v":0},null,null,{"$f":"SUMIF($E$141:$CN$141,K$141,$E135:$CP135)","v":0},null,null,{"$f":"SUMIF($E$141:$CN$141,N$141,$E135:$CP135)","v":0},null,null,{"$f":"SUMIF($E$141:$CN$141,Q$141,$E135:$CP135)","v":0},null,null,{"$f":"SUMIF($E$141:$CN$141,T$141,$E135:$CP135)","v":0},null,null,{"$f":"SUMIF($E$141:$CN$141,W$141,$E135:$CP135)","v":0},null,null,{"$f":"SUMIF($E$141:$CN$141,Z$141,$E135:$CP135)","v":0},null,null,{"$f":"SUMIF($E$141:$CN$141,AC$141,$E135:$CP135)","v":0},null,null,{"$f":"SUMIF($E$141:$CN$141,AF$141,$E135:$CP135)","v":0},null,null,{"$f":"SUMIF($E$141:$CN$141,AI$141,$E135:$CP135)","v":0},null,null,{"$f":"SUMIF($E$141:$CN$141,AL$141,$E135:$CP135)","v":0},null,null,{"$f":"SUMIF($E$141:$CN$141,AO$141,$E135:$CP135)","v":0},null,null,{"$f":"SUMIF($E$141:$CN$141,AR$141,$E135:$CP135)","v":0},null,null,{"$f":"SUMIF($E$141:$CN$141,AU$141,$E135:$CP135)","v":0},null,null,{"$f":"SUMIF($E$141:$CN$141,AX$141,$E135:$CP135)","v":0},null,null,{"$f":"SUMIF($E$141:$CN$141,BA$141,$E135:$CP135)","v":0},null,null,{"$f":"SUMIF($E$141:$CN$141,BD$141,$E135:$CP135)","v":0},null,null,{"$f":"SUMIF($E$141:$CN$141,BG$141,$E135:$CP135)","v":0},null,null,{"$f":"SUMIF($E$141:$CN$141,BJ$141,$E135:$CP135)","v":0},null,null,{"$f":"SUMIF($E$141:$CN$141,BM$141,$E135:$CP135)","v":0},null,null,{"$f":"SUMIF($E$141:$CN$141,BP$141,$E135:$CP135)","v":0},null,null,{"$f":"SUMIF($E$141:$CN$141,BS$141,$E135:$CP135)","v":0},null,null,{"$f":"SUMIF($E$141:$CN$141,BV$141,$E135:$CP135)","v":0},null,null,{"$f":"SUMIF($E$141:$CN$141,BY$141,$E135:$CP135)","v":0},null,null,{"$f":"SUMIF($E$141:$CN$141,CB$141,$E135:$CP135)","v":0},null,null,{"$f":"SUMIF($E$141:$CN$141,CE$141,$E135:$CP135)","v":0},null,null,{"$f":"SUMIF($E$141:$CN$141,CH$141,$E135:$CP135)","v":0},null,null,{"$f":"SUMIF($E$141:$CN$141,CK$141,$E135:$CP135)","v":0},null,null,{"$f":"SUMIF($E$141:$CN$141,CN$141,$E135:$CP135)","v":0}]
[null,null,null,null,{"$f":"SUMIF($E$141:$CN$141,E$141,$E136:$CP136)","v":0},null,null,{"$f":"SUMIF($E$141:$CN$141,H$141,$E136:$CP136)","v":0},null,null,{"$f":"SUMIF($E$141:$CN$141,K$141,$E136:$CP136)","v":0},null,null,{"$f":"SUMIF($E$141:$CN$141,N$141,$E136:$CP136)","v":0},null,null,{"$f":"SUMIF($E$141:$CN$141,Q$141,$E136:$CP136)","v":0},null,null,{"$f":"SUMIF($E$141:$CN$141,T$141,$E136:$CP136)","v":0},null,null,{"$f":"SUMIF($E$141:$CN$141,W$141,$E136:$CP136)","v":0},null,null,{"$f":"SUMIF($E$141:$CN$141,Z$141,$E136:$CP136)","v":0},null,null,{"$f":"SUMIF($E$141:$CN$141,AC$141,$E136:$CP136)","v":0},null,null,{"$f":"SUMIF($E$141:$CN$141,AF$141,$E136:$CP136)","v":0},null,null,{"$f":"SUMIF($E$141:$CN$141,AI$141,$E136:$CP136)","v":0},null,null,{"$f":"SUMIF($E$141:$CN$141,AL$141,$E136:$CP136)","v":0},null,null,{"$f":"SUMIF($E$141:$CN$141,AO$141,$E136:$CP136)","v":0},null,null,{"$f":"SUMIF($E$141:$CN$141,AR$141,$E136:$CP136)","v":0},null,null,{"$f":"SUMIF($E$141:$CN$141,AU$141,$E136:$CP136)","v":0},null,null,{"$f":"SUMIF($E$141:$CN$141,AX$141,$E136:$CP136)","v":0},null,null,{"$f":"SUMIF($E$141:$CN$141,BA$141,$E136:$CP136)","v":0},null,null,{"$f":"SUMIF($E$141:$CN$141,BD$141,$E136:$CP136)","v":0},null,null,{"$f":"SUMIF($E$141:$CN$141,BG$141,$E136:$CP136)","v":0},null,null,{"$f":"SUMIF($E$141:$CN$141,BJ$141,$E136:$CP136)","v":0},null,null,{"$f":"SUMIF($E$141:$CN$141,BM$141,$E136:$CP136)","v":0},null,null,{"$f":"SUMIF($E$141:$CN$141,BP$141,$E136:$CP136)","v":0},null,null,{"$f":"SUMIF($E$141:$CN$141,BS$141,$E136:$CP136)","v":0},null,null,{"$f":"SUMIF($E$141:$CN$141,BV$141,$E136:$CP136)","v":0},null,null,{"$f":"SUMIF($E$141:$CN$141,BY$141,$E136:$CP136)","v":0},null,null,{"$f":"SUMIF($E$141:$CN$141,CB$141,$E136:$CP136)","v":0},null,null,{"$f":"SUMIF($E$141:$CN$141,CE$141,$E136:$CP136)","v":0},null,null,{"$f":"SUMIF($E$141:$CN$141,CH$141,$E136:$CP136)","v":0},null,null,{"$f":"SUMIF($E$141:$CN$141,CK$141,$E136:$CP136)","v":0},null,null,{"$f":"SUMIF($E$141:$CN$141,CN$141,$E136:$CP136)","v":0}]
[null,null,null,null,{"$f":"SUMIF($E$141:$CN$141,E$141,$E137:$CP137)","v":0},null,null,{"$f":"SUMIF($E$141:$CN$141,H$141,$E137:$CP137)","v":0},null,null,{"$f":"SUMIF($E$141:$CN$141,K$141,$E137:$CP137)","v":0},null,null,{"$f":"SUMIF($E$141:$CN$141,N$141,$E137:$CP137)","v":0},null,null,{"$f":"SUMIF($E$141:$CN$141,Q$141,$E137:$CP137)","v":0},null,null,{"$f":"SUMIF($E$141:$CN$141,T$141,$E137:$CP137)","v":0},null,null,{"$f":"SUMIF($E$141:$CN$141,W$141,$E137:$CP137)","v":0},null,null,{"$f":"SUMIF($E$141:$CN$141,Z$141,$E137:$CP137)","v":0},null,null,{"$f":"SUMIF($E$141:$CN$141,AC$141,$E137:$CP137)","v":0},null,null,{"$f":"SUMIF($E$141:$CN$141,AF$141,$E137:$CP137)","v":0},null,null,{"$f":"SUMIF($E$141:$CN$141,AI$141,$E137:$CP137)","v":0},null,null,{"$f":"SUMIF($E$141:$CN$141,AL$141,$E137:$CP137)","v":0},null,null,{"$f":"SUMIF($E$141:$CN$141,AO$141,$E137:$CP137)","v":0},null,null,{"$f":"SUMIF($E$141:$CN$141,AR$141,$E137:$CP137)","v":0},null,null,{"$f":"SUMIF($E$141:$CN$141,AU$141,$E137:$CP137)","v":0},null,null,{"$f":"SUMIF($E$141:$CN$141,AX$141,$E137:$CP137)","v":0},null,null,{"$f":"SUMIF($E$141:$CN$141,BA$141,$E137:$CP137)","v":0},null,null,{"$f":"SUMIF($E$141:$CN$141,BD$141,$E137:$CP137)","v":0},null,null,{"$f":"SUMIF($E$141:$CN$141,BG$141,$E137:$CP137)","v":0},null,null,{"$f":"SUMIF($E$141:$CN$141,BJ$141,$E137:$CP137)","v":0},null,null,{"$f":"SUMIF($E$141:$CN$141,BM$141,$E137:$CP137)","v":0},null,null,{"$f":"SUMIF($E$141:$CN$141,BP$141,$E137:$CP137)","v":0},null,null,{"$f":"SUMIF($E$141:$CN$141,BS$141,$E137:$CP137)","v":0},null,null,{"$f":"SUMIF($E$141:$CN$141,BV$141,$E137:$CP137)","v":0},null,null,{"$f":"SUMIF($E$141:$CN$141,BY$141,$E137:$CP137)","v":0},null,null,{"$f":"SUMIF($E$141:$CN$141,CB$141,$E137:$CP137)","v":0},null,null,{"$f":"SUMIF($E$141:$CN$141,CE$141,$E137:$CP137)","v":0},null,null,{"$f":"SUMIF($E$141:$CN$141,CH$141,$E137:$CP137)","v":0},null,null,{"$f":"SUMIF($E$141:$CN$141,CK$141,$E137:$CP137)","v":0},null,null,{"$f":"SUMIF($E$141:$CN$141,CN$141,$E137:$CP137)","v":0}]

{"sheet":"R @ R Exemption Form","index":39,"n_rows":42,"n_cols":36,"rows_kept":42,"cut":false,"hidden":false,"merged":[[39,28,39,32],[40,28,40,32],[41,28,41,32],[37,33,37,37],[38,33,38,37],[39,33,39,37],[40,33,40,37],[41,33,41,37],[39,10,39,18],[40,10,40,18],[41,10,41,18],[37,19,37,27],[38,19,38,27],[40,19,40,27],[41,19,41,27],[39,19,39,27],[21,14,21,20],[21,35,21,37],[22,14,22,20],[9,8,9,17],[9,27,9,37],[10,27,10,37],[22,35,22,37],[11,8,11,17],[12,8,12,17],[3,0,3,37],[5,8,5,13],[7,8,7,17],[7,27,7,37],[15,0,18,37],[14,0,14,7],[0,0,1,37],[27,14,27,20],[25,14,25,20],[41,0,41,9],[39,0,39,9],[40,0,40,9],[26,14,26,20],[38,0,38,9],[30,0,34,37],[37,10,37,18],[38,10,38,18],[37,28,37,32],[38,28,38,32],[8,8,8,17],[8,27,8,37],[2,0,2,37]]}
["Global Supply Management"]
[]
["Run @ Rate Exemption Form"]
["(Must be initiated by the Nexteer Automotive AQE/SQE)"]
[]
[null,null,null,null,null,null,null,"Date:  ",{"$f":"'Capacity Plan'!I14","v":"00:00:00"}]
[]
[null,null,null,null,null,null,null,"Supplier Name:  ",{"$f":"IF(I6=\"\",\"\",'Capacity Plan'!F3)","v":0},null,null,null,null,null,null,null,null,null,null,null,null,null,null,null,null,null,"Nexteer Part Number:  ",{"$f":"IF(I$6=\"\",\"\",'Capacity Plan'!Q3)","v":0}]
[null,null,null,null,null,null,null,"Supplier Duns Code:  ",{"$f":"IF(I6=\"\",\"\",'Capacity Plan'!F4)","v":0},null,null,null,null,null,null,null,null,null,null,null,null,null,null,null,null,null,"Nexteer Part Name:  ",{"$f":"IF(I$6=\"\",\"\",'Capacity Plan'!Q4)","v":0}]
[null,null,null,null,null,null,null,"Plant (Mfg) Location:  ",{"$f":"IF(I6=\"\",\"\",'Capacity Plan'!F5)","v":0},null,null,null,null,null,null,null,null,null,null,null,null,null,null,null,null,null,"Revision Level:  ",{"$f":"IF(I$6=\"\",\"\",'Capacity Plan'!Q5)","v":0}]
[null,null,null,null,null,null,null,null,null,null,null,null,null,null,null,null,null,null,null,null,null,null,null,null,null,null,"Nexteer Program:  ",{"$f":"IF(I$6=\"\",\"\",'Capacity Plan'!Q6)","v":0}]
[null,null,null,null,null,null,null,"Supplier Contact:  ",{"$f":"IF(I$6=\"\",\"\",'Capacity Plan'!F7)","v":0}]
[null,null,null,null,null,null,null,"Phone:  ",{"$f":"IF(I$6=\"\",\"\",'Capacity Plan'!F8)","v":0}]
[]
["Reason for Exemption:"]
[]
[]
[]
[]
[]
[]
[null,null,null,null,null,null,null,null,null,null,null,null,null,"Quoted Tool Capacity (QTC):  ",{"$f":"IF(I6=\"\",\"\",'Capacity Plan'!S12)","v":0},null,null,null,null,null,null,null,null,null,null,null,null,null,null,null,null,null,null,null,"Production days at Nexteer (days/yr):  ",{"$f":"IF(I6=\"\",\"\",'Capacity Plan'!S9)","v":240}]
[null,null,null,null,null,null,null,null,null,null,null,null,null,"Supplier's Annual Capacity: ",null,null,null,null,null,null,null,null,null,null,null,null,null,null,null,null,null,null,null,null,"Production days at Supplier (days/yr):  ",{"$f":"IF(I6=\"\",\"\",'Capacity Plan'!S10)","v":0}]
[]
[]
[null,null,null,null,null,null,null,null,null,null,null,null,null,"Daily QTC Requirements:  ",{"$f":"IF(I6=\"\",\"\",O$22/AJ$22)","v":0}]
[null,null,null,null,null,null,null,null,null,null,null,null,null,"Supplier's Daily Capacity:  ",{"$f":"IFERROR(IF(O23=\"\",\"\",O23/AJ23),\"\")","v":""}]
[null,null,null,null,null,null,null,null,null,null,null,null,null,"% of Supplier's Daily Capacity:  ",{"$f":"IFERROR(IF(O27=\"\",\"\",O26/O27),\"\")","v":""}]
[]
["Comments:"]
[]
[]
[]
[]
[]
[]
[]
["Responsibility",null,null,null,null,null,null,null,null,null,"Name",null,null,null,null,null,null,null,null,"Signature",null,null,null,null,null,null,null,null,"Date",null,null,null,null,"Contact Number"]
["Supplier Rep\n(no signature reqd)"]
["Nexteer Automotive AQE/SQE"]
["Nexteer Automotive\nAQE/SQE Supervisor"]
["Nexteer Automotive Buyer \n(no signature reqd)"]